{"text_format":"1","workbook":"xlsx","n_sheets":26,"sheets":["Light","Music","Heating","Entry","Quick Planning","QuickPlanning2","Sensors","Distributors","Tree","Wireless","Other","Shading","Switch","Ms&Extensions","Main","Power","Project information","Space","Products","Datanorm","Sample Quote","News","Message Box","Calculation","Translating_general","Translating_products"],"not_rendered":{"charts":0,"images":19,"macros":1,"external_links":0,"defined_names":15,"comments":2,"pivot_tables":0},"unopened":[],"bounds":{"document_bytes":16777216,"sheet_cells":100000,"rows_first":2000,"rows_last":500,"rows_between":2000,"halvings":0,"cell_chars":16384,"cell_head_chars":4096},"cells_cut":0,"cells_raw":0,"read":"whole","date_system":"1900"}

{"sheet":"Light","index":0,"n_rows":40,"n_cols":16,"rows_kept":40,"cut":false,"hidden":true,"merged":[]}
["Artikelnummer+","Bezeichnung","Preis excl.","Preis Inkl.","Notiz"]
["100012",{"$f":"Products!D12","v":"DMX Extension"},{"$f":"Products!E12","v":205},{"$f":"Products!F12","v":246}]
["100029",{"$f":"VLOOKUP(Main!C2,Translating_general!A101:P118,2,FALSE)","v":"Dimmer Channel (230V)"}]
["100117",{"$f":"Products!D27","v":"RGBW 24V Dimmer DMX"},{"$f":"Products!E27","v":57.5},{"$f":"Products!F27","v":69}]
["100125",{"$f":"Products!D29","v":"RGBW 24V Dimmer Air"},{"$f":"Products!E29","v":65},{"$f":"Products!F29","v":78}]
["200042",{"$f":"Products!D73","v":"not sold"},{"$f":"Products!E73","v":72.5},{"$f":"Products!F73","v":87}]
["200043",{"$f":"Products!D74","v":"Warm White LED Strip 5m"},{"$f":"Products!E74","v":72.5},{"$f":"Products!F74","v":87}]
["200046",{"$f":"Products!D75","v":"not sold"},{"$f":"Products!E75","v":77.5},{"$f":"Products!F75","v":93}]
[100153,{"$f":"Products!D37","v":"Nano IO Air"},{"$f":"Products!E37","v":82.5},{"$f":"Products!F37","v":99}]
["200061",{"$f":"Products!D82","v":"Warm White LED Strip 5m IP65"},{"$f":"Products!E82","v":77.5},{"$f":"Products!F82","v":93}]
["200092",{"$f":"Products!D93","v":"Warm White LED Strip 5m IP68"},{"$f":"Products!E93","v":82.5},{"$f":"Products!F93","v":99}]
["200098",{"$f":"Products!D98","v":"RGBW LED Strip 5m IP20"},{"$f":"Products!E98","v":100},{"$f":"Products!F98","v":120}]
["200099",{"$f":"Products!D99","v":"RGBW LED Strip 5m IP65"},{"$f":"Products!E99","v":105},{"$f":"Products!F99","v":126}]
["200100",{"$f":"Products!D100","v":"RGBW LED Strip 5m IP68"},{"$f":"Products!E100","v":110},{"$f":"Products!F100","v":132}]
[200280,{"$f":"Products!D140","v":"LED Strip Accessories Set - RGBW"},{"$f":"Products!E140","v":15.5},{"$f":"Products!F140","v":18.599999999999998}]
[200278,{"$f":"Products!D141","v":"LED Strip Accessories Set - WW"},{"$f":"Products!E141","v":11},{"$f":"Products!F141","v":13.2}]
[null,{"$f":"VLOOKUP(Main!C2,Translating_general!A101:P118,3,FALSE)","v":"Analogue 1-10V"}]
[null,{"$f":"VLOOKUP(Main!C2,Translating_general!A101:P118,4,FALSE)","v":"Light Circut (switched )"}]
[100204,{"$f":"Products!D147","v":"LED Spot RGBW - White"},{"$f":"Products!E147","v":40},{"$f":"Products!F147","v":48}]
[100203,{"$f":"Products!D148","v":"LED Spot WW - White"},{"$f":"Products!E148","v":27.5},{"$f":"Products!F148","v":33}]
[null,{"$f":"VLOOKUP(Main!C2,Translating_general!A101:AK118,37,FALSE)","v":"Dali Channel"}]
[null,{"$f":"VLOOKUP(Main!C2,Translating_general!A101:AM118,39,FALSE)","v":"Circut (switched ) 16A"}]
[null,{"$f":"Products!D180","v":"LED Ceiling Spot RGBW - White"}]
[null,{"$f":"Products!D181","v":"LED Ceiling Spot WW - White"},null,null,null,null,null,null,null,null,null,null,{"$f":"VLOOKUP(Main!C2,Translating_general!A101:P118,5,FALSE)","v":"Light Circuit (dimmed 230V)"}]
[null,{"$f":"Products!D182","v":"LED Ceiling Spot Tree RGBW - White"},null,null,null,null,null,null,null,null,null,null,{"$f":"VLOOKUP(Main!C2,Translating_general!A101:P118,6,FALSE)","v":"Light Circuit (dimmed 0-10V)"},null,null,"DMX Dimmer 4 Kanal muss addiert werden"]
[null,{"$f":"Products!D183","v":"LED Ceiling Spot Tree WW - White"},null,null,null,null,null,null,null,null,null,null,{"$f":"VLOOKUP(Main!C2,Translating_general!A101:P118,7,FALSE)","v":"Light Circuit (24V 50W DMX)"},null,null,"Air Dimmer 4 Kanal muss addiert werden"]
[null,{"$f":"Products!D184","v":"LED Spot Tree WW - White"},null,null,null,null,null,null,null,null,null,null,{"$f":"VLOOKUP(Main!C2,Translating_general!A101:P118,8,FALSE)","v":"Light Circuit (24V 50W Air)"}]
[null,{"$f":"Products!D185","v":"LED Spot Tree RGBW - White"}]
[null,{"$f":"Products!D186","v":"RGBW 24V Dimmer Tree"}]
[null,{"$f":"Products!D191","v":"LED Spot back box for cast concrete"},null,null,null,null,null,null,null,null,null,null,"DMX Extension für Signal"]
[null,{"$f":"Products!D198","v":"LED Pendulum Slim - White"},null,null,null,null,null,null,null,null,null,null,"DMX Dimmer für LED Streifen"]
[null,{"$f":"Products!D199","v":"LED Pendulum Slim - Anthracite"},null,null,null,null,null,null,null,null,null,null,"Netzteil 4,2 Ampere"]
[null,{"$f":"Products!D200","v":"LED Ceiling Spot RGBW - Anthracite"},null,null,null,null,null,null,null,null,null,null,"Pro Streifen 1 Dimmer"]
[null,{"$f":"Products!D201","v":"LED Ceiling Spot WW - Anthracite"},null,null,null,null,null,null,null,null,null,null,"Dimmer einfach so auswählen"]
[null,{"$f":"Products!D202","v":"LED Ceiling Spot Tree RGBW - Anthracite"}]
[null,{"$f":"Products!D203","v":"LED Ceiling Spot Tree WW - Anthracite"}]
[null,{"$f":"Products!D204","v":"LED Spot Tree WW - Anthracite"}]
[null,{"$f":"Products!D205","v":"LED Spot Tree RGBW - Anthracite"}]
[null,{"$f":"Products!D206","v":"LED Spot RGBW - Anthracite"}]
[null,{"$f":"Products!D207","v":"LED Spot WW - Anthracite"}]

{"sheet":"Music","index":1,"n_rows":13,"n_cols":5,"rows_kept":13,"cut":false,"hidden":true,"merged":[]}
["Artikelnummer+","Bezeichnung","Preis excl.","Preis Inkl.","Notiz"]
[null,{"$f":"VLOOKUP(Main!$C$2,Translating_general!$A$101:$T$118,20,FALSE)","v":"Music Server Zone"}]
["100165",{"$f":"Products!D42","v":"Loxone Music Server 4 Zone"},{"$f":"Products!E42","v":1050},{"$f":"Products!F42","v":1260}]
["100166",{"$f":"Products!D43","v":"Loxone Music Server 8 Zone"},{"$f":"Products!E43","v":1550},{"$f":"Products!F43","v":1860}]
["100167",{"$f":"Products!D44","v":"Loxone Music Server 12 Zone"},{"$f":"Products!E44","v":1900},{"$f":"Products!F44","v":2280}]
["100168",{"$f":"Products!D45","v":"Loxone Music Server 16 Zone"},{"$f":"Products!E45","v":2250},{"$f":"Products!F45","v":2700}]
["100169",{"$f":"Products!D46","v":"Loxone Music Server 20 Zone"},{"$f":"Products!E46","v":2550},{"$f":"Products!F46","v":3060}]
["200097",{"$f":"Products!D97","v":"Loxone Speaker"},{"$f":"Products!E97","v":82.5},{"$f":"Products!F97","v":99}]
["200110",{"$f":"Products!D104","v":"Loxone 12 Channel Amplifier"},{"$f":"Products!E104","v":547.5},{"$f":"Products!F104","v":657}]
["200150",{"$f":"Products!D112","v":"Loxone Speaker Back Box"},{"$f":"Products!E112","v":40},{"$f":"Products!F112","v":48}]
["200153",{"$f":"Products!D114","v":"Loxone Wall Speaker"},{"$f":"Products!E114","v":100},{"$f":"Products!F114","v":120}]
[200202,{"$f":"Products!D139","v":"Loxone Speaker Back Box For Suspended Ceilings"},{"$f":"Products!E139","v":33},{"$f":"Products!F139","v":39.6}]
[100205,{"$f":"Products!D143","v":"not sold"},{"$f":"Products!E143","v":80},{"$f":"Products!F143","v":96}]

{"sheet":"Heating","index":2,"n_rows":11,"n_cols":5,"rows_kept":11,"cut":false,"hidden":true,"merged":[]}
["Artikelnummer+","Bezeichnung","Preis excl.","Preis Inkl.","Notiz"]
["100163",null,{"$f":"Products!E41","v":65},{"$f":"Products!F41","v":78}]
["200003",null,{"$f":"Products!E57","v":0},{"$f":"Products!F57","v":0}]
[200004,{"$f":"Products!D41","v":"Valve Actuator Air"},{"$f":"Products!E58","v":0},{"$f":"Products!F58","v":0}]
["no longer sold",{"$f":"Products!D57","v":"No longer sold"},{"$f":"Products!E59","v":0},{"$f":"Products!F59","v":0}]
[200006,{"$f":"Products!D60","v":"Indoor Temperature Sensor 0-10V"},{"$f":"Products!E60","v":38},{"$f":"Products!F60","v":45.6}]
[200010,{"$f":"Products!D62","v":"Indoor Temperature & Humidity Sensor 0-10V"},{"$f":"Products!E62","v":80},{"$f":"Products!F62","v":96}]
[200017,{"$f":"Products!D65","v":"Indoor Temperature, Humidty & CO2 Sensor 0-10V"},{"$f":"Products!E65","v":210},{"$f":"Products!F65","v":252}]
[200077,{"$f":"Products!D87","v":"Temperature Probe 1-Wire"},{"$f":"Products!E87","v":10},{"$f":"Products!F87","v":12}]
[200109,{"$f":"VLOOKUP(Main!C2,Translating_general!A101:P118,9,FALSE)","v":"1-Wire Temperature Sensor"},{"$f":"Products!E103","v":36.5},{"$f":"Products!F103","v":43.8}]
[null,{"$f":"Products!D154","v":"Valve Actuator Tree"}]

{"sheet":"Entry","index":3,"n_rows":17,"n_cols":5,"rows_kept":17,"cut":false,"hidden":true,"merged":[]}
["Artikelnummer+","Bezeichnung","Preis excl.","Preis Inkl.","Notiz"]
["200063",{"$f":"Products!D83","v":"iButton Reader 1-Wire"},{"$f":"Products!E83","v":8.5},{"$f":"Products!F83","v":10.199999999999999}]
["200064",{"$f":"Products!D84","v":"iButton Electronic Key Fob"},{"$f":"Products!E84","v":3.25},{"$f":"Products!F84","v":3.9}]
["200070",{"$f":"Products!D86","v":"iButton Electronic Key Fob (Magnetic)"},{"$f":"Products!E86","v":7.5},{"$f":"Products!F86","v":9}]
["200093",{"$f":"Products!D94","v":"Loxone Intercom"},{"$f":"Products!E94","v":770},{"$f":"Products!F94","v":924}]
["200094",{"$f":"Products!D95","v":"Flush-mounted box for the Loxone intercom"},{"$f":"Products!E95","v":50},{"$f":"Products!F95","v":60}]
["200095",{"$f":"Products!D96","v":"Surface Box for Loxone Intercom"},{"$f":"Products!E96","v":92.5},{"$f":"Products!F96","v":111}]
["200191",{"$f":"Products!D137","v":"iButton Reader 1-Wire Outdoor"},{"$f":"Products!E137","v":25},{"$f":"Products!F137","v":30}]
[200273,{"$f":"Products!D144","v":"Loxone Intercom XL"},{"$f":"Products!E144","v":1050},{"$f":"Products!F144","v":1260}]
[null,{"$f":"Products!D212","v":"NFC Code Touch Air - White"}]
[null,{"$f":"Products!D213","v":"NFC Code Touch Tree - White"}]
[null,{"$f":"Products!D214","v":"NFC Code Touch for Nano - White"}]
[null,{"$f":"Products!D215","v":"NFC Code Touch Air - Anthracite"}]
[null,{"$f":"Products!D216","v":"NFC Code Touch Tree - Anthracite"}]
[null,{"$f":"Products!D217","v":"NFC Code Touch for Nano - Anthracite"}]
[null,{"$f":"Products!D218","v":"Battery Pack (Touch Surface)"}]
[null,{"$f":"Products!D219","v":"Power Adapter (Touch Surface)"}]

{"sheet":"Quick Planning","index":4,"n_rows":41,"n_cols":16,"rows_kept":41,"cut":false,"hidden":true,"merged":[[4,0,4,12],[12,0,12,12],[40,0,40,12]]}
[]
[]
[]
[]
["Projektinformation"]
[]
[]
[]
[]
[]
[]
[]
["Räume",null,null,null,null,null,null,null,null,null,null,null,null,null,"Aktiver Raum","hj"]
[null,null,null,null,null,null,null,null,null,null,null,null,null,null,null,"hj"]
[null,null,null,null,null,null,null,null,null,null,null,null,null,null,null,"re"]
[]
[]
[]
[]
[]
[]
[]
[]
[]
[]
[]
[]
[]
[]
[]
[]
[]
[]
[]
[]
[]
[]
[]
[]
[]
["Angebot"]

{"sheet":"QuickPlanning2","index":5,"n_rows":254,"n_cols":26,"rows_kept":254,"cut":false,"hidden":true,"merged":[[0,0,0,9]]}
["Schnellplanung für Ihr Projekt [BETA VERSION]"]
[null,null,null,null,null,null,null,null,null,null,null,null,"Erklärung:"]
[null,null,null,null,null,null,null,null,null,null,null,null,"Beginnen Sie Ihre Schnellplanung, indem Sie auf den grünen Button klicken. Dann geben Sie ihre Räume an und welche Kathegorien mit Loxone realisiert werden sollen. Sie können danach wie gewohnt die Main Seite fein abstimmen!"]
[]
[]
[]
[null,null,null,null,null,null,null,null,null,null,null,null,"Tipp:"]
[null,null,null,null,null,null,null,null,null,null,null,null,"Zeigen Sie dem Kunden was das Projekt kosten würde, wenn Sie Musik/Heizung/Beschattung auch realisieren!"]
[null,null,null,null,null,null,null,null,null,null,null,null,null,null,null,null,null,null,"Projekt "]
[null,null,null,null,null,null,null,null,null,null,null,null,null,null,null,null,null,null,"Projektname","Kunde XY"]
[null,null,null,null,null,null,null,null,null,null,null,null,null,null,null,null,null,null,"Kunde","Max Mustermann"]
[null,null,null,null,null,null,null,null,null,null,null,null,"Dieses Tool ist in der Beta Phase, ich würde mich über Feedback zu Performance, Funktion, Wünschen etc.  an die Partnerbetreuer sehr freuen!",null,null,null,null,null,"Adresse","Musterstraße 3"]
[null,null,null,null,null,null,null,null,null,null,null,null,null,null,null,null,null,null,"PLZ",1234]
[null,null,null,null,null,null,null,null,null,null,null,null,null,null,null,null,null,null,"Ort","Musterort"]
[]
[null,null,null,null,null,null,null,null,null,null,null,null,null,null,null,null,null,null,null,null,null,"Für mehrsprachig, immer die Werte referenzieren, nie direkt schreiben"]
[null,null,null,null,null,null,null,null,null,null,null,null,null,null,null,null,null,null,"Anzahl","Wohnzimmer Licht","Anzahl","Wohnzimmer Beschattung","Anzahl","Wohnzimmer Heizung","Anzahl","Wohnzimmer Musik"]
[null,null,null,null,null,null,null,null,null,null,null,null,null,null,null,null,null,null,1,{"$f":"Sensors!B22","v":"Motion Sensor Tree - White"},8,{"$f":"Shading!B3","v":"Shading (Blinds, Curtains, …)"},2,{"$f":"Main!B21","v":"Valve Actuator Tree"},1,{"$f":"Music!B2","v":"Music Server Zone"}]
[null,null,null,null,null,null,null,null,null,null,null,null,null,null,null,null,null,null,2,{"$f":"Tree!B5","v":"Touch Tree - White"},null,null,null,null,2,{"$f":"Music!B8","v":"Loxone Speaker"}]
[null,null,null,null,null,null,null,null,null,null,null,null,null,null,null,null,null,null,1,{"$f":"Light!B12","v":"RGBW LED Strip 5m IP20"},null,null,null,null,2,{"$f":"Music!B10","v":"Loxone Speaker Back Box"}]
[null,null,null,null,null,null,null,null,null,null,null,null,null,null,null,null,null,null,12,{"$f":"Light!B20","v":"LED Spot WW - White"}]
[null,null,null,null,null,null,null,null,null,null,null,null,null,null,null,null,null,null,2,{"$f":"Light!B29","v":"RGBW 24V Dimmer Tree"}]
[]
[]
[]
[]
[]
[]
[]
[]
[]
["Kostenrechner"]
["Netto Liste",{"$f":"Products!G222","v":15166}]
["Partnerrabatt [%]",17]
["Netto Produkte",{"$f":"B33*(1-(B34/100))","v":12587.779999999999}]
["Interne Kosten",0.35,"(Programmierung, Installation, …)"]
["Netto Gesamt",{"$f":"B33*(1+B36)","v":20474.100000000002}]
[]
[null,null,null,null,null,null,null,null,null,null,null,null,null,null,null,null,null,null,"Anzahl","Küche Licht","Anzahl","Küche Beschattung","Anzahl","Küche Heizung","Anzahl","Küche Musik"]
[null,null,null,null,null,null,null,null,null,null,null,null,null,null,null,null,null,null,1,{"$f":"Sensors!B22","v":"Motion Sensor Tree - White"},4,{"$f":"Shading!B3","v":"Shading (Blinds, Curtains, …)"},1,{"$f":"Main!B21","v":"Valve Actuator Tree"},1,{"$f":"Music!B2","v":"Music Server Zone"}]
["Allgemeine Kosten (Miniserver,…)",null,null,{"$f":"SUMIF(Products!R7:R188, \"R\", Products!G7:G188)/(1+Products!E223/100)","v":7191.0000000000009},null,null,null,null,null,null,null,null,null,null,null,null,null,null,2,{"$f":"Tree!B5","v":"Touch Tree - White"},null,null,null,null,2,{"$f":"Music!B8","v":"Loxone Speaker"}]
[null,null,null,null,null,null,null,null,null,null,null,null,null,null,null,null,null,null,9,{"$f":"Light!B20","v":"LED Spot WW - White"},null,null,null,null,2,{"$f":"Music!B10","v":"Loxone Speaker Back Box"}]
["Licht",null,null,{"$f":"SUMIF(Products!R7:R188, \"L\", Products!G7:G188)/(1+Products!E223/100)","v":2992.5},null,null,null,null,null,null,null,null,null,null,null,null,null,null,2,{"$f":"Light!B29","v":"RGBW 24V Dimmer Tree"}]
[null,null,null,null,null,null,null,null,null,null,null,null,null,null,null,null,null,null,1,{"$f":"Light!B12","v":"RGBW LED Strip 5m IP20"}]
["Beschattung",null,null,{"$f":"SUMIF(Products!R7:R188, \"B\", Products!G7:G188)/(1+Products!E223/100)","v":0}]
[]
["Heizung",null,null,{"$f":"SUMIF(Products!R7:R188, \"H\", Products!G7:G188)/(1+Products!E223/100)","v":670}]
[]
["Musik",null,null,{"$f":"SUMIF(Products!R7:R188, \"M\", Products!G7:G188)/(1+Products!E223/100)","v":2645}]
[]
[]
[]
[]
[]
[]
[]
[]
[]
[]
[]
[null,null,null,null,null,null,null,null,null,null,null,null,null,null,null,null,null,null,"Anzahl","Bad EG Licht","Anzahl","Bad EG Beschattung","Anzahl","BadEG Heizung","Anzahl","Bad EG Musik"]
[null,null,null,null,null,null,null,null,null,null,null,null,null,null,null,null,null,null,2,"Bewegungsmelder Tree Weiß",3,"Beschattung (Rollo, Raffstore,...)",1,"Stellantrieb Tree",1,{"$f":"Music!B2","v":"Music Server Zone"}]
[null,null,null,null,null,null,null,null,null,null,null,null,null,null,null,null,null,null,1,"Touch Tree Weiß",null,null,null,null,2,{"$f":"Music!B8","v":"Loxone Speaker"}]
[null,null,null,null,null,null,null,null,null,null,null,null,null,null,null,null,null,null,null,null,null,null,null,null,2,{"$f":"Music!B10","v":"Loxone Speaker Back Box"}]
[]
[]
[]
[]
[]
[]
[]
[]
[]
[]
[]
[]
[]
[]
[]
[]
[]
[null,null,null,null,null,null,null,null,null,null,null,null,null,null,null,null,null,null,"Anzahl","Kizi1 Licht","Anzahl","Kizi1 Beschattung","Anzahl","Kizi1 Heizun","Anzahl","Kizi1 Musik"]
[null,null,null,null,null,null,null,null,null,null,null,null,null,null,null,null,null,null,2,"Bewegungsmelder Tree Weiß",3,"Beschattung (Rollo, Raffstore,...)",1,"Stellantrieb Tree",1,{"$f":"Music!B2","v":"Music Server Zone"}]
[null,null,null,null,null,null,null,null,null,null,null,null,null,null,null,null,null,null,1,"Touch Tree Weiß",null,null,null,null,2,{"$f":"Music!B8","v":"Loxone Speaker"}]
[null,null,null,null,null,null,null,null,null,null,null,null,null,null,null,null,null,null,null,null,null,null,null,null,2,{"$f":"Music!B10","v":"Loxone Speaker Back Box"}]
[]
[]
[]
[]
[]
[]
[]
[]
[]
[]
[]
[]
[]
[]
[]
[]
[]
[]
[null,null,null,null,null,null,null,null,null,null,null,null,null,null,null,null,null,null,"Anzahl","Kizi2 Licht","Anzahl","Kizi2 Beschattung","Anzahl","Kizi2 Heizun","Anzahl","Kizi2 Musik"]
[null,null,null,null,null,null,null,null,null,null,null,null,null,null,null,null,null,null,2,"Bewegungsmelder Tree Weiß",3,"Beschattung (Rollo, Raffstore,...)",1,"Stellantrieb Tree",1,{"$f":"Music!B2","v":"Music Server Zone"}]
[null,null,null,null,null,null,null,null,null,null,null,null,null,null,null,null,null,null,1,"Touch Tree Weiß",null,null,null,null,2,{"$f":"Music!B8","v":"Loxone Speaker"}]
[null,null,null,null,null,null,null,null,null,null,null,null,null,null,null,null,null,null,null,null,null,null,null,null,2,"Loxone Speaker Einbaubox"]
[]
[]
[]
[]
[]
[]
[]
[]
[]
[]
[]
[]
[]
[]
[]
[]
[]
[null,null,null,null,null,null,null,null,null,null,null,null,null,null,null,null,null,null,"Anzahl","FlurDiele EG Licht","Anzahl","Flur Eg Beschattung","Anzahl","Flur Eg Heizung","Anzahl","Flur Eg Musik"]
[null,null,null,null,null,null,null,null,null,null,null,null,null,null,null,null,null,null,2,"Bewegungsmelder Tree Weiß",3,"Beschattung (Rollo, Raffstore,...)",1,"Stellantrieb Tree",1,{"$f":"Music!B2","v":"Music Server Zone"}]
[null,null,null,null,null,null,null,null,null,null,null,null,null,null,null,null,null,null,1,"Touch Tree Weiß",null,null,null,null,2,{"$f":"Music!B8","v":"Loxone Speaker"}]
[null,null,null,null,null,null,null,null,null,null,null,null,null,null,null,null,null,null,null,null,null,null,null,null,2,{"$f":"Music!B10","v":"Loxone Speaker Back Box"}]
[]
[]
[]
[]
[]
[]
[]
[]
[]
[]
[]
[]
[]
[]
[]
[]
[]
[null,null,null,null,null,null,null,null,null,null,null,null,null,null,null,null,null,null,"Anzahl","Eingang Licht","Anzahl","Eingang Beschattung","Anzahl","Eingang Heizung","Anzahl","Eingang Musik"]
[null,null,null,null,null,null,null,null,null,null,null,null,null,null,null,null,null,null,2,"Bewegungsmelder Tree Weiß",3,"Beschattung (Rollo, Raffstore,...)",1,"Stellantrieb Tree",1,{"$f":"Music!B2","v":"Music Server Zone"}]
[null,null,null,null,null,null,null,null,null,null,null,null,null,null,null,null,null,null,1,"Touch Tree Weiß",null,null,null,null,2,{"$f":"Music!B8","v":"Loxone Speaker"}]
[null,null,null,null,null,null,null,null,null,null,null,null,null,null,null,null,null,null,null,null,null,null,null,null,2,{"$f":"Music!B10","v":"Loxone Speaker Back Box"}]
[]
[]
[]
[]
[]
[]
[]
[]
[]
[]
[]
[]
[]
[]
[]
[]
[]
[null,null,null,null,null,null,null,null,null,null,null,null,null,null,null,null,null,null,"Anzahl","Schlazi Licht","Anzahl","Schlazi Beschattung","Anzahl","Schlazi Heizung","Anzahl","Schlazi Muik"]
[null,null,null,null,null,null,null,null,null,null,null,null,null,null,null,null,null,null,2,"Bewegungsmelder Tree Weiß",3,"Beschattung (Rollo, Raffstore,...)",1,"Stellantrieb Tree",1,{"$f":"Music!B2","v":"Music Server Zone"}]
[null,null,null,null,null,null,null,null,null,null,null,null,null,null,null,null,null,null,1,"Touch Tree Weiß",null,null,null,null,2,{"$f":"Music!B8","v":"Loxone Speaker"}]
[null,null,null,null,null,null,null,null,null,null,null,null,null,null,null,null,null,null,null,null,null,null,null,null,2,{"$f":"Music!B10","v":"Loxone Speaker Back Box"}]
[]
[]
[]
[]
[]
[]
[]
[]
[]
[]
[]
[]
[]
[]
[]
[]
[]
[null,null,null,null,null,null,null,null,null,null,null,null,null,null,null,null,null,null,"Anzahl","WC licht","Anzahl","WC beschattung","Anzahl","WC Heizung","Anzahl","WC Musik"]
[null,null,null,null,null,null,null,null,null,null,null,null,null,null,null,null,null,null,2,"Bewegungsmelder Tree Weiß",3,"Beschattung (Rollo, Raffstore,...)",1,"Stellantrieb Tree",1,{"$f":"Music!B2","v":"Music Server Zone"}]
[null,null,null,null,null,null,null,null,null,null,null,null,null,null,null,null,null,null,1,"Touch Tree Weiß",null,null,null,null,2,{"$f":"Music!B8","v":"Loxone Speaker"}]
[null,null,null,null,null,null,null,null,null,null,null,null,null,null,null,null,null,null,null,null,null,null,null,null,2,{"$f":"Music!B10","v":"Loxone Speaker Back Box"}]
[]
[]
[]
[]
[]
[]
[]
[]
[]
[]
[]
[]
[]
[]
[]
[]
[]
[null,null,null,null,null,null,null,null,null,null,null,null,null,null,null,null,null,null,"Anzahl","Bad OG Licht","Anzahl","Bad OG Beschattung","Anzahl","Bad OG Heizung","Anzahl","Bad OG Musik"]
[null,null,null,null,null,null,null,null,null,null,null,null,null,null,null,null,null,null,2,"Bewegungsmelder Tree Weiß",3,"Beschattung (Rollo, Raffstore,...)",1,"Stellantrieb Tree",1,"Musikserver Zonenauswahl"]
[null,null,null,null,null,null,null,null,null,null,null,null,null,null,null,null,null,null,1,"Touch Tree Weiß",null,null,null,null,2,{"$f":"Music!B8","v":"Loxone Speaker"}]
[null,null,null,null,null,null,null,null,null,null,null,null,null,null,null,null,null,null,null,null,null,null,null,null,2,{"$f":"Music!B10","v":"Loxone Speaker Back Box"}]
[]
[]
[]
[]
[]
[]
[]
[]
[]
[]
[]
[]
[]
[]
[]
[]
[]
[null,null,null,null,null,null,null,null,null,null,null,null,null,null,null,null,null,null,"Anzahl","Flur OG Licht","Anzahl","Flur OG Beschattung","Anzahl","Flur OG Heizung","Anzahl","Flur OG Musik"]
[null,null,null,null,null,null,null,null,null,null,null,null,null,null,null,null,null,null,2,"Bewegungsmelder Tree Weiß",3,"Beschattung (Rollo, Raffstore,...)",1,"Stellantrieb Tree",1,{"$f":"Music!B2","v":"Music Server Zone"}]
[null,null,null,null,null,null,null,null,null,null,null,null,null,null,null,null,null,null,1,"Touch Tree Weiß",null,null,null,null,2,{"$f":"Music!B8","v":"Loxone Speaker"}]
[null,null,null,null,null,null,null,null,null,null,null,null,null,null,null,null,null,null,null,null,null,null,null,null,2,{"$f":"Music!B10","v":"Loxone Speaker Back Box"}]
[]
[]
[]
[]
[]
[]
[]
[]
[]
[]
[]
[]
[]
[]
[]
[]
[]
[null,null,null,null,null,null,null,null,null,null,null,null,null,null,null,null,null,null,"Anzahl","Garage Licht","Anzahl","Garage Beschattung","Anzahl","Garage Heizung","Anzahl","Garage Musik"]
[null,null,null,null,null,null,null,null,null,null,null,null,null,null,null,null,null,null,2,"Bewegungsmelder Tree Weiß",3,"Beschattung (Rollo, Raffstore,...)",1,"Stellantrieb Tree",1,{"$f":"Music!B2","v":"Music Server Zone"}]
[null,null,null,null,null,null,null,null,null,null,null,null,null,null,null,null,null,null,1,"Touch Tree Weiß",null,null,null,null,2,{"$f":"Music!B8","v":"Loxone Speaker"}]
[null,null,null,null,null,null,null,null,null,null,null,null,null,null,null,null,null,null,null,null,null,null,null,null,2,{"$f":"Music!B10","v":"Loxone Speaker Back Box"}]

{"sheet":"Sensors","index":6,"n_rows":30,"n_cols":5,"rows_kept":30,"cut":false,"hidden":true,"merged":[]}
["Artikelnummer+","Bezeichnung","Preis excl.","Preis Inkl.","Notiz"]
[200003,{"$f":"Products!D57","v":"No longer sold"},{"$f":"Products!E57","v":0},{"$f":"Products!F57","v":0}]
[200006,{"$f":"Products!D60","v":"Indoor Temperature Sensor 0-10V"},{"$f":"Products!E60","v":38},{"$f":"Products!F60","v":45.6}]
[200010,{"$f":"Products!D62","v":"Indoor Temperature & Humidity Sensor 0-10V"},{"$f":"Products!E62","v":80},{"$f":"Products!F62","v":96}]
["200017",{"$f":"Products!D65","v":"Indoor Temperature, Humidty & CO2 Sensor 0-10V"},{"$f":"Products!E65","v":210},{"$f":"Products!F65","v":252}]
["200018",{"$f":"Products!D66","v":"Rain Sensor (24V)"},{"$f":"Products!E66","v":55},{"$f":"Products!F66","v":66}]
["200031",{"$f":"Products!D67","v":"Outdoor Temperature & Humidy Sensor 0-10V"},{"$f":"Products!E67","v":107.5},{"$f":"Products!F67","v":129}]
["200032",{"$f":"Products!D68","v":"Brightness Sensor 0-10V"},{"$f":"Products!E68","v":73},{"$f":"Products!F68","v":87.6}]
["200033",{"$f":"VLOOKUP(Main!C2,Translating_general!A101:P118,10,FALSE)","v":"Windsensor 24V"},{"$f":"Products!E69","v":67.5},{"$f":"Products!F69","v":81}]
["200034",{"$f":"Products!D70","v":"Wind Sensor Mount"},{"$f":"Products!E70","v":50},{"$f":"Products!F70","v":60}]
["200054",{"$f":"Products!D79","v":"Ultrasonic Sensor 0-10V"},{"$f":"Products!E79","v":192.5},{"$f":"Products!F79","v":231}]
[200077,{"$f":"Products!D87","v":"Temperature Probe 1-Wire"},{"$f":"Products!E87","v":10},{"$f":"Products!F87","v":12}]
["200101",{"$f":"Products!D101","v":"No longer sold"},{"$f":"Products!E101","v":0},{"$f":"Products!F101","v":0}]
[200109,{"$f":"Products!D103","v":"Temperature Sensor Set 1-Wire"},{"$f":"Products!E103","v":36.5},{"$f":"Products!F103","v":43.8}]
["200112",{"$f":"Products!D105","v":"Outside Motion Sensor (24V)"},{"$f":"Products!E105","v":92.5},{"$f":"Products!F105","v":111}]
[null,{"$f":"VLOOKUP(Main!C2,Translating_general!A101:P118,11,FALSE)","v":"Window Contact (integrated - only reserve DI)"}]
["200113",{"$f":"Products!D106","v":"Window & Door Contact"},{"$f":"Products!E106","v":9},{"$f":"Products!F106","v":10.799999999999999}]
["200136",{"$f":"Products!D109","v":"Temperature & Humidity Sensor For Saunas"},{"$f":"Products!E109","v":137.5},{"$f":"Products!F109","v":165}]
["200154",{"$f":"Products!D115","v":"Pressure Sensor 0-10V"},{"$f":"Products!E115","v":95},{"$f":"Products!F115","v":114}]
["200155",{"$f":"Products!D116","v":"Glass Break Sensor 24V"},{"$f":"Products!E116","v":22.75},{"$f":"Products!F116","v":27.3}]
[null,{"$f":"Products!D158","v":"Motion Sensor Tree - Anthracite"}]
[null,{"$f":"Products!D153","v":"Motion Sensor Tree - White"}]
[null,{"$f":"Products!D155","v":"Water Sensor Air"}]
[null,{"$f":"Products!D156","v":"Door & Window Contact Air - Anthracite"}]
[null,{"$f":"Products!D157","v":"Door & Window Contact Air - White"}]
[null,{"$f":"HLOOKUP(Main!$C$2,Translating_products!$DI$4:$DY$216,Translating_products!CM187, FALSE)","v":"Digital IN (Reserve)"}]
[null,{"$f":"HLOOKUP(Main!$C$2,Translating_products!$DI$4:$DY$216,Translating_products!CM188, FALSE)","v":"Analog IN (Reserve)"}]
[null,{"$f":"HLOOKUP(Main!$C$2,Translating_products!$DI$4:$DY$216,Translating_products!CM189, FALSE)","v":"Window Handle Air"}]
[null,{"$f":"Products!D189","v":"Weather Station Tree"}]
[null,{"$f":"Products!D190","v":"Weather Station Air"}]

{"sheet":"Distributors","index":7,"n_rows":23,"n_cols":5,"rows_kept":23,"cut":false,"hidden":true,"merged":[]}
["Artikelnummer+","Bezeichnung","Preis excl.","Preis Inkl.","Notiz"]
["200168",{"$f":"Products!D120","v":"Push In Terminal Block 8x4 Interconnected (20 pcs)"},{"$f":"Products!E120","v":178},{"$f":"Products!F120","v":213.6}]
["200169",{"$f":"Products!D121","v":"Push In Terminal Block 8x4 Seperated (20pcs)"},{"$f":"Products!E121","v":169},{"$f":"Products!F121","v":202.79999999999998}]
["200170",{"$f":"VLOOKUP(Main!$C$2,Translating_general!$A$101:$AZ$118,21,FALSE)","v":"Partition for 8x4 Terminals (10pcs)"},{"$f":"Products!E122","v":9},{"$f":"Products!F122","v":10.799999999999999}]
["200171",{"$f":"VLOOKUP(Main!$C$2,Translating_general!$A$101:$AZ$118,22,FALSE)","v":"Label Holder 8 Levels (20 pcs)"},{"$f":"Products!E123","v":23},{"$f":"Products!F123","v":27.599999999999998}]
["200172",{"$f":"VLOOKUP(Main!$C$2,Translating_general!$A$101:$AZ$118,23,FALSE)","v":"End Plate for 8x4 Terminals (10 pcs)"},{"$f":"Products!E124","v":4.5},{"$f":"Products!F124","v":5.3999999999999995}]
["200173",{"$f":"VLOOKUP(Main!$C$2,Translating_general!$A$101:$AZ$118,24,FALSE)","v":"Push In Terminal Block 3+Earth (50 pcs)"},{"$f":"Products!E125","v":174},{"$f":"Products!F125","v":208.79999999999998}]
["200174",{"$f":"VLOOKUP(Main!$C$2,Translating_general!$A$101:$AZ$118,25,FALSE)","v":"End Plate for 3+Earth Terminals (20 pcs)"},{"$f":"Products!E126","v":9},{"$f":"Products!F126","v":10.799999999999999}]
["200175",{"$f":"VLOOKUP(Main!$C$2,Translating_general!$A$101:$AZ$118,26,FALSE)","v":"Push In Terminal Block Twin+Earth (50 pcs)"},{"$f":"Products!E127","v":92.5},{"$f":"Products!F127","v":111}]
["200176",{"$f":"VLOOKUP(Main!$C$2,Translating_general!$A$101:$AZ$118,27,FALSE)","v":"End Bracket (20 pcs)"},{"$f":"Products!E128","v":6.5},{"$f":"Products!F128","v":7.8}]
["200177",{"$f":"VLOOKUP(Main!$C$2,Translating_general!$A$101:$AZ$118,28,FALSE)","v":"End Plate for Twin+Earth Terminals (20 pcs)"},{"$f":"Products!E129","v":6.5},{"$f":"Products!F129","v":7.8}]
["200178",{"$f":"VLOOKUP(Main!$C$2,Translating_general!$A$101:$AZ$118,29,FALSE)","v":"Push in Fused Terminal Block (25 pcs)"},{"$f":"Products!E130","v":110},{"$f":"Products!F130","v":132}]
["200179",{"$f":"VLOOKUP(Main!$C$2,Translating_general!$A$101:$AZ$118,30,FALSE)","v":"End Plate For Fused Terminals (50 pcs)"},{"$f":"Products!E131","v":14.5},{"$f":"Products!F131","v":17.399999999999999}]
["200180",{"$f":"VLOOKUP(Main!$C$2,Translating_general!$A$101:$AZ$118,31,FALSE)","v":"Cross Connector For Fused Terminals (10 pcs)"},{"$f":"Products!E132","v":55},{"$f":"Products!F132","v":66}]
["200181",{"$f":"VLOOKUP(Main!$C$2,Translating_general!$A$101:$AZ$118,32,FALSE)","v":"Blade Fuse 2A (100 pcs)"},{"$f":"Products!E133","v":8.25},{"$f":"Products!F133","v":9.9}]
["200183",{"$f":"VLOOKUP(Main!$C$2,Translating_general!$A$101:$AZ$118,33,FALSE)","v":"Blade Fuse 5A (100 pcs)"},{"$f":"Products!E134","v":8.25},{"$f":"Products!F134","v":9.9}]
["200184",{"$f":"VLOOKUP(Main!$C$2,Translating_general!$A$101:$AZ$118,34,FALSE)","v":"Blade Fuse 10A (100 pcs)"},{"$f":"Products!E135","v":8.25},{"$f":"Products!F135","v":9.9}]
["200129",{"$f":"VLOOKUP(Main!$C$2,Translating_general!$A$101:$AZ$118,35,FALSE)","v":"Loxone CAT7 Cable (250m)"},{"$f":"Products!E107","v":155},{"$f":"Products!F107","v":186}]
["100150",{"$f":"Products!D35","v":"Loxone Tool Kit by Weidmüller"},{"$f":"Products!E35","v":280},{"$f":"Products!F35","v":336}]
["200204",{"$f":"Products!D159","v":"Cross Connector for Mains Terminals (20 pcs)"},{"$f":"Products!E159","v":80},{"$f":"Products!F159","v":96}]
[null,{"$f":"Products!D77","v":"Coupling Relay"}]
[null,{"$f":"Products!D208","v":"Weidmüller DEK Terminal Markers (500 Stk) 1-50"}]
[null,{"$f":"Products!D209","v":"Weidmüller DEK Terminal Markers (500 Stk) 51-100"}]

{"sheet":"Tree","index":8,"n_rows":21,"n_cols":2,"rows_kept":21,"cut":false,"hidden":true,"merged":[]}
[]
[]
[null,"Bezeichnung"]
[null,{"$f":"Products!D150","v":"Tree Extension"}]
[null,{"$f":"Products!D151","v":"Touch Tree - White"}]
[null,{"$f":"Products!D152","v":"Touch Tree - Anthracite"}]
[null,{"$f":"Products!D153","v":"Motion Sensor Tree - White"}]
[null,{"$f":"Products!D154","v":"Valve Actuator Tree"}]
[null,{"$f":"Products!D158","v":"Motion Sensor Tree - Anthracite"}]
[null,{"$f":"Products!D164","v":"Touch Pure Tree - White"}]
[null,{"$f":"Products!D175","v":"Nano DI Tree"}]
[null,{"$f":"Products!D178","v":"not available in this country"}]
[null,{"$f":"Products!D182","v":"LED Ceiling Spot Tree RGBW - White"}]
[null,{"$f":"Products!D183","v":"LED Ceiling Spot Tree WW - White"}]
[null,{"$f":"Products!D184","v":"LED Spot Tree WW - White"}]
[null,{"$f":"Products!D185","v":"LED Spot Tree RGBW - White"}]
[null,{"$f":"Products!D186","v":"RGBW 24V Dimmer Tree"}]
[null,{"$f":"Products!D189","v":"Weather Station Tree"}]
[null,{"$f":"Products!D210","v":"Touch Surface Tree"}]
[null,{"$f":"Products!D213","v":"NFC Code Touch Tree - White"}]
[null,{"$f":"Products!D216","v":"NFC Code Touch Tree - Anthracite"}]

{"sheet":"Wireless","index":9,"n_rows":41,"n_cols":5,"rows_kept":41,"cut":false,"hidden":true,"merged":[]}
["Artikelnummer+","Bezeichnung","Preis excl.","Preis Inkl.","Notiz"]
["100114",{"$f":"Products!D24","v":"Air Base Extension"},{"$f":"Products!E24","v":77.5},{"$f":"Products!F24","v":93}]
["100115",{"$f":"Products!D25","v":"Smart Socket Air - Type G (UK)"},{"$f":"Products!E25","v":52.5},{"$f":"Products!F25","v":63}]
["100116",{"$f":"Products!D26","v":"Multi Extension Air"},{"$f":"Products!E26","v":360},{"$f":"Products!F26","v":432}]
["100139",{"$f":"Products!D30","v":"Miniserver Go"},{"$f":"Products!E30","v":275},{"$f":"Products!F30","v":330}]
["100140",{"$f":"Products!D31","v":"Remote Air"},{"$f":"Products!E31","v":37.5},{"$f":"Products!F31","v":45}]
["100141",{"$f":"Products!D32","v":"IR Control Air"},{"$f":"Products!E32","v":82.5},{"$f":"Products!F32","v":99}]
["100142",{"$f":"Products!D33","v":"Smoke Detector Air"},{"$f":"Products!E33","v":70},{"$f":"Products!F33","v":84}]
["100149",{"$f":"Products!D34","v":"Temperature & Humidity Sesnor Air"},{"$f":"Products!E34","v":62.5},{"$f":"Products!F34","v":75}]
["100151",{"$f":"Products!D36","v":"Loxone Meter Reader IR Air"},{"$f":"Products!E36","v":82.5},{"$f":"Products!F36","v":99}]
["100154",{"$f":"Products!D38","v":"Loxone Touch for Nano - White"},{"$f":"Products!E38","v":35},{"$f":"Products!F38","v":42}]
["100155",{"$f":"Products!D39","v":"Loxone Touch Air - White"},{"$f":"Products!E39","v":80},{"$f":"Products!F39","v":96}]
["100180",{"$f":"Products!D50","v":"Loxone Touch Air - Anthracite"},{"$f":"Products!E50","v":80},{"$f":"Products!F50","v":96}]
["100181",{"$f":"Products!D51","v":"Loxone Touch for Nano - Anthracite"},{"$f":"Products!E51","v":35},{"$f":"Products!F51","v":42}]
["100182",{"$f":"Products!D52","v":"Tubular Motor SOLIDline Air 10Nm"},{"$f":"Products!E52","v":150},{"$f":"Products!F52","v":180}]
["100183",{"$f":"Products!D53","v":"Tubular Motor SOLIDline Air 20Nm"},{"$f":"Products!E53","v":170},{"$f":"Products!F53","v":204}]
["100184",{"$f":"Products!D54","v":"Tubular Motor SOLIDline Air 50Nm"},{"$f":"Products!E54","v":195},{"$f":"Products!F54","v":234}]
["100163",{"$f":"Products!D41","v":"Valve Actuator Air"},{"$f":"Products!E41","v":65},{"$f":"Products!F41","v":78}]
["200048",{"$f":"Products!D76","v":"SMA Antenna 868 MHz"},{"$f":"Products!E76","v":13.75},{"$f":"Products!F76","v":16.5}]
["200151",{"$f":"Products!D113","v":"SMA Antenna 4dBi 868 MHz"},{"$f":"Products!E113","v":19},{"$f":"Products!F113","v":22.8}]
["100190",{"$f":"Products!D145","v":"Motion Sensor Air - White"},{"$f":"Products!E145","v":75},{"$f":"Products!F145","v":90}]
["100153",{"$f":"Products!D37","v":"Nano IO Air"},{"$f":"Products!E37","v":82.5},{"$f":"Products!F37","v":99}]
["wird nicht verwendet",{"$f":"Products!D155","v":"Water Sensor Air"},"wird nicht verwendet","wird nicht verwendet"]
[null,{"$f":"Products!D156","v":"Door & Window Contact Air - Anthracite"}]
[null,{"$f":"Products!D157","v":"Door & Window Contact Air - White"}]
[null,{"$f":"Products!D162","v":"Touch Pure Air - White"}]
[null,{"$f":"Products!D163","v":"Touch Pure for Nano - White"}]
[null,{"$f":"Products!D166","v":"Nano Dimmer Air"}]
[null,{"$f":"Products!D179","v":"not available in this country"}]
[null,{"$f":"Products!D177","v":"not available in this country"}]
[null,{"$f":"HLOOKUP(Main!$C$2,Translating_products!$DI$4:$DY$216,Translating_products!CM189, FALSE)","v":"Window Handle Air"}]
[null,{"$f":"Products!D190","v":"Weather Station Air"}]
[null,{"$f":"Products!D192","v":"Blind Motor GJ56 Air 6Nm connection at top"}]
[null,{"$f":"Products!D197","v":"Shading Actuator Air"}]
[null,{"$f":"Products!D211","v":"Touch Surface Air"}]
[null,{"$f":"Products!D212","v":"NFC Code Touch Air - White"}]
[null,{"$f":"Products!D214","v":"NFC Code Touch for Nano - White"}]
[null,{"$f":"Products!D215","v":"NFC Code Touch Air - Anthracite"}]
[null,{"$f":"Products!D217","v":"NFC Code Touch for Nano - Anthracite"}]
[null,{"$f":"Products!D218","v":"Battery Pack (Touch Surface)"}]
[null,{"$f":"Products!D219","v":"Power Adapter (Touch Surface)"}]

{"sheet":"Other","index":10,"n_rows":53,"n_cols":5,"rows_kept":53,"cut":false,"hidden":true,"merged":[]}
["Artikelnummer+","Bezeichnung","Preis excl.","Preis Inkl.","Kategorien_Sonstiges"]
["100004",{"$f":"Products!D9","v":"Rollup Banner English"},{"$f":"Products!E9","v":90},{"$f":"Products!F9","v":108},"Fans&Partner"]
["100170",{"$f":"Products!D47","v":"not available in this country"},{"$f":"Products!E47","v":0},{"$f":"Products!F47","v":0},"Fans&Partner"]
["200050",{"$f":"Products!D78","v":"Loxone Sticker"},{"$f":"Products!E78","v":3},{"$f":"Products!F78","v":3.5999999999999996},"Fans&Partner"]
["200086",{"$f":"Products!D88","v":"Fanshirt S"},{"$f":"Products!E88","v":11.5},{"$f":"Products!F88","v":13.799999999999999},"Fans&Partner"]
["200087",{"$f":"Products!D89","v":"Fanshirt M"},{"$f":"Products!E89","v":11.5},{"$f":"Products!F89","v":13.799999999999999},"Fans&Partner"]
["200088",{"$f":"Products!D90","v":"Fanshirt L"},{"$f":"Products!E90","v":11.5},{"$f":"Products!F90","v":13.799999999999999},"Fans&Partner"]
["200089",{"$f":"Products!D91","v":"Fanshirt XL"},{"$f":"Products!E91","v":11.5},{"$f":"Products!F91","v":13.799999999999999},"Fans&Partner"]
["200090",{"$f":"Products!D92","v":"Fanshirt XXL"},{"$f":"Products!E92","v":11.5},{"$f":"Products!F92","v":13.799999999999999},"Fans&Partner"]
["200158",{"$f":"Products!D119","v":"not available in this country"},{"$f":"Products!E119","v":0},{"$f":"Products!F119","v":0},"Fans&Partner"]
["200186",{"$f":"Products!D136","v":"Loxone Brochure (25 pcs)"},{"$f":"Products!E136","v":0.5},{"$f":"Products!F136","v":0.6},"Fans&Partner"]
["100008",{"$f":"Products!D10","v":"Micro SD Card with firmware"},{"$f":"Products!E10","v":9},{"$f":"Products!F10","v":10.799999999999999},"Zubehör"]
["100023",{"$f":"Products!D16","v":"No longer sold"},{"$f":"Products!E16","v":57.5},{"$f":"Products!F16","v":69},"Zubehör"]
["100025",{"$f":"Products!D17","v":"Weather Service 1 Year"},{"$f":"Products!E17","v":45},{"$f":"Products!F17","v":54},"Zubehör"]
["100026",{"$f":"Products!D18","v":"Weather Service 10 Year"},{"$f":"Products!E18","v":265},{"$f":"Products!F18","v":318},"Zubehör"]
["100027",{"$f":"Products!D19","v":"Caller Service 1 Year"},{"$f":"Products!E19","v":45},{"$f":"Products!F19","v":54},"Zubehör"]
["100028",{"$f":"Products!D20","v":"Caller Service 10 Years"},{"$f":"Products!E20","v":265},{"$f":"Products!F20","v":318},"Zubehör"]
["100035",{"$f":"Products!D22","v":"No longer sold"},{"$f":"Products!E22","v":147.5},{"$f":"Products!F22","v":177},"Zubehör"]
["100178",{"$f":"Products!D48","v":"AquaStar Air 1.5\""},{"$f":"Products!E48","v":1280},{"$f":"Products!F48","v":1536},"Zubehör"]
["100179",{"$f":"Products!D49","v":"AquaStar Air 2\""},{"$f":"Products!E49","v":1370},{"$f":"Products!F49","v":1644},"Zubehör"]
["200001",{"$f":"Products!D55","v":"24V Power Supply (1.3A)"},{"$f":"Products!E55","v":33},{"$f":"Products!F55","v":39.6},"Zubehör"]
["200002",{"$f":"Products!D56","v":"24V Power Supply (4.2A)"},{"$f":"Products!E56","v":51},{"$f":"Products!F56","v":61.199999999999996},"Zubehör"]
["200007",{"$f":"Products!D61","v":"not available in this country"},{"$f":"Products!E61","v":0},{"$f":"Products!F61","v":0},"Zubehör"]
["200012",{"$f":"Products!D63","v":"Valve Adaptor VA80"},{"$f":"Products!E63","v":1.1000000000000001},{"$f":"Products!F63","v":1.32},"Zubehör"]
["200013",{"$f":"Products!D64","v":"not available in this country"},{"$f":"Products!E64","v":0},{"$f":"Products!F64","v":0},"Zubehör"]
["200035",{"$f":"Products!D71","v":"24V Power Supply (10A)"},{"$f":"Products!E71","v":120},{"$f":"Products!F71","v":144},"Zubehör"]
["200040",{"$f":"Products!D72","v":"not sold"},{"$f":"Products!E72","v":6.25},{"$f":"Products!F72","v":7.5},"Zubehör"]
["200049",{"$f":"Products!D77","v":"Coupling Relay"},{"$f":"Products!E77","v":14.5},{"$f":"Products!F77","v":17.399999999999999},"Zubehör"]
["200107",{"$f":"Products!D102","v":"not available in this country"},{"$f":"Products!E102","v":0},{"$f":"Products!F102","v":0},"Zubehör"]
["200143",{"$f":"Products!D111","v":"24V Power Supply (0.4A)"},{"$f":"Products!E111","v":25},{"$f":"Products!F111","v":30},"Zubehör"]
["200156",{"$f":"Products!D117","v":"Modbus Electricity Meter (Single Phase)"},{"$f":"Products!E117","v":127.5},{"$f":"Products!F117","v":153},"Zubehör"]
["200157",{"$f":"Products!D118","v":"Modbus Electricity Meter (Three Phase)"},{"$f":"Products!E118","v":227.5},{"$f":"Products!F118","v":273},"Zubehör"]
[null,{"$f":"VLOOKUP(Main!C2,Translating_general!A101:P118,12,FALSE)","v":"Other Load (0-5A)"},null,null,"Zubehör"]
[null,{"$f":"VLOOKUP(Main!C2,Translating_general!A101:P118,13,FALSE)","v":"Other Load (5-16A)"},null,null,"Zubehör"]
["200207",{"$f":"Products!D138","v":"No longer sold"},{"$f":"Products!E138","v":0},{"$f":"Products!F138","v":0},"Zubehör"]
["200161",{"$f":"Products!D142","v":"Power Adapter 24V 6.25A"},{"$f":"Products!E142","v":60},{"$f":"Products!F142","v":72},"Zubehör"]
["200281",{"$f":"Products!D146","v":"NFC Smart Tags"},{"$f":"Products!E146","v":21},{"$f":"Products!F146","v":25.2},"Zubehör"]
["200294",{"$f":"Products!D149","v":"Electric Car Charging Cable Type 2"},{"$f":"Products!E149","v":290},{"$f":"Products!F149","v":348},"Zubehör"]
[null,{"$f":"Products!D161","v":"24V LED Power Supply (2.5A)"},{"$f":"Products!E161","v":26},{"$f":"Products!F161","v":31.2},"Zubehör"]
[null,{"$f":"Products!D167","v":"not available in this country"}]
[null,{"$f":"Products!D168","v":"not available in this country"}]
[null,{"$f":"Products!D169","v":"not available in this country"}]
[null,{"$f":"Products!D170","v":"Duracell Plus Power AA (Pack of 12)"}]
[null,{"$f":"Products!D171","v":"Duracell Plus Power AAA (Pack of 12)"}]
[null,{"$f":"Products!D172","v":"CR2032 Lithium Battery (Pack of 20)"}]
[null,{"$f":"Products!D173","v":"CR2450 Lithium Battery (Pack of 20)"}]
[null,{"$f":"Products!D174","v":"FDK 9V Lithium Battery"}]
[null,{"$f":"Products!D176","v":"not available in this country"}]
[null,{"$f":"Products!D196","v":"Dry Lining Box - Set 25"}]
["100011",{"$f":"Products!D11","v":"RS485 Extension"},{"$f":"Products!E11","v":130},{"$f":"Products!F11","v":156},"Zubehör"]
["100013",{"$f":"Products!D13","v":"RS 232 Extension"},{"$f":"Products!E13","v":130},{"$f":"Products!F13","v":156},"Zubehör"]
["100015",{"$f":"Products!D15","v":"Enocean Extension"},{"$f":"Products!E15","v":230},{"$f":"Products!F15","v":276},"Zubehör"]
["100124",{"$f":"Products!D28","v":"Modbus Extension"},{"$f":"Products!E28","v":175},{"$f":"Products!F28","v":210},"Zubehör"]

{"sheet":"Shading","index":11,"n_rows":13,"n_cols":6,"rows_kept":13,"cut":false,"hidden":true,"merged":[]}
["Artikelnummer+","Bezeichnung","Preis excl.","Preis Inkl.","Notiz"]
[100153,{"$f":"Products!D37","v":"Nano IO Air"},{"$f":"Products!E37","v":82.5},{"$f":"Products!F37","v":99},null,"Rollo per Kabel zu NANO IO und Nano zu AirBase per Funk"]
[null,{"$f":"VLOOKUP(Main!C2,Translating_general!A101:P118,14,FALSE)","v":"Shading (Blinds, Curtains, …)"},null,null,null,"pro Rollo/Markise/Jalousie/Raffstore 1 Nano"]
["100182",{"$f":"Products!D52","v":"Tubular Motor SOLIDline Air 10Nm"},{"$f":"Products!E52","v":150},{"$f":"Products!F52","v":180},null,"1 Nano belegt 1 Kanal auf AirBase"]
["100183",{"$f":"Products!D53","v":"Tubular Motor SOLIDline Air 20Nm"},{"$f":"Products!E53","v":170},{"$f":"Products!F53","v":204}]
["100184",{"$f":"Products!D54","v":"Tubular Motor SOLIDline Air 50Nm"},{"$f":"Products!E54","v":195},{"$f":"Products!F54","v":234}]
[null,{"$f":"Products!D189","v":"Weather Station Tree"}]
[null,{"$f":"Products!D190","v":"Weather Station Air"}]
[null,{"$f":"Products!D192","v":"Blind Motor GJ56 Air 6Nm connection at top"}]
[null,{"$f":"Products!D193","v":"Blind Motor GJ56 Air 20Nm connection at top"}]
[null,{"$f":"Products!D194","v":"Blind Motor GJ56 Air 6Nm connection at bottom"}]
[null,{"$f":"Products!D195","v":"Blind Motor GJ56 Air 20Nm connection at bottom"}]
[null,{"$f":"Products!D197","v":"Shading Actuator Air"}]

{"sheet":"Switch","index":12,"n_rows":19,"n_cols":7,"rows_kept":19,"cut":false,"hidden":true,"merged":[]}
["Artikelnummer+","Bezeichnung","Preis excl.","Preis Inkl.","Notiz"]
[null,{"$f":"VLOOKUP(Main!$C$2,Translating_general!$A$101:$T$118,16,FALSE)","v":"Retractive  Switch 1 Button (reserve 1 DI)"},null,null,"Kabeltaster"]
[null,{"$f":"VLOOKUP(Main!$C$2,Translating_general!$A$101:$T$118,17,FALSE)","v":"Retractive  Switch 2 Buttons (reserve 2 DI)"},null,null,"Kabeltaster",null,"taster belegen nur Eingänge"]
[null,{"$f":"VLOOKUP(Main!$C$2,Translating_general!$A$101:$T$118,18,FALSE)","v":"Retractive  Switch 4 Buttons (reserve 4 DI)"},null,null,"Kabeltaster"]
[null,{"$f":"VLOOKUP(Main!$C$2,Translating_general!$A$101:$T$118,19,FALSE)","v":"Retractive  Switch 5 Buttons (reserve 5 DI)"},null,null,"Kabeltaster"]
["100154",{"$f":"Products!D38","v":"Loxone Touch for Nano - White"},{"$f":"Products!E38","v":35},{"$f":"Products!F38","v":42},"Funktaster"]
["100155",{"$f":"Products!D39","v":"Loxone Touch Air - White"},{"$f":"Products!E39","v":80},{"$f":"Products!F39","v":96},"Funktaster"]
[200057,{"$f":"Products!D80","v":"not sold"},{"$f":"Products!E80","v":41.25},{"$f":"Products!F80","v":49.5},"Funktaster"]
["100180",{"$f":"Products!D50","v":"Loxone Touch Air - Anthracite"},{"$f":"Products!E50","v":80},{"$f":"Products!F50","v":96},"Funktaster"]
["100181",{"$f":"Products!D51","v":"Loxone Touch for Nano - Anthracite"},{"$f":"Products!E51","v":35},{"$f":"Products!F51","v":42},"Funktaster"]
[null,{"$f":"Products!D151","v":"Touch Tree - White"}]
[null,{"$f":"Products!D152","v":"Touch Tree - Anthracite"}]
[null,{"$f":"Products!D162","v":"Touch Pure Air - White"}]
[null,{"$f":"Products!D163","v":"Touch Pure for Nano - White"}]
[null,{"$f":"Products!D164","v":"Touch Pure Tree - White"}]
[null,{"$f":"Products!D196","v":"Dry Lining Box - Set 25"}]
[null,{"$f":"Products!D177","v":"not available in this country"}]
[null,{"$f":"Products!D178","v":"not available in this country"}]
[null,{"$f":"Products!D179","v":"not available in this country"}]

{"sheet":"Ms&Extensions","index":13,"n_rows":19,"n_cols":5,"rows_kept":19,"cut":false,"hidden":true,"merged":[]}
["Artikelnummer+","Bezeichnung","Preis excl.","Preis Inkl.","Notiz"]
["100001",{"$f":"Products!D7","v":"Miniserver"},{"$f":"Products!E7","v":380},{"$f":"Products!F7","v":456}]
["100002",{"$f":"Products!D8","v":"Extension"},{"$f":"Products!E8","v":302.5},{"$f":"Products!F8","v":363}]
["100011",{"$f":"Products!D11","v":"RS485 Extension"},{"$f":"Products!E11","v":130},{"$f":"Products!F11","v":156}]
["100012",{"$f":"Products!D12","v":"DMX Extension"},{"$f":"Products!E12","v":205},{"$f":"Products!F12","v":246}]
["100013",{"$f":"Products!D13","v":"RS 232 Extension"},{"$f":"Products!E13","v":130},{"$f":"Products!F13","v":156}]
["100014",{"$f":"Products!D14","v":"1-Wire Extension"},{"$f":"Products!E14","v":130},{"$f":"Products!F14","v":156}]
["100015",{"$f":"Products!D15","v":"Enocean Extension"},{"$f":"Products!E15","v":230},{"$f":"Products!F15","v":276}]
[100124,{"$f":"Products!D28","v":"Modbus Extension"},{"$f":"Products!E28","v":175},{"$f":"Products!F28","v":210}]
["100029",{"$f":"Products!D21","v":"Dimmer Extension"},{"$f":"Products!E21","v":340},{"$f":"Products!F21","v":408}]
["100038",{"$f":"Products!D23","v":"Relay Extension"},{"$f":"Products!E23","v":360},{"$f":"Products!F23","v":432}]
["100114",{"$f":"Products!D24","v":"Air Base Extension"},{"$f":"Products!E24","v":77.5},{"$f":"Products!F24","v":93}]
["100116",{"$f":"Products!D26","v":"Multi Extension Air"},{"$f":"Products!E26","v":360},{"$f":"Products!F26","v":432}]
["100139",{"$f":"Products!D30","v":"Miniserver Go"},{"$f":"Products!E30","v":275},{"$f":"Products!F30","v":330}]
["100158",{"$f":"Products!D40","v":"Fröling Extension"},{"$f":"Products!E40","v":155},{"$f":"Products!F40","v":186}]
[null,{"$f":"Products!D150","v":"Tree Extension"}]
[null,{"$f":"Products!D160","v":"Dali Extension"}]
[null,{"$f":"Products!D165","v":"not available in this country"}]
[null,{"$f":"Products!D188","v":"DI Extension"}]

{"sheet":"Main","index":14,"n_rows":107,"n_cols":52,"rows_kept":107,"cut":false,"hidden":false,"merged":[[1,4,1,40],[80,0,89,0],[91,0,100,0],[40,0,49,0],[102,0,106,0],[63,0,71,0],[58,0,61,0],[51,0,56,0],[75,0,78,0],[20,0,24,0],[26,0,31,0],[4,0,14,0],[16,0,18,0],[1,2,1,3],[33,0,38,0]]}
[null,null,null,1]
[null,"Language / Country","EN_UK",null,{"$f":"VLOOKUP(C2,Translating_general!A5:P22,3,FALSE)","v":"Rooms"},null,null,null,null,null,null,null,null,null,null,null,null,null,null,null,null,null,null,null,null,null,null,null,null,null,null,null,null,null,null,null,null,null,null,null,null,null,null,null,null,null,null,null,{"$f":"Products!D222","v":"Total excl. VAT"},null,{"$f":"Products!G222","v":15166},{"$f":"Products!Q222","v":"£"}]
["Version 2.9.0",{"$f":"VLOOKUP(C2,Translating_general!A5:P22,3,FALSE)","v":"Rooms"},{"$f":"VLOOKUP(C2,Translating_general!A5:B17,2,FALSE)","v":"Quantity"},"Hall","Lounge","Kitchen","Dining Room","WC","Utility Room",null,"Landing","Bedroom 1","Bedroom 2","Bedroom 3","Bathroom","Ensuite 1",null,"Garage","Outside",null,"Other"]
[null,{"$f":"VLOOKUP(C2,Translating_general!A5:Q22,17,FALSE)","v":"Drop Down Selection"}]
[{"$f":"VLOOKUP(C2,Translating_general!A5:P22,4,FALSE)","v":"Lighting"},{"$f":"Light!B18","v":"Light Circut (switched )"},{"$f":"SUM(D5:AR5)","v":3},null,null,null,null,null,null,null,null,null,null,null,null,null,null,1,2,null,null,null,null,null,null,null,null,null,null,null,null,null,null,null,null,null,null,null,null,null,null,null,null,null,null,null,null,null,"There are drop down menues!"]
[null,"LED Spot Tree WW - White",{"$f":"SUM(D6:AR6)","v":37},3,null,8,4,2,2,null,4,null,4,4,4,2]
[null,"LED Spot Tree RGBW - White",{"$f":"SUM(D7:AR7)","v":10},null,6,null,null,null,null,null,null,4]
[null,"RGBW LED Strip 5m IP65",{"$f":"SUM(D8:AR8)","v":2},null,null,1,null,null,null,null,null,null,null,null,1]
[null,{"$f":"Light!B29","v":"RGBW 24V Dimmer Tree"},2,null,null,1,null,null,null,null,null,null,null,null,1]
[null,{"$f":"Light!B31","v":"LED Pendulum Slim - White"},3,null,null,null,3]
[null,null,0]
[null,null,0]
[null,null,0]
[null,null,0]
[null,null,{"$f":"SUM(D15:AR15)","v":0}]
[]
[{"$f":"VLOOKUP(C2,Translating_general!A5:P22,5,FALSE)","v":"Shading"},"Shading Actuator Air",{"$f":"SUM(D17:AO17)","v":5},null,1,1,1,null,null,null,null,1,1]
[null,"Shading (Blinds, Curtains, …)",{"$f":"SUM(D18:AO18)","v":0}]
[null,null,{"$f":"SUM(D19:AO19)","v":0}]
[]
[{"$f":"VLOOKUP(C2,Translating_general!A5:P22,6,FALSE)","v":"Heating"},{"$f":"Heating!B11","v":"Valve Actuator Tree"},{"$f":"SUM(D21:AO21)","v":6},1,1,1,1,1,1]
[null,{"$f":"Heating!B4","v":"Valve Actuator Air"},{"$f":"SUM(D22:AO22)","v":5},null,null,null,null,null,null,null,null,1,1,1,1,1]
[null,{"$f":"Heating!B10","v":"1-Wire Temperature Sensor"},0]
[null,null,0]
[null,null,0]
[]
[{"$f":"VLOOKUP(C2,Translating_general!A5:P22,7,FALSE)","v":"Sensor"},"Door & Window Contact Air - White",{"$f":"SUM(D27:AO27)","v":3},1,null,null,null,null,1,null,null,null,null,null,null,null,null,1]
[null,{"$f":"Sensors!B16","v":"Window Contact (integrated - only reserve DI)"},{"$f":"SUM(D28:AO28)","v":7},null,2,2,1,null,null,null,null,1,1]
[null,"Water Sensor Air",5,null,null,1,null,1,1,null,null,null,null,null,1,1]
[null,"Weather Station Tree",1,null,null,null,null,null,null,null,null,null,null,null,null,null,null,null,1]
[null,null,0]
[null,null,0]
[]
[{"$f":"VLOOKUP(C2,Translating_general!A5:P22,16,FALSE)","v":"Tree"},{"$f":"Tree!B7","v":"Motion Sensor Tree - White"},{"$f":"SUM(D34:AO34)","v":13},1,1,1,1,1,1,null,1,1,1,1,1,1,null,1]
[null,{"$f":"Tree!B11","v":"Nano DI Tree"},{"$f":"SUM(D35:AO35)","v":0}]
[null,null,0]
[null,null,0]
[null,null,0]
[null,null,0]
[]
[{"$f":"VLOOKUP(C2,Translating_general!A5:P22,8,FALSE)","v":"Air"},{"$f":"Wireless!B21","v":"Motion Sensor Air - White"},{"$f":"SUM(D41:AO41)","v":0}]
[null,"Smart Socket Air - Type G (UK)",{"$f":"SUM(D42:AO42)","v":2},null,null,null,null,null,null,null,null,2]
[null,"Remote Air",2,null,1,null,null,null,null,null,null,null,1]
[null,"IR Control Air",1,null,1]
[null,"Touch Surface Air",1,null,null,1]
[null,null,0]
[null,null,0]
[null,null,0]
[null,null,0]
[null,null,{"$f":"SUM(D50:AO50)","v":0}]
[]
[{"$f":"VLOOKUP(C2,Translating_general!A5:P22,9,FALSE)","v":"Switches"},{"$f":"Switch!B15","v":"Touch Pure Tree - White"},{"$f":"SUM(D52:AO52)","v":7},1,1,1,1,null,null,null,2,1]
[null,{"$f":"Switch!B11","v":"Touch Tree - White"},{"$f":"SUM(D53:AO53)","v":8},null,null,null,null,null,1,null,null,2,1,1,1,1,null,1]
[null,"Dry Lining Box - Set 25",{"$f":"SUM(D54:AO54)","v":1},null,null,null,null,null,null,null,null,null,null,null,null,null,null,null,null,null,1]
[null,null,{"$f":"SUM(D55:AR55)","v":0}]
[null,null,0]
[null,null,0]
[]
[{"$f":"VLOOKUP(C2,Translating_general!A5:P22,10,FALSE)","v":"Access"},{"$f":"Entry!B9","v":"Loxone Intercom XL"},{"$f":"SUM(D59:AO59)","v":1},null,null,null,null,null,null,null,null,null,null,null,null,null,null,null,1]
[null,{"$f":"Entry!B6","v":"Flush-mounted box for the Loxone intercom"},{"$f":"SUM(D60:AO60)","v":1},null,null,null,null,null,null,null,null,null,null,null,null,null,null,null,1]
[null,{"$f":"Entry!B11","v":"NFC Code Touch Tree - White"},1,null,null,null,null,null,null,null,null,null,null,null,null,null,null,null,1]
[null,null,0]
[]
[{"$f":"VLOOKUP(C2,Translating_general!A5:P22,11,FALSE)","v":"Music"},{"$f":"Music!B2","v":"Music Server Zone"},{"$f":"SUM(D64:AO64)","v":8},null,1,1,1,null,null,null,null,1,1,1,1,1]
[null,"Loxone 12 Channel Amplifier",{"$f":"SUM(D65:AO65)","v":2},null,null,null,null,null,null,null,null,null,null,null,null,null,null,null,null,null,2]
[null,"Loxone Wall Speaker",0]
[null,"Loxone Speaker",14,null,2,2,2,null,null,null,null,2,2,2,1,1]
[null,{"$f":"Music!B12","v":"Loxone Speaker Back Box For Suspended Ceilings"},0]
[null,null,0]
[null,null,0]
[null,null,0]
[null,null,0]
[null,null,0]
[]
[]
[{"$f":"VLOOKUP(C2,Translating_general!A5:P22,12,FALSE)","v":"Miniserver & Extension"},"Modbus Extension",{"$f":"SUM(D76:AO76)","v":1},null,null,null,null,null,null,null,null,null,null,null,null,null,null,1]
[null,null,{"$f":"SUM(D77:AO77)","v":0}]
[null,null,0]
[null,null,0]
[]
[{"$f":"VLOOKUP(C2,Translating_general!A5:P22,13,FALSE)","v":"Cabinet"},{"$f":"Distributors!B18","v":"Loxone CAT7 Cable (250m)"},{"$f":"SUM(D81:AO81)","v":2},null,null,null,null,null,null,null,null,null,null,null,null,null,null,null,null,null,2]
[null,"Push In Terminal Block 8x4 Interconnected (20 pcs)",{"$f":"SUM(D82:AO82)","v":1},null,null,null,null,null,null,null,null,null,null,null,null,null,null,null,null,null,1]
[null,"Push In Terminal Block 8x4 Seperated (20pcs)",1,null,null,null,null,null,null,null,null,null,null,null,null,null,null,null,null,null,1]
[null,null,0]
[null,null,0]
[null,null,0]
[null,null,0]
[null,null,0]
[null,null,0]
[null,null,0]
[]
[{"$f":"VLOOKUP(C2,Translating_general!A5:P22,14,FALSE)","v":"Other"},"Other Load (0-5A)",{"$f":"SUM(D92:AO92)","v":2},null,null,null,null,null,null,null,null,null,null,null,null,null,null,2]
[null,"Other Load (5-16A)",{"$f":"SUM(D93:AO93)","v":0}]
[null,{"$f":"Other!B17","v":"Caller Service 10 Years"},1,null,null,null,null,null,null,null,null,null,null,null,null,null,null,null,null,null,1]
[null,null,0]
[null,null,0]
[null,null,0]
[null,null,0]
[null,null,0]
[null,null,0]
[null,null,0]
[]
[{"$f":"VLOOKUP(C2,Translating_general!A5:P22,15,FALSE)","v":"Fans & Partner"},null,{"$f":"SUM(D103:AO103)","v":0}]
[null,null,{"$f":"SUM(D104:AO104)","v":0}]
[null,null,0]
[null,null,0]
[null,null,0]

{"sheet":"Power","index":15,"n_rows":86,"n_cols":25,"rows_kept":86,"cut":false,"hidden":false,"merged":[[2,1,3,5],[8,1,8,5],[30,1,30,5],[60,1,60,5]]}
[]
[]
[null,{"$f":"VLOOKUP(Main!C2,Translating_general!A29:P46,2,FALSE)","v":"Power Supply Calculator"}]
[]
[]
[null,{"$f":"VLOOKUP(Main!C2,Translating_general!A29:P46,3,FALSE)","v":"Power Supplies"},"0,4 A","1,3 A","4,2 A","10 A"]
[null,null,{"$f":"W12","v":0},{"$f":"W13","v":2},{"$f":"W14","v":3},{"$f":"W15","v":1}]
[]
[null,{"$f":"VLOOKUP(Main!C2,Translating_general!A29:P46,4,FALSE)","v":"Extensions"},null,null,null,null,null,null,null,null,null,null,null,null,null,null,null,null,null,null,null,null,null,{"$f":"VLOOKUP(Main!C2,Translating_general!A29:P46,4,FALSE)","v":"Extensions"}]
[null,{"$f":"VLOOKUP(Main!C2,Translating_general!A29:P46,5,FALSE)","v":"Item number"},{"$f":"VLOOKUP(Main!C2,Translating_general!A29:P46,6,FALSE)","v":"Products"},{"$f":"VLOOKUP(Main!C2,Translating_general!A29:P46,7,FALSE)","v":"Quantity"},{"$f":"VLOOKUP(Main!C2,Translating_general!A29:P46,8,FALSE)","v":"Ampere/item"},{"$f":"VLOOKUP(Main!C2,Translating_general!A29:P46,9,FALSE)","v":"Total"},null,null,null,null,null,null,null,null,null,null,null,null,null,null,null,null,null,{"$f":"VLOOKUP(Main!C2,Translating_general!A29:P46,10,FALSE)","v":"Ampere available"},{"$f":"W19*1.3+W20*4.2","v":1.3}]
[null,"100001",{"$f":"Calculation!B451","v":"Miniserver"},{"$f":"Products!B7","v":1},{"$f":"Calculation!D451","v":0.12},{"$f":"D11*E11","v":0.12},null,null,null,null,null,null,null,null,null,null,null,null,null,null,null,"Gesamt",null,{"$f":"VLOOKUP(Main!C2,Translating_general!A29:P46,11,FALSE)","v":"Ampere needed"},{"$f":"F26","v":0.1608}]
[null,"100002",{"$f":"Calculation!B452","v":"Extension"},{"$f":"Products!B8","v":0},{"$f":"Calculation!D452","v":0.06},{"$f":"D12*E12","v":0},null,null,null,null,null,null,null,null,null,null,null,null,null,null,null,"0,4A Netzteil",{"$f":"D28","v":0}]
[null,"100011",{"$f":"Calculation!B453","v":"RS485 Extension"},{"$f":"Products!B11","v":0},{"$f":"Calculation!D453","v":0.03},0,null,null,null,null,null,null,null,null,null,null,null,null,null,null,null,"1,3A Netzteil",{"$f":"W19+W65","v":2}]
[null,"100012",{"$f":"Calculation!B454","v":"DMX Extension"},{"$f":"Products!B12","v":0},{"$f":"Calculation!D454","v":0.03},0,null,null,null,null,null,null,null,null,null,null,null,null,null,null,null,"4,2A Netzteil",{"$f":"W20+W34+W66","v":3}]
[null,"100013",{"$f":"Calculation!B455","v":"RS 232 Extension"},{"$f":"Products!B13","v":0},{"$f":"Calculation!D455","v":0.03},0,null,null,null,null,null,null,null,null,null,null,null,null,null,null,null,"10A Netzteil",{"$f":"W35+W67","v":1}]
[null,"100014",{"$f":"Calculation!B456","v":"1-Wire Extension"},{"$f":"Products!B14","v":0},{"$f":"Calculation!D456","v":0.03},0]
[null,"100015",{"$f":"Calculation!B457","v":"Enocean Extension"},{"$f":"Products!B15","v":0},{"$f":"Calculation!D457","v":0.03},0]
[null,"100029",{"$f":"Calculation!B458","v":"Dimmer Extension"},{"$f":"Products!B21","v":0},{"$f":"Calculation!D458","v":0.06},0]
[null,"100035",{"$f":"Calculation!B459","v":"No longer sold"},{"$f":"Products!B22","v":0},{"$f":"Calculation!D459","v":0.03},0,null,null,null,null,null,null,null,null,null,null,null,null,null,null,null,"1,3A Netzteil",{"$f":"IF((F26-W20*4.2)<4.2,ROUNDUP((F26-W20*4.2)/1.3,0),0)","v":1}]
[null,"100038",{"$f":"Calculation!B460","v":"Relay Extension"},{"$f":"Products!B23","v":0},{"$f":"Calculation!D460","v":0.3},0,null,null,null,null,null,null,null,null,null,null,null,null,null,null,null,"4,2A Netzteil",{"$f":"ROUNDDOWN(F26/4.2,0)","v":0}]
[null,"100114",{"$f":"Calculation!B461","v":"Air Base Extension"},{"$f":"Products!B24","v":1},{"$f":"Calculation!D461","v":6.0000000000000001E-3},6.0000000000000001E-3]
[null,"100124",{"$f":"Calculation!B462","v":"Modbus Extension"},{"$f":"Products!B28","v":1},{"$f":"Calculation!D462","v":0.03},{"$f":"D22*E22","v":0.03}]
[null,"100158",{"$f":"Calculation!B463","v":"Fröling Extension"},{"$f":"Products!B40","v":0},{"$f":"Calculation!D463","v":0.03},{"$f":"D23*E23","v":0}]
[null,{"$f":"Products!C150","v":100218},{"$f":"Calculation!B464","v":"Tree Extension"},{"$f":"Products!B150","v":1},{"$f":"Products!O150","v":4.7999999999999996E-3},{"$f":"D24*E24","v":4.7999999999999996E-3}]
[null,{"$f":"Products!C160","v":100200},{"$f":"Products!D160","v":"Dali Extension"},{"$f":"Products!B160","v":0},0.13400000000000001,{"$f":"D25*E25","v":0}]
[null,null,null,null,{"$f":"VLOOKUP(Main!C2,Translating_general!A29:P46,12,FALSE)","v":"Total"},{"$f":"SUM(F11:O25)","v":0.1608}]
[]
[null,"100116",{"$f":"Calculation!B469","v":"Multi Extension Air"},null,{"$f":"VLOOKUP(Main!C2,Translating_general!A29:P46,15,FALSE)","v":"0,4 Ampere Power Supply / item"},null,null,null,null,null,null,null,null,null,null,null,null,null,null,null,null,"0,4A Netzteil",{"$f":"D28","v":0}]
[]
[]
[null,{"$f":"VLOOKUP(Main!C2,Translating_general!A29:P46,13,FALSE)","v":"LED"},null,null,null,null,null,null,null,null,null,null,null,null,null,null,null,null,null,null,null,null,null,{"$f":"VLOOKUP(Main!C2,Translating_general!A29:P46,13,FALSE)","v":"LED"}]
[null,{"$f":"VLOOKUP(Main!C2,Translating_general!A29:P46,5,FALSE)","v":"Item number"},{"$f":"VLOOKUP(Main!C2,Translating_general!A29:P46,6,FALSE)","v":"Products"},{"$f":"VLOOKUP(Main!C2,Translating_general!A29:P46,7,FALSE)","v":"Quantity"},{"$f":"VLOOKUP(Main!C2,Translating_general!A29:P46,8,FALSE)","v":"Ampere/item"},{"$f":"VLOOKUP(Main!C2,Translating_general!A29:P46,9,FALSE)","v":"Total"},null,null,null,null,null,null,null,null,null,null,null,null,null,null,null,null,null,{"$f":"VLOOKUP(Main!C2,Translating_general!A29:P46,10,FALSE)","v":"Ampere available"},{"$f":"W34*4.2+W35*10","v":22.6}]
[null,"200042",{"$f":"Calculation!B471","v":"not sold"},{"$f":"Products!B73","v":0},{"$f":"Calculation!D471","v":3},{"$f":"D33*E33","v":0},null,null,null,null,null,null,null,null,null,null,null,null,null,null,null,null,null,{"$f":"VLOOKUP(Main!C2,Translating_general!A29:P46,11,FALSE)","v":"Ampere needed"},{"$f":"F59","v":19.510000000000002}]
[null,"200043",{"$f":"Calculation!B472","v":"Warm White LED Strip 5m"},{"$f":"Products!B74","v":0},{"$f":"Calculation!D472","v":3},0,null,null,null,null,null,null,null,null,null,null,null,null,null,null,null,"4,2A Netzteil",{"$f":"IF((F59-W35*10)<10,ROUNDUP((F59-W35*10)/4.2,0),0)","v":3}]
[null,"200046",{"$f":"Calculation!B474","v":"not sold"},{"$f":"Products!B75","v":0},{"$f":"Calculation!D474","v":3},0,null,null,null,null,null,null,null,null,null,null,null,null,null,null,null,"10A Netzteil",{"$f":"ROUNDDOWN(F59/10,0)","v":1}]
[null,"200061",{"$f":"Calculation!B475","v":"Warm White LED Strip 5m IP65"},{"$f":"Products!B82","v":0},{"$f":"Calculation!D475","v":3},0]
[null,"200092",{"$f":"Calculation!B476","v":"Warm White LED Strip 5m IP68"},{"$f":"Products!B93","v":0},{"$f":"Calculation!D476","v":3},0]
[null,"200098",{"$f":"Calculation!B477","v":"RGBW LED Strip 5m IP20"},{"$f":"Products!B98","v":0},{"$f":"Calculation!D477","v":3.6},0]
[null,"200099",{"$f":"Calculation!B478","v":"RGBW LED Strip 5m IP65"},{"$f":"Products!B99","v":2},{"$f":"Calculation!D478","v":3.6},7.2]
[null,"200100",{"$f":"Calculation!B479","v":"RGBW LED Strip 5m IP68"},{"$f":"Products!B100","v":0},{"$f":"Calculation!D479","v":3.6},0]
[null,100204,{"$f":"Calculation!B480","v":"LED Spot RGBW - White"},{"$f":"Products!B147","v":0},{"$f":"Calculation!D480","v":0.2},0]
[null,100203,{"$f":"Calculation!B481","v":"LED Spot WW - White"},{"$f":"Products!B148","v":0},{"$f":"Calculation!D481","v":0.2},0]
[null,{"$f":"Products!C180","v":100235},{"$f":"Light!B23","v":"LED Ceiling Spot RGBW - White"},{"$f":"Products!B180","v":0},{"$f":"Calculation!D482","v":0.39200000000000002},0]
[null,{"$f":"Products!C181","v":100236},{"$f":"Light!B24","v":"LED Ceiling Spot WW - White"},{"$f":"Products!B181","v":0},{"$f":"Calculation!D483","v":0.39200000000000002},0]
[null,{"$f":"Products!C182","v":100237},{"$f":"Light!B25","v":"LED Ceiling Spot Tree RGBW - White"},{"$f":"Products!B182","v":0},{"$f":"Calculation!D484","v":0.39200000000000002},0]
[null,{"$f":"Products!C183","v":100238},{"$f":"Light!B26","v":"LED Ceiling Spot Tree WW - White"},{"$f":"Products!B183","v":0},{"$f":"Calculation!D485","v":0.39200000000000002},0]
[null,{"$f":"Products!C184","v":100268},{"$f":"Light!B27","v":"LED Spot Tree WW - White"},{"$f":"Products!B184","v":37},{"$f":"Calculation!D486","v":0.23},8.51]
[null,{"$f":"Products!C185","v":100269},{"$f":"Light!B28","v":"LED Spot Tree RGBW - White"},{"$f":"Products!B185","v":10},{"$f":"Calculation!D487","v":0.23},2.3000000000000003]
[null,{"$f":"Products!C198","v":100274},{"$f":"Light!B31","v":"LED Pendulum Slim - White"},{"$f":"Products!B198","v":3},0.5,1.5]
[null,{"$f":"Products!C199","v":100275},{"$f":"Light!B32","v":"LED Pendulum Slim - Anthracite"},{"$f":"Products!B199","v":0},0.5,0]
[null,{"$f":"Products!C200","v":100278},{"$f":"Light!B33","v":"LED Ceiling Spot RGBW - Anthracite"},{"$f":"Products!B200","v":0},0.39200000000000002,0]
[null,{"$f":"Products!C201","v":100279},{"$f":"Light!B34","v":"LED Ceiling Spot WW - Anthracite"},{"$f":"Products!B201","v":0},0.39200000000000002,0]
[null,{"$f":"Products!C202","v":100280},{"$f":"Light!B35","v":"LED Ceiling Spot Tree RGBW - Anthracite"},{"$f":"Products!B202","v":0},0.39200000000000002,0]
[null,{"$f":"Products!C203","v":100281},{"$f":"Light!B36","v":"LED Ceiling Spot Tree WW - Anthracite"},{"$f":"Products!B203","v":0},0.39200000000000002,0]
[null,{"$f":"Products!C204","v":100271},{"$f":"Light!B37","v":"LED Spot Tree WW - Anthracite"},{"$f":"Products!B204","v":0},0.23,0]
[null,{"$f":"Products!C205","v":100272},{"$f":"Light!B38","v":"LED Spot Tree RGBW - Anthracite"},{"$f":"Products!B205","v":0},0.23,0]
[null,{"$f":"Products!C206","v":100273},{"$f":"Light!B39","v":"LED Spot RGBW - Anthracite"},{"$f":"Products!B206","v":0},0.2,0]
[null,{"$f":"Products!C207","v":100282},{"$f":"Light!B40","v":"LED Spot WW - Anthracite"},{"$f":"Products!B207","v":0},0.2,0]
[null,null,null,null,{"$f":"VLOOKUP(Main!C2,Translating_general!A29:P46,12,FALSE)","v":"Total"},{"$f":"SUM(F33:F58)","v":19.510000000000002}]
[]
[null,{"$f":"VLOOKUP(Main!C2,Translating_general!A29:P46,14,FALSE)","v":"Periphery"},null,null,null,null,null,null,null,null,null,null,null,null,null,null,null,null,null,null,null,null,null,{"$f":"VLOOKUP(Main!C2,Translating_general!A29:P46,14,FALSE)","v":"Periphery"}]
[null,{"$f":"VLOOKUP(Main!C2,Translating_general!A29:P46,5,FALSE)","v":"Item number"},{"$f":"VLOOKUP(Main!C2,Translating_general!A29:P46,6,FALSE)","v":"Products"},{"$f":"VLOOKUP(Main!C2,Translating_general!A29:P46,7,FALSE)","v":"Quantity"},{"$f":"VLOOKUP(Main!C2,Translating_general!A29:P46,8,FALSE)","v":"Ampere/item"},{"$f":"VLOOKUP(Main!C2,Translating_general!A29:P46,9,FALSE)","v":"Total"},null,null,null,null,null,null,null,null,null,null,null,null,null,null,null,null,null,{"$f":"VLOOKUP(Main!C2,Translating_general!A29:P46,10,FALSE)","v":"Ampere available"},{"$f":"W65*1.3+W66*4.2+W67*10","v":1.3}]
[null,"200003",{"$f":"Calculation!B500","v":"No longer sold"},{"$f":"Products!B57","v":0},{"$f":"Calculation!D500","v":5.0000000000000001E-3},{"$f":"D63*E63","v":0},null,null,null,null,null,null,null,null,null,null,null,null,null,null,null,null,null,{"$f":"VLOOKUP(Main!C2,Translating_general!A29:P46,11,FALSE)","v":"Ampere needed"},{"$f":"F83","v":0.43039999999999995}]
[null,"200004",{"$f":"Calculation!B501","v":"No longer sold"},{"$f":"Products!B58","v":0},{"$f":"Calculation!D501","v":4.2000000000000003E-2},0]
[null,"200006",{"$f":"Calculation!B502","v":"Indoor Temperature Sensor 0-10V"},{"$f":"Products!B60","v":0},{"$f":"Calculation!D502","v":5.0000000000000001E-3},0,null,null,null,null,null,null,null,null,null,null,null,null,null,null,null,"1,3A Netzteil",{"$f":"IF(F83>(W67*10+W66*4.2),ROUNDUP((F83-W67*10-W66*4.2)/1.3,0),0)","v":1}]
[null,"200010",{"$f":"Calculation!B503","v":"Indoor Temperature & Humidity Sensor 0-10V"},{"$f":"Products!B62","v":0},{"$f":"Calculation!D503","v":5.0000000000000001E-3},0,null,null,null,null,null,null,null,null,null,null,null,null,null,null,null,"4,2A Netzteil",{"$f":"IF((F83-W67*10)<1.3,0,IF((F83>W67*10),ROUNDUP((F83-W67*10)/4.2,0),0))","v":0}]
[null,"200017",{"$f":"Calculation!B504","v":"Indoor Temperature, Humidty & CO2 Sensor 0-10V"},{"$f":"Products!B65","v":0},{"$f":"Calculation!D504","v":0.01},0,null,null,null,null,null,null,null,null,null,null,null,null,null,null,null,"10A Netzteil",{"$f":"ROUNDDOWN(F83/10,0)","v":0}]
[null,"200018",{"$f":"Calculation!B505","v":"Rain Sensor (24V)"},{"$f":"Products!B66","v":0},{"$f":"Calculation!D505","v":0.06},0]
[null,"200031",{"$f":"Calculation!B506","v":"Outdoor Temperature & Humidy Sensor 0-10V"},{"$f":"Products!B67","v":0},{"$f":"Calculation!D506","v":5.0000000000000001E-3},0]
[null,"200032",{"$f":"Calculation!B507","v":"Brightness Sensor 0-10V"},{"$f":"Products!B68","v":0},{"$f":"Calculation!D507","v":5.0000000000000001E-3},0]
[null,"200054",{"$f":"Calculation!B509","v":"Ultrasonic Sensor 0-10V"},{"$f":"Products!B79","v":0},{"$f":"Calculation!D509","v":0.06},0]
[null,"200112",{"$f":"Calculation!B510","v":"Outside Motion Sensor (24V)"},{"$f":"Products!B105","v":0},{"$f":"Calculation!D510","v":1.4999999999999999E-2},0]
[null,200136,{"$f":"Calculation!B511","v":"Temperature & Humidity Sensor For Saunas"},{"$f":"Products!B109","v":0},{"$f":"Calculation!D511","v":5.0000000000000001E-3},0]
[null,"200154",{"$f":"Calculation!B512","v":"Pressure Sensor 0-10V"},{"$f":"Products!B115","v":0},{"$f":"Calculation!D512","v":0.01},0]
[null,100221,{"$f":"Calculation!B513","v":"Touch Tree - White"},{"$f":"Products!B151","v":8},{"$f":"Products!O151","v":4.7999999999999996E-3},3.8399999999999997E-2]
[null,100222,{"$f":"Calculation!B514","v":"Touch Tree - Anthracite"},{"$f":"Products!B152","v":0},{"$f":"Products!O152","v":4.7999999999999996E-3},0]
[null,100223,{"$f":"Calculation!B515","v":"Motion Sensor Tree - White"},{"$f":"Products!B153","v":13},{"$f":"Products!O153","v":4.7999999999999996E-3},6.2399999999999997E-2]
[null,{"$f":"Products!C164","v":100219},{"$f":"Calculation!B518","v":"Touch Pure Tree - White"},{"$f":"Products!B164","v":7},4.7999999999999996E-3,3.3599999999999998E-2]
[null,{"$f":"Products!C154","v":100225},{"$f":"Products!D154","v":"Valve Actuator Tree"},{"$f":"Products!B154","v":6},0.05,{"$f":"Calculation!E519","v":0.25}]
[null,{"$f":"Products!C178","v":"not available in this country"},{"$f":"Products!D178","v":"not available in this country"},{"$f":"Products!B178","v":0},4.7999999999999996E-3,{"$f":"D80*E80","v":0}]
[null,{"$f":"Products!C189","v":100246},{"$f":"Products!D189","v":"Weather Station Tree"},{"$f":"Products!B189","v":1},4.5999999999999999E-2,{"$f":"D81*E81","v":4.5999999999999999E-2}]
[null,null,"reserved"]
[null,null,null,null,{"$f":"VLOOKUP(Main!C2,Translating_general!A29:P46,12,FALSE)","v":"Total"},{"$f":"SUM(F63:F82)","v":0.43039999999999995}]
[]
[null,"Please note that the power calculation assumes you have everything centrally in one cabinet!"]
[null,"You have to double check it for your project."]

{"sheet":"Project information","index":16,"n_rows":194,"n_cols":51,"rows_kept":194,"cut":false,"hidden":true,"merged":[]}
[null,null,null,null,null,null,null,null,null,null,null,null,"Cathegory/Rooms",{"$f":"Main!D3","v":"Hall"},{"$f":"Main!E3","v":"Lounge"},{"$f":"Main!F3","v":"Kitchen"},{"$f":"Main!G3","v":"Dining Room"},{"$f":"Main!H3","v":"WC"},{"$f":"Main!I3","v":"Utility Room"},{"$f":"Main!J3","v":0},{"$f":"Main!K3","v":"Landing"},{"$f":"Main!L3","v":"Bedroom 1"},{"$f":"Main!M3","v":"Bedroom 2"},{"$f":"Main!N3","v":"Bedroom 3"},{"$f":"Main!O3","v":"Bathroom"},{"$f":"Main!P3","v":"Ensuite 1"},{"$f":"Main!Q3","v":0},{"$f":"Main!R3","v":"Garage"},{"$f":"Main!S3","v":"Outside"},{"$f":"Main!T3","v":0},{"$f":"Main!U3","v":"Other"},{"$f":"Main!V3","v":0},{"$f":"Main!W3","v":0},{"$f":"Main!X3","v":0},{"$f":"Main!Y3","v":0},{"$f":"Main!Z3","v":0},{"$f":"Main!AA3","v":0},{"$f":"Main!AB3","v":0},{"$f":"Main!AC3","v":0},{"$f":"Main!AD3","v":0},{"$f":"Main!AE3","v":0},{"$f":"Main!AF3","v":0},{"$f":"Main!AG3","v":0},{"$f":"Main!AH3","v":0},{"$f":"Main!AI3","v":0},{"$f":"Main!AJ3","v":0},{"$f":"Main!AK3","v":0},{"$f":"Main!AL3","v":0},{"$f":"Main!AM3","v":0},{"$f":"Main!AN3","v":0},{"$f":"Main!AO3","v":0}]
[null,null,null,null,null,null,null,null,null,null,null,null,"Lighting"]
[null,null,null,null,null,null,null,null,null,null,null,null,"Heating"]
[null,null,null,null,null,null,null,null,null,null,null,null,"Shading"]
[null,null,null,null,null,null,null,null,null,null,null,null,"Music"]
[null,null,null,null,null,null,null,null,null,null,null,null,"Access"]
[]
[]
[]
[]
[]
[]
[]
[null,null,null,null,null,null,null,null,null,null,null,null,{"$f":"Products!D7","v":"Miniserver"}]
[null,null,null,null,null,null,null,null,null,null,null,null,{"$f":"Products!D8","v":"Extension"}]
[null,null,null,null,null,null,null,null,null,null,null,null,{"$f":"Products!D9","v":"Rollup Banner English"}]
[null,null,null,null,null,null,null,null,null,null,null,null,{"$f":"Products!D10","v":"Micro SD Card with firmware"}]
[null,null,null,null,null,null,null,null,null,null,null,null,{"$f":"Products!D11","v":"RS485 Extension"}]
[null,null,null,null,null,null,null,null,null,null,null,null,{"$f":"Products!D12","v":"DMX Extension"}]
[null,null,null,null,null,null,null,null,null,null,null,null,{"$f":"Products!D13","v":"RS 232 Extension"}]
[null,null,null,null,null,null,null,null,null,null,null,null,{"$f":"Products!D14","v":"1-Wire Extension"}]
[null,null,null,null,null,null,null,null,null,null,null,null,{"$f":"Products!D15","v":"Enocean Extension"}]
[null,null,null,null,null,null,null,null,null,null,null,null,{"$f":"Products!D16","v":"No longer sold"}]
[null,null,null,null,null,null,null,null,null,null,null,null,{"$f":"Products!D17","v":"Weather Service 1 Year"}]
[null,null,null,null,null,null,null,null,null,null,null,null,{"$f":"Products!D18","v":"Weather Service 10 Year"}]
[null,null,null,null,null,null,null,null,null,null,null,null,{"$f":"Products!D19","v":"Caller Service 1 Year"}]
[null,null,null,null,null,null,null,null,null,null,null,null,{"$f":"Products!D20","v":"Caller Service 10 Years"}]
[null,null,null,null,null,null,null,null,null,null,null,null,{"$f":"Products!D21","v":"Dimmer Extension"}]
[null,null,null,null,null,null,null,null,null,null,null,null,{"$f":"Products!D22","v":"No longer sold"}]
[null,null,null,null,null,null,null,null,null,null,null,null,{"$f":"Products!D23","v":"Relay Extension"}]
[null,null,null,null,null,null,null,null,null,null,null,null,{"$f":"Products!D24","v":"Air Base Extension"}]
[null,null,null,null,null,null,null,null,null,null,null,null,{"$f":"Products!D25","v":"Smart Socket Air - Type G (UK)"}]
[null,null,null,null,null,null,null,null,null,null,null,null,{"$f":"Products!D26","v":"Multi Extension Air"}]
[null,null,null,null,null,null,null,null,null,null,null,null,{"$f":"Products!D27","v":"RGBW 24V Dimmer DMX"}]
[null,null,null,null,null,null,null,null,null,null,null,null,{"$f":"Products!D28","v":"Modbus Extension"}]
[null,null,null,null,null,null,null,null,null,null,null,null,{"$f":"Products!D29","v":"RGBW 24V Dimmer Air"}]
[null,null,null,null,null,null,null,null,null,null,null,null,{"$f":"Products!D30","v":"Miniserver Go"}]
[null,null,null,null,null,null,null,null,null,null,null,null,{"$f":"Products!D31","v":"Remote Air"}]
[null,null,null,null,null,null,null,null,null,null,null,null,{"$f":"Products!D32","v":"IR Control Air"}]
[null,null,null,null,null,null,null,null,null,null,null,null,{"$f":"Products!D33","v":"Smoke Detector Air"}]
[null,null,null,null,null,null,null,null,null,null,null,null,{"$f":"Products!D34","v":"Temperature & Humidity Sesnor Air"}]
[null,null,null,null,null,null,null,null,null,null,null,null,{"$f":"Products!D35","v":"Loxone Tool Kit by Weidmüller"}]
[null,null,null,null,null,null,null,null,null,null,null,null,{"$f":"Products!D36","v":"Loxone Meter Reader IR Air"}]
[null,null,null,null,null,null,null,null,null,null,null,null,{"$f":"Products!D37","v":"Nano IO Air"}]
[null,null,null,null,null,null,null,null,null,null,null,null,{"$f":"Products!D38","v":"Loxone Touch for Nano - White"}]
[null,null,null,null,null,null,null,null,null,null,null,null,{"$f":"Products!D39","v":"Loxone Touch Air - White"}]
[null,null,null,null,null,null,null,null,null,null,null,null,{"$f":"Products!D40","v":"Fröling Extension"}]
[null,null,null,null,null,null,null,null,null,null,null,null,{"$f":"Products!D41","v":"Valve Actuator Air"}]
[null,null,null,null,null,null,null,null,null,null,null,null,{"$f":"Products!D42","v":"Loxone Music Server 4 Zone"}]
[null,null,null,null,null,null,null,null,null,null,null,null,{"$f":"Products!D43","v":"Loxone Music Server 8 Zone"}]
[null,null,null,null,null,null,null,null,null,null,null,null,{"$f":"Products!D44","v":"Loxone Music Server 12 Zone"}]
[null,null,null,null,null,null,null,null,null,null,null,null,{"$f":"Products!D45","v":"Loxone Music Server 16 Zone"}]
[null,null,null,null,null,null,null,null,null,null,null,null,{"$f":"Products!D46","v":"Loxone Music Server 20 Zone"}]
[null,null,null,null,null,null,null,null,null,null,null,null,{"$f":"Products!D47","v":"not available in this country"}]
[null,null,null,null,null,null,null,null,null,null,null,null,{"$f":"Products!D48","v":"AquaStar Air 1.5\""}]
[null,null,null,null,null,null,null,null,null,null,null,null,{"$f":"Products!D49","v":"AquaStar Air 2\""}]
[null,null,null,null,null,null,null,null,null,null,null,null,{"$f":"Products!D50","v":"Loxone Touch Air - Anthracite"}]
[null,null,null,null,null,null,null,null,null,null,null,null,{"$f":"Products!D51","v":"Loxone Touch for Nano - Anthracite"}]
[null,null,null,null,null,null,null,null,null,null,null,null,{"$f":"Products!D52","v":"Tubular Motor SOLIDline Air 10Nm"}]
[null,null,null,null,null,null,null,null,null,null,null,null,{"$f":"Products!D53","v":"Tubular Motor SOLIDline Air 20Nm"}]
[null,null,null,null,null,null,null,null,null,null,null,null,{"$f":"Products!D54","v":"Tubular Motor SOLIDline Air 50Nm"}]
[null,null,null,null,null,null,null,null,null,null,null,null,{"$f":"Products!D55","v":"24V Power Supply (1.3A)"}]
[null,null,null,null,null,null,null,null,null,null,null,null,{"$f":"Products!D56","v":"24V Power Supply (4.2A)"}]
[null,null,null,null,null,null,null,null,null,null,null,null,{"$f":"Products!D57","v":"No longer sold"}]
[null,null,null,null,null,null,null,null,null,null,null,null,{"$f":"Products!D58","v":"No longer sold"}]
[null,null,null,null,null,null,null,null,null,null,null,null,{"$f":"Products!D59","v":"No longer sold"}]
[null,null,null,null,null,null,null,null,null,null,null,null,{"$f":"Products!D60","v":"Indoor Temperature Sensor 0-10V"}]
[null,null,null,null,null,null,null,null,null,null,null,null,{"$f":"Products!D61","v":"not available in this country"}]
[null,null,null,null,null,null,null,null,null,null,null,null,{"$f":"Products!D62","v":"Indoor Temperature & Humidity Sensor 0-10V"}]
[null,null,null,null,null,null,null,null,null,null,null,null,{"$f":"Products!D63","v":"Valve Adaptor VA80"}]
[null,null,null,null,null,null,null,null,null,null,null,null,{"$f":"Products!D64","v":"not available in this country"}]
[null,null,null,null,null,null,null,null,null,null,null,null,{"$f":"Products!D65","v":"Indoor Temperature, Humidty & CO2 Sensor 0-10V"}]
[null,null,null,null,null,null,null,null,null,null,null,null,{"$f":"Products!D66","v":"Rain Sensor (24V)"}]
[null,null,null,null,null,null,null,null,null,null,null,null,{"$f":"Products!D67","v":"Outdoor Temperature & Humidy Sensor 0-10V"}]
[null,null,null,null,null,null,null,null,null,null,null,null,{"$f":"Products!D68","v":"Brightness Sensor 0-10V"}]
[null,null,null,null,null,null,null,null,null,null,null,null,{"$f":"Products!D69","v":"Wind Sensor (24V)"}]
[null,null,null,null,null,null,null,null,null,null,null,null,{"$f":"Products!D70","v":"Wind Sensor Mount"}]
[null,null,null,null,null,null,null,null,null,null,null,null,{"$f":"Products!D71","v":"24V Power Supply (10A)"}]
[null,null,null,null,null,null,null,null,null,null,null,null,{"$f":"Products!D72","v":"not sold"}]
[null,null,null,null,null,null,null,null,null,null,null,null,{"$f":"Products!D73","v":"not sold"}]
[null,null,null,null,null,null,null,null,null,null,null,null,{"$f":"Products!D74","v":"Warm White LED Strip 5m"}]
[null,null,null,null,null,null,null,null,null,null,null,null,{"$f":"Products!D75","v":"not sold"}]
[null,null,null,null,null,null,null,null,null,null,null,null,{"$f":"Products!D76","v":"SMA Antenna 868 MHz"}]
[null,null,null,null,null,null,null,null,null,null,null,null,{"$f":"Products!D77","v":"Coupling Relay"}]
[null,null,null,null,null,null,null,null,null,null,null,null,{"$f":"Products!D78","v":"Loxone Sticker"}]
[null,null,null,null,null,null,null,null,null,null,null,null,{"$f":"Products!D79","v":"Ultrasonic Sensor 0-10V"}]
[null,null,null,null,null,null,null,null,null,null,null,null,{"$f":"Products!D80","v":"not sold"}]
[null,null,null,null,null,null,null,null,null,null,null,null,{"$f":"Products!D81","v":"not sold"}]
[null,null,null,null,null,null,null,null,null,null,null,null,{"$f":"Products!D82","v":"Warm White LED Strip 5m IP65"}]
[null,null,null,null,null,null,null,null,null,null,null,null,{"$f":"Products!D83","v":"iButton Reader 1-Wire"}]
[null,null,null,null,null,null,null,null,null,null,null,null,{"$f":"Products!D84","v":"iButton Electronic Key Fob"}]
[null,null,null,null,null,null,null,null,null,null,null,null,{"$f":"Products!D85","v":"not sold"}]
[null,null,null,null,null,null,null,null,null,null,null,null,{"$f":"Products!D86","v":"iButton Electronic Key Fob (Magnetic)"}]
[null,null,null,null,null,null,null,null,null,null,null,null,{"$f":"Products!D87","v":"Temperature Probe 1-Wire"}]
[null,null,null,null,null,null,null,null,null,null,null,null,{"$f":"Products!D88","v":"Fanshirt S"}]
[null,null,null,null,null,null,null,null,null,null,null,null,{"$f":"Products!D89","v":"Fanshirt M"}]
[null,null,null,null,null,null,null,null,null,null,null,null,{"$f":"Products!D90","v":"Fanshirt L"}]
[null,null,null,null,null,null,null,null,null,null,null,null,{"$f":"Products!D91","v":"Fanshirt XL"}]
[null,null,null,null,null,null,null,null,null,null,null,null,{"$f":"Products!D92","v":"Fanshirt XXL"}]
[null,null,null,null,null,null,null,null,null,null,null,null,{"$f":"Products!D93","v":"Warm White LED Strip 5m IP68"}]
[null,null,null,null,null,null,null,null,null,null,null,null,{"$f":"Products!D94","v":"Loxone Intercom"}]
[null,null,null,null,null,null,null,null,null,null,null,null,{"$f":"Products!D95","v":"Flush-mounted box for the Loxone intercom"}]
[null,null,null,null,null,null,null,null,null,null,null,null,{"$f":"Products!D96","v":"Surface Box for Loxone Intercom"}]
[null,null,null,null,null,null,null,null,null,null,null,null,{"$f":"Products!D97","v":"Loxone Speaker"}]
[null,null,null,null,null,null,null,null,null,null,null,null,{"$f":"Products!D98","v":"RGBW LED Strip 5m IP20"}]
[null,null,null,null,null,null,null,null,null,null,null,null,{"$f":"Products!D99","v":"RGBW LED Strip 5m IP65"}]
[null,null,null,null,null,null,null,null,null,null,null,null,{"$f":"Products!D100","v":"RGBW LED Strip 5m IP68"}]
[null,null,null,null,null,null,null,null,null,null,null,null,{"$f":"Products!D101","v":"No longer sold"}]
[null,null,null,null,null,null,null,null,null,null,null,null,{"$f":"Products!D102","v":"not available in this country"}]
[null,null,null,null,null,null,null,null,null,null,null,null,{"$f":"Products!D103","v":"Temperature Sensor Set 1-Wire"}]
[null,null,null,null,null,null,null,null,null,null,null,null,{"$f":"Products!D104","v":"Loxone 12 Channel Amplifier"}]
[null,null,null,null,null,null,null,null,null,null,null,null,{"$f":"Products!D105","v":"Outside Motion Sensor (24V)"}]
[null,null,null,null,null,null,null,null,null,null,null,null,{"$f":"Products!D106","v":"Window & Door Contact"}]
[null,null,null,null,null,null,null,null,null,null,null,null,{"$f":"Products!D107","v":"Loxone Cat 7 Cable"}]
[null,null,null,null,null,null,null,null,null,null,null,null,{"$f":"Products!D108","v":"not sold"}]
[null,null,null,null,null,null,null,null,null,null,null,null,{"$f":"Products!D109","v":"Temperature & Humidity Sensor For Saunas"}]
[null,null,null,null,null,null,null,null,null,null,null,null,{"$f":"Products!D110","v":"not sold"}]
[null,null,null,null,null,null,null,null,null,null,null,null,{"$f":"Products!D111","v":"24V Power Supply (0.4A)"}]
[null,null,null,null,null,null,null,null,null,null,null,null,{"$f":"Products!D112","v":"Loxone Speaker Back Box"}]
[null,null,null,null,null,null,null,null,null,null,null,null,{"$f":"Products!D113","v":"SMA Antenna 4dBi 868 MHz"}]
[null,null,null,null,null,null,null,null,null,null,null,null,{"$f":"Products!D114","v":"Loxone Wall Speaker"}]
[null,null,null,null,null,null,null,null,null,null,null,null,{"$f":"Products!D115","v":"Pressure Sensor 0-10V"}]
[null,null,null,null,null,null,null,null,null,null,null,null,{"$f":"Products!D116","v":"Glass Break Sensor 24V"}]
[null,null,null,null,null,null,null,null,null,null,null,null,{"$f":"Products!D117","v":"Modbus Electricity Meter (Single Phase)"}]
[null,null,null,null,null,null,null,null,null,null,null,null,{"$f":"Products!D118","v":"Modbus Electricity Meter (Three Phase)"}]
[null,null,null,null,null,null,null,null,null,null,null,null,{"$f":"Products!D119","v":"not available in this country"}]
[null,null,null,null,null,null,null,null,null,null,null,null,{"$f":"Products!D120","v":"Push In Terminal Block 8x4 Interconnected (20 pcs)"}]
[null,null,null,null,null,null,null,null,null,null,null,null,{"$f":"Products!D121","v":"Push In Terminal Block 8x4 Seperated (20pcs)"}]
[null,null,null,null,null,null,null,null,null,null,null,null,{"$f":"Products!D122","v":"Partition for 8x4 Terminals (10pcs)"}]
[null,null,null,null,null,null,null,null,null,null,null,null,{"$f":"Products!D123","v":"Label Holder 8 Levels (20 pcs)"}]
[null,null,null,null,null,null,null,null,null,null,null,null,{"$f":"Products!D124","v":"End Plate for 8x4 Terminals (10 pcs)"}]
[null,null,null,null,null,null,null,null,null,null,null,null,{"$f":"Products!D125","v":"Push In Terminal Block 3+Earth (50 pcs)"}]
[null,null,null,null,null,null,null,null,null,null,null,null,{"$f":"Products!D126","v":"End Plate for 3+Earth Terminals (20 pcs)"}]
[null,null,null,null,null,null,null,null,null,null,null,null,{"$f":"Products!D127","v":"Push In Terminal Block Twin+Earth (50 pcs)"}]
[null,null,null,null,null,null,null,null,null,null,null,null,{"$f":"Products!D128","v":"End Plate for Twin+Earth Terminals (20 pcs)"}]
[null,null,null,null,null,null,null,null,null,null,null,null,{"$f":"Products!D129","v":"End Bracket (20 pcs)"}]
[null,null,null,null,null,null,null,null,null,null,null,null,{"$f":"Products!D130","v":"Push in Fused Terminal Block (25 pcs)"}]
[null,null,null,null,null,null,null,null,null,null,null,null,{"$f":"Products!D131","v":"End Plate For Fused Terminals (50 pcs)"}]
[null,null,null,null,null,null,null,null,null,null,null,null,{"$f":"Products!D132","v":"Cross Connector For Fused Terminals (10 pcs)"}]
[null,null,null,null,null,null,null,null,null,null,null,null,{"$f":"Products!D133","v":"Blade Fuse 2A (100 pcs)"}]
[null,null,null,null,null,null,null,null,null,null,null,null,{"$f":"Products!D134","v":"Blade Fuse 5A (100 pcs)"}]
[null,null,null,null,null,null,null,null,null,null,null,null,{"$f":"Products!D135","v":"Blade Fuse 10A (100 pcs)"}]
[null,null,null,null,null,null,null,null,null,null,null,null,{"$f":"Products!D136","v":"Loxone Brochure (25 pcs)"}]
[null,null,null,null,null,null,null,null,null,null,null,null,{"$f":"Products!D137","v":"iButton Reader 1-Wire Outdoor"}]
[null,null,null,null,null,null,null,null,null,null,null,null,{"$f":"Products!D138","v":"No longer sold"}]
[null,null,null,null,null,null,null,null,null,null,null,null,{"$f":"Products!D139","v":"Loxone Speaker Back Box For Suspended Ceilings"}]
[null,null,null,null,null,null,null,null,null,null,null,null,{"$f":"Products!D140","v":"LED Strip Accessories Set - RGBW"}]
[null,null,null,null,null,null,null,null,null,null,null,null,{"$f":"Products!D141","v":"LED Strip Accessories Set - WW"}]
[null,null,null,null,null,null,null,null,null,null,null,null,{"$f":"Products!D142","v":"Power Adapter 24V 6.25A"}]
[null,null,null,null,null,null,null,null,null,null,null,null,{"$f":"Products!D143","v":"not sold"}]
[null,null,null,null,null,null,null,null,null,null,null,null,{"$f":"Products!D144","v":"Loxone Intercom XL"}]
[null,null,null,null,null,null,null,null,null,null,null,null,{"$f":"Products!D145","v":"Motion Sensor Air - White"}]
[null,null,null,null,null,null,null,null,null,null,null,null,{"$f":"Products!D146","v":"NFC Smart Tags"}]
[null,null,null,null,null,null,null,null,null,null,null,null,{"$f":"Products!D147","v":"LED Spot RGBW - White"}]
[null,null,null,null,null,null,null,null,null,null,null,null,{"$f":"Products!D148","v":"LED Spot WW - White"}]
[null,null,null,null,null,null,null,null,null,null,null,null,{"$f":"Products!D149","v":"Electric Car Charging Cable Type 2"}]
[null,null,null,null,null,null,null,null,null,null,null,null,{"$f":"Products!D150","v":"Tree Extension"}]
[null,null,null,null,null,null,null,null,null,null,null,null,{"$f":"Products!D151","v":"Touch Tree - White"}]
[null,null,null,null,null,null,null,null,null,null,null,null,{"$f":"Products!D152","v":"Touch Tree - Anthracite"}]
[null,null,null,null,null,null,null,null,null,null,null,null,{"$f":"Products!D153","v":"Motion Sensor Tree - White"}]
[null,null,null,null,null,null,null,null,null,null,null,null,{"$f":"Products!D154","v":"Valve Actuator Tree"}]
[null,null,null,null,null,null,null,null,null,null,null,null,{"$f":"Products!D155","v":"Water Sensor Air"}]
[null,null,null,null,null,null,null,null,null,null,null,null,{"$f":"Products!D156","v":"Door & Window Contact Air - Anthracite"}]
[null,null,null,null,null,null,null,null,null,null,null,null,{"$f":"Products!D157","v":"Door & Window Contact Air - White"}]
[null,null,null,null,null,null,null,null,null,null,null,null,{"$f":"Products!D158","v":"Motion Sensor Tree - Anthracite"}]
[null,null,null,null,null,null,null,null,null,null,null,null,{"$f":"Products!D159","v":"Cross Connector for Mains Terminals (20 pcs)"}]
[null,null,null,null,null,null,null,null,null,null,null,null,{"$f":"Products!D160","v":"Dali Extension"}]
[null,null,null,null,null,null,null,null,null,null,null,null,{"$f":"Products!D161","v":"24V LED Power Supply (2.5A)"}]
[null,null,null,null,null,null,null,null,null,null,null,null,{"$f":"Products!D162","v":"Touch Pure Air - White"}]
[null,null,null,null,null,null,null,null,null,null,null,null,{"$f":"Products!D163","v":"Touch Pure for Nano - White"}]
[null,null,null,null,null,null,null,null,null,null,null,null,{"$f":"Products!D164","v":"Touch Pure Tree - White"}]
[null,null,null,null,null,null,null,null,null,null,null,null,{"$f":"Products!D165","v":"not available in this country"}]
[null,null,null,null,null,null,null,null,null,null,null,null,{"$f":"Products!D166","v":"Nano Dimmer Air"}]
[null,null,null,null,null,null,null,null,null,null,null,null,{"$f":"Products!D167","v":"not available in this country"}]
[null,null,null,null,null,null,null,null,null,null,null,null,{"$f":"Products!D168","v":"not available in this country"}]
[null,null,null,null,null,null,null,null,null,null,null,null,{"$f":"Products!D169","v":"not available in this country"}]
[null,null,null,null,null,null,null,null,null,null,null,null,{"$f":"Products!D170","v":"Duracell Plus Power AA (Pack of 12)"}]
[null,null,null,null,null,null,null,null,null,null,null,null,{"$f":"Products!D171","v":"Duracell Plus Power AAA (Pack of 12)"}]
[null,null,null,null,null,null,null,null,null,null,null,null,{"$f":"Products!D172","v":"CR2032 Lithium Battery (Pack of 20)"}]
[null,null,null,null,null,null,null,null,null,null,null,null,{"$f":"Products!D173","v":"CR2450 Lithium Battery (Pack of 20)"}]
[null,null,null,null,null,null,null,null,null,null,null,null,{"$f":"Products!D174","v":"FDK 9V Lithium Battery"}]
[null,null,null,null,null,null,null,null,null,null,null,null,{"$f":"Products!D175","v":"Nano DI Tree"}]
[null,null,null,null,null,null,null,null,null,null,null,null,{"$f":"Products!D176","v":"not available in this country"}]
[null,null,null,null,null,null,null,null,null,null,null,null,{"$f":"Products!D177","v":"not available in this country"}]
[null,null,null,null,null,null,null,null,null,null,null,null,{"$f":"Products!D178","v":"not available in this country"}]
[null,null,null,null,null,null,null,null,null,null,null,null,{"$f":"Products!D179","v":"not available in this country"}]
[null,null,null,null,null,null,null,null,null,null,null,null,{"$f":"Products!D180","v":"LED Ceiling Spot RGBW - White"}]
[null,null,null,null,null,null,null,null,null,null,null,null,{"$f":"Products!D181","v":"LED Ceiling Spot WW - White"}]
[null,null,null,null,null,null,null,null,null,null,null,null,{"$f":"Products!D182","v":"LED Ceiling Spot Tree RGBW - White"}]
[null,null,null,null,null,null,null,null,null,null,null,null,{"$f":"Products!D183","v":"LED Ceiling Spot Tree WW - White"}]
[null,null,null,null,null,null,null,null,null,null,null,null,{"$f":"Products!D184","v":"LED Spot Tree WW - White"}]
[null,null,null,null,null,null,null,null,null,null,null,null,{"$f":"Products!D185","v":"LED Spot Tree RGBW - White"}]
[null,null,null,null,null,null,null,null,null,null,null,null,{"$f":"Products!D186","v":"RGBW 24V Dimmer Tree"}]
[null,null,null,null,null,null,null,null,null,null,null,null,{"$f":"Products!D187","v":"Window Handle Air"}]

{"sheet":"Space","index":17,"n_rows":36,"n_cols":9,"rows_kept":36,"cut":false,"hidden":false,"merged":[[7,7,7,8],[2,1,3,5]]}
[]
[]
[null,{"$f":"VLOOKUP(Main!C2,Translating_general!A53:P70,2,FALSE)","v":"Required Space Calculator"}]
[]
[]
[null,{"$f":"VLOOKUP(Main!C2,Translating_general!A53:P70,3,FALSE)","v":"Item Numer"},{"$f":"VLOOKUP(Main!C2,Translating_general!A53:P70,4,FALSE)","v":"Products"},{"$f":"VLOOKUP(Main!C2,Translating_general!A53:P70,5,FALSE)","v":"Quantity"},{"$f":"VLOOKUP(Main!C2,Translating_general!A53:P70,6,FALSE)","v":"Required Space"},{"$f":"VLOOKUP(Main!C2,Translating_general!A53:P70,7,FALSE)","v":"Total"}]
[null,"100001",{"$f":"Calculation!B528","v":"Miniserver"},{"$f":"Products!B7","v":1},{"$f":"Calculation!D528","v":155},{"$f":"D7*E7","v":155}]
[null,"100002",{"$f":"Calculation!B529","v":"Extension"},{"$f":"Products!B8","v":0},{"$f":"Calculation!D529","v":155},{"$f":"D8*E8","v":0},null,{"$f":"VLOOKUP(Main!C2,Translating_general!A53:P70,8,FALSE)","v":"Total Space"}]
[null,"100011",{"$f":"Calculation!B530","v":"RS485 Extension"},{"$f":"Products!B11","v":0},{"$f":"Calculation!D530","v":34},0,null,{"$f":"VLOOKUP(Main!C2,Translating_general!A53:P70,9,FALSE)","v":"Required Space in mm"},{"$f":"SUM(F7:F36)","v":1024}]
[null,"100012",{"$f":"Calculation!B531","v":"DMX Extension"},{"$f":"Products!B12","v":0},{"$f":"Calculation!D531","v":34},0,null,{"$f":"VLOOKUP(Main!C2,Translating_general!A53:P70,10,FALSE)","v":"Required Space in splitting units"},{"$f":"ROUNDUP(I9/17.2,0)","v":60}]
[null,"100013",{"$f":"Calculation!B532","v":"RS 232 Extension"},{"$f":"Products!B13","v":0},{"$f":"Calculation!D532","v":34},0]
[null,"100014",{"$f":"Calculation!B533","v":"1-Wire Extension"},{"$f":"Products!B14","v":0},{"$f":"Calculation!D533","v":34},0]
[null,"100015",{"$f":"Calculation!B534","v":"Enocean Extension"},{"$f":"Products!B15","v":0},{"$f":"Calculation!D534","v":34},0]
[null,"100029",{"$f":"Calculation!B535","v":"Dimmer Extension"},{"$f":"Products!B21","v":0},{"$f":"Calculation!D535","v":155},0]
[null,"100035",{"$f":"Calculation!B536","v":"No longer sold"},{"$f":"Products!B22","v":0},{"$f":"Calculation!D536","v":34},0]
[null,"100038",{"$f":"Calculation!B537","v":"Relay Extension"},{"$f":"Products!B23","v":0},{"$f":"Calculation!D537","v":155},0]
[null,"100114",{"$f":"Calculation!B538","v":"Air Base Extension"},{"$f":"Products!B24","v":1},{"$f":"Calculation!D538","v":34},34]
[null,"100124",{"$f":"Calculation!B539","v":"Modbus Extension"},{"$f":"Products!B28","v":1},{"$f":"Calculation!D539","v":34},34]
[null,"100158",{"$f":"Calculation!B540","v":"Fröling Extension"},{"$f":"Products!B40","v":0},{"$f":"Calculation!D540","v":35},0]
[null,"200049",{"$f":"Calculation!B541","v":"Coupling Relay"},{"$f":"Products!B77","v":0},{"$f":"Calculation!D541","v":17},0]
[null,"100117",{"$f":"Calculation!B542","v":"RGBW 24V Dimmer DMX"},{"$f":"Products!B27","v":0},{"$f":"Calculation!D542","v":34},0]
[null,"200001",{"$f":"Calculation!B543","v":"24V Power Supply (1.3A)"},{"$f":"Products!B55","v":2},{"$f":"Calculation!D543","v":53},106]
[null,"200002",{"$f":"Calculation!B544","v":"24V Power Supply (4.2A)"},{"$f":"Products!B56","v":3},{"$f":"Calculation!D544","v":90},270]
[null,"200035",{"$f":"Calculation!B545","v":"24V Power Supply (10A)"},{"$f":"Products!B71","v":1},{"$f":"Calculation!D545","v":83},83]
[null,"200143",{"$f":"Calculation!B546","v":"24V Power Supply (0.4A)"},{"$f":"Products!B111","v":0},{"$f":"Calculation!D546","v":18},0]
[null,"200156",{"$f":"Calculation!B547","v":"Modbus Electricity Meter (Single Phase)"},{"$f":"Products!B117","v":0},{"$f":"Calculation!D547","v":17.5},0]
[null,"200157",{"$f":"Calculation!B548","v":"Modbus Electricity Meter (Three Phase)"},{"$f":"Products!B118","v":0},{"$f":"Calculation!D548","v":70},0]
[null,"200168",{"$f":"Calculation!B549","v":"Push In Terminal Block 8x4 Interconnected (20 pcs)"},{"$f":"Products!B120","v":1},{"$f":"Calculation!D549","v":120},120]
[null,"200169",{"$f":"Calculation!B550","v":"Push In Terminal Block 8x4 Seperated (20pcs)"},{"$f":"Products!B121","v":1},{"$f":"Calculation!D550","v":120},120]
[null,"200173",{"$f":"Calculation!B551","v":"Push In Terminal Block 3+Earth (50 pcs)"},{"$f":"Products!B125","v":0},{"$f":"Calculation!D551","v":104},0]
[null,"200175",{"$f":"Calculation!B552","v":"Push In Terminal Block Twin+Earth (50 pcs)"},{"$f":"Products!B127","v":0},{"$f":"Calculation!D552","v":100},0]
[null,"200178",{"$f":"Calculation!B553","v":"Push in Fused Terminal Block (25 pcs)"},{"$f":"Products!B130","v":0},{"$f":"Calculation!D553","v":70},0]
[null,{"$f":"Products!C160","v":100200},{"$f":"Calculation!B555","v":"Dali Extension"},{"$f":"Products!B160","v":0},{"$f":"Calculation!D555","v":34},0]
[null,{"$f":"Products!C150","v":100218},{"$f":"Calculation!B554","v":"Tree Extension"},{"$f":"Products!B150","v":1},{"$f":"Calculation!D554","v":34},34]
[null,{"$f":"Products!C186","v":100239},{"$f":"Calculation!B556","v":"RGBW 24V Dimmer Tree"},{"$f":"Products!B186","v":2},{"$f":"Calculation!D556","v":34},68]
[null,{"$f":"Products!C188","v":100283},{"$f":"Products!D188","v":"DI Extension"},{"$f":"Products!B188","v":0},34,0]

{"sheet":"Products","index":18,"n_rows":256,"n_cols":18,"rows_kept":256,"cut":false,"hidden":false,"merged":[[247,3,247,5],[243,3,243,4],[2,1,3,6],[223,4,223,5],[224,4,224,5]]}
[]
[]
[null,{"$f":"VLOOKUP(Main!C2,Translating_general!A77:AF94,2,FALSE)","v":"Parts List"}]
[]
[]
[null,{"$f":"VLOOKUP(Main!C2,Translating_general!A77:AF94,3,FALSE)","v":"Quantity"},{"$f":"VLOOKUP(Main!C2,Translating_general!A77:AF94,4,FALSE)","v":"No."},{"$f":"VLOOKUP(Main!C2,Translating_general!A77:AF94,5,FALSE)","v":"Description"},{"$f":"VLOOKUP(Main!C2,Translating_general!A77:AF94,6,FALSE)","v":"Unit Net"},{"$f":"VLOOKUP(Main!C2,Translating_general!A77:AF94,7,FALSE)","v":"Unit Gross"},{"$f":"VLOOKUP(Main!C2,Translating_general!A77:AF94,8,FALSE)","v":"Total"},null,"Kategorie","AI (Eingang)","DI (Eingang)","AO (Ausgang)","DO (Ausgang)","Kanäle","Ampere gesamt pro Produkt","Watt gesamt pro Produkt"]
[null,{"$f":"Calculation!C5+Calculation!C47+Calculation!C432","v":1},{"$f":"HLOOKUP(Main!$C$2,Translating_products!$CN$4:$DD$216,Translating_products!CM5, FALSE)","v":100001},{"$f":"HLOOKUP(Main!$C$2,Translating_products!$DI$4:$DY$216,Translating_products!CM5, FALSE)","v":"Miniserver"},{"$f":"IF(ISBLANK($Q$1),HLOOKUP(Main!$C$2,Translating_products!$EE$4:$EU$216,Translating_products!CM5,FALSE),HLOOKUP($Q$1,Translating_products!$EE$4:$EU$216,Translating_products!CM5,FALSE))","v":380},{"$f":"E7*(1+$E$223*0.01)","v":456},{"$f":"B7*F7","v":456},{"$f":"SUM(G7:G137)","v":7849.2},"Extension",4,8,4,8,null,{"$f":"0.12*B7","v":0.12},null,{"$f":"IF(ISBLANK($Q$1),VLOOKUP(Main!C2,Translating_general!A77:AG94,33,FALSE),VLOOKUP($Q$1,Translating_general!A77:AG94,33,FALSE))","v":"£"},"R"]
[null,{"$f":"Calculation!C433+Calculation!C28+Calculation!C35","v":0},{"$f":"HLOOKUP(Main!$C$2,Translating_products!$CN$4:$DD$216,Translating_products!CM6, FALSE)","v":100002},{"$f":"HLOOKUP(Main!$C$2,Translating_products!$DI$4:$DY$216,Translating_products!CM6, FALSE)","v":"Extension"},{"$f":"IF(ISBLANK($Q$1),HLOOKUP(Main!$C$2,Translating_products!$EE$4:$EU$216,Translating_products!CM6,FALSE),HLOOKUP($Q$1,Translating_products!$EE$4:$EU$216,Translating_products!CM6,FALSE))","v":302.5},363,{"$f":"B8*F8","v":0},{"$f":"IF(B7:B137>0,1,0)","v":0},"Extension",4,12,4,8,null,{"$f":"B8*0.06","v":0},null,{"$f":"$Q$7","v":"£"},"R"]
[null,{"$f":"Calculation!C371","v":0},{"$f":"HLOOKUP(Main!$C$2,Translating_products!$CN$4:$DD$216,Translating_products!CM7, FALSE)","v":100005},{"$f":"HLOOKUP(Main!$C$2,Translating_products!$DI$4:$DY$216,Translating_products!CM7, FALSE)","v":"Rollup Banner English"},{"$f":"IF(ISBLANK($Q$1),HLOOKUP(Main!$C$2,Translating_products!$EE$4:$EU$216,Translating_products!CM7,FALSE),HLOOKUP($Q$1,Translating_products!$EE$4:$EU$216,Translating_products!CM7,FALSE))","v":90},108,0,null,"Sonstiges",null,null,null,null,null,"nix",null,{"$f":"$Q$7","v":"£"},"R"]
[null,{"$f":"Calculation!C325","v":0},{"$f":"HLOOKUP(Main!$C$2,Translating_products!$CN$4:$DD$216,Translating_products!CM8, FALSE)","v":100008},{"$f":"HLOOKUP(Main!$C$2,Translating_products!$DI$4:$DY$216,Translating_products!CM8, FALSE)","v":"Micro SD Card with firmware"},{"$f":"IF(ISBLANK($Q$1),HLOOKUP(Main!$C$2,Translating_products!$EE$4:$EU$216,Translating_products!CM8,FALSE),HLOOKUP($Q$1,Translating_products!$EE$4:$EU$216,Translating_products!CM8,FALSE))","v":9},10.799999999999999,0,null,"Sonstiges",null,null,null,null,null,"nix",null,"£","R"]
[null,{"$f":"Calculation!C326+Calculation!C434","v":0},{"$f":"HLOOKUP(Main!$C$2,Translating_products!$CN$4:$DD$216,Translating_products!CM9, FALSE)","v":100011},{"$f":"HLOOKUP(Main!$C$2,Translating_products!$DI$4:$DY$216,Translating_products!CM9, FALSE)","v":"RS485 Extension"},{"$f":"IF(ISBLANK($Q$1),HLOOKUP(Main!$C$2,Translating_products!$EE$4:$EU$216,Translating_products!CM9,FALSE),HLOOKUP($Q$1,Translating_products!$EE$4:$EU$216,Translating_products!CM9,FALSE))","v":130},156,0,"Sonstiges wird einfach ausgewählt","Sonstiges/Extension",null,null,null,null,null,{"$f":"B11*0.03","v":0},null,"£","R"]
[null,{"$f":"Calculation!C78+Calculation!C435+Calculation!E575","v":0},{"$f":"HLOOKUP(Main!$C$2,Translating_products!$CN$4:$DD$216,Translating_products!CM10, FALSE)","v":100012},{"$f":"HLOOKUP(Main!$C$2,Translating_products!$DI$4:$DY$216,Translating_products!CM10, FALSE)","v":"DMX Extension"},{"$f":"IF(ISBLANK($Q$1),HLOOKUP(Main!$C$2,Translating_products!$EE$4:$EU$216,Translating_products!CM10,FALSE),HLOOKUP($Q$1,Translating_products!$EE$4:$EU$216,Translating_products!CM10,FALSE))","v":205},246,0,null,"Licht/Extension",null,null,null,null,128,0.03,null,"£","L"]
[null,{"$f":"Calculation!C327+Calculation!C436","v":0},{"$f":"HLOOKUP(Main!$C$2,Translating_products!$CN$4:$DD$216,Translating_products!CM11, FALSE)","v":100013},{"$f":"HLOOKUP(Main!$C$2,Translating_products!$DI$4:$DY$216,Translating_products!CM11, FALSE)","v":"RS 232 Extension"},{"$f":"IF(ISBLANK($Q$1),HLOOKUP(Main!$C$2,Translating_products!$EE$4:$EU$216,Translating_products!CM11,FALSE),HLOOKUP($Q$1,Translating_products!$EE$4:$EU$216,Translating_products!CM11,FALSE))","v":130},156,0,"Sonstiges wird einfach ausgewählt","Sonstiges/Extension",null,null,null,null,null,{"$f":"0.03*B13","v":0},null,"£","R"]
[null,{"$f":"Calculation!C12+Calculation!C40+Calculation!C437+Calculation!G172","v":0},{"$f":"HLOOKUP(Main!$C$2,Translating_products!$CN$4:$DD$216,Translating_products!CM12, FALSE)","v":100014},{"$f":"HLOOKUP(Main!$C$2,Translating_products!$DI$4:$DY$216,Translating_products!CM12, FALSE)","v":"1-Wire Extension"},{"$f":"IF(ISBLANK($Q$1),HLOOKUP(Main!$C$2,Translating_products!$EE$4:$EU$216,Translating_products!CM12,FALSE),HLOOKUP($Q$1,Translating_products!$EE$4:$EU$216,Translating_products!CM12,FALSE))","v":130},156,0,"Temparaturfühler & iButton; 20 Fühler möglich, Lesegerät für Zutritt 1x Fühler benötigt","Extension",null,null,null,null,20,{"$f":"0.03*B14","v":0},null,"£","R"]
[null,{"$f":"Calculation!C42+Calculation!C328+Calculation!C438","v":0},{"$f":"HLOOKUP(Main!$C$2,Translating_products!$CN$4:$DD$216,Translating_products!CM13, FALSE)","v":100015},{"$f":"HLOOKUP(Main!$C$2,Translating_products!$DI$4:$DY$216,Translating_products!CM13, FALSE)","v":"Enocean Extension"},{"$f":"IF(ISBLANK($Q$1),HLOOKUP(Main!$C$2,Translating_products!$EE$4:$EU$216,Translating_products!CM13,FALSE),HLOOKUP($Q$1,Translating_products!$EE$4:$EU$216,Translating_products!CM13,FALSE))","v":230},276,0,"Sonstiges wird einfach ausgewählt","Sonstiges/Extension",null,null,null,null,128,{"$f":"0.03*B15","v":0},null,"£","R"]
[null,0,{"$f":"HLOOKUP(Main!$C$2,Translating_products!$CN$4:$DD$216,Translating_products!CM14, FALSE)","v":0},{"$f":"HLOOKUP(Main!$C$2,Translating_products!$DI$4:$DY$216,Translating_products!CM14, FALSE)","v":"No longer sold"},{"$f":"IF(ISBLANK($Q$1),HLOOKUP(Main!$C$2,Translating_products!$EE$4:$EU$216,Translating_products!CM14,FALSE),HLOOKUP($Q$1,Translating_products!$EE$4:$EU$216,Translating_products!CM14,FALSE))","v":57.5},69,0,null,"Sonstiges",null,null,null,null,null,"nix",null,"£","R"]
[null,{"$f":"Calculation!C330","v":0},{"$f":"HLOOKUP(Main!$C$2,Translating_products!$CN$4:$DD$216,Translating_products!CM15, FALSE)","v":100025},{"$f":"HLOOKUP(Main!$C$2,Translating_products!$DI$4:$DY$216,Translating_products!CM15, FALSE)","v":"Weather Service 1 Year"},{"$f":"IF(ISBLANK($Q$1),HLOOKUP(Main!$C$2,Translating_products!$EE$4:$EU$216,Translating_products!CM15,FALSE),HLOOKUP($Q$1,Translating_products!$EE$4:$EU$216,Translating_products!CM15,FALSE))","v":45},54,0,"Sonstiges","Sonstiges",null,null,null,null,null,"nix",null,"£","R"]
[null,{"$f":"Calculation!C331","v":0},{"$f":"HLOOKUP(Main!$C$2,Translating_products!$CN$4:$DD$216,Translating_products!CM16, FALSE)","v":100201},{"$f":"HLOOKUP(Main!$C$2,Translating_products!$DI$4:$DY$216,Translating_products!CM16, FALSE)","v":"Weather Service 10 Year"},{"$f":"IF(ISBLANK($Q$1),HLOOKUP(Main!$C$2,Translating_products!$EE$4:$EU$216,Translating_products!CM16,FALSE),HLOOKUP($Q$1,Translating_products!$EE$4:$EU$216,Translating_products!CM16,FALSE))","v":265},318,0,"Sonstiges","Sonstiges",null,null,null,null,null,"nix",null,"£","R"]
[null,{"$f":"Calculation!C332","v":0},{"$f":"HLOOKUP(Main!$C$2,Translating_products!$CN$4:$DD$216,Translating_products!CM17, FALSE)","v":100027},{"$f":"HLOOKUP(Main!$C$2,Translating_products!$DI$4:$DY$216,Translating_products!CM17, FALSE)","v":"Caller Service 1 Year"},{"$f":"IF(ISBLANK($Q$1),HLOOKUP(Main!$C$2,Translating_products!$EE$4:$EU$216,Translating_products!CM17,FALSE),HLOOKUP($Q$1,Translating_products!$EE$4:$EU$216,Translating_products!CM17,FALSE))","v":45},54,0,"Sonstiges","Sonstiges",null,null,null,null,null,"nix",null,"£","R"]
[null,{"$f":"Calculation!C333","v":1},{"$f":"HLOOKUP(Main!$C$2,Translating_products!$CN$4:$DD$216,Translating_products!CM18, FALSE)","v":100202},{"$f":"HLOOKUP(Main!$C$2,Translating_products!$DI$4:$DY$216,Translating_products!CM18, FALSE)","v":"Caller Service 10 Years"},{"$f":"IF(ISBLANK($Q$1),HLOOKUP(Main!$C$2,Translating_products!$EE$4:$EU$216,Translating_products!CM18,FALSE),HLOOKUP($Q$1,Translating_products!$EE$4:$EU$216,Translating_products!CM18,FALSE))","v":265},318,318,"Sonstiges","Sonstiges",null,null,null,null,null,"nix",null,"£","R"]
[null,{"$f":"Calculation!C440+Calculation!C79","v":0},{"$f":"HLOOKUP(Main!$C$2,Translating_products!$CN$4:$DD$216,Translating_products!CM19, FALSE)","v":100029},{"$f":"HLOOKUP(Main!$C$2,Translating_products!$DI$4:$DY$216,Translating_products!CM19, FALSE)","v":"Dimmer Extension"},{"$f":"IF(ISBLANK($Q$1),HLOOKUP(Main!$C$2,Translating_products!$EE$4:$EU$216,Translating_products!CM19,FALSE),HLOOKUP($Q$1,Translating_products!$EE$4:$EU$216,Translating_products!CM19,FALSE))","v":340},408,0,"Kein Netzteil 230V Dimmkanal (4 Dimmkanäle = 4 Kanäle)","Licht/Extension",null,8,4,null,null,{"$f":"B21*0.06","v":0},null,"£","L"]
[null,0,{"$f":"HLOOKUP(Main!$C$2,Translating_products!$CN$4:$DD$216,Translating_products!CM20, FALSE)","v":0},{"$f":"HLOOKUP(Main!$C$2,Translating_products!$DI$4:$DY$216,Translating_products!CM20, FALSE)","v":"No longer sold"},{"$f":"IF(ISBLANK($Q$1),HLOOKUP(Main!$C$2,Translating_products!$EE$4:$EU$216,Translating_products!CM20,FALSE),HLOOKUP($Q$1,Translating_products!$EE$4:$EU$216,Translating_products!CM20,FALSE))","v":147.5},177,0,null,"Sonstiges",null,null,null,null,null,0.03,null,"£","R"]
[null,{"$f":"Calculation!C441+Calculation!C38","v":0},{"$f":"HLOOKUP(Main!$C$2,Translating_products!$CN$4:$DD$216,Translating_products!CM21, FALSE)","v":100038},{"$f":"HLOOKUP(Main!$C$2,Translating_products!$DI$4:$DY$216,Translating_products!CM21, FALSE)","v":"Relay Extension"},{"$f":"IF(ISBLANK($Q$1),HLOOKUP(Main!$C$2,Translating_products!$EE$4:$EU$216,Translating_products!CM21,FALSE),HLOOKUP($Q$1,Translating_products!$EE$4:$EU$216,Translating_products!CM21,FALSE))","v":360},432,0,null,"Extension",null,null,null,14,null,{"$f":"0.3*B23","v":0},null,"£","R"]
[null,{"$f":"Calculation!C247+Calculation!C442+Calculation!C44","v":1},{"$f":"HLOOKUP(Main!$C$2,Translating_products!$CN$4:$DD$216,Translating_products!CM22, FALSE)","v":100114},{"$f":"HLOOKUP(Main!$C$2,Translating_products!$DI$4:$DY$216,Translating_products!CM22, FALSE)","v":"Air Base Extension"},{"$f":"IF(ISBLANK($Q$1),HLOOKUP(Main!$C$2,Translating_products!$EE$4:$EU$216,Translating_products!CM22,FALSE),HLOOKUP($Q$1,Translating_products!$EE$4:$EU$216,Translating_products!CM22,FALSE))","v":77.5},93,93,"128 Sockets/Geräte gelernt werden","Air/Extension",null,null,null,null,128,6.0000000000000001E-3,null,"£","R"]
[null,{"$f":"Calculation!C248","v":2},{"$f":"IF(ISBLANK($Q$1), HLOOKUP(Main!$C$2,Translating_products!$CN$4:$DD$216,Translating_products!CM23,FALSE),HLOOKUP($Q$1,Translating_products!$CN$4:$DD$216,Translating_products!CM23,FALSE))","v":100121},{"$f":"IF(ISBLANK($Q$1),HLOOKUP(Main!$C$2,Translating_products!$DI$4:$DY$216,Translating_products!CM23, FALSE), HLOOKUP($Q$1,Translating_products!$DI$4:$DY$216,Translating_products!CM23, FALSE))","v":"Smart Socket Air - Type G (UK)"},{"$f":"IF(ISBLANK($Q$1),HLOOKUP(Main!$C$2,Translating_products!$EE$4:$EU$216,Translating_products!CM23,FALSE),HLOOKUP($Q$1,Translating_products!$EE$4:$EU$216,Translating_products!CM23,FALSE))","v":52.5},63,126,"belegt 1 Kanal auf AirBaseExtension","Air",null,null,null,null,1,"nix",null,"£","R"]
[null,{"$f":"Calculation!C249+Calculation!C443","v":0},{"$f":"HLOOKUP(Main!$C$2,Translating_products!$CN$4:$DD$216,Translating_products!CM24, FALSE)","v":100116},{"$f":"HLOOKUP(Main!$C$2,Translating_products!$DI$4:$DY$216,Translating_products!CM24, FALSE)","v":"Multi Extension Air"},{"$f":"IF(ISBLANK($Q$1),HLOOKUP(Main!$C$2,Translating_products!$EE$4:$EU$216,Translating_products!CM24,FALSE),HLOOKUP($Q$1,Translating_products!$EE$4:$EU$216,Translating_products!CM24,FALSE))","v":360},432,0,"Stück-Auswahl","Air/Extension",null,12,null,8,20,"0,4 A Netzt. Pro Ext.",null,"£","R"]
[null,{"$f":"Calculation!C80","v":0},{"$f":"HLOOKUP(Main!$C$2,Translating_products!$CN$4:$DD$216,Translating_products!CM25, FALSE)","v":100117},{"$f":"HLOOKUP(Main!$C$2,Translating_products!$DI$4:$DY$216,Translating_products!CM25, FALSE)","v":"RGBW 24V Dimmer DMX"},{"$f":"IF(ISBLANK($Q$1),HLOOKUP(Main!$C$2,Translating_products!$EE$4:$EU$216,Translating_products!CM25,FALSE),HLOOKUP($Q$1,Translating_products!$EE$4:$EU$216,Translating_products!CM25,FALSE))","v":57.5},69,0,"belegt 4Kanäle auf DMX Extension","Licht",null,null,null,null,4,"nix",null,"£","L"]
[null,{"$f":"Calculation!C439","v":1},{"$f":"HLOOKUP(Main!$C$2,Translating_products!$CN$4:$DD$216,Translating_products!CM26, FALSE)","v":100124},{"$f":"HLOOKUP(Main!$C$2,Translating_products!$DI$4:$DY$216,Translating_products!CM26, FALSE)","v":"Modbus Extension"},{"$f":"IF(ISBLANK($Q$1),HLOOKUP(Main!$C$2,Translating_products!$EE$4:$EU$216,Translating_products!CM26,FALSE),HLOOKUP($Q$1,Translating_products!$EE$4:$EU$216,Translating_products!CM26,FALSE))","v":175},210,210,"Sonstiges-Auswählen","Sonstiges",null,null,null,null,null,{"$f":"B28*0.03","v":0.03},null,"£","R"]
[null,{"$f":"Calculation!C81","v":0},{"$f":"HLOOKUP(Main!$C$2,Translating_products!$CN$4:$DD$216,Translating_products!CM27, FALSE)","v":100125},{"$f":"HLOOKUP(Main!$C$2,Translating_products!$DI$4:$DY$216,Translating_products!CM27, FALSE)","v":"RGBW 24V Dimmer Air"},{"$f":"IF(ISBLANK($Q$1),HLOOKUP(Main!$C$2,Translating_products!$EE$4:$EU$216,Translating_products!CM27,FALSE),HLOOKUP($Q$1,Translating_products!$EE$4:$EU$216,Translating_products!CM27,FALSE))","v":65},78,0,"belegt 1 Kanal auf AirbaseExtension","Licht",null,null,null,null,1,"nix",null,"£","L"]
[null,{"$f":"Calculation!C250+Calculation!C444+Calculation!C6","v":0},{"$f":"HLOOKUP(Main!$C$2,Translating_products!$CN$4:$DD$216,Translating_products!CM28, FALSE)","v":100139},{"$f":"HLOOKUP(Main!$C$2,Translating_products!$DI$4:$DY$216,Translating_products!CM28, FALSE)","v":"Miniserver Go"},{"$f":"IF(ISBLANK($Q$1),HLOOKUP(Main!$C$2,Translating_products!$EE$4:$EU$216,Translating_products!CM28,FALSE),HLOOKUP($Q$1,Translating_products!$EE$4:$EU$216,Translating_products!CM28,FALSE))","v":275},330,0,"wird ausgewählt (für Nachrüster)","Air/Extension",null,null,null,null,128,"nix",null,"£","R"]
[null,{"$f":"Calculation!C251","v":2},{"$f":"HLOOKUP(Main!$C$2,Translating_products!$CN$4:$DD$216,Translating_products!CM29, FALSE)","v":100140},{"$f":"HLOOKUP(Main!$C$2,Translating_products!$DI$4:$DY$216,Translating_products!CM29, FALSE)","v":"Remote Air"},{"$f":"IF(ISBLANK($Q$1),HLOOKUP(Main!$C$2,Translating_products!$EE$4:$EU$216,Translating_products!CM29,FALSE),HLOOKUP($Q$1,Translating_products!$EE$4:$EU$216,Translating_products!CM29,FALSE))","v":37.5},45,90,"belegt 1 Kanal auf MsGo oder Extension","Air",null,null,null,null,1,"nix",null,"£","R"]
[null,{"$f":"Calculation!C252","v":1},{"$f":"HLOOKUP(Main!$C$2,Translating_products!$CN$4:$DD$216,Translating_products!CM30, FALSE)","v":100141},{"$f":"HLOOKUP(Main!$C$2,Translating_products!$DI$4:$DY$216,Translating_products!CM30, FALSE)","v":"IR Control Air"},{"$f":"IF(ISBLANK($Q$1),HLOOKUP(Main!$C$2,Translating_products!$EE$4:$EU$216,Translating_products!CM30,FALSE),HLOOKUP($Q$1,Translating_products!$EE$4:$EU$216,Translating_products!CM30,FALSE))","v":82.5},99,99,"belegt 1 Kanal auf MsGo oder Extension","Air",null,null,null,null,1,"nix",null,"£","R"]
[null,{"$f":"Calculation!C253","v":0},{"$f":"HLOOKUP(Main!$C$2,Translating_products!$CN$4:$DD$216,Translating_products!CM31, FALSE)","v":100142},{"$f":"HLOOKUP(Main!$C$2,Translating_products!$DI$4:$DY$216,Translating_products!CM31, FALSE)","v":"Smoke Detector Air"},{"$f":"IF(ISBLANK($Q$1),HLOOKUP(Main!$C$2,Translating_products!$EE$4:$EU$216,Translating_products!CM31,FALSE),HLOOKUP($Q$1,Translating_products!$EE$4:$EU$216,Translating_products!CM31,FALSE))","v":70},84,0,"belegt 1 Kanal auf MsGo oder Extension","Air",null,null,null,null,1,"nix",null,"£","R"]
[null,{"$f":"Calculation!C254","v":0},{"$f":"HLOOKUP(Main!$C$2,Translating_products!$CN$4:$DD$216,Translating_products!CM32, FALSE)","v":100149},{"$f":"HLOOKUP(Main!$C$2,Translating_products!$DI$4:$DY$216,Translating_products!CM32, FALSE)","v":"Temperature & Humidity Sesnor Air"},{"$f":"IF(ISBLANK($Q$1),HLOOKUP(Main!$C$2,Translating_products!$EE$4:$EU$216,Translating_products!CM32,FALSE),HLOOKUP($Q$1,Translating_products!$EE$4:$EU$216,Translating_products!CM32,FALSE))","v":62.5},75,0,"belegt 1 Kanal auf MsGo oder Extension","Air",null,null,null,null,1,"nix",null,"£","R"]
[null,{"$f":"Calculation!C241","v":0},{"$f":"HLOOKUP(Main!$C$2,Translating_products!$CN$4:$DD$216,Translating_products!CM33, FALSE)","v":100150},{"$f":"HLOOKUP(Main!$C$2,Translating_products!$DI$4:$DY$216,Translating_products!CM33, FALSE)","v":"Loxone Tool Kit by Weidmüller"},{"$f":"IF(ISBLANK($Q$1),HLOOKUP(Main!$C$2,Translating_products!$EE$4:$EU$216,Translating_products!CM33,FALSE),HLOOKUP($Q$1,Translating_products!$EE$4:$EU$216,Translating_products!CM33,FALSE))","v":280},336,0,"Stück-Auswahl Sonstiges","Sonstiges",null,null,null,null,null,"nix",null,"£","R"]
[null,{"$f":"Calculation!C255","v":0},{"$f":"HLOOKUP(Main!$C$2,Translating_products!$CN$4:$DD$216,Translating_products!CM34, FALSE)","v":100151},{"$f":"HLOOKUP(Main!$C$2,Translating_products!$DI$4:$DY$216,Translating_products!CM34, FALSE)","v":"Loxone Meter Reader IR Air"},{"$f":"IF(ISBLANK($Q$1),HLOOKUP(Main!$C$2,Translating_products!$EE$4:$EU$216,Translating_products!CM34,FALSE),HLOOKUP($Q$1,Translating_products!$EE$4:$EU$216,Translating_products!CM34,FALSE))","v":82.5},99,0,"belegt 1 Kanal auf MsGo oder Extension","Air",null,null,null,null,1,"nix",null,"£","R"]
[null,{"$f":"Calculation!C271+Calculation!C94+Calculation!C384","v":0},{"$f":"HLOOKUP(Main!$C$2,Translating_products!$CN$4:$DD$216,Translating_products!CM35, FALSE)","v":100153},{"$f":"HLOOKUP(Main!$C$2,Translating_products!$DI$4:$DY$216,Translating_products!CM35, FALSE)","v":"Nano IO Air"},{"$f":"IF(ISBLANK($Q$1),HLOOKUP(Main!$C$2,Translating_products!$EE$4:$EU$216,Translating_products!CM35,FALSE),HLOOKUP($Q$1,Translating_products!$EE$4:$EU$216,Translating_products!CM35,FALSE))","v":82.5},99,0,"belegt 1 Kanal auf MsGo oder Extension","Beschattung",null,null,null,null,1,"nix",null,"£","L"]
[null,{"$f":"Calculation!C256+Calculation!C413","v":0},{"$f":"HLOOKUP(Main!$C$2,Translating_products!$CN$4:$DD$216,Translating_products!CM36, FALSE)","v":100154},{"$f":"HLOOKUP(Main!$C$2,Translating_products!$DI$4:$DY$216,Translating_products!CM36, FALSE)","v":"Loxone Touch for Nano - White"},{"$f":"IF(ISBLANK($Q$1),HLOOKUP(Main!$C$2,Translating_products!$EE$4:$EU$216,Translating_products!CM36,FALSE),HLOOKUP($Q$1,Translating_products!$EE$4:$EU$216,Translating_products!CM36,FALSE))","v":35},42,0,null,"Air",null,null,null,null,null,"nix",null,"£","R"]
[null,{"$f":"Calculation!C257+Calculation!C414","v":0},{"$f":"HLOOKUP(Main!$C$2,Translating_products!$CN$4:$DD$216,Translating_products!CM37, FALSE)","v":100155},{"$f":"HLOOKUP(Main!$C$2,Translating_products!$DI$4:$DY$216,Translating_products!CM37, FALSE)","v":"Loxone Touch Air - White"},{"$f":"IF(ISBLANK($Q$1),HLOOKUP(Main!$C$2,Translating_products!$EE$4:$EU$216,Translating_products!CM37,FALSE),HLOOKUP($Q$1,Translating_products!$EE$4:$EU$216,Translating_products!CM37,FALSE))","v":80},{"$f":"E39*(1+$E$223*0.01)","v":96},0,"belegt 1 Kanal auf MsGo oder Extension","Air",null,null,null,null,1,"nix",null,"£","R"]
[null,{"$f":"Calculation!C445","v":0},{"$f":"HLOOKUP(Main!$C$2,Translating_products!$CN$4:$DD$216,Translating_products!CM38, FALSE)","v":100158},{"$f":"HLOOKUP(Main!$C$2,Translating_products!$DI$4:$DY$216,Translating_products!CM38, FALSE)","v":"Fröling Extension"},{"$f":"IF(ISBLANK($Q$1),HLOOKUP(Main!$C$2,Translating_products!$EE$4:$EU$216,Translating_products!CM38,FALSE),HLOOKUP($Q$1,Translating_products!$EE$4:$EU$216,Translating_products!CM38,FALSE))","v":155},186,0,"Sonstiges -kann man einfach kaufen","Sonstiges",null,null,null,null,null,0.03,null,"£","H"]
[null,{"$f":"Calculation!C258+Calculation!C148","v":5},{"$f":"HLOOKUP(Main!$C$2,Translating_products!$CN$4:$DD$216,Translating_products!CM39, FALSE)","v":100163},{"$f":"HLOOKUP(Main!$C$2,Translating_products!$DI$4:$DY$216,Translating_products!CM39, FALSE)","v":"Valve Actuator Air"},{"$f":"IF(ISBLANK($Q$1),HLOOKUP(Main!$C$2,Translating_products!$EE$4:$EU$216,Translating_products!CM39,FALSE),HLOOKUP($Q$1,Translating_products!$EE$4:$EU$216,Translating_products!CM39,FALSE))","v":65},78,390,"belegt 1 Kanal auf MsGo oder Extension","Air",null,null,null,null,1,"nix",null,"£","H"]
[null,{"$f":"Calculation!C132+Calculation!H134","v":0},{"$f":"HLOOKUP(Main!$C$2,Translating_products!$CN$4:$DD$216,Translating_products!CM40, FALSE)","v":100165},{"$f":"HLOOKUP(Main!$C$2,Translating_products!$DI$4:$DY$216,Translating_products!CM40, FALSE)","v":"Loxone Music Server 4 Zone"},{"$f":"IF(ISBLANK($Q$1),HLOOKUP(Main!$C$2,Translating_products!$EE$4:$EU$216,Translating_products!CM40,FALSE),HLOOKUP($Q$1,Translating_products!$EE$4:$EU$216,Translating_products!CM40,FALSE))","v":1050},1260,0,"Stück-Auswahl","Musik",null,null,null,null,null,"nix",null,"£","M"]
[null,{"$f":"Calculation!C133+Calculation!H135","v":1},{"$f":"HLOOKUP(Main!$C$2,Translating_products!$CN$4:$DD$216,Translating_products!CM41, FALSE)","v":100166},{"$f":"HLOOKUP(Main!$C$2,Translating_products!$DI$4:$DY$216,Translating_products!CM41, FALSE)","v":"Loxone Music Server 8 Zone"},{"$f":"IF(ISBLANK($Q$1),HLOOKUP(Main!$C$2,Translating_products!$EE$4:$EU$216,Translating_products!CM41,FALSE),HLOOKUP($Q$1,Translating_products!$EE$4:$EU$216,Translating_products!CM41,FALSE))","v":1550},1860,1860,"Stück-Auswahl","Musik",null,null,null,null,null,"nix",null,"£","M"]
[null,{"$f":"Calculation!C134+Calculation!H136","v":0},{"$f":"HLOOKUP(Main!$C$2,Translating_products!$CN$4:$DD$216,Translating_products!CM42, FALSE)","v":100167},{"$f":"HLOOKUP(Main!$C$2,Translating_products!$DI$4:$DY$216,Translating_products!CM42, FALSE)","v":"Loxone Music Server 12 Zone"},{"$f":"IF(ISBLANK($Q$1),HLOOKUP(Main!$C$2,Translating_products!$EE$4:$EU$216,Translating_products!CM42,FALSE),HLOOKUP($Q$1,Translating_products!$EE$4:$EU$216,Translating_products!CM42,FALSE))","v":1900},2280,0,"Stück-Auswahl","Musik",null,null,null,null,null,"nix",null,"£","M"]
[null,{"$f":"Calculation!C135+Calculation!H137","v":0},{"$f":"HLOOKUP(Main!$C$2,Translating_products!$CN$4:$DD$216,Translating_products!CM43, FALSE)","v":100168},{"$f":"HLOOKUP(Main!$C$2,Translating_products!$DI$4:$DY$216,Translating_products!CM43, FALSE)","v":"Loxone Music Server 16 Zone"},{"$f":"IF(ISBLANK($Q$1),HLOOKUP(Main!$C$2,Translating_products!$EE$4:$EU$216,Translating_products!CM43,FALSE),HLOOKUP($Q$1,Translating_products!$EE$4:$EU$216,Translating_products!CM43,FALSE))","v":2250},2700,0,"Stück-Auswahl","Musik",null,null,null,null,null,"nix",null,"£","M"]
[null,{"$f":"Calculation!C136+Calculation!H138","v":0},{"$f":"HLOOKUP(Main!$C$2,Translating_products!$CN$4:$DD$216,Translating_products!CM44, FALSE)","v":100169},{"$f":"HLOOKUP(Main!$C$2,Translating_products!$DI$4:$DY$216,Translating_products!CM44, FALSE)","v":"Loxone Music Server 20 Zone"},{"$f":"IF(ISBLANK($Q$1),HLOOKUP(Main!$C$2,Translating_products!$EE$4:$EU$216,Translating_products!CM44,FALSE),HLOOKUP($Q$1,Translating_products!$EE$4:$EU$216,Translating_products!CM44,FALSE))","v":2550},3060,0,"Stück-Auswahl","Musik",null,null,null,null,null,"nix",null,"£","M"]
[null,{"$f":"Calculation!C372","v":0},{"$f":"HLOOKUP(Main!$C$2,Translating_products!$CN$4:$DD$216,Translating_products!CM45, FALSE)","v":"NA"},{"$f":"HLOOKUP(Main!$C$2,Translating_products!$DI$4:$DY$216,Translating_products!CM45, FALSE)","v":"not available in this country"},{"$f":"IF(ISBLANK($Q$1),HLOOKUP(Main!$C$2,Translating_products!$EE$4:$EU$216,Translating_products!CM45,FALSE),HLOOKUP($Q$1,Translating_products!$EE$4:$EU$216,Translating_products!CM45,FALSE))","v":0},0,0,"Stück-Auswahl","Sonstiges",null,null,null,null,null,"nix",null,"£","R"]
[null,{"$f":"Calculation!C336","v":0},{"$f":"HLOOKUP(Main!$C$2,Translating_products!$CN$4:$DD$216,Translating_products!CM46, FALSE)","v":100178},{"$f":"HLOOKUP(Main!$C$2,Translating_products!$DI$4:$DY$216,Translating_products!CM46, FALSE)","v":"AquaStar Air 1.5\""},{"$f":"IF(ISBLANK($Q$1),HLOOKUP(Main!$C$2,Translating_products!$EE$4:$EU$216,Translating_products!CM46,FALSE),HLOOKUP($Q$1,Translating_products!$EE$4:$EU$216,Translating_products!CM46,FALSE))","v":1280},1536,0,"Stück-Auswahl","Sonstiges",null,null,null,null,null,"nix",null,"£","R"]
[null,{"$f":"Calculation!C337","v":0},{"$f":"HLOOKUP(Main!$C$2,Translating_products!$CN$4:$DD$216,Translating_products!CM47, FALSE)","v":100179},{"$f":"HLOOKUP(Main!$C$2,Translating_products!$DI$4:$DY$216,Translating_products!CM47, FALSE)","v":"AquaStar Air 2\""},{"$f":"IF(ISBLANK($Q$1),HLOOKUP(Main!$C$2,Translating_products!$EE$4:$EU$216,Translating_products!CM47,FALSE),HLOOKUP($Q$1,Translating_products!$EE$4:$EU$216,Translating_products!CM47,FALSE))","v":1370},1644,0,"Stück-Auswahl","Sonstiges",null,null,null,null,null,"nix",null,"£","R"]
[null,{"$f":"Calculation!C265+Calculation!C416","v":0},{"$f":"HLOOKUP(Main!$C$2,Translating_products!$CN$4:$DD$216,Translating_products!CM48, FALSE)","v":100180},{"$f":"HLOOKUP(Main!$C$2,Translating_products!$DI$4:$DY$216,Translating_products!CM48, FALSE)","v":"Loxone Touch Air - Anthracite"},{"$f":"IF(ISBLANK($Q$1),HLOOKUP(Main!$C$2,Translating_products!$EE$4:$EU$216,Translating_products!CM48,FALSE),HLOOKUP($Q$1,Translating_products!$EE$4:$EU$216,Translating_products!CM48,FALSE))","v":80},96,0,"belegt 1 Kanal auf MsGo oder Extension","Air",null,null,null,null,1,"nix",null,"£","R"]
[null,{"$f":"Calculation!C266+Calculation!C417","v":0},{"$f":"HLOOKUP(Main!$C$2,Translating_products!$CN$4:$DD$216,Translating_products!CM49, FALSE)","v":100181},{"$f":"HLOOKUP(Main!$C$2,Translating_products!$DI$4:$DY$216,Translating_products!CM49, FALSE)","v":"Loxone Touch for Nano - Anthracite"},{"$f":"IF(ISBLANK($Q$1),HLOOKUP(Main!$C$2,Translating_products!$EE$4:$EU$216,Translating_products!CM49,FALSE),HLOOKUP($Q$1,Translating_products!$EE$4:$EU$216,Translating_products!CM49,FALSE))","v":35},42,0,null,"Air",null,null,null,null,null,"nix",null,"£","R"]
[null,{"$f":"Calculation!C267+Calculation!C386","v":0},{"$f":"HLOOKUP(Main!$C$2,Translating_products!$CN$4:$DD$216,Translating_products!CM50, FALSE)","v":100182},{"$f":"HLOOKUP(Main!$C$2,Translating_products!$DI$4:$DY$216,Translating_products!CM50, FALSE)","v":"Tubular Motor SOLIDline Air 10Nm"},{"$f":"IF(ISBLANK($Q$1),HLOOKUP(Main!$C$2,Translating_products!$EE$4:$EU$216,Translating_products!CM50,FALSE),HLOOKUP($Q$1,Translating_products!$EE$4:$EU$216,Translating_products!CM50,FALSE))","v":150},180,0,"belegt 1 Kanal auf MsGo oder Extension","Air",null,null,null,null,1,"nix",null,"£","B"]
[null,{"$f":"Calculation!C268+Calculation!C387","v":0},{"$f":"HLOOKUP(Main!$C$2,Translating_products!$CN$4:$DD$216,Translating_products!CM51, FALSE)","v":100183},{"$f":"HLOOKUP(Main!$C$2,Translating_products!$DI$4:$DY$216,Translating_products!CM51, FALSE)","v":"Tubular Motor SOLIDline Air 20Nm"},{"$f":"IF(ISBLANK($Q$1),HLOOKUP(Main!$C$2,Translating_products!$EE$4:$EU$216,Translating_products!CM51,FALSE),HLOOKUP($Q$1,Translating_products!$EE$4:$EU$216,Translating_products!CM51,FALSE))","v":170},204,0,"belegt 1 Kanal auf MsGo oder Extension","Air",null,null,null,null,1,"nix",null,"£","B"]
[null,{"$f":"Calculation!C269+Calculation!C388","v":0},{"$f":"HLOOKUP(Main!$C$2,Translating_products!$CN$4:$DD$216,Translating_products!CM52, FALSE)","v":100184},{"$f":"HLOOKUP(Main!$C$2,Translating_products!$DI$4:$DY$216,Translating_products!CM52, FALSE)","v":"Tubular Motor SOLIDline Air 50Nm"},{"$f":"IF(ISBLANK($Q$1),HLOOKUP(Main!$C$2,Translating_products!$EE$4:$EU$216,Translating_products!CM52,FALSE),HLOOKUP($Q$1,Translating_products!$EE$4:$EU$216,Translating_products!CM52,FALSE))","v":195},234,0,"belegt 1 Kanal auf MsGo oder Extension","Air",null,null,null,null,1,"nix",null,"£","B"]
[null,{"$f":"Calculation!C338+Calculation!L454","v":2},{"$f":"HLOOKUP(Main!$C$2,Translating_products!$CN$4:$DD$216,Translating_products!CM53, FALSE)","v":200001},{"$f":"HLOOKUP(Main!$C$2,Translating_products!$DI$4:$DY$216,Translating_products!CM53, FALSE)","v":"24V Power Supply (1.3A)"},{"$f":"IF(ISBLANK($Q$1),HLOOKUP(Main!$C$2,Translating_products!$EE$4:$EU$216,Translating_products!CM53,FALSE),HLOOKUP($Q$1,Translating_products!$EE$4:$EU$216,Translating_products!CM53,FALSE))","v":33},39.6,79.2,"Auswählen & stehen auch mit anderen Produkten in Beziehung","Sonstiges",null,null,null,null,null,"nix",null,"£","R"]
[null,{"$f":"Calculation!C339+Calculation!L455","v":3},{"$f":"HLOOKUP(Main!$C$2,Translating_products!$CN$4:$DD$216,Translating_products!CM54, FALSE)","v":200002},{"$f":"HLOOKUP(Main!$C$2,Translating_products!$DI$4:$DY$216,Translating_products!CM54, FALSE)","v":"24V Power Supply (4.2A)"},{"$f":"IF(ISBLANK($Q$1),HLOOKUP(Main!$C$2,Translating_products!$EE$4:$EU$216,Translating_products!CM54,FALSE),HLOOKUP($Q$1,Translating_products!$EE$4:$EU$216,Translating_products!CM54,FALSE))","v":51},61.199999999999996,183.6,"Auswählen & stehen auch mit anderen Produkten in Beziehung","Sonstiges",null,null,null,null,null,"nix",null,"£","R"]
[null,0,{"$f":"HLOOKUP(Main!$C$2,Translating_products!$CN$4:$DD$216,Translating_products!CM55, FALSE)","v":0},{"$f":"HLOOKUP(Main!$C$2,Translating_products!$DI$4:$DY$216,Translating_products!CM55, FALSE)","v":"No longer sold"},{"$f":"IF(ISBLANK($Q$1),HLOOKUP(Main!$C$2,Translating_products!$EE$4:$EU$216,Translating_products!CM55,FALSE),HLOOKUP($Q$1,Translating_products!$EE$4:$EU$216,Translating_products!CM55,FALSE))","v":0},0,0,null,"Heizung",1,null,null,null,null,{"$f":"B57*0.005","v":0},null,"£","H"]
[null,0,{"$f":"HLOOKUP(Main!$C$2,Translating_products!$CN$4:$DD$216,Translating_products!CM56, FALSE)","v":0},{"$f":"HLOOKUP(Main!$C$2,Translating_products!$DI$4:$DY$216,Translating_products!CM56, FALSE)","v":"No longer sold"},{"$f":"IF(ISBLANK($Q$1),HLOOKUP(Main!$C$2,Translating_products!$EE$4:$EU$216,Translating_products!CM56,FALSE),HLOOKUP($Q$1,Translating_products!$EE$4:$EU$216,Translating_products!CM56,FALSE))","v":0},0,0,null,"Heizung",null,null,1,null,null,{"$f":"B58*0.27","v":0},null,"£","R"]
[null,0,{"$f":"HLOOKUP(Main!$C$2,Translating_products!$CN$4:$DD$216,Translating_products!CM57, FALSE)","v":0},{"$f":"HLOOKUP(Main!$C$2,Translating_products!$DI$4:$DY$216,Translating_products!CM57, FALSE)","v":"No longer sold"},{"$f":"IF(ISBLANK($Q$1),HLOOKUP(Main!$C$2,Translating_products!$EE$4:$EU$216,Translating_products!CM57,FALSE),HLOOKUP($Q$1,Translating_products!$EE$4:$EU$216,Translating_products!CM57,FALSE))","v":0},0,0,null,"Heizung",null,null,null,1,null,"nix",null,"£","R"]
[null,{"$f":"Calculation!C150+Calculation!C192","v":0},{"$f":"HLOOKUP(Main!$C$2,Translating_products!$CN$4:$DD$216,Translating_products!CM58, FALSE)","v":200006},{"$f":"HLOOKUP(Main!$C$2,Translating_products!$DI$4:$DY$216,Translating_products!CM58, FALSE)","v":"Indoor Temperature Sensor 0-10V"},{"$f":"IF(ISBLANK($Q$1),HLOOKUP(Main!$C$2,Translating_products!$EE$4:$EU$216,Translating_products!CM58,FALSE),HLOOKUP($Q$1,Translating_products!$EE$4:$EU$216,Translating_products!CM58,FALSE))","v":38},45.6,0,null,"Heizung",1,null,null,null,null,{"$f":"B60*0.005","v":0},null,"£","H"]
[null,{"$f":"Calculation!C340","v":0},{"$f":"HLOOKUP(Main!$C$2,Translating_products!$CN$4:$DD$216,Translating_products!CM59, FALSE)","v":"NA"},{"$f":"HLOOKUP(Main!$C$2,Translating_products!$DI$4:$DY$216,Translating_products!CM59, FALSE)","v":"not available in this country"},{"$f":"IF(ISBLANK($Q$1),HLOOKUP(Main!$C$2,Translating_products!$EE$4:$EU$216,Translating_products!CM59,FALSE),HLOOKUP($Q$1,Translating_products!$EE$4:$EU$216,Translating_products!CM59,FALSE))","v":0},0,0,"Sonstiges-Stück","Sonstiges",null,null,null,null,null,"nix",null,"£","R"]
[null,{"$f":"Calculation!C151+Calculation!C193","v":0},{"$f":"HLOOKUP(Main!$C$2,Translating_products!$CN$4:$DD$216,Translating_products!CM60, FALSE)","v":200010},{"$f":"HLOOKUP(Main!$C$2,Translating_products!$DI$4:$DY$216,Translating_products!CM60, FALSE)","v":"Indoor Temperature & Humidity Sensor 0-10V"},{"$f":"IF(ISBLANK($Q$1),HLOOKUP(Main!$C$2,Translating_products!$EE$4:$EU$216,Translating_products!CM60,FALSE),HLOOKUP($Q$1,Translating_products!$EE$4:$EU$216,Translating_products!CM60,FALSE))","v":80},96,0,null,"Heizung",2,null,null,null,null,{"$f":"B62*0.005","v":0},null,"£","H"]
[null,{"$f":"Calculation!C341","v":0},{"$f":"HLOOKUP(Main!$C$2,Translating_products!$CN$4:$DD$216,Translating_products!CM61, FALSE)","v":200012},{"$f":"HLOOKUP(Main!$C$2,Translating_products!$DI$4:$DY$216,Translating_products!CM61, FALSE)","v":"Valve Adaptor VA80"},{"$f":"IF(ISBLANK($Q$1),HLOOKUP(Main!$C$2,Translating_products!$EE$4:$EU$216,Translating_products!CM61,FALSE),HLOOKUP($Q$1,Translating_products!$EE$4:$EU$216,Translating_products!CM61,FALSE))","v":1.1000000000000001},1.32,0,"Sonstiges-Stück","Sonstiges",null,null,null,null,null,"nix",null,"£","H"]
[null,{"$f":"Calculation!C342","v":0},{"$f":"HLOOKUP(Main!$C$2,Translating_products!$CN$4:$DD$216,Translating_products!CM62, FALSE)","v":"NA"},{"$f":"HLOOKUP(Main!$C$2,Translating_products!$DI$4:$DY$216,Translating_products!CM62, FALSE)","v":"not available in this country"},{"$f":"IF(ISBLANK($Q$1),HLOOKUP(Main!$C$2,Translating_products!$EE$4:$EU$216,Translating_products!CM62,FALSE),HLOOKUP($Q$1,Translating_products!$EE$4:$EU$216,Translating_products!CM62,FALSE))","v":0},0,0,"Sonstiges-Stück","Sonstiges",null,null,null,null,null,"nix",null,"£","R"]
[null,{"$f":"Calculation!C152+Calculation!C194","v":0},{"$f":"HLOOKUP(Main!$C$2,Translating_products!$CN$4:$DD$216,Translating_products!CM63, FALSE)","v":200017},{"$f":"HLOOKUP(Main!$C$2,Translating_products!$DI$4:$DY$216,Translating_products!CM63, FALSE)","v":"Indoor Temperature, Humidty & CO2 Sensor 0-10V"},{"$f":"IF(ISBLANK($Q$1),HLOOKUP(Main!$C$2,Translating_products!$EE$4:$EU$216,Translating_products!CM63,FALSE),HLOOKUP($Q$1,Translating_products!$EE$4:$EU$216,Translating_products!CM63,FALSE))","v":210},252,0,null,"Heizung",3,null,null,null,null,{"$f":"B65*0.01","v":0},null,"£","H"]
[null,{"$f":"Calculation!C195","v":0},{"$f":"HLOOKUP(Main!$C$2,Translating_products!$CN$4:$DD$216,Translating_products!CM64, FALSE)","v":200018},{"$f":"HLOOKUP(Main!$C$2,Translating_products!$DI$4:$DY$216,Translating_products!CM64, FALSE)","v":"Rain Sensor (24V)"},{"$f":"IF(ISBLANK($Q$1),HLOOKUP(Main!$C$2,Translating_products!$EE$4:$EU$216,Translating_products!CM64,FALSE),HLOOKUP($Q$1,Translating_products!$EE$4:$EU$216,Translating_products!CM64,FALSE))","v":55},66,0,null,"Sensoren",null,1,null,null,null,{"$f":"0.06*B66","v":0},null,"£","B"]
[null,{"$f":"Calculation!C196","v":0},{"$f":"HLOOKUP(Main!$C$2,Translating_products!$CN$4:$DD$216,Translating_products!CM65, FALSE)","v":200031},{"$f":"HLOOKUP(Main!$C$2,Translating_products!$DI$4:$DY$216,Translating_products!CM65, FALSE)","v":"Outdoor Temperature & Humidy Sensor 0-10V"},{"$f":"IF(ISBLANK($Q$1),HLOOKUP(Main!$C$2,Translating_products!$EE$4:$EU$216,Translating_products!CM65,FALSE),HLOOKUP($Q$1,Translating_products!$EE$4:$EU$216,Translating_products!CM65,FALSE))","v":107.5},129,0,null,"Sensoren",2,null,null,null,null,{"$f":"B67*0.005","v":0},null,"£","H"]
[null,{"$f":"Calculation!C197","v":0},{"$f":"HLOOKUP(Main!$C$2,Translating_products!$CN$4:$DD$216,Translating_products!CM66, FALSE)","v":200032},{"$f":"HLOOKUP(Main!$C$2,Translating_products!$DI$4:$DY$216,Translating_products!CM66, FALSE)","v":"Brightness Sensor 0-10V"},{"$f":"IF(ISBLANK($Q$1),HLOOKUP(Main!$C$2,Translating_products!$EE$4:$EU$216,Translating_products!CM66,FALSE),HLOOKUP($Q$1,Translating_products!$EE$4:$EU$216,Translating_products!CM66,FALSE))","v":73},87.6,0,null,"Sensoren",1,null,null,null,null,{"$f":"0.005*B68","v":0},null,"£","B"]
[null,{"$f":"Calculation!C198","v":0},{"$f":"HLOOKUP(Main!$C$2,Translating_products!$CN$4:$DD$216,Translating_products!CM67, FALSE)","v":200033},{"$f":"HLOOKUP(Main!$C$2,Translating_products!$DI$4:$DY$216,Translating_products!CM67, FALSE)","v":"Wind Sensor (24V)"},{"$f":"IF(ISBLANK($Q$1),HLOOKUP(Main!$C$2,Translating_products!$EE$4:$EU$216,Translating_products!CM67,FALSE),HLOOKUP($Q$1,Translating_products!$EE$4:$EU$216,Translating_products!CM67,FALSE))","v":67.5},81,0,null,"Sensoren",null,1,null,null,null,"nix",null,"£","B"]
[null,{"$f":"Calculation!C199","v":0},{"$f":"HLOOKUP(Main!$C$2,Translating_products!$CN$4:$DD$216,Translating_products!CM68, FALSE)","v":200034},{"$f":"HLOOKUP(Main!$C$2,Translating_products!$DI$4:$DY$216,Translating_products!CM68, FALSE)","v":"Wind Sensor Mount"},{"$f":"IF(ISBLANK($Q$1),HLOOKUP(Main!$C$2,Translating_products!$EE$4:$EU$216,Translating_products!CM68,FALSE),HLOOKUP($Q$1,Translating_products!$EE$4:$EU$216,Translating_products!CM68,FALSE))","v":50},60,0,"Stück-Auswahl","Sensoren",null,null,null,null,null,"nix",null,"£","B"]
[null,{"$f":"Calculation!C343+Calculation!L456","v":1},{"$f":"HLOOKUP(Main!$C$2,Translating_products!$CN$4:$DD$216,Translating_products!CM69, FALSE)","v":200035},{"$f":"HLOOKUP(Main!$C$2,Translating_products!$DI$4:$DY$216,Translating_products!CM69, FALSE)","v":"24V Power Supply (10A)"},{"$f":"IF(ISBLANK($Q$1),HLOOKUP(Main!$C$2,Translating_products!$EE$4:$EU$216,Translating_products!CM69,FALSE),HLOOKUP($Q$1,Translating_products!$EE$4:$EU$216,Translating_products!CM69,FALSE))","v":120},{"$f":"E71*(1+$E$223*0.01)","v":144},144,"Stück-Auswahl","Sonstiges",null,null,null,null,null,"nix",null,"£","R"]
[null,{"$f":"Calculation!C344","v":0},{"$f":"HLOOKUP(Main!$C$2,Translating_products!$CN$4:$DD$216,Translating_products!CM71, FALSE)","v":0},{"$f":"IF(ISBLANK(Q1),HLOOKUP(Main!$C$2,Translating_products!$DI$4:$DY$216,Translating_products!CM71,FALSE),\"Not available in this country\")","v":"not sold"},{"$f":"IF(ISBLANK($Q$1),HLOOKUP(Main!$C$2,Translating_products!$EE$4:$EU$216,Translating_products!CM71,FALSE),HLOOKUP($Q$1,Translating_products!$EE$4:$EU$216,Translating_products!CM71,FALSE))","v":6.25},7.5,0,"Stück-Auswahl","Sonstiges",null,null,null,null,null,"nix",null,{"$f":"$Q$7","v":"£"},"R"]
[null,{"$f":"Calculation!C82","v":0},{"$f":"HLOOKUP(Main!$C$2,Translating_products!$CN$4:$DD$216,Translating_products!CM72, FALSE)","v":0},{"$f":"HLOOKUP(Main!$C$2,Translating_products!$DI$4:$DY$216,Translating_products!CM72, FALSE)","v":"not sold"},{"$f":"IF(ISBLANK($Q$1),HLOOKUP(Main!$C$2,Translating_products!$EE$4:$EU$216,Translating_products!CM72,FALSE),HLOOKUP($Q$1,Translating_products!$EE$4:$EU$216,Translating_products!CM72,FALSE))","v":72.5},87,0,"Stück-Auswahl Licht","Licht",null,null,null,null,null,{"$f":"14.4*5*B73","v":0},null,"£","L"]
[null,{"$f":"Calculation!C83","v":0},{"$f":"HLOOKUP(Main!$C$2,Translating_products!$CN$4:$DD$216,Translating_products!CM73, FALSE)","v":200043},{"$f":"HLOOKUP(Main!$C$2,Translating_products!$DI$4:$DY$216,Translating_products!CM73, FALSE)","v":"Warm White LED Strip 5m"},{"$f":"IF(ISBLANK($Q$1),HLOOKUP(Main!$C$2,Translating_products!$EE$4:$EU$216,Translating_products!CM73,FALSE),HLOOKUP($Q$1,Translating_products!$EE$4:$EU$216,Translating_products!CM73,FALSE))","v":72.5},87,0,"Stück-Auswahl Licht","Licht",null,null,null,null,null,{"$f":"14.4*5*B74","v":0},null,"£","L"]
[null,{"$f":"Calculation!C85","v":0},{"$f":"HLOOKUP(Main!$C$2,Translating_products!$CN$4:$DD$216,Translating_products!CM75, FALSE)","v":0},{"$f":"HLOOKUP(Main!$C$2,Translating_products!$DI$4:$DY$216,Translating_products!CM75, FALSE)","v":"not sold"},{"$f":"IF(ISBLANK($Q$1),HLOOKUP(Main!$C$2,Translating_products!$EE$4:$EU$216,Translating_products!CM75,FALSE),HLOOKUP($Q$1,Translating_products!$EE$4:$EU$216,Translating_products!CM75,FALSE))","v":77.5},93,0,"Stück-Auswahl Licht","Licht",null,null,null,null,null,{"$f":"14.4*5*B75","v":0},null,"£","L"]
[null,{"$f":"Calculation!C259","v":0},{"$f":"HLOOKUP(Main!$C$2,Translating_products!$CN$4:$DD$216,Translating_products!CM76, FALSE)","v":200048},{"$f":"HLOOKUP(Main!$C$2,Translating_products!$DI$4:$DY$216,Translating_products!CM76, FALSE)","v":"SMA Antenna 868 MHz"},{"$f":"IF(ISBLANK($Q$1),HLOOKUP(Main!$C$2,Translating_products!$EE$4:$EU$216,Translating_products!CM76,FALSE),HLOOKUP($Q$1,Translating_products!$EE$4:$EU$216,Translating_products!CM76,FALSE))","v":13.75},16.5,{"$f":"B76*F76","v":0},"Stück-Auswahl","Air",null,null,null,null,null,"nix",null,"£","R"]
[null,{"$f":"Calculation!C345+Calculation!C243","v":0},{"$f":"HLOOKUP(Main!$C$2,Translating_products!$CN$4:$DD$216,Translating_products!CM77, FALSE)","v":200049},{"$f":"HLOOKUP(Main!$C$2,Translating_products!$DI$4:$DY$216,Translating_products!CM77, FALSE)","v":"Coupling Relay"},{"$f":"IF(ISBLANK($Q$1),HLOOKUP(Main!$C$2,Translating_products!$EE$4:$EU$216,Translating_products!CM77,FALSE),HLOOKUP($Q$1,Translating_products!$EE$4:$EU$216,Translating_products!CM77,FALSE))","v":14.5},17.399999999999999,0,"Stück-Auswahl","Sonstiges",null,null,null,null,null,"nix",null,"£","R"]
[null,{"$f":"Calculation!C373","v":0},{"$f":"HLOOKUP(Main!$C$2,Translating_products!$CN$4:$DD$216,Translating_products!CM78, FALSE)","v":200050},{"$f":"HLOOKUP(Main!$C$2,Translating_products!$DI$4:$DY$216,Translating_products!CM78, FALSE)","v":"Loxone Sticker"},{"$f":"IF(ISBLANK($Q$1),HLOOKUP(Main!$C$2,Translating_products!$EE$4:$EU$216,Translating_products!CM78,FALSE),HLOOKUP($Q$1,Translating_products!$EE$4:$EU$216,Translating_products!CM78,FALSE))","v":3},3.5999999999999996,0,"Stück-Auswahl Sonstiges","Sonstiges",null,null,null,null,null,"nix",null,"£","R"]
[null,{"$f":"Calculation!C200","v":0},{"$f":"HLOOKUP(Main!$C$2,Translating_products!$CN$4:$DD$216,Translating_products!CM79, FALSE)","v":200054},{"$f":"HLOOKUP(Main!$C$2,Translating_products!$DI$4:$DY$216,Translating_products!CM79, FALSE)","v":"Ultrasonic Sensor 0-10V"},{"$f":"IF(ISBLANK($Q$1),HLOOKUP(Main!$C$2,Translating_products!$EE$4:$EU$216,Translating_products!CM79,FALSE),HLOOKUP($Q$1,Translating_products!$EE$4:$EU$216,Translating_products!CM79,FALSE))","v":192.5},231,0,null,"Sensoren",1,null,null,null,null,{"$f":"B79*0.06","v":0},null,"£","R"]
[null,0,{"$f":"HLOOKUP(Main!$C$2,Translating_products!$CN$4:$DD$216,Translating_products!CM80, FALSE)","v":0},{"$f":"IF(ISBLANK(Q1),HLOOKUP(Main!$C$2,Translating_products!$DI$4:$DY$216,Translating_products!CM80,FALSE),\"Not available in this country\")","v":"not sold"},{"$f":"IF(ISBLANK($Q$1),HLOOKUP(Main!$C$2,Translating_products!$EE$4:$EU$216,Translating_products!CM80,FALSE),HLOOKUP($Q$1,Translating_products!$EE$4:$EU$216,Translating_products!CM80,FALSE))","v":41.25},49.5,0,"enocean - extension 1 kanal","Taster",null,null,null,null,1,"nix",null,"£","R"]
[null,0,{"$f":"HLOOKUP(Main!$C$2,Translating_products!$CN$4:$DD$216,Translating_products!CM81, FALSE)","v":0},{"$f":"IF(ISBLANK(Q1),HLOOKUP(Main!$C$2,Translating_products!$DI$4:$DY$216,Translating_products!CM81,FALSE),\"Not available in this country\")","v":"not sold"},{"$f":"IF(ISBLANK($Q$1),HLOOKUP(Main!$C$2,Translating_products!$EE$4:$EU$216,Translating_products!CM81,FALSE),HLOOKUP($Q$1,Translating_products!$EE$4:$EU$216,Translating_products!CM81,FALSE))","v":68.75},82.5,0,"Stück-Auswahl","Air",null,null,null,null,1,"nix",null,"£","R"]
[null,{"$f":"Calculation!C86","v":0},{"$f":"HLOOKUP(Main!$C$2,Translating_products!$CN$4:$DD$216,Translating_products!CM82, FALSE)","v":200061},{"$f":"HLOOKUP(Main!$C$2,Translating_products!$DI$4:$DY$216,Translating_products!CM82, FALSE)","v":"Warm White LED Strip 5m IP65"},{"$f":"IF(ISBLANK($Q$1),HLOOKUP(Main!$C$2,Translating_products!$EE$4:$EU$216,Translating_products!CM82,FALSE),HLOOKUP($Q$1,Translating_products!$EE$4:$EU$216,Translating_products!CM82,FALSE))","v":77.5},93,0,"Stück-Auswahl","Licht",null,null,null,null,null,{"$f":"14.4*5*B82","v":0},null,"£","L"]
[null,{"$f":"Calculation!C165","v":0},{"$f":"HLOOKUP(Main!$C$2,Translating_products!$CN$4:$DD$216,Translating_products!CM83, FALSE)","v":200063},{"$f":"HLOOKUP(Main!$C$2,Translating_products!$DI$4:$DY$216,Translating_products!CM83, FALSE)","v":"iButton Reader 1-Wire"},{"$f":"IF(ISBLANK($Q$1),HLOOKUP(Main!$C$2,Translating_products!$EE$4:$EU$216,Translating_products!CM83,FALSE),HLOOKUP($Q$1,Translating_products!$EE$4:$EU$216,Translating_products!CM83,FALSE))","v":8.5},10.199999999999999,0,"belegt 1 kanal von 1 Wire (Temparatur und Zutritt)","Zutritt",null,null,null,null,1,"nix",null,"£","R"]
[null,{"$f":"Calculation!C166","v":0},{"$f":"HLOOKUP(Main!$C$2,Translating_products!$CN$4:$DD$216,Translating_products!CM84, FALSE)","v":200064},{"$f":"HLOOKUP(Main!$C$2,Translating_products!$DI$4:$DY$216,Translating_products!CM84, FALSE)","v":"iButton Electronic Key Fob"},{"$f":"IF(ISBLANK($Q$1),HLOOKUP(Main!$C$2,Translating_products!$EE$4:$EU$216,Translating_products!CM84,FALSE),HLOOKUP($Q$1,Translating_products!$EE$4:$EU$216,Translating_products!CM84,FALSE))","v":3.25},3.9,0,"Stück-Zutritt","Zutritt",null,null,null,null,null,"nix",null,"£","R"]
[null,0,{"$f":"HLOOKUP(Main!$C$2,Translating_products!$CN$4:$DD$216,Translating_products!CM85, FALSE)","v":0},{"$f":"IF(ISBLANK(Q1),HLOOKUP(Main!$C$2,Translating_products!$DI$4:$DY$216,Translating_products!CM85,FALSE),\"Not available in this country\")","v":"not sold"},{"$f":"IF(ISBLANK($Q$1),HLOOKUP(Main!$C$2,Translating_products!$EE$4:$EU$216,Translating_products!CM85,FALSE),HLOOKUP($Q$1,Translating_products!$EE$4:$EU$216,Translating_products!CM85,FALSE))","v":122.5},147,0,"belegt 1 kanal enocean extension","Air",null,null,null,null,1,"nix",null,"£","R"]
[null,{"$f":"Calculation!C167","v":0},{"$f":"HLOOKUP(Main!$C$2,Translating_products!$CN$4:$DD$216,Translating_products!CM86, FALSE)","v":200070},{"$f":"HLOOKUP(Main!$C$2,Translating_products!$DI$4:$DY$216,Translating_products!CM86, FALSE)","v":"iButton Electronic Key Fob (Magnetic)"},{"$f":"IF(ISBLANK($Q$1),HLOOKUP(Main!$C$2,Translating_products!$EE$4:$EU$216,Translating_products!CM86,FALSE),HLOOKUP($Q$1,Translating_products!$EE$4:$EU$216,Translating_products!CM86,FALSE))","v":7.5},9,0,"Stück-Auswahl Zutritt","Zutritt",null,null,null,null,null,"nix",null,"£","R"]
[null,{"$f":"Calculation!C153+Calculation!C201","v":0},{"$f":"HLOOKUP(Main!$C$2,Translating_products!$CN$4:$DD$216,Translating_products!CM87, FALSE)","v":200077},{"$f":"HLOOKUP(Main!$C$2,Translating_products!$DI$4:$DY$216,Translating_products!CM87, FALSE)","v":"Temperature Probe 1-Wire"},{"$f":"IF(ISBLANK($Q$1),HLOOKUP(Main!$C$2,Translating_products!$EE$4:$EU$216,Translating_products!CM87,FALSE),HLOOKUP($Q$1,Translating_products!$EE$4:$EU$216,Translating_products!CM87,FALSE))","v":10},12,0,"1-Wire Extension 1 Kanal","Sensoren",null,null,null,null,1,"nix",null,"£","R"]
[null,{"$f":"Calculation!C374","v":0},{"$f":"HLOOKUP(Main!$C$2,Translating_products!$CN$4:$DD$216,Translating_products!CM88, FALSE)","v":200086},{"$f":"HLOOKUP(Main!$C$2,Translating_products!$DI$4:$DY$216,Translating_products!CM88, FALSE)","v":"Fanshirt S"},{"$f":"IF(ISBLANK($Q$1),HLOOKUP(Main!$C$2,Translating_products!$EE$4:$EU$216,Translating_products!CM88,FALSE),HLOOKUP($Q$1,Translating_products!$EE$4:$EU$216,Translating_products!CM88,FALSE))","v":11.5},13.799999999999999,0,"Stück-Auswahl Sonstiges","Sonstiges",null,null,null,null,null,"nix",null,"£","R"]
[null,{"$f":"Calculation!C375","v":0},{"$f":"HLOOKUP(Main!$C$2,Translating_products!$CN$4:$DD$216,Translating_products!CM89, FALSE)","v":200087},{"$f":"HLOOKUP(Main!$C$2,Translating_products!$DI$4:$DY$216,Translating_products!CM89, FALSE)","v":"Fanshirt M"},{"$f":"IF(ISBLANK($Q$1),HLOOKUP(Main!$C$2,Translating_products!$EE$4:$EU$216,Translating_products!CM89,FALSE),HLOOKUP($Q$1,Translating_products!$EE$4:$EU$216,Translating_products!CM89,FALSE))","v":11.5},13.799999999999999,0,"Stück-Auswahl Sonstiges","Sonstiges",null,null,null,null,null,"nix",null,"£","R"]
[null,{"$f":"Calculation!C376","v":0},{"$f":"HLOOKUP(Main!$C$2,Translating_products!$CN$4:$DD$216,Translating_products!CM90, FALSE)","v":200088},{"$f":"HLOOKUP(Main!$C$2,Translating_products!$DI$4:$DY$216,Translating_products!CM90, FALSE)","v":"Fanshirt L"},{"$f":"IF(ISBLANK($Q$1),HLOOKUP(Main!$C$2,Translating_products!$EE$4:$EU$216,Translating_products!CM90,FALSE),HLOOKUP($Q$1,Translating_products!$EE$4:$EU$216,Translating_products!CM90,FALSE))","v":11.5},13.799999999999999,0,"Stück-Auswahl Sonstiges","Sonstiges",null,null,null,null,null,"nix",null,"£","R"]
[null,{"$f":"Calculation!C377","v":0},{"$f":"HLOOKUP(Main!$C$2,Translating_products!$CN$4:$DD$216,Translating_products!CM91, FALSE)","v":200089},{"$f":"HLOOKUP(Main!$C$2,Translating_products!$DI$4:$DY$216,Translating_products!CM91, FALSE)","v":"Fanshirt XL"},{"$f":"IF(ISBLANK($Q$1),HLOOKUP(Main!$C$2,Translating_products!$EE$4:$EU$216,Translating_products!CM91,FALSE),HLOOKUP($Q$1,Translating_products!$EE$4:$EU$216,Translating_products!CM91,FALSE))","v":11.5},13.799999999999999,0,"Stück-Auswahl Sonstiges","Sonstiges",null,null,null,null,null,"nix",null,"£","R"]
[null,{"$f":"Calculation!C378","v":0},{"$f":"HLOOKUP(Main!$C$2,Translating_products!$CN$4:$DD$216,Translating_products!CM92, FALSE)","v":200090},{"$f":"HLOOKUP(Main!$C$2,Translating_products!$DI$4:$DY$216,Translating_products!CM92, FALSE)","v":"Fanshirt XXL"},{"$f":"IF(ISBLANK($Q$1),HLOOKUP(Main!$C$2,Translating_products!$EE$4:$EU$216,Translating_products!CM92,FALSE),HLOOKUP($Q$1,Translating_products!$EE$4:$EU$216,Translating_products!CM92,FALSE))","v":11.5},13.799999999999999,0,"Stück-Auswahl Sonstiges","Sonstiges",null,null,null,null,null,"nix",null,"£","R"]
[null,{"$f":"Calculation!C87","v":0},{"$f":"HLOOKUP(Main!$C$2,Translating_products!$CN$4:$DD$216,Translating_products!CM93, FALSE)","v":200092},{"$f":"HLOOKUP(Main!$C$2,Translating_products!$DI$4:$DY$216,Translating_products!CM93, FALSE)","v":"Warm White LED Strip 5m IP68"},{"$f":"IF(ISBLANK($Q$1),HLOOKUP(Main!$C$2,Translating_products!$EE$4:$EU$216,Translating_products!CM93,FALSE),HLOOKUP($Q$1,Translating_products!$EE$4:$EU$216,Translating_products!CM93,FALSE))","v":82.5},99,0,"Stück-Auswahl","Licht",null,null,null,null,null,{"$f":"14.4*5*B93","v":0},null,"£","L"]
[null,{"$f":"Calculation!C170","v":0},{"$f":"HLOOKUP(Main!$C$2,Translating_products!$CN$4:$DD$216,Translating_products!CM94, FALSE)","v":200103},{"$f":"HLOOKUP(Main!$C$2,Translating_products!$DI$4:$DY$216,Translating_products!CM94, FALSE)","v":"Loxone Intercom"},{"$f":"IF(ISBLANK($Q$1),HLOOKUP(Main!$C$2,Translating_products!$EE$4:$EU$216,Translating_products!CM94,FALSE),HLOOKUP($Q$1,Translating_products!$EE$4:$EU$216,Translating_products!CM94,FALSE))","v":770},924,0,"Stück-Auswähl Zutritt","Zutritt",null,null,null,null,null,"nix",null,"£","R"]
[null,{"$f":"Calculation!C171","v":1},{"$f":"HLOOKUP(Main!$C$2,Translating_products!$CN$4:$DD$216,Translating_products!CM95, FALSE)","v":200094},{"$f":"HLOOKUP(Main!$C$2,Translating_products!$DI$4:$DY$216,Translating_products!CM95, FALSE)","v":"Flush-mounted box for the Loxone intercom"},{"$f":"IF(ISBLANK($Q$1),HLOOKUP(Main!$C$2,Translating_products!$EE$4:$EU$216,Translating_products!CM95,FALSE),HLOOKUP($Q$1,Translating_products!$EE$4:$EU$216,Translating_products!CM95,FALSE))","v":50},60,60,"Stück-Auswähl Zutritt","Zutritt",null,null,null,null,null,"nix",null,"£","R"]
[null,{"$f":"Calculation!C172","v":0},{"$f":"HLOOKUP(Main!$C$2,Translating_products!$CN$4:$DD$216,Translating_products!CM96, FALSE)","v":200095},{"$f":"HLOOKUP(Main!$C$2,Translating_products!$DI$4:$DY$216,Translating_products!CM96, FALSE)","v":"Surface Box for Loxone Intercom"},{"$f":"IF(ISBLANK($Q$1),HLOOKUP(Main!$C$2,Translating_products!$EE$4:$EU$216,Translating_products!CM96,FALSE),HLOOKUP($Q$1,Translating_products!$EE$4:$EU$216,Translating_products!CM96,FALSE))","v":92.5},111,0,"Stück-Auswähl Zutritt","Zutritt",null,null,null,null,null,"nix",null,"£","R"]
[null,{"$f":"Calculation!C137","v":14},{"$f":"HLOOKUP(Main!$C$2,Translating_products!$CN$4:$DD$216,Translating_products!CM97, FALSE)","v":200097},{"$f":"HLOOKUP(Main!$C$2,Translating_products!$DI$4:$DY$216,Translating_products!CM97, FALSE)","v":"Loxone Speaker"},{"$f":"IF(ISBLANK($Q$1),HLOOKUP(Main!$C$2,Translating_products!$EE$4:$EU$216,Translating_products!CM97,FALSE),HLOOKUP($Q$1,Translating_products!$EE$4:$EU$216,Translating_products!CM97,FALSE))","v":82.5},99,1386,"Stück-Auswahl Musik (1 Kanal am Musikserver)","Musik",null,null,null,null,1,"nix",null,"£","R"]
[null,{"$f":"Calculation!C88","v":0},{"$f":"HLOOKUP(Main!$C$2,Translating_products!$CN$4:$DD$216,Translating_products!CM98, FALSE)","v":200098},{"$f":"HLOOKUP(Main!$C$2,Translating_products!$DI$4:$DY$216,Translating_products!CM98, FALSE)","v":"RGBW LED Strip 5m IP20"},{"$f":"IF(ISBLANK($Q$1),HLOOKUP(Main!$C$2,Translating_products!$EE$4:$EU$216,Translating_products!CM98,FALSE),HLOOKUP($Q$1,Translating_products!$EE$4:$EU$216,Translating_products!CM98,FALSE))","v":100},120,0,"Stück-Auswahl Licht","Licht",null,null,null,null,null,{"$f":"B98*4.2","v":0},null,"£","L"]
[null,{"$f":"Calculation!C89","v":2},{"$f":"HLOOKUP(Main!$C$2,Translating_products!$CN$4:$DD$216,Translating_products!CM99, FALSE)","v":200099},{"$f":"HLOOKUP(Main!$C$2,Translating_products!$DI$4:$DY$216,Translating_products!CM99, FALSE)","v":"RGBW LED Strip 5m IP65"},{"$f":"IF(ISBLANK($Q$1),HLOOKUP(Main!$C$2,Translating_products!$EE$4:$EU$216,Translating_products!CM99,FALSE),HLOOKUP($Q$1,Translating_products!$EE$4:$EU$216,Translating_products!CM99,FALSE))","v":105},126,252,"Stück-Auswahl Licht","Licht",null,null,null,null,null,{"$f":"B99*4.2","v":8.4},null,"£","L"]
[null,{"$f":"Calculation!C90","v":0},{"$f":"HLOOKUP(Main!$C$2,Translating_products!$CN$4:$DD$216,Translating_products!CM100, FALSE)","v":200100},{"$f":"HLOOKUP(Main!$C$2,Translating_products!$DI$4:$DY$216,Translating_products!CM100, FALSE)","v":"RGBW LED Strip 5m IP68"},{"$f":"IF(ISBLANK($Q$1),HLOOKUP(Main!$C$2,Translating_products!$EE$4:$EU$216,Translating_products!CM100,FALSE),HLOOKUP($Q$1,Translating_products!$EE$4:$EU$216,Translating_products!CM100,FALSE))","v":110},132,0,"Stück-Auswahl Licht","Licht",null,null,null,null,null,0,null,"£","L"]
[null,0,{"$f":"HLOOKUP(Main!$C$2,Translating_products!$CN$4:$DD$216,Translating_products!CM101, FALSE)","v":0},{"$f":"HLOOKUP(Main!$C$2,Translating_products!$DI$4:$DY$216,Translating_products!CM101, FALSE)","v":"No longer sold"},{"$f":"IF(ISBLANK($Q$1),HLOOKUP(Main!$C$2,Translating_products!$EE$4:$EU$216,Translating_products!CM101,FALSE),HLOOKUP($Q$1,Translating_products!$EE$4:$EU$216,Translating_products!CM101,FALSE))","v":0},0,0,"Sensoren","Sensoren",null,1,null,null,null,"nix",null,"£","R"]
[null,0,{"$f":"HLOOKUP(Main!$C$2,Translating_products!$CN$4:$DD$216,Translating_products!CM102, FALSE)","v":"NA"},{"$f":"IF(ISBLANK(Q1),HLOOKUP(Main!$C$2,Translating_products!$DI$4:$DY$216,Translating_products!CM102,FALSE),\"Not available in this country\")","v":"not available in this country"},{"$f":"IF(ISBLANK($Q$1),HLOOKUP(Main!$C$2,Translating_products!$EE$4:$EU$216,Translating_products!CM102,FALSE),HLOOKUP($Q$1,Translating_products!$EE$4:$EU$216,Translating_products!CM102,FALSE))","v":0},0,0,"Stück-Auswahl","Sonstiges",null,null,null,null,null,"nix",null,"£","R"]
[null,{"$f":"Calculation!C154+Calculation!C203","v":0},{"$f":"HLOOKUP(Main!$C$2,Translating_products!$CN$4:$DD$216,Translating_products!CM103, FALSE)","v":200109},{"$f":"HLOOKUP(Main!$C$2,Translating_products!$DI$4:$DY$216,Translating_products!CM103, FALSE)","v":"Temperature Sensor Set 1-Wire"},{"$f":"IF(ISBLANK($Q$1),HLOOKUP(Main!$C$2,Translating_products!$EE$4:$EU$216,Translating_products!CM103,FALSE),HLOOKUP($Q$1,Translating_products!$EE$4:$EU$216,Translating_products!CM103,FALSE))","v":36.5},{"$f":"E103*(1+$E$223*0.01)","v":43.8},0,"5 Temparaturfühler (11 in der Auswahl = 3 mal Paket (15))","Heizung",null,null,null,null,5,"nix",null,"£","H"]
[null,{"$f":"Calculation!C138","v":2},{"$f":"HLOOKUP(Main!$C$2,Translating_products!$CN$4:$DD$216,Translating_products!CM104, FALSE)","v":200110},{"$f":"HLOOKUP(Main!$C$2,Translating_products!$DI$4:$DY$216,Translating_products!CM104, FALSE)","v":"Loxone 12 Channel Amplifier"},{"$f":"IF(ISBLANK($Q$1),HLOOKUP(Main!$C$2,Translating_products!$EE$4:$EU$216,Translating_products!CM104,FALSE),HLOOKUP($Q$1,Translating_products!$EE$4:$EU$216,Translating_products!CM104,FALSE))","v":547.5},657,1314,"Stück-Auswahl Musik","Musik",null,null,null,null,null,"nix",null,"£","M"]
[null,{"$f":"Calculation!C204","v":0},{"$f":"HLOOKUP(Main!$C$2,Translating_products!$CN$4:$DD$216,Translating_products!CM105, FALSE)","v":200112},{"$f":"HLOOKUP(Main!$C$2,Translating_products!$DI$4:$DY$216,Translating_products!CM105, FALSE)","v":"Outside Motion Sensor (24V)"},{"$f":"IF(ISBLANK($Q$1),HLOOKUP(Main!$C$2,Translating_products!$EE$4:$EU$216,Translating_products!CM105,FALSE),HLOOKUP($Q$1,Translating_products!$EE$4:$EU$216,Translating_products!CM105,FALSE))","v":92.5},111,0,null,"Sensoren",null,1,null,null,null,{"$f":"B105*0.0033","v":0},null,"£","R"]
[null,{"$f":"Calculation!C206","v":0},{"$f":"HLOOKUP(Main!$C$2,Translating_products!$CN$4:$DD$216,Translating_products!CM106, FALSE)","v":200113},{"$f":"HLOOKUP(Main!$C$2,Translating_products!$DI$4:$DY$216,Translating_products!CM106, FALSE)","v":"Window & Door Contact"},{"$f":"IF(ISBLANK($Q$1),HLOOKUP(Main!$C$2,Translating_products!$EE$4:$EU$216,Translating_products!CM106,FALSE),HLOOKUP($Q$1,Translating_products!$EE$4:$EU$216,Translating_products!CM106,FALSE))","v":9},10.799999999999999,0,null,"Sensoren",null,1,null,null,null,"nix",null,"£","R"]
[null,{"$f":"Calculation!C240","v":2},{"$f":"HLOOKUP(Main!$C$2,Translating_products!$CN$4:$DD$216,Translating_products!CM107, FALSE)","v":200129},{"$f":"HLOOKUP(Main!$C$2,Translating_products!$DI$4:$DY$216,Translating_products!CM107, FALSE)","v":"Loxone Cat 7 Cable"},{"$f":"IF(ISBLANK($Q$1),HLOOKUP(Main!$C$2,Translating_products!$EE$4:$EU$216,Translating_products!CM107,FALSE),HLOOKUP($Q$1,Translating_products!$EE$4:$EU$216,Translating_products!CM107,FALSE))","v":155},186,372,"Stück-Auswahl","Sonstiges",null,null,null,null,null,"nix",null,"£","R"]
[null,0,{"$f":"HLOOKUP(Main!$C$2,Translating_products!$CN$4:$DD$216,Translating_products!CM108, FALSE)","v":0},{"$f":"HLOOKUP(Main!$C$2,Translating_products!$DI$4:$DY$216,Translating_products!CM108, FALSE)","v":"not sold"},{"$f":"IF(ISBLANK($Q$1),HLOOKUP(Main!$C$2,Translating_products!$EE$4:$EU$216,Translating_products!CM108,FALSE),HLOOKUP($Q$1,Translating_products!$EE$4:$EU$216,Translating_products!CM108,FALSE))","v":95},114,0,"enocean - extension 1 kanal (für Licht und Temparatur)","Air",null,null,null,null,1,"nix",null,"£","R"]
[null,{"$f":"Calculation!C207","v":0},{"$f":"HLOOKUP(Main!$C$2,Translating_products!$CN$4:$DD$216,Translating_products!CM109, FALSE)","v":200136},{"$f":"HLOOKUP(Main!$C$2,Translating_products!$DI$4:$DY$216,Translating_products!CM109, FALSE)","v":"Temperature & Humidity Sensor For Saunas"},{"$f":"IF(ISBLANK($Q$1),HLOOKUP(Main!$C$2,Translating_products!$EE$4:$EU$216,Translating_products!CM109,FALSE),HLOOKUP($Q$1,Translating_products!$EE$4:$EU$216,Translating_products!CM109,FALSE))","v":137.5},165,0,null,"Sonstiges",2,null,null,null,null,{"$f":"0.01*B109","v":0},null,"£","R"]
[null,0,{"$f":"HLOOKUP(Main!$C$2,Translating_products!$CN$4:$DD$216,Translating_products!CM110, FALSE)","v":0},{"$f":"HLOOKUP(Main!$C$2,Translating_products!$DI$4:$DY$216,Translating_products!CM110, FALSE)","v":"not sold"},{"$f":"IF(ISBLANK($Q$1),HLOOKUP(Main!$C$2,Translating_products!$EE$4:$EU$216,Translating_products!CM110,FALSE),HLOOKUP($Q$1,Translating_products!$EE$4:$EU$216,Translating_products!CM110,FALSE))","v":65},78,0,"enocean - extension 1 kanal (für Licht und Temparatur)","Air",null,null,null,null,1,"nix",null,"£","R"]
[null,{"$f":"Calculation!C347+Calculation!L453","v":0},{"$f":"HLOOKUP(Main!$C$2,Translating_products!$CN$4:$DD$216,Translating_products!CM111, FALSE)","v":200143},{"$f":"HLOOKUP(Main!$C$2,Translating_products!$DI$4:$DY$216,Translating_products!CM111, FALSE)","v":"24V Power Supply (0.4A)"},{"$f":"IF(ISBLANK($Q$1),HLOOKUP(Main!$C$2,Translating_products!$EE$4:$EU$216,Translating_products!CM111,FALSE),HLOOKUP($Q$1,Translating_products!$EE$4:$EU$216,Translating_products!CM111,FALSE))","v":25},30,0,"Stück-Auswahl","Sonstiges",null,null,null,null,null,"nix",null,"£","R"]
[null,{"$f":"Calculation!C139","v":0},{"$f":"HLOOKUP(Main!$C$2,Translating_products!$CN$4:$DD$216,Translating_products!CM112, FALSE)","v":200150},{"$f":"HLOOKUP(Main!$C$2,Translating_products!$DI$4:$DY$216,Translating_products!CM112, FALSE)","v":"Loxone Speaker Back Box"},{"$f":"IF(ISBLANK($Q$1),HLOOKUP(Main!$C$2,Translating_products!$EE$4:$EU$216,Translating_products!CM112,FALSE),HLOOKUP($Q$1,Translating_products!$EE$4:$EU$216,Translating_products!CM112,FALSE))","v":40},48,0,"Stück-Auswahl Musik (wählt Kunde aus)","Musik",null,null,null,null,null,"nix",null,"£","M"]
[null,{"$f":"Calculation!C264","v":0},{"$f":"HLOOKUP(Main!$C$2,Translating_products!$CN$4:$DD$216,Translating_products!CM113, FALSE)","v":200151},{"$f":"HLOOKUP(Main!$C$2,Translating_products!$DI$4:$DY$216,Translating_products!CM113, FALSE)","v":"SMA Antenna 4dBi 868 MHz"},{"$f":"IF(ISBLANK($Q$1),HLOOKUP(Main!$C$2,Translating_products!$EE$4:$EU$216,Translating_products!CM113,FALSE),HLOOKUP($Q$1,Translating_products!$EE$4:$EU$216,Translating_products!CM113,FALSE))","v":19},22.8,0,"Stück-Auswahl Air","Air",null,null,null,null,null,"nix",null,"£","R"]
[null,{"$f":"Calculation!C142","v":0},{"$f":"HLOOKUP(Main!$C$2,Translating_products!$CN$4:$DD$216,Translating_products!CM114, FALSE)","v":200153},{"$f":"HLOOKUP(Main!$C$2,Translating_products!$DI$4:$DY$216,Translating_products!CM114, FALSE)","v":"Loxone Wall Speaker"},{"$f":"IF(ISBLANK($Q$1),HLOOKUP(Main!$C$2,Translating_products!$EE$4:$EU$216,Translating_products!CM114,FALSE),HLOOKUP($Q$1,Translating_products!$EE$4:$EU$216,Translating_products!CM114,FALSE))","v":100},120,0,"Stück-Auswahl Musik","Musik",null,null,null,null,null,"nix",null,"£","M"]
[null,{"$f":"Calculation!C208","v":0},{"$f":"HLOOKUP(Main!$C$2,Translating_products!$CN$4:$DD$216,Translating_products!CM115, FALSE)","v":200154},{"$f":"HLOOKUP(Main!$C$2,Translating_products!$DI$4:$DY$216,Translating_products!CM115, FALSE)","v":"Pressure Sensor 0-10V"},{"$f":"IF(ISBLANK($Q$1),HLOOKUP(Main!$C$2,Translating_products!$EE$4:$EU$216,Translating_products!CM115,FALSE),HLOOKUP($Q$1,Translating_products!$EE$4:$EU$216,Translating_products!CM115,FALSE))","v":95},114,0,null,"Sensoren",1,null,null,null,null,{"$f":"B115*0.01","v":0},null,"£","R"]
[null,{"$f":"Calculation!C209","v":0},{"$f":"HLOOKUP(Main!$C$2,Translating_products!$CN$4:$DD$216,Translating_products!CM116, FALSE)","v":200155},{"$f":"HLOOKUP(Main!$C$2,Translating_products!$DI$4:$DY$216,Translating_products!CM116, FALSE)","v":"Glass Break Sensor 24V"},{"$f":"IF(ISBLANK($Q$1),HLOOKUP(Main!$C$2,Translating_products!$EE$4:$EU$216,Translating_products!CM116,FALSE),HLOOKUP($Q$1,Translating_products!$EE$4:$EU$216,Translating_products!CM116,FALSE))","v":22.75},27.3,0,null,"Sensoren",null,1,null,null,null,"nix",null,"£","R"]
[null,{"$f":"Calculation!C348","v":0},{"$f":"HLOOKUP(Main!$C$2,Translating_products!$CN$4:$DD$216,Translating_products!CM117, FALSE)","v":200156},{"$f":"HLOOKUP(Main!$C$2,Translating_products!$DI$4:$DY$216,Translating_products!CM117, FALSE)","v":"Modbus Electricity Meter (Single Phase)"},{"$f":"IF(ISBLANK($Q$1),HLOOKUP(Main!$C$2,Translating_products!$EE$4:$EU$216,Translating_products!CM117,FALSE),HLOOKUP($Q$1,Translating_products!$EE$4:$EU$216,Translating_products!CM117,FALSE))","v":127.5},153,0,"selbst auswählen","Sonstiges",null,null,null,null,null,"nix",null,"£","R"]
[null,{"$f":"Calculation!C349","v":0},{"$f":"HLOOKUP(Main!$C$2,Translating_products!$CN$4:$DD$216,Translating_products!CM118, FALSE)","v":200157},{"$f":"HLOOKUP(Main!$C$2,Translating_products!$DI$4:$DY$216,Translating_products!CM118, FALSE)","v":"Modbus Electricity Meter (Three Phase)"},{"$f":"IF(ISBLANK($Q$1),HLOOKUP(Main!$C$2,Translating_products!$EE$4:$EU$216,Translating_products!CM118,FALSE),HLOOKUP($Q$1,Translating_products!$EE$4:$EU$216,Translating_products!CM118,FALSE))","v":227.5},273,0,"selbst auswählen","Sonstiges",null,null,null,null,null,"nix",null,"£","R"]
[null,{"$f":"Calculation!C379","v":0},{"$f":"HLOOKUP(Main!$C$2,Translating_products!$CN$4:$DD$216,Translating_products!CM119, FALSE)","v":"NA"},{"$f":"HLOOKUP(Main!$C$2,Translating_products!$DI$4:$DY$216,Translating_products!CM119, FALSE)","v":"not available in this country"},{"$f":"IF(ISBLANK($Q$1),HLOOKUP(Main!$C$2,Translating_products!$EE$4:$EU$216,Translating_products!CM119,FALSE),HLOOKUP($Q$1,Translating_products!$EE$4:$EU$216,Translating_products!CM119,FALSE))","v":0},0,0,"buggy im shop","Sonstiges",null,null,null,null,null,"nix",null,"£","R"]
[null,{"$f":"Calculation!C224","v":1},{"$f":"HLOOKUP(Main!$C$2,Translating_products!$CN$4:$DD$216,Translating_products!CM120, FALSE)","v":200168},{"$f":"HLOOKUP(Main!$C$2,Translating_products!$DI$4:$DY$216,Translating_products!CM120, FALSE)","v":"Push In Terminal Block 8x4 Interconnected (20 pcs)"},{"$f":"IF(ISBLANK($Q$1),HLOOKUP(Main!$C$2,Translating_products!$EE$4:$EU$216,Translating_products!CM120,FALSE),HLOOKUP($Q$1,Translating_products!$EE$4:$EU$216,Translating_products!CM120,FALSE))","v":178},213.6,213.6,"Stück-Auswahl Verteiler","Verteiler",null,null,null,null,null,"nix",null,"£","R"]
[null,{"$f":"Calculation!C225","v":1},{"$f":"HLOOKUP(Main!$C$2,Translating_products!$CN$4:$DD$216,Translating_products!CM121, FALSE)","v":200169},{"$f":"HLOOKUP(Main!$C$2,Translating_products!$DI$4:$DY$216,Translating_products!CM121, FALSE)","v":"Push In Terminal Block 8x4 Seperated (20pcs)"},{"$f":"IF(ISBLANK($Q$1),HLOOKUP(Main!$C$2,Translating_products!$EE$4:$EU$216,Translating_products!CM121,FALSE),HLOOKUP($Q$1,Translating_products!$EE$4:$EU$216,Translating_products!CM121,FALSE))","v":169},202.79999999999998,202.79999999999998,"Stück-Auswahl Verteiler","Verteiler",null,null,null,null,null,"nix",null,"£","R"]
[null,{"$f":"Calculation!C226","v":0},{"$f":"HLOOKUP(Main!$C$2,Translating_products!$CN$4:$DD$216,Translating_products!CM122, FALSE)","v":200170},{"$f":"HLOOKUP(Main!$C$2,Translating_products!$DI$4:$DY$216,Translating_products!CM122, FALSE)","v":"Partition for 8x4 Terminals (10pcs)"},{"$f":"IF(ISBLANK($Q$1),HLOOKUP(Main!$C$2,Translating_products!$EE$4:$EU$216,Translating_products!CM122,FALSE),HLOOKUP($Q$1,Translating_products!$EE$4:$EU$216,Translating_products!CM122,FALSE))","v":9},10.799999999999999,0,"Stück-Auswahl Verteiler","Verteiler",null,null,null,null,null,"nix",null,"£","R"]
[null,{"$f":"Calculation!C227","v":0},{"$f":"HLOOKUP(Main!$C$2,Translating_products!$CN$4:$DD$216,Translating_products!CM123, FALSE)","v":200171},{"$f":"HLOOKUP(Main!$C$2,Translating_products!$DI$4:$DY$216,Translating_products!CM123, FALSE)","v":"Label Holder 8 Levels (20 pcs)"},{"$f":"IF(ISBLANK($Q$1),HLOOKUP(Main!$C$2,Translating_products!$EE$4:$EU$216,Translating_products!CM123,FALSE),HLOOKUP($Q$1,Translating_products!$EE$4:$EU$216,Translating_products!CM123,FALSE))","v":23},27.599999999999998,0,"Stück-Auswahl Verteiler","Verteiler",null,null,null,null,null,"nix",null,"£","R"]
[null,{"$f":"Calculation!C228","v":0},{"$f":"HLOOKUP(Main!$C$2,Translating_products!$CN$4:$DD$216,Translating_products!CM124, FALSE)","v":200172},{"$f":"HLOOKUP(Main!$C$2,Translating_products!$DI$4:$DY$216,Translating_products!CM124, FALSE)","v":"End Plate for 8x4 Terminals (10 pcs)"},{"$f":"IF(ISBLANK($Q$1),HLOOKUP(Main!$C$2,Translating_products!$EE$4:$EU$216,Translating_products!CM124,FALSE),HLOOKUP($Q$1,Translating_products!$EE$4:$EU$216,Translating_products!CM124,FALSE))","v":4.5},5.3999999999999995,0,"Stück-Auswahl Verteiler","Verteiler",null,null,null,null,null,"nix",null,"£","R"]
[null,{"$f":"Calculation!C229","v":0},{"$f":"HLOOKUP(Main!$C$2,Translating_products!$CN$4:$DD$216,Translating_products!CM125, FALSE)","v":200173},{"$f":"HLOOKUP(Main!$C$2,Translating_products!$DI$4:$DY$216,Translating_products!CM125, FALSE)","v":"Push In Terminal Block 3+Earth (50 pcs)"},{"$f":"IF(ISBLANK($Q$1),HLOOKUP(Main!$C$2,Translating_products!$EE$4:$EU$216,Translating_products!CM125,FALSE),HLOOKUP($Q$1,Translating_products!$EE$4:$EU$216,Translating_products!CM125,FALSE))","v":174},208.79999999999998,0,"Stück-Auswahl Verteiler","Verteiler",null,null,null,null,null,"nix",null,"£","B"]
[null,{"$f":"Calculation!C230","v":0},{"$f":"HLOOKUP(Main!$C$2,Translating_products!$CN$4:$DD$216,Translating_products!CM126, FALSE)","v":200174},{"$f":"HLOOKUP(Main!$C$2,Translating_products!$DI$4:$DY$216,Translating_products!CM126, FALSE)","v":"End Plate for 3+Earth Terminals (20 pcs)"},{"$f":"IF(ISBLANK($Q$1),HLOOKUP(Main!$C$2,Translating_products!$EE$4:$EU$216,Translating_products!CM126,FALSE),HLOOKUP($Q$1,Translating_products!$EE$4:$EU$216,Translating_products!CM126,FALSE))","v":9},10.799999999999999,0,"Stück-Auswahl Verteiler","Verteiler",null,null,null,null,null,"nix",null,"£","R"]
[null,{"$f":"Calculation!C231","v":0},{"$f":"HLOOKUP(Main!$C$2,Translating_products!$CN$4:$DD$216,Translating_products!CM127, FALSE)","v":200175},{"$f":"HLOOKUP(Main!$C$2,Translating_products!$DI$4:$DY$216,Translating_products!CM127, FALSE)","v":"Push In Terminal Block Twin+Earth (50 pcs)"},{"$f":"IF(ISBLANK($Q$1),HLOOKUP(Main!$C$2,Translating_products!$EE$4:$EU$216,Translating_products!CM127,FALSE),HLOOKUP($Q$1,Translating_products!$EE$4:$EU$216,Translating_products!CM127,FALSE))","v":92.5},111,0,"Stück-Auswahl Verteiler","Verteiler",null,null,null,null,null,"nix",null,"£","R"]
[null,{"$f":"Calculation!C232","v":0},{"$f":"HLOOKUP(Main!$C$2,Translating_products!$CN$4:$DD$216,Translating_products!CM128, FALSE)","v":200176},{"$f":"HLOOKUP(Main!$C$2,Translating_products!$DI$4:$DY$216,Translating_products!CM128, FALSE)","v":"End Plate for Twin+Earth Terminals (20 pcs)"},{"$f":"IF(ISBLANK($Q$1),HLOOKUP(Main!$C$2,Translating_products!$EE$4:$EU$216,Translating_products!CM128,FALSE),HLOOKUP($Q$1,Translating_products!$EE$4:$EU$216,Translating_products!CM128,FALSE))","v":6.5},7.8,0,"Stück-Auswahl Verteiler","Verteiler",null,null,null,null,null,"nix",null,"£","R"]
[null,{"$f":"Calculation!C233","v":0},{"$f":"HLOOKUP(Main!$C$2,Translating_products!$CN$4:$DD$216,Translating_products!CM129, FALSE)","v":200177},{"$f":"HLOOKUP(Main!$C$2,Translating_products!$DI$4:$DY$216,Translating_products!CM129, FALSE)","v":"End Bracket (20 pcs)"},{"$f":"IF(ISBLANK($Q$1),HLOOKUP(Main!$C$2,Translating_products!$EE$4:$EU$216,Translating_products!CM129,FALSE),HLOOKUP($Q$1,Translating_products!$EE$4:$EU$216,Translating_products!CM129,FALSE))","v":6.5},7.8,0,"Stück-Auswahl Verteiler","Verteiler",null,null,null,null,null,"nix",null,"£","R"]
[null,{"$f":"Calculation!C234","v":0},{"$f":"HLOOKUP(Main!$C$2,Translating_products!$CN$4:$DD$216,Translating_products!CM130, FALSE)","v":200178},{"$f":"HLOOKUP(Main!$C$2,Translating_products!$DI$4:$DY$216,Translating_products!CM130, FALSE)","v":"Push in Fused Terminal Block (25 pcs)"},{"$f":"IF(ISBLANK($Q$1),HLOOKUP(Main!$C$2,Translating_products!$EE$4:$EU$216,Translating_products!CM130,FALSE),HLOOKUP($Q$1,Translating_products!$EE$4:$EU$216,Translating_products!CM130,FALSE))","v":110},132,0,"Stück-Auswahl Verteiler","Verteiler",null,null,null,null,null,"nix",null,"£","R"]
[null,{"$f":"Calculation!C235","v":0},{"$f":"HLOOKUP(Main!$C$2,Translating_products!$CN$4:$DD$216,Translating_products!CM131, FALSE)","v":200179},{"$f":"HLOOKUP(Main!$C$2,Translating_products!$DI$4:$DY$216,Translating_products!CM131, FALSE)","v":"End Plate For Fused Terminals (50 pcs)"},{"$f":"IF(ISBLANK($Q$1),HLOOKUP(Main!$C$2,Translating_products!$EE$4:$EU$216,Translating_products!CM131,FALSE),HLOOKUP($Q$1,Translating_products!$EE$4:$EU$216,Translating_products!CM131,FALSE))","v":14.5},17.399999999999999,0,"Stück-Auswahl Verteiler","Verteiler",null,null,null,null,null,"nix",null,"£","R"]
[null,{"$f":"Calculation!C236","v":0},{"$f":"HLOOKUP(Main!$C$2,Translating_products!$CN$4:$DD$216,Translating_products!CM132, FALSE)","v":200180},{"$f":"HLOOKUP(Main!$C$2,Translating_products!$DI$4:$DY$216,Translating_products!CM132, FALSE)","v":"Cross Connector For Fused Terminals (10 pcs)"},{"$f":"IF(ISBLANK($Q$1),HLOOKUP(Main!$C$2,Translating_products!$EE$4:$EU$216,Translating_products!CM132,FALSE),HLOOKUP($Q$1,Translating_products!$EE$4:$EU$216,Translating_products!CM132,FALSE))","v":55},66,0,"Stück-Auswahl Verteiler","Verteiler",null,null,null,null,null,"nix",null,"£","R"]
[null,{"$f":"Calculation!C237","v":0},{"$f":"HLOOKUP(Main!$C$2,Translating_products!$CN$4:$DD$216,Translating_products!CM133, FALSE)","v":200181},{"$f":"HLOOKUP(Main!$C$2,Translating_products!$DI$4:$DY$216,Translating_products!CM133, FALSE)","v":"Blade Fuse 2A (100 pcs)"},{"$f":"IF(ISBLANK($Q$1),HLOOKUP(Main!$C$2,Translating_products!$EE$4:$EU$216,Translating_products!CM133,FALSE),HLOOKUP($Q$1,Translating_products!$EE$4:$EU$216,Translating_products!CM133,FALSE))","v":8.25},9.9,{"$f":"B133*F133","v":0},"Stück-Auswahl Verteiler","Verteiler",null,null,null,null,null,"nix",null,"£","R"]
[null,{"$f":"Calculation!C238","v":0},{"$f":"HLOOKUP(Main!$C$2,Translating_products!$CN$4:$DD$216,Translating_products!CM134, FALSE)","v":200183},{"$f":"HLOOKUP(Main!$C$2,Translating_products!$DI$4:$DY$216,Translating_products!CM134, FALSE)","v":"Blade Fuse 5A (100 pcs)"},{"$f":"IF(ISBLANK($Q$1),HLOOKUP(Main!$C$2,Translating_products!$EE$4:$EU$216,Translating_products!CM134,FALSE),HLOOKUP($Q$1,Translating_products!$EE$4:$EU$216,Translating_products!CM134,FALSE))","v":8.25},9.9,0,"Stück-Auswahl Verteiler","Verteiler",null,null,null,null,null,"nix",null,"£","R"]
[null,{"$f":"Calculation!C239","v":0},{"$f":"HLOOKUP(Main!$C$2,Translating_products!$CN$4:$DD$216,Translating_products!CM135, FALSE)","v":200184},{"$f":"HLOOKUP(Main!$C$2,Translating_products!$DI$4:$DY$216,Translating_products!CM135, FALSE)","v":"Blade Fuse 10A (100 pcs)"},{"$f":"IF(ISBLANK($Q$1),HLOOKUP(Main!$C$2,Translating_products!$EE$4:$EU$216,Translating_products!CM135,FALSE),HLOOKUP($Q$1,Translating_products!$EE$4:$EU$216,Translating_products!CM135,FALSE))","v":8.25},{"$f":"E135*(1+$E$223*0.01)","v":9.9},0,"Stück-Auswahl Verteiler","Verteiler",null,null,null,null,null,"nix",null,{"$f":"$Q$7","v":"£"},"R"]
[null,{"$f":"Calculation!C380","v":0},{"$f":"HLOOKUP(Main!$C$2,Translating_products!$CN$4:$DD$216,Translating_products!CM136, FALSE)","v":200186},{"$f":"HLOOKUP(Main!$C$2,Translating_products!$DI$4:$DY$216,Translating_products!CM136, FALSE)","v":"Loxone Brochure (25 pcs)"},{"$f":"IF(ISBLANK($Q$1),HLOOKUP(Main!$C$2,Translating_products!$EE$4:$EU$216,Translating_products!CM136,FALSE),HLOOKUP($Q$1,Translating_products!$EE$4:$EU$216,Translating_products!CM136,FALSE))","v":0.5},0.6,0,"Stück-Auswahl Sonstiges","Sonstiges",null,null,null,null,null,"nix",null,"£","R"]
[null,{"$f":"Calculation!C173","v":0},{"$f":"HLOOKUP(Main!$C$2,Translating_products!$CN$4:$DD$216,Translating_products!CM137, FALSE)","v":200191},{"$f":"HLOOKUP(Main!$C$2,Translating_products!$DI$4:$DY$216,Translating_products!CM137, FALSE)","v":"iButton Reader 1-Wire Outdoor"},{"$f":"IF(ISBLANK($Q$1),HLOOKUP(Main!$C$2,Translating_products!$EE$4:$EU$216,Translating_products!CM137,FALSE),HLOOKUP($Q$1,Translating_products!$EE$4:$EU$216,Translating_products!CM137,FALSE))","v":25},30,0,"belegt 1 kanal von 1 Wire (Zutritt)","Zutritt",null,null,null,null,1,"nix",null,"£","R"]
[null,0,{"$f":"HLOOKUP(Main!$C$2,Translating_products!$CN$4:$DD$216,Translating_products!CM138, FALSE)","v":0},{"$f":"HLOOKUP(Main!$C$2,Translating_products!$DI$4:$DY$216,Translating_products!CM138, FALSE)","v":"No longer sold"},{"$f":"IF(ISBLANK($Q$1),HLOOKUP(Main!$C$2,Translating_products!$EE$4:$EU$216,Translating_products!CM138,FALSE),HLOOKUP($Q$1,Translating_products!$EE$4:$EU$216,Translating_products!CM138,FALSE))","v":0},0,0,"Stück-Auswahl Sonstiges","Sonstiges",null,null,null,null,null,"nix",null,"£","R"]
[null,{"$f":"Calculation!C141","v":0},{"$f":"HLOOKUP(Main!$C$2,Translating_products!$CN$4:$DD$216,Translating_products!CM139, FALSE)","v":200202},{"$f":"HLOOKUP(Main!$C$2,Translating_products!$DI$4:$DY$216,Translating_products!CM139, FALSE)","v":"Loxone Speaker Back Box For Suspended Ceilings"},{"$f":"IF(ISBLANK($Q$1),HLOOKUP(Main!$C$2,Translating_products!$EE$4:$EU$216,Translating_products!CM139,FALSE),HLOOKUP($Q$1,Translating_products!$EE$4:$EU$216,Translating_products!CM139,FALSE))","v":33},39.6,0,"Stück-Auswahl Musik","Musik",null,null,null,null,null,"nix",null,"£","M"]
[null,{"$f":"Calculation!C91","v":0},{"$f":"HLOOKUP(Main!$C$2,Translating_products!$CN$4:$DD$216,Translating_products!CM140, FALSE)","v":200280},{"$f":"HLOOKUP(Main!$C$2,Translating_products!$DI$4:$DY$216,Translating_products!CM140, FALSE)","v":"LED Strip Accessories Set - RGBW"},{"$f":"IF(ISBLANK($Q$1),HLOOKUP(Main!$C$2,Translating_products!$EE$4:$EU$216,Translating_products!CM140,FALSE),HLOOKUP($Q$1,Translating_products!$EE$4:$EU$216,Translating_products!CM140,FALSE))","v":15.5},18.599999999999998,0,null,null,null,null,null,null,null,null,null,"£","L"]
[null,{"$f":"Calculation!C92","v":0},{"$f":"HLOOKUP(Main!$C$2,Translating_products!$CN$4:$DD$216,Translating_products!CM141, FALSE)","v":200278},{"$f":"HLOOKUP(Main!$C$2,Translating_products!$DI$4:$DY$216,Translating_products!CM141, FALSE)","v":"LED Strip Accessories Set - WW"},{"$f":"IF(ISBLANK($Q$1),HLOOKUP(Main!$C$2,Translating_products!$EE$4:$EU$216,Translating_products!CM141,FALSE),HLOOKUP($Q$1,Translating_products!$EE$4:$EU$216,Translating_products!CM141,FALSE))","v":11},13.2,0,null,null,null,null,null,null,null,null,null,"£","L"]
[null,{"$f":"Calculation!C352","v":0},{"$f":"IF(ISBLANK($Q$1), HLOOKUP(Main!$C$2,Translating_products!$CN$4:$DD$216,Translating_products!CM142, FALSE), HLOOKUP($Q$1,Translating_products!$CN$4:$DD$216,Translating_products!CM142, FALSE))","v":200161},{"$f":"HLOOKUP(Main!$C$2,Translating_products!$DI$4:$DY$216,Translating_products!CM142, FALSE)","v":"Power Adapter 24V 6.25A"},{"$f":"IF(ISBLANK($Q$1),HLOOKUP(Main!$C$2,Translating_products!$EE$4:$EU$216,Translating_products!CM142,FALSE),HLOOKUP($Q$1,Translating_products!$EE$4:$EU$216,Translating_products!CM142,FALSE))","v":60},72,0,null,null,null,null,null,null,null,null,null,"£","R"]
[null,{"$f":"Calculation!C140","v":0},{"$f":"HLOOKUP(Main!$C$2,Translating_products!$CN$4:$DD$216,Translating_products!CM143, FALSE)","v":0},{"$f":"HLOOKUP(Main!$C$2,Translating_products!$DI$4:$DY$216,Translating_products!CM143, FALSE)","v":"not sold"},{"$f":"IF(ISBLANK($Q$1),HLOOKUP(Main!$C$2,Translating_products!$EE$4:$EU$216,Translating_products!CM143,FALSE),HLOOKUP($Q$1,Translating_products!$EE$4:$EU$216,Translating_products!CM143,FALSE))","v":80},96,0,null,null,null,null,null,null,null,null,null,"£","M"]
[null,{"$f":"Calculation!C174","v":1},{"$f":"IF(ISBLANK($Q$1),HLOOKUP(Main!$C$2,Translating_products!$CN$4:$DD$216,Translating_products!CM144,FALSE),HLOOKUP($Q$1,Translating_products!$CN$4:$DD$216,Translating_products!CM144,FALSE))","v":200274},{"$f":"HLOOKUP(Main!$C$2,Translating_products!$DI$4:$DY$216,Translating_products!CM144, FALSE)","v":"Loxone Intercom XL"},{"$f":"IF(ISBLANK($Q$1),HLOOKUP(Main!$C$2,Translating_products!$EE$4:$EU$216,Translating_products!CM144,FALSE),HLOOKUP($Q$1,Translating_products!$EE$4:$EU$216,Translating_products!CM144,FALSE))","v":1050},1260,{"$f":"B144*F144","v":1260},"Stück-Auswähl Zutritt","Zutritt",null,null,null,null,null,"nix",null,"£","R"]
[null,{"$f":"Calculation!C270","v":0},{"$f":"HLOOKUP(Main!$C$2,Translating_products!$CN$4:$DD$216,Translating_products!CM145, FALSE)","v":100190},{"$f":"HLOOKUP(Main!$C$2,Translating_products!$DI$4:$DY$216,Translating_products!CM145, FALSE)","v":"Motion Sensor Air - White"},{"$f":"IF(ISBLANK($Q$1),HLOOKUP(Main!$C$2,Translating_products!$EE$4:$EU$216,Translating_products!CM145,FALSE),HLOOKUP($Q$1,Translating_products!$EE$4:$EU$216,Translating_products!CM145,FALSE))","v":75},90,{"$f":"B145*F145","v":0},null,null,null,null,null,null,1,null,null,"£","R"]
[null,{"$f":"Calculation!C354","v":0},{"$f":"HLOOKUP(Main!$C$2,Translating_products!$CN$4:$DD$216,Translating_products!CM146, FALSE)","v":200281},{"$f":"HLOOKUP(Main!$C$2,Translating_products!$DI$4:$DY$216,Translating_products!CM146, FALSE)","v":"NFC Smart Tags"},{"$f":"IF(ISBLANK($Q$1),HLOOKUP(Main!$C$2,Translating_products!$EE$4:$EU$216,Translating_products!CM146,FALSE),HLOOKUP($Q$1,Translating_products!$EE$4:$EU$216,Translating_products!CM146,FALSE))","v":21},25.2,{"$f":"B146*F146","v":0},null,null,null,null,null,null,null,null,null,"£","R"]
[null,{"$f":"Calculation!C95","v":0},{"$f":"HLOOKUP(Main!$C$2,Translating_products!$CN$4:$DD$216,Translating_products!CM147, FALSE)","v":100204},{"$f":"HLOOKUP(Main!$C$2,Translating_products!$DI$4:$DY$216,Translating_products!CM147, FALSE)","v":"LED Spot RGBW - White"},{"$f":"IF(ISBLANK($Q$1),HLOOKUP(Main!$C$2,Translating_products!$EE$4:$EU$216,Translating_products!CM147,FALSE),HLOOKUP($Q$1,Translating_products!$EE$4:$EU$216,Translating_products!CM147,FALSE))","v":40},48,{"$f":"B147*F147","v":0},null,null,null,null,null,null,null,null,null,"£","L"]
[null,{"$f":"Calculation!C96","v":0},{"$f":"HLOOKUP(Main!$C$2,Translating_products!$CN$4:$DD$216,Translating_products!CM148, FALSE)","v":100203},{"$f":"HLOOKUP(Main!$C$2,Translating_products!$DI$4:$DY$216,Translating_products!CM148, FALSE)","v":"LED Spot WW - White"},{"$f":"IF(ISBLANK($Q$1),HLOOKUP(Main!$C$2,Translating_products!$EE$4:$EU$216,Translating_products!CM148,FALSE),HLOOKUP($Q$1,Translating_products!$EE$4:$EU$216,Translating_products!CM148,FALSE))","v":27.5},33,0,null,null,null,null,null,null,null,null,null,"£","L"]
[null,{"$f":"Calculation!C355","v":0},{"$f":"HLOOKUP(Main!$C$2,Translating_products!$CN$4:$DD$216,Translating_products!CM149, FALSE)","v":200294},{"$f":"HLOOKUP(Main!$C$2,Translating_products!$DI$4:$DY$216,Translating_products!CM149, FALSE)","v":"Electric Car Charging Cable Type 2"},{"$f":"IF(ISBLANK($Q$1),HLOOKUP(Main!$C$2,Translating_products!$EE$4:$EU$216,Translating_products!CM149,FALSE),HLOOKUP($Q$1,Translating_products!$EE$4:$EU$216,Translating_products!CM149,FALSE))","v":290},348,0,null,null,null,null,null,null,null,null,null,"£","R"]
[null,{"$f":"Calculation!C298+Calculation!C45+Calculation!C446","v":1},{"$f":"HLOOKUP(Main!$C$2,Translating_products!$CN$4:$DD$216,Translating_products!CM150, FALSE)","v":100218},{"$f":"HLOOKUP(Main!$C$2,Translating_products!$DI$4:$DY$216,Translating_products!CM150, FALSE)","v":"Tree Extension"},{"$f":"IF(ISBLANK($Q$1),HLOOKUP(Main!$C$2,Translating_products!$EE$4:$EU$216,Translating_products!CM150,FALSE),HLOOKUP($Q$1,Translating_products!$EE$4:$EU$216,Translating_products!CM150,FALSE))","v":77.5},93,93,null,"Tree",null,null,null,null,100,4.7999999999999996E-3,null,"£","R"]
[null,{"$f":"Calculation!C299+Calculation!C418","v":8},{"$f":"HLOOKUP(Main!$C$2,Translating_products!$CN$4:$DD$216,Translating_products!CM151, FALSE)","v":100221},{"$f":"HLOOKUP(Main!$C$2,Translating_products!$DI$4:$DY$216,Translating_products!CM151, FALSE)","v":"Touch Tree - White"},{"$f":"IF(ISBLANK($Q$1),HLOOKUP(Main!$C$2,Translating_products!$EE$4:$EU$216,Translating_products!CM151,FALSE),HLOOKUP($Q$1,Translating_products!$EE$4:$EU$216,Translating_products!CM151,FALSE))","v":62.5},75,600,null,"Tree",null,null,null,null,1,4.7999999999999996E-3,null,"£","R"]
[null,{"$f":"Calculation!C300+Calculation!C421","v":0},{"$f":"HLOOKUP(Main!$C$2,Translating_products!$CN$4:$DD$216,Translating_products!CM152, FALSE)","v":100222},{"$f":"HLOOKUP(Main!$C$2,Translating_products!$DI$4:$DY$216,Translating_products!CM152, FALSE)","v":"Touch Tree - Anthracite"},{"$f":"IF(ISBLANK($Q$1),HLOOKUP(Main!$C$2,Translating_products!$EE$4:$EU$216,Translating_products!CM152,FALSE),HLOOKUP($Q$1,Translating_products!$EE$4:$EU$216,Translating_products!CM152,FALSE))","v":62.5},75,0,null,"Tree",null,null,null,null,1,4.7999999999999996E-3,null,"£","R"]
[null,{"$f":"Calculation!C301+Calculation!C211","v":13},{"$f":"HLOOKUP(Main!$C$2,Translating_products!$CN$4:$DD$216,Translating_products!CM153, FALSE)","v":100223},{"$f":"HLOOKUP(Main!$C$2,Translating_products!$DI$4:$DY$216,Translating_products!CM153, FALSE)","v":"Motion Sensor Tree - White"},{"$f":"IF(ISBLANK($Q$1),HLOOKUP(Main!$C$2,Translating_products!$EE$4:$EU$216,Translating_products!CM153,FALSE),HLOOKUP($Q$1,Translating_products!$EE$4:$EU$216,Translating_products!CM153,FALSE))","v":67.5},81,1053,null,"Tree",null,null,null,null,1,4.7999999999999996E-3,null,"£","R"]
[null,{"$f":"Calculation!C302+Calculation!C155","v":6},{"$f":"HLOOKUP(Main!$C$2,Translating_products!$CN$4:$DD$216,Translating_products!CM154, FALSE)","v":100225},{"$f":"HLOOKUP(Main!$C$2,Translating_products!$DI$4:$DY$216,Translating_products!CM154, FALSE)","v":"Valve Actuator Tree"},{"$f":"IF(ISBLANK($Q$1),HLOOKUP(Main!$C$2,Translating_products!$EE$4:$EU$216,Translating_products!CM154,FALSE),HLOOKUP($Q$1,Translating_products!$EE$4:$EU$216,Translating_products!CM154,FALSE))","v":57.5},69,414,null,"Tree",null,null,null,null,1,6.25E-2,null,"£","H"]
[null,{"$f":"Calculation!C272+Calculation!C212","v":5},{"$f":"HLOOKUP(Main!$C$2,Translating_products!$CN$4:$DD$216,Translating_products!CM155, FALSE)","v":100211},{"$f":"HLOOKUP(Main!$C$2,Translating_products!$DI$4:$DY$216,Translating_products!CM155, FALSE)","v":"Water Sensor Air"},{"$f":"IF(ISBLANK($Q$1),HLOOKUP(Main!$C$2,Translating_products!$EE$4:$EU$216,Translating_products!CM155,FALSE),HLOOKUP($Q$1,Translating_products!$EE$4:$EU$216,Translating_products!CM155,FALSE))","v":47.5},57,285,null,"Air",null,null,null,null,1,null,null,"£","R"]
[null,{"$f":"Calculation!C273+Calculation!C213","v":0},{"$f":"HLOOKUP(Main!$C$2,Translating_products!$CN$4:$DD$216,Translating_products!CM156, FALSE)","v":100213},{"$f":"HLOOKUP(Main!$C$2,Translating_products!$DI$4:$DY$216,Translating_products!CM156, FALSE)","v":"Door & Window Contact Air - Anthracite"},{"$f":"IF(ISBLANK($Q$1),HLOOKUP(Main!$C$2,Translating_products!$EE$4:$EU$216,Translating_products!CM156,FALSE),HLOOKUP($Q$1,Translating_products!$EE$4:$EU$216,Translating_products!CM156,FALSE))","v":47.5},57,0,null,"Air",null,null,null,null,1,null,null,"£","R"]
[null,{"$f":"Calculation!C274+Calculation!C214","v":3},{"$f":"HLOOKUP(Main!$C$2,Translating_products!$CN$4:$DD$216,Translating_products!CM157, FALSE)","v":100210},{"$f":"HLOOKUP(Main!$C$2,Translating_products!$DI$4:$DY$216,Translating_products!CM157, FALSE)","v":"Door & Window Contact Air - White"},{"$f":"IF(ISBLANK($Q$1),HLOOKUP(Main!$C$2,Translating_products!$EE$4:$EU$216,Translating_products!CM157,FALSE),HLOOKUP($Q$1,Translating_products!$EE$4:$EU$216,Translating_products!CM157,FALSE))","v":47.5},57,171,null,"Air",null,null,null,null,1,null,null,"£","R"]
[null,{"$f":"Calculation!C303+Calculation!C210","v":0},{"$f":"HLOOKUP(Main!$C$2,Translating_products!$CN$4:$DD$216,Translating_products!CM158, FALSE)","v":100224},{"$f":"HLOOKUP(Main!$C$2,Translating_products!$DI$4:$DY$216,Translating_products!CM158, FALSE)","v":"Motion Sensor Tree - Anthracite"},{"$f":"IF(ISBLANK($Q$1),HLOOKUP(Main!$C$2,Translating_products!$EE$4:$EU$216,Translating_products!CM158,FALSE),HLOOKUP($Q$1,Translating_products!$EE$4:$EU$216,Translating_products!CM158,FALSE))","v":67.5},81,0,null,null,null,null,null,null,null,null,null,"£","R"]
[null,{"$f":"Calculation!C242","v":0},{"$f":"HLOOKUP(Main!$C$2,Translating_products!$CN$4:$DD$216,Translating_products!CM159, FALSE)","v":200204},{"$f":"HLOOKUP(Main!$C$2,Translating_products!$DI$4:$DY$216,Translating_products!CM159, FALSE)","v":"Cross Connector for Mains Terminals (20 pcs)"},{"$f":"IF(ISBLANK($Q$1),HLOOKUP(Main!$C$2,Translating_products!$EE$4:$EU$216,Translating_products!CM159,FALSE),HLOOKUP($Q$1,Translating_products!$EE$4:$EU$216,Translating_products!CM159,FALSE))","v":80},96,0,null,null,null,null,null,null,null,null,null,"£","R"]
[null,{"$f":"Calculation!C447+Calculation!C46","v":0},{"$f":"HLOOKUP(Main!$C$2,Translating_products!$CN$4:$DD$216,Translating_products!CM160, FALSE)","v":100200},{"$f":"HLOOKUP(Main!$C$2,Translating_products!$DI$4:$DY$216,Translating_products!CM160, FALSE)","v":"Dali Extension"},{"$f":"IF(ISBLANK($Q$1),HLOOKUP(Main!$C$2,Translating_products!$EE$4:$EU$216,Translating_products!CM160,FALSE),HLOOKUP($Q$1,Translating_products!$EE$4:$EU$216,Translating_products!CM160,FALSE))","v":410},492,0,null,null,null,null,null,null,null,null,null,"£","L"]
[null,{"$f":"Calculation!C356","v":0},{"$f":"HLOOKUP(Main!$C$2,Translating_products!$CN$4:$DD$216,Translating_products!CM161, FALSE)","v":200297},{"$f":"HLOOKUP(Main!$C$2,Translating_products!$DI$4:$DY$216,Translating_products!CM161, FALSE)","v":"24V LED Power Supply (2.5A)"},{"$f":"IF(ISBLANK($Q$1),HLOOKUP(Main!$C$2,Translating_products!$EE$4:$EU$216,Translating_products!CM161,FALSE),HLOOKUP($Q$1,Translating_products!$EE$4:$EU$216,Translating_products!CM161,FALSE))","v":26},31.2,0,null,null,null,null,null,null,null,null,null,"£","R"]
[null,{"$f":"Calculation!C304+Calculation!C276+Calculation!C422","v":0},{"$f":"HLOOKUP(Main!$C$2,Translating_products!$CN$4:$DD$216,Translating_products!CM162, FALSE)","v":100206},{"$f":"HLOOKUP(Main!$C$2,Translating_products!$DI$4:$DY$216,Translating_products!CM162, FALSE)","v":"Touch Pure Air - White"},{"$f":"IF(ISBLANK($Q$1),HLOOKUP(Main!$C$2,Translating_products!$EE$4:$EU$216,Translating_products!CM162,FALSE),HLOOKUP($Q$1,Translating_products!$EE$4:$EU$216,Translating_products!CM162,FALSE))","v":135},162,0,null,null,null,null,null,null,null,null,null,"£","R"]
[null,{"$f":"Calculation!C304+Calculation!C275+Calculation!C419","v":0},{"$f":"HLOOKUP(Main!$C$2,Translating_products!$CN$4:$DD$216,Translating_products!CM163, FALSE)","v":100207},{"$f":"HLOOKUP(Main!$C$2,Translating_products!$DI$4:$DY$216,Translating_products!CM163, FALSE)","v":"Touch Pure for Nano - White"},{"$f":"IF(ISBLANK($Q$1),HLOOKUP(Main!$C$2,Translating_products!$EE$4:$EU$216,Translating_products!CM163,FALSE),HLOOKUP($Q$1,Translating_products!$EE$4:$EU$216,Translating_products!CM163,FALSE))","v":107.5},129,0,null,null,null,null,null,null,null,null,null,"£","R"]
[null,{"$f":"Calculation!C305+Calculation!C420","v":7},{"$f":"HLOOKUP(Main!$C$2,Translating_products!$CN$4:$DD$216,Translating_products!CM164, FALSE)","v":100219},{"$f":"HLOOKUP(Main!$C$2,Translating_products!$DI$4:$DY$216,Translating_products!CM164, FALSE)","v":"Touch Pure Tree - White"},{"$f":"IF(ISBLANK($Q$1),HLOOKUP(Main!$C$2,Translating_products!$EE$4:$EU$216,Translating_products!CM164,FALSE),HLOOKUP($Q$1,Translating_products!$EE$4:$EU$216,Translating_products!CM164,FALSE))","v":135},162,1134,null,null,null,null,null,null,null,null,null,"£","R"]
[null,{"$f":"Calculation!C448","v":0},{"$f":"HLOOKUP(Main!$C$2,Translating_products!$CN$4:$DD$216,Translating_products!CM165, FALSE)","v":"NA"},{"$f":"IF(ISBLANK(Q1), HLOOKUP(Main!$C$2,Translating_products!$DI$4:$DY$216,Translating_products!CM165, FALSE),\"Not available in this country\")","v":"not available in this country"},{"$f":"IF(ISBLANK($Q$1),HLOOKUP(Main!$C$2,Translating_products!$EE$4:$EU$216,Translating_products!CM165,FALSE),HLOOKUP($Q$1,Translating_products!$EE$4:$EU$216,Translating_products!CM165,FALSE))","v":0},0,0,null,null,null,null,null,null,null,null,null,"£","R"]
[null,{"$f":"Calculation!C277","v":0},{"$f":"HLOOKUP(Main!$C$2,Translating_products!$CN$4:$DD$216,Translating_products!CM166, FALSE)","v":100212},{"$f":"HLOOKUP(Main!$C$2,Translating_products!$DI$4:$DY$216,Translating_products!CM166, FALSE)","v":"Nano Dimmer Air"},{"$f":"IF(ISBLANK($Q$1),HLOOKUP(Main!$C$2,Translating_products!$EE$4:$EU$216,Translating_products!CM166,FALSE),HLOOKUP($Q$1,Translating_products!$EE$4:$EU$216,Translating_products!CM166,FALSE))","v":82.5},99,0,null,null,null,null,null,null,null,null,null,"£","R"]
[null,{"$f":"Calculation!C357","v":0},{"$f":"HLOOKUP(Main!$C$2,Translating_products!$CN$4:$DD$216,Translating_products!CM167, FALSE)","v":"NA"},{"$f":"HLOOKUP(Main!$C$2,Translating_products!$DI$4:$DY$216,Translating_products!CM167, FALSE)","v":"not available in this country"},{"$f":"IF(ISBLANK($Q$1),HLOOKUP(Main!$C$2,Translating_products!$EE$4:$EU$216,Translating_products!CM167,FALSE),HLOOKUP($Q$1,Translating_products!$EE$4:$EU$216,Translating_products!CM167,FALSE))","v":0},{"$f":"E167*(1+$E$223*0.01)","v":0},0,null,null,null,null,null,null,null,null,null,"£","R"]
[null,{"$f":"Calculation!C358","v":0},{"$f":"HLOOKUP(Main!$C$2,Translating_products!$CN$4:$DD$216,Translating_products!CM168, FALSE)","v":"NA"},{"$f":"HLOOKUP(Main!$C$2,Translating_products!$DI$4:$DY$216,Translating_products!CM168, FALSE)","v":"not available in this country"},{"$f":"IF(ISBLANK($Q$1),HLOOKUP(Main!$C$2,Translating_products!$EE$4:$EU$216,Translating_products!CM168,FALSE),HLOOKUP($Q$1,Translating_products!$EE$4:$EU$216,Translating_products!CM168,FALSE))","v":0},0,0,null,null,null,null,null,null,null,null,null,"£","R"]
[null,{"$f":"Calculation!C359","v":0},{"$f":"HLOOKUP(Main!$C$2,Translating_products!$CN$4:$DD$216,Translating_products!CM169, FALSE)","v":"NA"},{"$f":"HLOOKUP(Main!$C$2,Translating_products!$DI$4:$DY$216,Translating_products!CM169, FALSE)","v":"not available in this country"},{"$f":"IF(ISBLANK($Q$1),HLOOKUP(Main!$C$2,Translating_products!$EE$4:$EU$216,Translating_products!CM169,FALSE),HLOOKUP($Q$1,Translating_products!$EE$4:$EU$216,Translating_products!CM169,FALSE))","v":0},0,0,null,null,null,null,null,null,null,null,null,"£","R"]
[null,{"$f":"Calculation!C360","v":0},{"$f":"HLOOKUP(Main!$C$2,Translating_products!$CN$4:$DD$216,Translating_products!CM170, FALSE)","v":200287},{"$f":"HLOOKUP(Main!$C$2,Translating_products!$DI$4:$DY$216,Translating_products!CM170, FALSE)","v":"Duracell Plus Power AA (Pack of 12)"},{"$f":"IF(ISBLANK($Q$1),HLOOKUP(Main!$C$2,Translating_products!$EE$4:$EU$216,Translating_products!CM170,FALSE),HLOOKUP($Q$1,Translating_products!$EE$4:$EU$216,Translating_products!CM170,FALSE))","v":9},10.799999999999999,0,null,null,null,null,null,null,null,null,null,"£","R"]
[null,{"$f":"Calculation!C361","v":0},{"$f":"HLOOKUP(Main!$C$2,Translating_products!$CN$4:$DD$216,Translating_products!CM171, FALSE)","v":200288},{"$f":"HLOOKUP(Main!$C$2,Translating_products!$DI$4:$DY$216,Translating_products!CM171, FALSE)","v":"Duracell Plus Power AAA (Pack of 12)"},{"$f":"IF(ISBLANK($Q$1),HLOOKUP(Main!$C$2,Translating_products!$EE$4:$EU$216,Translating_products!CM171,FALSE),HLOOKUP($Q$1,Translating_products!$EE$4:$EU$216,Translating_products!CM171,FALSE))","v":9},10.799999999999999,0,null,null,null,null,null,null,null,null,null,"£","R"]
[null,{"$f":"Calculation!C362","v":0},{"$f":"HLOOKUP(Main!$C$2,Translating_products!$CN$4:$DD$216,Translating_products!CM172, FALSE)","v":200289},{"$f":"HLOOKUP(Main!$C$2,Translating_products!$DI$4:$DY$216,Translating_products!CM172, FALSE)","v":"CR2032 Lithium Battery (Pack of 20)"},{"$f":"IF(ISBLANK($Q$1),HLOOKUP(Main!$C$2,Translating_products!$EE$4:$EU$216,Translating_products!CM172,FALSE),HLOOKUP($Q$1,Translating_products!$EE$4:$EU$216,Translating_products!CM172,FALSE))","v":9},10.799999999999999,0,null,null,null,null,null,null,null,null,null,"£","R"]
[null,{"$f":"Calculation!C363","v":0},{"$f":"HLOOKUP(Main!$C$2,Translating_products!$CN$4:$DD$216,Translating_products!CM173, FALSE)","v":200290},{"$f":"HLOOKUP(Main!$C$2,Translating_products!$DI$4:$DY$216,Translating_products!CM173, FALSE)","v":"CR2450 Lithium Battery (Pack of 20)"},{"$f":"IF(ISBLANK($Q$1),HLOOKUP(Main!$C$2,Translating_products!$EE$4:$EU$216,Translating_products!CM173,FALSE),HLOOKUP($Q$1,Translating_products!$EE$4:$EU$216,Translating_products!CM173,FALSE))","v":20.5},24.599999999999998,0,null,null,null,null,null,null,null,null,null,"£","R"]
[null,{"$f":"Calculation!C364","v":0},{"$f":"HLOOKUP(Main!$C$2,Translating_products!$CN$4:$DD$216,Translating_products!CM174, FALSE)","v":200291},{"$f":"HLOOKUP(Main!$C$2,Translating_products!$DI$4:$DY$216,Translating_products!CM174, FALSE)","v":"FDK 9V Lithium Battery"},{"$f":"IF(ISBLANK($Q$1),HLOOKUP(Main!$C$2,Translating_products!$EE$4:$EU$216,Translating_products!CM174,FALSE),HLOOKUP($Q$1,Translating_products!$EE$4:$EU$216,Translating_products!CM174,FALSE))","v":8.25},9.9,0,null,null,null,null,null,null,null,null,null,"£","R"]
[null,{"$f":"Calculation!C306","v":0},{"$f":"HLOOKUP(Main!$C$2,Translating_products!$CN$4:$DD$216,Translating_products!CM175, FALSE)","v":100242},{"$f":"HLOOKUP(Main!$C$2,Translating_products!$DI$4:$DY$216,Translating_products!CM175, FALSE)","v":"Nano DI Tree"},{"$f":"IF(ISBLANK($Q$1),HLOOKUP(Main!$C$2,Translating_products!$EE$4:$EU$216,Translating_products!CM175,FALSE),HLOOKUP($Q$1,Translating_products!$EE$4:$EU$216,Translating_products!CM175,FALSE))","v":57.5},69,0,null,null,null,null,null,null,null,null,null,"£","R"]
[null,0,{"$f":"IF(ISBLANK(Q1),\"0\",\"100294\")","v":"0"},{"$f":"IF(ISBLANK(Q1),\"not available in this country\", HLOOKUP(Main!$C$2,Translating_products!$DI$4:$DY$216,Translating_products!CM176, FALSE))","v":"not available in this country"},{"$f":"IF(ISBLANK(Q1),\"0\",IF(ISBLANK($Q$1),HLOOKUP(Main!$C$2,Translating_products!$EE$4:$EU$216,Translating_products!CM176,FALSE),HLOOKUP($Q$1,Translating_products!$EE$4:$EU$216,Translating_products!CM176,FALSE)))","v":"0"},0,0,null,null,null,null,null,null,null,null,null,"£","R"]
[null,{"$f":"Calculation!C423+Calculation!C278","v":0},{"$f":"HLOOKUP(Main!$C$2,Translating_products!$CN$4:$DD$216,Translating_products!CM177, FALSE)","v":"not available in this country"},{"$f":"HLOOKUP(Main!$C$2,Translating_products!$DI$4:$DY$216,Translating_products!CM177, FALSE)","v":"not available in this country"},{"$f":"IF(ISBLANK($Q$1),HLOOKUP(Main!$C$2,Translating_products!$EE$4:$EU$216,Translating_products!CM177,FALSE),HLOOKUP($Q$1,Translating_products!$EE$4:$EU$216,Translating_products!CM177,FALSE))","v":0},0,0,null,null,null,null,null,null,null,null,null,"£","R"]
[null,{"$f":"Calculation!C424+Calculation!C307","v":0},{"$f":"HLOOKUP(Main!$C$2,Translating_products!$CN$4:$DD$216,Translating_products!CM178, FALSE)","v":"not available in this country"},{"$f":"HLOOKUP(Main!$C$2,Translating_products!$DI$4:$DY$216,Translating_products!CM178, FALSE)","v":"not available in this country"},{"$f":"IF(ISBLANK($Q$1),HLOOKUP(Main!$C$2,Translating_products!$EE$4:$EU$216,Translating_products!CM178,FALSE),HLOOKUP($Q$1,Translating_products!$EE$4:$EU$216,Translating_products!CM178,FALSE))","v":0},0,0,null,null,null,null,null,null,null,null,null,"£","R"]
[null,{"$f":"Calculation!C279+Calculation!C425","v":0},{"$f":"HLOOKUP(Main!$C$2,Translating_products!$CN$4:$DD$216,Translating_products!CM179, FALSE)","v":"not available in this country"},{"$f":"HLOOKUP(Main!$C$2,Translating_products!$DI$4:$DY$216,Translating_products!CM179, FALSE)","v":"not available in this country"},{"$f":"IF(ISBLANK($Q$1),HLOOKUP(Main!$C$2,Translating_products!$EE$4:$EU$216,Translating_products!CM179,FALSE),HLOOKUP($Q$1,Translating_products!$EE$4:$EU$216,Translating_products!CM179,FALSE))","v":0},0,0,null,null,null,null,null,null,null,null,null,"£","R"]
[null,{"$f":"Calculation!C98","v":0},{"$f":"HLOOKUP(Main!$C$2,Translating_products!$CN$4:$DD$216,Translating_products!CM180, FALSE)","v":100235},{"$f":"HLOOKUP(Main!$C$2,Translating_products!$DI$4:$DY$216,Translating_products!CM180, FALSE)","v":"LED Ceiling Spot RGBW - White"},{"$f":"IF(ISBLANK($Q$1),HLOOKUP(Main!$C$2,Translating_products!$EE$4:$EU$216,Translating_products!CM180,FALSE),HLOOKUP($Q$1,Translating_products!$EE$4:$EU$216,Translating_products!CM180,FALSE))","v":72.5},87,0,null,null,null,null,null,null,null,null,null,"£","L"]
[null,{"$f":"Calculation!C99","v":0},{"$f":"HLOOKUP(Main!$C$2,Translating_products!$CN$4:$DD$216,Translating_products!CM181, FALSE)","v":100236},{"$f":"HLOOKUP(Main!$C$2,Translating_products!$DI$4:$DY$216,Translating_products!CM181, FALSE)","v":"LED Ceiling Spot WW - White"},{"$f":"IF(ISBLANK($Q$1),HLOOKUP(Main!$C$2,Translating_products!$EE$4:$EU$216,Translating_products!CM181,FALSE),HLOOKUP($Q$1,Translating_products!$EE$4:$EU$216,Translating_products!CM181,FALSE))","v":52.5},63,0,null,null,null,null,null,null,null,null,null,"£","L"]
[null,{"$f":"Calculation!C100+Calculation!C308","v":0},{"$f":"HLOOKUP(Main!$C$2,Translating_products!$CN$4:$DD$216,Translating_products!CM182, FALSE)","v":100237},{"$f":"HLOOKUP(Main!$C$2,Translating_products!$DI$4:$DY$216,Translating_products!CM182, FALSE)","v":"LED Ceiling Spot Tree RGBW - White"},{"$f":"IF(ISBLANK($Q$1),HLOOKUP(Main!$C$2,Translating_products!$EE$4:$EU$216,Translating_products!CM182,FALSE),HLOOKUP($Q$1,Translating_products!$EE$4:$EU$216,Translating_products!CM182,FALSE))","v":110},132,0,null,null,null,null,null,null,null,null,null,"£","L"]
[null,{"$f":"Calculation!C101+Calculation!C309","v":0},{"$f":"HLOOKUP(Main!$C$2,Translating_products!$CN$4:$DD$216,Translating_products!CM183, FALSE)","v":100238},{"$f":"HLOOKUP(Main!$C$2,Translating_products!$DI$4:$DY$216,Translating_products!CM183, FALSE)","v":"LED Ceiling Spot Tree WW - White"},{"$f":"IF(ISBLANK($Q$1),HLOOKUP(Main!$C$2,Translating_products!$EE$4:$EU$216,Translating_products!CM183,FALSE),HLOOKUP($Q$1,Translating_products!$EE$4:$EU$216,Translating_products!CM183,FALSE))","v":90},108,0,null,null,null,null,null,null,null,null,null,"£","L"]
[null,{"$f":"Calculation!C102+Calculation!C310","v":37},{"$f":"HLOOKUP(Main!$C$2,Translating_products!$CN$4:$DD$216,Translating_products!CM184, FALSE)","v":100268},{"$f":"HLOOKUP(Main!$C$2,Translating_products!$DI$4:$DY$216,Translating_products!CM184, FALSE)","v":"LED Spot Tree WW - White"},{"$f":"IF(ISBLANK($Q$1),HLOOKUP(Main!$C$2,Translating_products!$EE$4:$EU$216,Translating_products!CM184,FALSE),HLOOKUP($Q$1,Translating_products!$EE$4:$EU$216,Translating_products!CM184,FALSE))","v":52.5},63,2331,null,null,null,null,null,null,null,null,null,"£","L"]
[null,{"$f":"Calculation!C103+Calculation!C311","v":10},{"$f":"HLOOKUP(Main!$C$2,Translating_products!$CN$4:$DD$216,Translating_products!CM185, FALSE)","v":100269},{"$f":"HLOOKUP(Main!$C$2,Translating_products!$DI$4:$DY$216,Translating_products!CM185, FALSE)","v":"LED Spot Tree RGBW - White"},{"$f":"IF(ISBLANK($Q$1),HLOOKUP(Main!$C$2,Translating_products!$EE$4:$EU$216,Translating_products!CM185,FALSE),HLOOKUP($Q$1,Translating_products!$EE$4:$EU$216,Translating_products!CM185,FALSE))","v":72.5},87,870,null,null,null,null,null,null,null,null,null,"£","L"]
[null,{"$f":"Calculation!C104+Calculation!C312","v":2},{"$f":"HLOOKUP(Main!$C$2,Translating_products!$CN$4:$DD$216,Translating_products!CM186, FALSE)","v":100239},{"$f":"HLOOKUP(Main!$C$2,Translating_products!$DI$4:$DY$216,Translating_products!CM186, FALSE)","v":"RGBW 24V Dimmer Tree"},{"$f":"IF(ISBLANK($Q$1),HLOOKUP(Main!$C$2,Translating_products!$EE$4:$EU$216,Translating_products!CM186,FALSE),HLOOKUP($Q$1,Translating_products!$EE$4:$EU$216,Translating_products!CM186,FALSE))","v":57.5},69,138,null,null,null,null,null,null,null,null,null,"£","L"]
[null,{"$f":"Calculation!C280+Calculation!C217","v":0},{"$f":"HLOOKUP(Main!$C$2,Translating_products!$CN$4:$DD$216,Translating_products!CM189, FALSE)","v":100177},{"$f":"HLOOKUP(Main!$C$2,Translating_products!$DI$4:$DY$216,Translating_products!CM189, FALSE)","v":"Window Handle Air"},{"$f":"IF(ISBLANK($Q$1),HLOOKUP(Main!$C$2,Translating_products!$EE$4:$EU$216,Translating_products!CM189,FALSE),HLOOKUP($Q$1,Translating_products!$EE$4:$EU$216,Translating_products!CM189,FALSE))","v":110},132,0,null,null,null,null,null,null,null,null,null,"£","R"]
[null,{"$f":"Calculation!C449","v":0},{"$f":"HLOOKUP(Main!$C$2,Translating_products!$CN$4:$DD$216,Translating_products!CM190, FALSE)","v":100283},{"$f":"HLOOKUP(Main!$C$2,Translating_products!$DI$4:$DY$216,Translating_products!CM190, FALSE)","v":"DI Extension"},{"$f":"IF(ISBLANK($Q$1),HLOOKUP(Main!$C$2,Translating_products!$EE$4:$EU$216,Translating_products!CM190,FALSE),HLOOKUP($Q$1,Translating_products!$EE$4:$EU$216,Translating_products!CM190,FALSE))","v":205},246,0,null,null,null,null,null,null,null,null,null,"£","R"]
[null,{"$f":"Calculation!C313+Calculation!C389+Calculation!C218","v":1},{"$f":"HLOOKUP(Main!$C$2,Translating_products!$CN$4:$DD$216,Translating_products!CM191, FALSE)","v":100246},{"$f":"HLOOKUP(Main!$C$2,Translating_products!$DI$4:$DY$216,Translating_products!CM191, FALSE)","v":"Weather Station Tree"},{"$f":"IF(ISBLANK($Q$1),HLOOKUP(Main!$C$2,Translating_products!$EE$4:$EU$216,Translating_products!CM191,FALSE),HLOOKUP($Q$1,Translating_products!$EE$4:$EU$216,Translating_products!CM191,FALSE))","v":360},432,432,null,null,null,null,null,null,null,null,null,"£"]
[null,{"$f":"Calculation!C390+Calculation!C281+Calculation!C219","v":0},{"$f":"HLOOKUP(Main!$C$2,Translating_products!$CN$4:$DD$216,Translating_products!CM192, FALSE)","v":100245},{"$f":"HLOOKUP(Main!$C$2,Translating_products!$DI$4:$DY$216,Translating_products!CM192, FALSE)","v":"Weather Station Air"},{"$f":"IF(ISBLANK($Q$1),HLOOKUP(Main!$C$2,Translating_products!$EE$4:$EU$216,Translating_products!CM192,FALSE),HLOOKUP($Q$1,Translating_products!$EE$4:$EU$216,Translating_products!CM192,FALSE))","v":385},462,0,null,null,null,null,null,null,null,null,null,"£"]
[null,{"$f":"Calculation!C105","v":0},{"$f":"HLOOKUP(Main!$C$2,Translating_products!$CN$4:$DD$216,Translating_products!CM193, FALSE)","v":200311},{"$f":"HLOOKUP(Main!$C$2,Translating_products!$DI$4:$DY$216,Translating_products!CM193, FALSE)","v":"LED Spot back box for cast concrete"},{"$f":"IF(ISBLANK($Q$1),HLOOKUP(Main!$C$2,Translating_products!$EE$4:$EU$216,Translating_products!CM193,FALSE),HLOOKUP($Q$1,Translating_products!$EE$4:$EU$216,Translating_products!CM193,FALSE))","v":20},24,0,null,null,null,null,null,null,null,null,null,"£"]
[null,{"$f":"Calculation!C391+Calculation!C282","v":0},{"$f":"HLOOKUP(Main!$C$2,Translating_products!$CN$4:$DD$216,Translating_products!CM194, FALSE)","v":100251},{"$f":"HLOOKUP(Main!$C$2,Translating_products!$DI$4:$DY$216,Translating_products!CM194, FALSE)","v":"Blind Motor GJ56 Air 6Nm connection at top"},{"$f":"IF(ISBLANK($Q$1),HLOOKUP(Main!$C$2,Translating_products!$EE$4:$EU$216,Translating_products!CM194,FALSE),HLOOKUP($Q$1,Translating_products!$EE$4:$EU$216,Translating_products!CM194,FALSE))","v":220},264,0,null,null,null,null,null,null,null,null,null,"£"]
[null,{"$f":"Calculation!C392+Calculation!C283","v":0},{"$f":"HLOOKUP(Main!$C$2,Translating_products!$CN$4:$DD$216,Translating_products!CM195, FALSE)","v":100252},{"$f":"HLOOKUP(Main!$C$2,Translating_products!$DI$4:$DY$216,Translating_products!CM195, FALSE)","v":"Blind Motor GJ56 Air 20Nm connection at top"},{"$f":"IF(ISBLANK($Q$1),HLOOKUP(Main!$C$2,Translating_products!$EE$4:$EU$216,Translating_products!CM195,FALSE),HLOOKUP($Q$1,Translating_products!$EE$4:$EU$216,Translating_products!CM195,FALSE))","v":255},306,0,null,null,null,null,null,null,null,null,null,"£"]
[null,{"$f":"Calculation!C393+Calculation!C284","v":0},{"$f":"HLOOKUP(Main!$C$2,Translating_products!$CN$4:$DD$216,Translating_products!CM196, FALSE)","v":100253},{"$f":"HLOOKUP(Main!$C$2,Translating_products!$DI$4:$DY$216,Translating_products!CM196, FALSE)","v":"Blind Motor GJ56 Air 6Nm connection at bottom"},{"$f":"IF(ISBLANK($Q$1),HLOOKUP(Main!$C$2,Translating_products!$EE$4:$EU$216,Translating_products!CM196,FALSE),HLOOKUP($Q$1,Translating_products!$EE$4:$EU$216,Translating_products!CM196,FALSE))","v":220},264,0,null,null,null,null,null,null,null,null,null,"£"]
[null,{"$f":"Calculation!C394+Calculation!C285","v":0},{"$f":"HLOOKUP(Main!$C$2,Translating_products!$CN$4:$DD$216,Translating_products!CM197, FALSE)","v":100254},{"$f":"HLOOKUP(Main!$C$2,Translating_products!$DI$4:$DY$216,Translating_products!CM197, FALSE)","v":"Blind Motor GJ56 Air 20Nm connection at bottom"},{"$f":"IF(ISBLANK($Q$1),HLOOKUP(Main!$C$2,Translating_products!$EE$4:$EU$216,Translating_products!CM197,FALSE),HLOOKUP($Q$1,Translating_products!$EE$4:$EU$216,Translating_products!CM197,FALSE))","v":255},306,0,null,null,null,null,null,null,null,null,null,"£"]
[null,{"$f":"Calculation!C366","v":0},{"$f":"HLOOKUP(Main!$C$2,Translating_products!$CN$4:$DD$216,Translating_products!CM198, FALSE)","v":200305},{"$f":"HLOOKUP(Main!$C$2,Translating_products!$DI$4:$DY$216,Translating_products!CM198, FALSE)","v":"Dry Lining Box - Set 25"},{"$f":"IF(ISBLANK($Q$1),HLOOKUP(Main!$C$2,Translating_products!$EE$4:$EU$216,Translating_products!CM198,FALSE),HLOOKUP($Q$1,Translating_products!$EE$4:$EU$216,Translating_products!CM198,FALSE))","v":15.5},18.599999999999998,0,null,null,null,null,null,null,null,null,null,"£"]
[null,{"$f":"Calculation!C395+Calculation!C286","v":5},{"$f":"HLOOKUP(Main!$C$2,Translating_products!$CN$4:$DD$216,Translating_products!CM199, FALSE)","v":100290},{"$f":"HLOOKUP(Main!$C$2,Translating_products!$DI$4:$DY$216,Translating_products!CM199, FALSE)","v":"Shading Actuator Air"},{"$f":"IF(ISBLANK($Q$1),HLOOKUP(Main!$C$2,Translating_products!$EE$4:$EU$216,Translating_products!CM199,FALSE),HLOOKUP($Q$1,Translating_products!$EE$4:$EU$216,Translating_products!CM199,FALSE))","v":82.5},99,495,null,null,null,null,null,null,null,null,null,"£"]
[null,{"$f":"Calculation!C106","v":3},{"$f":"HLOOKUP(Main!$C$2,Translating_products!$CN$4:$DD$216,Translating_products!CM200, FALSE)","v":100274},{"$f":"HLOOKUP(Main!$C$2,Translating_products!$DI$4:$DY$216,Translating_products!CM200, FALSE)","v":"LED Pendulum Slim - White"},{"$f":"IF(ISBLANK($Q$1),HLOOKUP(Main!$C$2,Translating_products!$EE$4:$EU$216,Translating_products!CM200,FALSE),HLOOKUP($Q$1,Translating_products!$EE$4:$EU$216,Translating_products!CM200,FALSE))","v":175},210,630,null,null,null,null,null,null,null,null,null,"£"]
[null,{"$f":"Calculation!C107","v":0},{"$f":"HLOOKUP(Main!$C$2,Translating_products!$CN$4:$DD$216,Translating_products!CM201, FALSE)","v":100275},{"$f":"HLOOKUP(Main!$C$2,Translating_products!$DI$4:$DY$216,Translating_products!CM201, FALSE)","v":"LED Pendulum Slim - Anthracite"},{"$f":"IF(ISBLANK($Q$1),HLOOKUP(Main!$C$2,Translating_products!$EE$4:$EU$216,Translating_products!CM201,FALSE),HLOOKUP($Q$1,Translating_products!$EE$4:$EU$216,Translating_products!CM201,FALSE))","v":175},210,0,null,null,null,null,null,null,null,null,null,{"$f":"$Q$7","v":"£"}]
[null,{"$f":"Calculation!C108","v":0},{"$f":"HLOOKUP(Main!$C$2,Translating_products!$CN$4:$DD$216,Translating_products!CM202, FALSE)","v":100278},{"$f":"HLOOKUP(Main!$C$2,Translating_products!$DI$4:$DY$216,Translating_products!CM202, FALSE)","v":"LED Ceiling Spot RGBW - Anthracite"},{"$f":"IF(ISBLANK($Q$1),HLOOKUP(Main!$C$2,Translating_products!$EE$4:$EU$216,Translating_products!CM202,FALSE),HLOOKUP($Q$1,Translating_products!$EE$4:$EU$216,Translating_products!CM202,FALSE))","v":72.5},87,0,null,null,null,null,null,null,null,null,null,"£"]
[null,{"$f":"Calculation!C109","v":0},{"$f":"HLOOKUP(Main!$C$2,Translating_products!$CN$4:$DD$216,Translating_products!CM203, FALSE)","v":100279},{"$f":"HLOOKUP(Main!$C$2,Translating_products!$DI$4:$DY$216,Translating_products!CM203, FALSE)","v":"LED Ceiling Spot WW - Anthracite"},{"$f":"IF(ISBLANK($Q$1),HLOOKUP(Main!$C$2,Translating_products!$EE$4:$EU$216,Translating_products!CM203,FALSE),HLOOKUP($Q$1,Translating_products!$EE$4:$EU$216,Translating_products!CM203,FALSE))","v":52.5},63,0,null,null,null,null,null,null,null,null,null,"£"]
[null,{"$f":"Calculation!C110","v":0},{"$f":"HLOOKUP(Main!$C$2,Translating_products!$CN$4:$DD$216,Translating_products!CM204, FALSE)","v":100280},{"$f":"HLOOKUP(Main!$C$2,Translating_products!$DI$4:$DY$216,Translating_products!CM204, FALSE)","v":"LED Ceiling Spot Tree RGBW - Anthracite"},{"$f":"IF(ISBLANK($Q$1),HLOOKUP(Main!$C$2,Translating_products!$EE$4:$EU$216,Translating_products!CM204,FALSE),HLOOKUP($Q$1,Translating_products!$EE$4:$EU$216,Translating_products!CM204,FALSE))","v":110},132,0,null,null,null,null,null,null,null,null,null,"£"]
[null,{"$f":"Calculation!C111","v":0},{"$f":"HLOOKUP(Main!$C$2,Translating_products!$CN$4:$DD$216,Translating_products!CM205, FALSE)","v":100281},{"$f":"HLOOKUP(Main!$C$2,Translating_products!$DI$4:$DY$216,Translating_products!CM205, FALSE)","v":"LED Ceiling Spot Tree WW - Anthracite"},{"$f":"IF(ISBLANK($Q$1),HLOOKUP(Main!$C$2,Translating_products!$EE$4:$EU$216,Translating_products!CM205,FALSE),HLOOKUP($Q$1,Translating_products!$EE$4:$EU$216,Translating_products!CM205,FALSE))","v":90},108,0,null,null,null,null,null,null,null,null,null,"£"]
[null,{"$f":"Calculation!C112","v":0},{"$f":"HLOOKUP(Main!$C$2,Translating_products!$CN$4:$DD$216,Translating_products!CM206, FALSE)","v":100271},{"$f":"HLOOKUP(Main!$C$2,Translating_products!$DI$4:$DY$216,Translating_products!CM206, FALSE)","v":"LED Spot Tree WW - Anthracite"},{"$f":"IF(ISBLANK($Q$1),HLOOKUP(Main!$C$2,Translating_products!$EE$4:$EU$216,Translating_products!CM206,FALSE),HLOOKUP($Q$1,Translating_products!$EE$4:$EU$216,Translating_products!CM206,FALSE))","v":52.5},63,0,null,null,null,null,null,null,null,null,null,"£"]
[null,{"$f":"Calculation!C113","v":0},{"$f":"HLOOKUP(Main!$C$2,Translating_products!$CN$4:$DD$216,Translating_products!CM207, FALSE)","v":100272},{"$f":"HLOOKUP(Main!$C$2,Translating_products!$DI$4:$DY$216,Translating_products!CM207, FALSE)","v":"LED Spot Tree RGBW - Anthracite"},{"$f":"IF(ISBLANK($Q$1),HLOOKUP(Main!$C$2,Translating_products!$EE$4:$EU$216,Translating_products!CM207,FALSE),HLOOKUP($Q$1,Translating_products!$EE$4:$EU$216,Translating_products!CM207,FALSE))","v":72.5},87,0,null,null,null,null,null,null,null,null,null,"£"]
[null,{"$f":"Calculation!C114","v":0},{"$f":"HLOOKUP(Main!$C$2,Translating_products!$CN$4:$DD$216,Translating_products!CM208, FALSE)","v":100273},{"$f":"HLOOKUP(Main!$C$2,Translating_products!$DI$4:$DY$216,Translating_products!CM208, FALSE)","v":"LED Spot RGBW - Anthracite"},{"$f":"IF(ISBLANK($Q$1),HLOOKUP(Main!$C$2,Translating_products!$EE$4:$EU$216,Translating_products!CM208,FALSE),HLOOKUP($Q$1,Translating_products!$EE$4:$EU$216,Translating_products!CM208,FALSE))","v":40},48,0,null,null,null,null,null,null,null,null,null,"£"]
[null,{"$f":"Calculation!C115","v":0},{"$f":"HLOOKUP(Main!$C$2,Translating_products!$CN$4:$DD$216,Translating_products!CM209, FALSE)","v":100282},{"$f":"HLOOKUP(Main!$C$2,Translating_products!$DI$4:$DY$216,Translating_products!CM209, FALSE)","v":"LED Spot WW - Anthracite"},{"$f":"IF(ISBLANK($Q$1),HLOOKUP(Main!$C$2,Translating_products!$EE$4:$EU$216,Translating_products!CM209,FALSE),HLOOKUP($Q$1,Translating_products!$EE$4:$EU$216,Translating_products!CM209,FALSE))","v":27.5},33,0,null,null,null,null,null,null,null,null,null,"£"]
[null,{"$f":"Calculation!C244","v":0},{"$f":"HLOOKUP(Main!$C$2,Translating_products!$CN$4:$DD$300,Translating_products!CM210, FALSE)","v":200205},{"$f":"HLOOKUP(Main!$C$2,Translating_products!$DI$4:$DY$300,Translating_products!CM210, FALSE)","v":"Weidmüller DEK Terminal Markers (500 Stk) 1-50"},{"$f":"IF(ISBLANK($Q$1),HLOOKUP(Main!$C$2,Translating_products!$EE$4:$EU$300,Translating_products!CM210,FALSE),HLOOKUP($Q$1,Translating_products!$EE$4:$EU$300,Translating_products!CM210,FALSE))","v":17.5},{"$f":"E208*(1+$E$223*0.01)","v":21},{"$f":"B208*F208","v":0},null,null,null,null,null,null,null,null,null,"£"]
[null,{"$f":"Calculation!C245","v":0},{"$f":"HLOOKUP(Main!$C$2,Translating_products!$CN$4:$DD$300,Translating_products!CM211, FALSE)","v":200206},{"$f":"HLOOKUP(Main!$C$2,Translating_products!$DI$4:$DY$300,Translating_products!CM211, FALSE)","v":"Weidmüller DEK Terminal Markers (500 Stk) 51-100"},{"$f":"IF(ISBLANK($Q$1),HLOOKUP(Main!$C$2,Translating_products!$EE$4:$EU$300,Translating_products!CM211,FALSE),HLOOKUP($Q$1,Translating_products!$EE$4:$EU$300,Translating_products!CM211,FALSE))","v":17.5},{"$f":"E209*(1+$E$223*0.01)","v":21},{"$f":"B209*F209","v":0},null,null,null,null,null,null,null,null,null,"£"]
[null,{"$f":"Calculation!C314","v":0},{"$f":"HLOOKUP(Main!$C$2,Translating_products!$CN$4:$DD$300,Translating_products!CM212, FALSE)","v":100284},{"$f":"HLOOKUP(Main!$C$2,Translating_products!$DI$4:$DY$300,Translating_products!CM212, FALSE)","v":"Touch Surface Tree"},{"$f":"IF(ISBLANK($Q$1),HLOOKUP(Main!$C$2,Translating_products!$EE$4:$EU$300,Translating_products!CM212,FALSE),HLOOKUP($Q$1,Translating_products!$EE$4:$EU$300,Translating_products!CM212,FALSE))","v":140},168,0,null,null,null,null,null,null,null,null,null,"£"]
[null,{"$f":"Calculation!C287","v":1},{"$f":"HLOOKUP(Main!$C$2,Translating_products!$CN$4:$DD$300,Translating_products!CM213, FALSE)","v":100285},{"$f":"HLOOKUP(Main!$C$2,Translating_products!$DI$4:$DY$300,Translating_products!CM213, FALSE)","v":"Touch Surface Air"},{"$f":"IF(ISBLANK($Q$1),HLOOKUP(Main!$C$2,Translating_products!$EE$4:$EU$300,Translating_products!CM213,FALSE),HLOOKUP($Q$1,Translating_products!$EE$4:$EU$300,Translating_products!CM213,FALSE))","v":150},180,180,null,null,null,null,null,null,null,null,null,"£"]
[null,{"$f":"Calculation!C288+Calculation!C175","v":0},{"$f":"HLOOKUP(Main!$C$2,Translating_products!$CN$4:$DD$300,Translating_products!CM214, FALSE)","v":100299},{"$f":"HLOOKUP(Main!$C$2,Translating_products!$DI$4:$DY$300,Translating_products!CM214, FALSE)","v":"NFC Code Touch Air - White"},{"$f":"IF(ISBLANK($Q$1),HLOOKUP(Main!$C$2,Translating_products!$EE$4:$EU$300,Translating_products!CM214,FALSE),HLOOKUP($Q$1,Translating_products!$EE$4:$EU$300,Translating_products!CM214,FALSE))","v":220},264,0,null,null,null,null,null,null,null,null,null,"£"]
[null,{"$f":"Calculation!C315+Calculation!C176","v":1},{"$f":"HLOOKUP(Main!$C$2,Translating_products!$CN$4:$DD$300,Translating_products!CM215, FALSE)","v":100300},{"$f":"HLOOKUP(Main!$C$2,Translating_products!$DI$4:$DY$300,Translating_products!CM215, FALSE)","v":"NFC Code Touch Tree - White"},{"$f":"IF(ISBLANK($Q$1),HLOOKUP(Main!$C$2,Translating_products!$EE$4:$EU$300,Translating_products!CM215,FALSE),HLOOKUP($Q$1,Translating_products!$EE$4:$EU$300,Translating_products!CM215,FALSE))","v":220},264,264,null,null,null,null,null,null,null,null,null,"£"]
[null,{"$f":"Calculation!C289+Calculation!C177","v":0},{"$f":"HLOOKUP(Main!$C$2,Translating_products!$CN$4:$DD$300,Translating_products!CM216, FALSE)","v":100301},{"$f":"HLOOKUP(Main!$C$2,Translating_products!$DI$4:$DY$300,Translating_products!CM216, FALSE)","v":"NFC Code Touch for Nano - White"},{"$f":"IF(ISBLANK($Q$1),HLOOKUP(Main!$C$2,Translating_products!$EE$4:$EU$300,Translating_products!CM216,FALSE),HLOOKUP($Q$1,Translating_products!$EE$4:$EU$300,Translating_products!CM216,FALSE))","v":220},264,0,null,null,null,null,null,null,null,null,null,"£"]
[null,{"$f":"Calculation!C290+Calculation!C178","v":0},{"$f":"HLOOKUP(Main!$C$2,Translating_products!$CN$4:$DD$300,Translating_products!CM217, FALSE)","v":100305},{"$f":"HLOOKUP(Main!$C$2,Translating_products!$DI$4:$DY$300,Translating_products!CM217, FALSE)","v":"NFC Code Touch Air - Anthracite"},{"$f":"IF(ISBLANK($Q$1),HLOOKUP(Main!$C$2,Translating_products!$EE$4:$EU$300,Translating_products!CM217,FALSE),HLOOKUP($Q$1,Translating_products!$EE$4:$EU$300,Translating_products!CM217,FALSE))","v":220},264,0,null,null,null,null,null,null,null,null,null,"£"]
[null,{"$f":"Calculation!C291+Calculation!C179","v":0},{"$f":"HLOOKUP(Main!$C$2,Translating_products!$CN$4:$DD$300,Translating_products!CM218, FALSE)","v":100306},{"$f":"HLOOKUP(Main!$C$2,Translating_products!$DI$4:$DY$300,Translating_products!CM218, FALSE)","v":"NFC Code Touch Tree - Anthracite"},{"$f":"IF(ISBLANK($Q$1),HLOOKUP(Main!$C$2,Translating_products!$EE$4:$EU$300,Translating_products!CM218,FALSE),HLOOKUP($Q$1,Translating_products!$EE$4:$EU$300,Translating_products!CM218,FALSE))","v":220},264,0,null,null,null,null,null,null,null,null,null,"£"]
[null,{"$f":"Calculation!C316+Calculation!C180","v":0},{"$f":"HLOOKUP(Main!$C$2,Translating_products!$CN$4:$DD$300,Translating_products!CM219, FALSE)","v":100307},{"$f":"HLOOKUP(Main!$C$2,Translating_products!$DI$4:$DY$300,Translating_products!CM219, FALSE)","v":"NFC Code Touch for Nano - Anthracite"},{"$f":"IF(ISBLANK($Q$1),HLOOKUP(Main!$C$2,Translating_products!$EE$4:$EU$300,Translating_products!CM219,FALSE),HLOOKUP($Q$1,Translating_products!$EE$4:$EU$300,Translating_products!CM219,FALSE))","v":220},264,0,null,null,null,null,null,null,null,null,null,"£"]
[null,0,{"$f":"HLOOKUP(Main!$C$2,Translating_products!$CN$4:$DD$300,Translating_products!CM220, FALSE)","v":100323},{"$f":"HLOOKUP(Main!$C$2,Translating_products!$DI$4:$DY$300,Translating_products!CM220, FALSE)","v":"Battery Pack (Touch Surface)"},{"$f":"IF(ISBLANK($Q$1),HLOOKUP(Main!$C$2,Translating_products!$EE$4:$EU$300,Translating_products!CM220,FALSE),HLOOKUP($Q$1,Translating_products!$EE$4:$EU$300,Translating_products!CM220,FALSE))","v":16.5},19.8,0,null,null,null,null,null,null,null,null,null,"£"]
[null,0,{"$f":"HLOOKUP(Main!$C$2,Translating_products!$CN$4:$DD$300,Translating_products!CM221, FALSE)","v":200306},{"$f":"HLOOKUP(Main!$C$2,Translating_products!$DI$4:$DY$300,Translating_products!CM221, FALSE)","v":"Power Adapter (Touch Surface)"},{"$f":"IF(ISBLANK($Q$1),HLOOKUP(Main!$C$2,Translating_products!$EE$4:$EU$300,Translating_products!CM221,FALSE),HLOOKUP($Q$1,Translating_products!$EE$4:$EU$300,Translating_products!CM221,FALSE))","v":13.5},16.2,0,null,null,null,null,null,null,null,null,null,"£"]
[null,0,{"$f":"HLOOKUP(Main!$C$2,Translating_products!$CN$4:$DD$300,Translating_products!CM222, FALSE)","v":0},{"$f":"HLOOKUP(Main!$C$2,Translating_products!$DI$4:$DY$300,Translating_products!CM222, FALSE)","v":0},{"$f":"IF(ISBLANK($Q$1),HLOOKUP(Main!$C$2,Translating_products!$EE$4:$EU$300,Translating_products!CM222,FALSE),HLOOKUP($Q$1,Translating_products!$EE$4:$EU$300,Translating_products!CM222,FALSE))","v":0},0,0,null,null,null,null,null,null,null,null,null,"£"]
[null,0,{"$f":"HLOOKUP(Main!$C$2,Translating_products!$CN$4:$DD$300,Translating_products!CM223, FALSE)","v":0},{"$f":"HLOOKUP(Main!$C$2,Translating_products!$DI$4:$DY$300,Translating_products!CM223, FALSE)","v":0},{"$f":"IF(ISBLANK($Q$1),HLOOKUP(Main!$C$2,Translating_products!$EE$4:$EU$300,Translating_products!CM223,FALSE),HLOOKUP($Q$1,Translating_products!$EE$4:$EU$300,Translating_products!CM223,FALSE))","v":0},{"$f":"E221*(1+$E$223*0.01)","v":0},{"$f":"B221*F221","v":0},null,null,null,null,null,null,null,null,null,"£"]
[null,null,null,{"$f":"VLOOKUP(Main!C2,Translating_general!A77:AF94,9,FALSE)","v":"Total excl. VAT"},null,null,{"$f":"SUMPRODUCT(B7:B221,E7:E221)","v":15166},null,null,null,null,null,null,null,null,null,{"$f":"$Q$7","v":"£"}]
[null,null,null,{"$f":"VLOOKUP(Main!C2,Translating_general!A77:AF94,10,FALSE)","v":"+ VAT"},{"$f":"IF(ISBLANK($Q$1),VLOOKUP(Main!C2,Translating_general!A77:IH94,35,FALSE),VLOOKUP(Q1,Translating_general!A77:IH94,35,FALSE))","v":20},"%",{"$f":"G222*((E223/100))","v":3033.2000000000003},null,null,null,null,null,null,null,null,null,{"$f":"$Q$7","v":"£"}]
[null,null,null,{"$f":"VLOOKUP(Main!C2,Translating_general!A77:AF94,11,FALSE)","v":"Total incl. VAT"},null,null,{"$f":"G222+G223","v":18199.2},null,null,null,null,null,null,null,null,null,"£"]
[null,null,null,null,null,null,null,null,null,null,null,null,null,null,null,null,null,"Price increase factor"]
[null,null,null,null,null,null,null,null,null,null,null,null,null,null,null,null,null,{"$f":"IF(Q1 = \"CHE\", 0.027, IF(Main!C2=\"DE\",\"0,027\",IF(Main!C2=\"EN_UK\",0,IF(Main!C2=\"EN_US\",0,IF(Main!C2=\"FR\",0.027,IF(Main!C2=\"ES\",0.027,IF(Main!C2=\"CZ\",0.027,IF(Main!C2=\"IT\",0.027,IF(Main!C2=\"SK\",0.027,IF(Main!C2=\"NL\",0.027,0.027))))))))))","v":0}]
[]
[]
[]
[null,null,{"$f":"VLOOKUP(Main!C2,Translating_general!A77:AF94,12,FALSE)","v":"Available"},null,{"$f":"VLOOKUP(Main!C2,Translating_general!A77:AF94,13,FALSE)","v":"Required"},{"$f":"VLOOKUP(Main!C2,Translating_general!A77:AF94,14,FALSE)","v":"Spare"}]
[null,null,{"$f":"Calculation!D53","v":4},{"$f":"VLOOKUP(Main!C2,Translating_general!A77:AF94,15,FALSE)","v":"Analogue Inputs"},{"$f":"Calculation!D54","v":0},{"$f":"Calculation!D55","v":4}]
[null,null,{"$f":"Calculation!E53","v":8},{"$f":"VLOOKUP(Main!C2,Translating_general!A77:AF94,16,FALSE)","v":"Digital Inputs"},{"$f":"Calculation!E54","v":7},{"$f":"Calculation!E55","v":1}]
[null,null,{"$f":"Calculation!F53","v":4},{"$f":"VLOOKUP(Main!C2,Translating_general!A77:AF94,17,FALSE)","v":"Analogue Outputs"},{"$f":"Calculation!F54","v":0},{"$f":"Calculation!F55","v":4}]
[null,null,{"$f":"Calculation!G53","v":8},{"$f":"VLOOKUP(Main!C2,Translating_general!A77:AF94,18,FALSE)","v":"Digital Outputs 5A"},{"$f":"Calculation!G54","v":5},{"$f":"Calculation!G55","v":3}]
[null,null,{"$f":"Calculation!H53","v":0},{"$f":"VLOOKUP(Main!C2,Translating_general!A77:AF94,19,FALSE)","v":"1-Wire Channel"},{"$f":"Calculation!H54","v":0},{"$f":"Calculation!H55","v":0}]
[null,null,{"$f":"Calculation!I53","v":128},{"$f":"VLOOKUP(Main!C2,Translating_general!A77:AF94,20,FALSE)","v":"Air Base Channels"},{"$f":"Calculation!I54","v":32},{"$f":"Calculation!I55","v":96}]
[null,null,{"$f":"Calculation!J53","v":0},{"$f":"VLOOKUP(Main!C2,Translating_general!A77:AF94,21,FALSE)","v":"EnOcean"},{"$f":"Calculation!J54","v":0},{"$f":"Calculation!J55","v":0}]
[null,null,{"$f":"Calculation!L53","v":0},{"$f":"VLOOKUP(Main!C2,Translating_general!A77:AF94,22,FALSE)","v":"Digital Outputs 16A"},{"$f":"Calculation!L54","v":0},{"$f":"Calculation!L55","v":0}]
[null,null,{"$f":"Calculation!C79*4","v":0},{"$f":"VLOOKUP(Main!C2,Translating_general!A77:AF94,23,FALSE)","v":"Dimmer Channels"},{"$f":"Calculation!N79","v":0},{"$f":"C239-E239","v":0}]
[null,null,{"$f":"Calculation!O53","v":0},{"$f":"VLOOKUP(Main!C2,Translating_general!A101:AL118,38,FALSE)","v":"Dali Channels"},{"$f":"Calculation!O54","v":0},{"$f":"Calculation!O55","v":0}]
[null,null,{"$f":"Calculation!K45+Calculation!C298*Calculation!K72+Calculation!C446*Calculation!K72","v":100},{"$f":"VLOOKUP(Main!C2,Translating_general!A77:AH95,34,FALSE)","v":"Tree Channels"},{"$f":"Calculation!K43*(-1)+Calculation!C446*Calculation!K72","v":85},{"$f":"C241-E241","v":15}]
[]
[]
[null,null,null,{"$f":"VLOOKUP(Main!C2,Translating_general!A77:AF94,24,FALSE)","v":"Space Requirement Cabinet"}]
[null,null,null,{"$f":"VLOOKUP(Main!C2,Translating_general!A77:AF94,25,FALSE)","v":"in mm"},{"$f":"Space!I9","v":1024}]
[null,null,null,{"$f":"VLOOKUP(Main!C2,Translating_general!A77:AF94,26,FALSE)","v":"in breaker units"},{"$f":"Space!I10","v":60}]
[]
[null,null,null,{"$f":"VLOOKUP(Main!C2,Translating_general!A77:AF94,27,FALSE)","v":"Power Supply Calc. In Amps"}]
[null,null,null,null,{"$f":"VLOOKUP(Main!C2,Translating_general!A77:AF94,31,FALSE)","v":"Available"},{"$f":"VLOOKUP(Main!C2,Translating_general!A77:AF94,32,FALSE)","v":"Requried"}]
[null,null,null,{"$f":"VLOOKUP(Main!C2,Translating_general!A77:AF94,28,FALSE)","v":"Extension"},{"$f":"Calculation!J460","v":1.3},{"$f":"Calculation!J461","v":0.1608}]
[null,null,null,{"$f":"VLOOKUP(Main!C2,Translating_general!A77:AF94,29,FALSE)","v":"LED"},{"$f":"Calculation!J476","v":22.6},{"$f":"Calculation!J477","v":19.510000000000002}]
[null,null,null,{"$f":"VLOOKUP(Main!C2,Translating_general!A77:AF94,30,FALSE)","v":"Peripherals"},{"$f":"Calculation!J508","v":1.3},{"$f":"Calculation!J509","v":0.3508}]
[]
[null,"Please note that all the prices might have changed!"]
[null,"This tool was degsigned to support you as good as possible, "]
[null,"if there are any mistakes in calculation please inform us! support@loxone.com"]

{"sheet":"Datanorm","index":19,"n_rows":0,"n_cols":0,"rows_kept":0,"cut":false,"hidden":true,"merged":[]}

{"sheet":"Sample Quote","index":20,"n_rows":196,"n_cols":6,"rows_kept":196,"cut":false,"hidden":true,"merged":[[133,1,133,8],[94,5,94,9],[97,5,97,9],[100,5,100,9],[76,1,85,8],[132,1,132,8],[131,1,131,8],[115,1,115,5],[119,1,119,5],[123,1,123,5],[193,2,193,3],[194,2,194,3],[138,1,138,8],[139,1,139,8],[144,1,144,8],[149,1,149,8],[188,2,188,3],[189,2,189,3],[190,2,190,3],[191,2,191,3],[192,2,192,3]]}
[]
[]
[]
[]
[]
[]
[]
[]
[]
[]
[]
[]
[]
[]
[null,"Loxone Smart Home Angebot"]
[]
[]
[]
[null,"Projekt"]
[null,"Kunde"]
[null,"Adresse"]
[null,"PLZ"]
[null,"Ort"]
[]
[]
[]
[]
[]
[]
[]
[]
[]
[]
[]
[]
[]
[]
[]
[]
[]
[]
[]
[]
[]
[]
[]
[]
[]
[]
[]
[]
[]
[]
[]
[]
[]
[]
[]
[]
[]
[]
[]
[]
[]
[]
[]
[]
[]
[]
[]
[]
[]
[]
[]
[null,"Loxone Leistungsbeschreibung"]
[]
[null,"Im Folgenden finden Sie eine Beschreibung der technischen Umsetzung Ihres Loxone Smart Homes. Die Leistungsbeschreibung enthält die Basisausstattung mit allen Komponenten die wir für ein Loxone Smart Home empfehlen. Damit können Sie Beleuchtung, Beschattung, Heizung, Alarm und mehr steuern. In dem Angebot enthalten ist die Verkabelung, Installation sowie die Konfiguration Ihres Loxone Smart Homes. In den Preisen sind Hardware, Verkabelung, Installation sowie Konfigurierung enthalten, ebenso sind die Apps zur Bedienung Ihres Loxone Smart Homes kostenlos im Google Play Store sowie Apple App Store erhältlich.  "]
[]
[]
[]
[]
[]
[]
[]
[]
[]
[]
[]
[]
[]
[]
[null,"Smartes Bedienen mit dem Loxone Tastenstandard"]
[]
[null,null,null,null,null,"Mitte"]
[null,null,null,null,null,"Ein Klick, Licht an. Mit jedem weiteren Klick schalten Sie Ihre vordefinierten Szenen durch. Doppelklick: Alles aus im Raum. Nicht nur die Beleuchtung schalten Sie mit dem Doppelklick aus, auch Verbraucher oder die Musik wird somit ausgeschaltet. Dreifachklick: “Alles aus” im Smart Home."]
[]
[null,null,null,null,null,"Links oben/unten"]
[null,null,null,null,null,"Das Smart Home übernimmt für Sie die Beschattung. Möchten Sie eingreifen, reicht ein Klick auf die Jalousietasten und die Beschattung fährt nach Ihrer Definition."]
[]
[null,null,null,null,null,"Rechts oben/unten"]
[null,null,null,null,null,"Ein Klick: Musik an. Doppelklick: Die Musikquelle wird gewechselt. Ein Klick, die Musik wird leiser. Doppelklick: Die Musik im Raum wird deaktiviert."]
[]
[]
[]
[]
[]
[]
[]
[]
[]
[]
[]
[]
[]
[]
[]
[]
[]
[]
[]
[]
[]
[]
[]
[]
[]
[]
[null,"Allgemeine Beschreibung"]
[]
[null,"Beleuchtung"]
[]
[null,"Automatisiertes Grundlicht , Szenen Bedienung über einen der Loxone Haupt-Tastpunkte oder der Remote Air Fernbedienung. Raum-Aus-Funktion über Doppelklick auf Szenen Taste."]
[null,"Somit “Kein Vergessen mehr”, das Licht auszuschalten. Befindet sich länger als eine Stunde niemand im Raum, wird automatisch die Beleuchtung deaktiviert."]
[null,"Lichtszenen können über die Visualisierung verändert, ergänzt und gespeichert werden."]
[]
[]
[null,"Beschattung"]
[]
[null,"Die Beschattung regelt sich automatisch anhand der Innenraumtemperatur sowie des Sonnenstands."]
[null,"Zentrale Bedienung im Raum der Beschattung über einen der Loxone Haupt-Tastpunkte (Auf/Ab). Beschattungselemente werden bei erhöhter Windgeschwindigkeit automatisch in Sicherheitsposition gefahren. Beschattung wird bei Morgendämmerung automatisch geöffnet und bei Abenddämmerung wieder automatisch geschlossen. Jedes Beschattungselement kann über die Visualisierung einzeln bedient werden. Bei geöffneter Terrassentür wird die Automatik deaktiviert und die Beschattung hochgefahren. "]
[]
[]
[null,"Heizung"]
[]
[null,"Die Temperatur kann auf Raumebene individuell eingestellt werden. Über die Visualisierung können die Komforttemperaturen sowie Heizzeiten/Kühlzeiten individuell angepasst werden.\nGeöffnete Fenster werden über einen Integrierten Kontakt berücksichtigt und die Temperatur wird automatisch auf Frostschutz Temperatur im Winter und Hitzeschutz Temperatur im Sommer geregelt. Weiters wird bei Anwesenheit die Komforttemperatur für 1 Stunde verlängert.\n"]
[]
[]
[null,"Musik"]
[]
[null,"Ihre Lieblingsmusik können Sie mit Loxone in jeder Musik Zone perfekt integrieren \nund bequem per App oder den Haupt-Tastpunkten bedient werden. \nEin/Aus, Lautstärke sowie Quellen können bequem von den Loxone Haupt-Tastpunkten oder der Remote Air Fernbedienung bedient werden."]
[]
[]
[]
[]
[]
[]
[]
[]
[]
[]
[]
[]
[]
[]
[]
[null,"Raumliste"]
[]
[null,"Raum","Licht","Beschattung","Heizung ","Musik"]
[]
[]
[]
[]
[]
[]
[]
[]
[]
[]
[]
[]
[]
[]
[]
[]
[]
[]
[]
[]
[]
[]
[null,"Licht",{"$f":"QuickPlanning2!D43","v":2992.5}]
[null,"Beschattung",{"$f":"QuickPlanning2!D45","v":0}]
[null,"Heizung",{"$f":"QuickPlanning2!D47","v":670}]
[null,"Musik",{"$f":"QuickPlanning2!D49","v":2645}]
[null,"Gesamt netto",{"$f":"SUM(C190:C194)+C189","v":6307.5}]
[null,"Gesamt brutto",null,{"$f":"C195*(1+Products!E223/100)","v":7569}]

{"sheet":"News","index":21,"n_rows":38,"n_cols":13,"rows_kept":38,"cut":false,"hidden":false,"merged":[[3,11,25,11],[6,12,7,15],[8,12,9,15],[10,12,11,15],[12,12,13,15],[14,12,15,15],[16,12,17,15],[18,12,19,15],[20,12,21,15],[22,12,23,15],[24,12,25,15],[3,12,5,15],[3,6,25,6],[6,7,7,10],[8,7,9,10],[10,7,11,10],[12,7,13,10],[18,7,19,10],[20,7,21,10],[22,7,23,10],[24,7,25,10],[3,7,5,10],[14,7,17,10],[0,0,2,0],[3,0,25,0],[3,2,5,5],[6,2,7,5],[8,2,9,5],[10,2,11,5],[12,2,13,5],[14,2,15,5],[16,2,17,5],[18,2,19,5],[20,2,21,5],[22,2,23,5],[24,2,25,5],[26,2,28,5],[26,6,48,6],[26,7,28,10],[26,11,48,11],[26,12,28,15],[29,2,30,5],[29,7,30,10],[29,12,30,15],[31,2,32,5],[31,7,32,10],[31,12,32,15],[33,2,34,5],[33,7,34,10],[33,12,34,15],[35,2,36,5],[35,7,36,10],[35,12,36,15],[37,2,38,5],[37,7,40,10],[37,12,38,15],[39,2,40,5],[39,12,40,15],[41,2,42,5],[41,7,42,10],[41,12,42,15],[43,2,44,5],[43,7,44,10],[43,12,44,15],[45,2,46,5],[45,7,46,10],[45,12,46,15],[47,2,48,5],[47,7,48,10],[47,12,48,15]]}
["current version 2.9.0"]
["Version"]
["2_8_5"]
[null,null,"Changes at 2.9.0",null,null,null,null,"Changes at 2.8.5",null,null,null,null,"Changes at 2.8.6"]
[]
[]
[null,null," - Bug fixed where Solidline Air 20 and 50Nm counted relays",null,null,null,null,"  - Change log (NEWS) added into the Tool",null,null,null,null,"- Bug fixed when only a 1-wire reader was added (there was no Miniserver)"]
[]
[null,null," - New Products added",null,null,null,null,"  - added Light circuit 5-16A in light category",null,null,null,null,"- Some missing translations were added"]
[]
[null,null," - Bug fixed where not all products where counted in price",null,null,null,null,"  - added coupling relay to distribution category",null,null,null,null,"- Bug fixed, Air device channels from cathegory \"Sensors\" were not counted"]
[]
[null,null,null,null,null,null,null,"  - corrected price of weather service 10 years",null,null,null,null," - Window handle Air added"]
[]
[null,null,null,null,null,null,null," - new products added (Touch Pure anthracite, RGBW Dimmer Tree, new Spots)",null,null,null,null," - 2.8.6.'PRICE Window handle air + dimmer tree was not counted - fixed"]
[]
[]
[]
[null,null,null,null,null,null,null," - a few issues with blank cells were corrected"]
[]
[]
[]
[]
[]
[]
[]
[null,null,"Changes at 2.8.7",null,null,null,null,"Changes at 2.8.8",null,null,null,null,"Changes at 2.8.9"]
[]
[]
[null,null,"  - After a change at the main mage, the products will now actualize automatically",null,null,null,null,"  - new products added (weather station, shutter motor, spot backbox)",null,null,null,null," - new products added (spots, pendulum, shading actuator air)"]
[]
[null,null," - New Products addes (DI Extension)",null,null,null,null," - new prices (1.8.2017 increase)",null,null,null,null," - price is now also on the main page"]
[]
[null,null," - Main page: Reset button added to clear the hole sheet",null,null,null,null,null,null,null,null,null," - printing has been improved"]
[]
[null,null," - RGBW Dimmer 24V Tree Price corrected for Switzerland"]
[]
[null,null," - Once the tool is opened a message box will ask about the  language"]

{"sheet":"Message Box","index":22,"n_rows":3,"n_cols":3,"rows_kept":3,"cut":false,"hidden":true,"merged":[]}
[]
[null,"Verstärker:",{"$f":"VLOOKUP(Main!C2,Translating_general!A125:C142,2,FALSE)","v":"Please add an amplifier manually!"}]
[null,"Dimmer:",{"$f":"VLOOKUP(Main!C2,Translating_general!A125:C142,3,FALSE)","v":"Please add dimmer (dmx/air) manually due to your circuits!"}]

{"sheet":"Calculation","index":23,"n_rows":575,"n_cols":15,"rows_kept":575,"cut":false,"hidden":true,"merged":[[134,5,134,6],[135,5,135,6],[136,5,136,6],[137,5,137,6],[3,0,18,0],[74,3,74,4],[29,1,29,2],[47,1,47,2],[133,5,133,6]]}
["MsGO =",false,null,"AI (Eingang)","DI (Eingang)","AO (Ausgang)","DO (Ausgang)","1-Wire Kanal","Air Base Kanal","EnOcean","Tree","DO 16A","Air Dimmer","Dimmkanäle","Dali"]
[]
[null,null,null,"AI (Eingang)","DI (Eingang)","AO (Ausgang)","DO (Ausgang)","1-Wire Kanal","Air Base Kanal","EnOcean","Tree","DO 16A","Air Dimmer","Dali Kanäle","1-wire leser"]
["Eingabe Kunde","Benötigte Eingänge|Ausgänge|Kanäle",null,{"$f":"(E156+D220)*(-1)","v":0},{"$f":"(E220+D428)*(-1)","v":-7},{"$f":"F156*(-1)+G118*(-1)","v":0},{"$f":"(G156+D396+H77+E367)*(-1)","v":-5},{"$f":"(H156+H220)*(-1)","v":0},{"$f":"(E118+D294+E396+F428+I220+I156+L220)*(-1)","v":-32},{"$f":"(-1)*(E294+G428)","v":0},{"$f":"F321*(-1)","v":-85},{"$f":"D367*(-1)+K118*(-1)","v":0},null,{"$f":"C560*-1","v":0},{"$f":"-1*D183","v":0}]
[null," +Miniserver (=WENN(…)+C278)",{"$f":"IF(B1=FALSE, IF(MIN(D4:O4)<0,1,0), 0)","v":1},{"$f":"$C$5*D62","v":4},{"$f":"$C$5*E62","v":8},{"$f":"$C$5*F62","v":4},{"$f":"$C$5*G62","v":8}]
[null," +MsGo",{"$f":"IF(AND(B1=TRUE, I4 < 0), 1+C250+C444, C250+C444)+IF(AND(B1=TRUE,I4 =0), 1,0)","v":0},null,null,null,null,null,{"$f":"C6*I71","v":0}]
[null," +Dimmer Extensions",{"$f":"C440+C79","v":0},null,{"$f":"C7*E67","v":0}]
[null,"Zwischensumme 1",null,{"$f":"SUM(D4:D7)","v":4},{"$f":"SUM(E4:E7)","v":1},4,3,0,-32,0,{"$f":"SUM(K4:K7)","v":-85},0]
[null," +Relay Extension (=C286)",0,null,null,null,null,null,null,null,null,{"$f":"L68*C9","v":0}]
[null," +Multi Extension Air (=C288+C185)",0,null,{"$f":"$C$10*E70","v":0},null,null,{"$f":"$C$10*H70","v":0},null,null,null,{"$f":"$C$10*L70","v":0},{"$f":"C10","v":0}]
[null,"Zwischensumme 2",null,{"$f":"SUM(D8:D10)","v":4},{"$f":"SUM(E8:E10)","v":1},4,3,0,-32,0,{"$f":"SUM(K8:K10)","v":-85},0]
[null," +1-Wire Extension (=C283+H132)",0,null,null,null,null,{"$f":"C12*H65","v":0}]
[null," +EnoCean Extension (=C213+C284)",0,null,null,null,null,null,null,{"$f":"C13*J66","v":0}]
[null," +Dali Extension",{"$f":"C447","v":0},null,null,null,null,null,null,null,null,null,null,{"$f":"C14*N74","v":0}]
[null," +Tree Extension",0,null,null,null,null,null,null,null,{"$f":"C15*K72","v":0}]
[null,"`+ DI Extension",{"$f":"C449","v":0},null,{"$f":"20*C16","v":0}]
[null," +AirBaseExtension (=C183+C287)",0,null,null,null,null,null,{"$f":"C17*I69","v":0}]
[null,"Zwischensumme 3",null,{"$f":"SUM(D11:D17)","v":4},{"$f":"SUM(E11:E17)","v":1},{"$f":"SUM(F11:F17)","v":4},3,{"$f":"SUM(H11:H17)","v":0},{"$f":"SUM(I11:I17)","v":-32},0,{"$f":"SUM(K11:K17)","v":-85},0]
[null," +Extension (=C279)",0,{"$f":"$C$19*D63","v":0},{"$f":"$C$19*E63","v":0},{"$f":"$C$19*F63","v":0},{"$f":"$C$19*G63","v":0}]
[null,"Fehlende/Überschüssige Anschlüsse_AI_auf_DI",null,{"$f":"D18","v":4},{"$f":"E18","v":1},{"$f":"SUM(F18:F19)","v":4},3,0,-32,0,-85,{"$f":"L18","v":0}]
[]
[null,"Anschlüsse vor autmomatische Ergänzung von fehlenden Extensions"]
[null,"Gesamt verfügbare Anschlüsse",null,{"$f":"D5+D6+D7+D9+D10+D12+D13+D17+D19","v":4},{"$f":"E5+E6+E7+E9+E10+E12+E13+E17+E19+E16","v":8},4,8,0,0,0,{"$f":"K15","v":0},0,{"$f":"M10","v":0},{"$f":"N14","v":0}]
[null,"Benötigte Anschlüsse",null,{"$f":"D4","v":0},-7,0,-5,0,-32,0,{"$f":"K4","v":-85},0,null,{"$f":"N4","v":0}]
[null,"Übrigbleibende Anschlüsse",null,{"$f":"IF(D20>0,D20,0)","v":4},{"$f":"IF(E20>0,E20,0)","v":1},{"$f":"IF(F20>0,F20,0)","v":4},3,0,0,0,{"$f":"IF(K20>0,K20,0)","v":0},0,null,{"$f":"IF(N24>0,N24,0)","v":0}]
[null,{"$f":"Calculation!B241=Products!D35","v":true},null,{"$f":"IF(D20<0,D20,0)","v":0},{"$f":"IF(E20<0,E20,0)","v":0},{"$f":"IF(F20<0,F20,0)","v":0},0,0,-32,0,{"$f":"IF(K20<0,K20,0)","v":-85},0]
[null,"Extensions für fehlende Anschlüsse"]
[null,"Extension",{"$f":"C29","v":0},{"$f":"$C$28*D63","v":0},{"$f":"$C$28*E63","v":0},{"$f":"$C$28*F63","v":0},{"$f":"$C$28*G63","v":0}]
[null,"Anzahlberechnung Extension",{"$f":"MAX(D29,F29)","v":0},{"$f":"IF(D20<0,ROUNDUP(D20/D63*(-1),0),0)","v":0},{"$f":"IF(E20<0,ROUNDUP(E20/E63*(-1),0),0)","v":0},{"$f":"IF(F20<0,ROUNDUP(F20/F63*(-1),0),0)","v":0},{"$f":"IF(G20<0,ROUNDUP(G20/G63*(-1),0),0)","v":0}]
[null,"Fehlende Anschlüsse ",null,{"$f":"D20+D28","v":4},{"$f":"E28+E20","v":1},{"$f":"F20+F28","v":4},{"$f":"G20+G28","v":3},{"$f":"H20","v":0},{"$f":"I20","v":-32},{"$f":"J20","v":0},{"$f":"K20","v":-85},{"$f":"L20","v":0}]
[null,"AI auf DI Fehlende Anschlüsse","ben. AI",{"$f":"IF(AND(D30*-1<=E30,E30<0),D30-(D30+E30),IF(E30<0,D30,0))","v":0},{"$f":"IF(E30<0,E30+D30,E30)","v":1},"Entscheider ob weitere Extension"]
[null,"Fehlende Anschlüsse nach Umlegung",null,{"$f":"D30-D31","v":4},{"$f":"D31","v":0},"E29 =WENN(E28<0;E28+D28;E28)",null,null,{"$f":"IF(AND(E30<0,(E30+D30)>0),E30+D30-D31,0)","v":0}]
[null,null,null,null,{"$f":"E30+E32","v":1},null,null,null,{"$f":"IF(C35>0,C35*16+E33,0)","v":0}]
[]
[null,"Restliche Extension für DI",{"$f":"IF(E31<0,ROUNDUP(-E31/16,0),0)","v":0},{"$f":"IF(AND(C35>0,E35=0),(E31+C35*12)+C35*4,C35*4)","v":0},{"$f":"IF(AND(C35>0,ABS(E31)<C35*12),C35*12+E31,0)","v":0},{"$f":"$C$35*F63","v":0},{"$f":"$C$35*G63","v":0}]
[null,"Fehlende/Überschüssige Anschlüsse ",null,{"$f":"D32+D35","v":4},{"$f":"IF(AND(C35>0,ABS(E31)<C35*12),C35*12+E31,0)","v":0},{"$f":"F30+F35","v":4},{"$f":"G30+G35","v":3},null,null,null,null,{"$f":"IF(G36<0,L20+G36,L20)","v":0}]
[null,null,null,null,null,"E34 =WENN((E33+E29)<0;0;E33+E29) zuvor"]
[null,"Relay Extension",{"$f":"IF(L36<0,ROUNDUP(L36/L68*(-1),0),0)","v":0},null,null,null,null,null,null,null,null,{"$f":"C38*L68","v":0}]
[null,"Fehlende Anschlüsse ",null,{"$f":"D36","v":4},{"$f":"E36","v":0},{"$f":"F36","v":4},{"$f":"IF(G36>0,G36,0)","v":3},{"$f":"H30","v":0},{"$f":"I30","v":-32},{"$f":"J30","v":0},null,{"$f":"SUM(L36:L38)","v":0}]
[null,"1-Wire Extension",{"$f":"IF(H39<0,ROUNDUP(H39/H65*(-1),0),0)","v":0},null,null,null,null,{"$f":"C40*H65","v":0}]
[null,"Fehlende Anschlüsse ",null,{"$f":"SUM(D39:D40)","v":4},{"$f":"SUM(E39:E40)","v":0},4,3,0,-32,0,null,0]
[null,"EnOcean-Extension",{"$f":"IF(J41<0,ROUNDUP(J41/J66*(-1),0),0)","v":0},null,null,null,null,null,null,{"$f":"C42*J66","v":0}]
[null,"Fehlende Anschlüsse ",null,null,{"$f":"SUM(E41:E42)","v":0},{"$f":"SUM(F41:F42)","v":4},3,0,-32,0,{"$f":"K30","v":-85},0]
[null,"AirBaseExtension",{"$f":"IF(I43<0,ROUNDUP(I43/I69*(-1),0),0)","v":1},null,null,null,null,null,{"$f":"C44*I69","v":128}]
[null,"Tree Extension",{"$f":"IF(K43<0,ROUNDUP(K43/K72*(-1),0),0)","v":1},null,null,null,null,null,null,null,{"$f":"C45*K72","v":100}]
[null,"Dali Extension",{"$f":"IF((N24+N23)<0,ROUNDUP((N24+N23)/N74*(-1),0),0)","v":0},"Eine Extension unter \"MS + Ext.\" zählt nun ebenfalls zu den channels dazu und wird nichtmehr extra addiert"]
[null,"Zusätzlicher Miniserver (Basis Extensions)",{"$f":"IF(C58>1,C58-1,0)","v":0},{"$f":"$C$47*D5","v":0},{"$f":"$C$47*E5","v":0},{"$f":"$C$47*F5","v":0},{"$f":"$C$47*G5","v":0}]
[null,"Reserve nach Abdeckung fehlender Anschlüsse",null,{"$f":"D41+D47","v":4},{"$f":"SUM(E43:E47)","v":0},4,3,0,96,0,{"$f":"SUM(K43:K45)","v":15},{"$f":"SUM(L43:L47)","v":0}]
[]
[]
[]
[null,"Anschlüsse nach autmomatische Ergänzung von fehlenden Extensions"]
[null,"Gesamt verfügbare Anschlüsse",null,{"$f":"D23+D28+C35*4+C432*D62+D63*C433+D47","v":4},{"$f":"E23+E28+C35*12+C432*E62+C433*E63+E47+E70*(C249+C443)","v":8},{"$f":"F23+F28+F35+C432*F62+C433*F63+F47","v":4},{"$f":"G23+G28+G35+G47+C432*G62+C433*G63","v":8},{"$f":"H23+H40+C437*H65+(C249+C443)*H70","v":0},{"$f":"I23+I44+(C247+C442)*I69","v":128},{"$f":"J23+J44+(D247+D442)*J69","v":0},{"$f":"K23+K44+(E247+E442)*K69","v":0},{"$f":"L23+L38+C441*L68+(C249+C443)*L70","v":0},null,null,{"$f":"N23+C46*N74","v":0}]
[null,"Benötigte Anschlüsse",-1,{"$f":"ABS(D4)+D31+C35*4-D35","v":0},{"$f":"ABS(E4)-E32-(C35*4-D35)","v":7},{"$f":"F4*$C$54","v":0},{"$f":"G4*$C$54+IF(G36<0,G36,0)","v":5},{"$f":"H4*$C$54","v":0},{"$f":"I4*$C$54","v":32},{"$f":"J4*$C$54","v":0},{"$f":"K24+K45+(E248+E443)*K70","v":15},{"$f":"L4*$C$54-IF(G36<0,G36,0)","v":0},null,null,{"$f":"C560","v":0}]
[null,"Übrigbleibende Anschlüsse",null,{"$f":"D53-D54","v":4},{"$f":"E53-E54","v":1},{"$f":"F53-F54","v":4},3,0,96,0,{"$f":"K25+K47+(E249+E444)*K71","v":0},0,null,null,{"$f":"O53-O54","v":0}]
[]
[null,"Gesamtanzahl Extensions",{"$f":"Products!B8+Products!B11+Products!B12+Products!B13+Products!B14+Products!B15+Products!B21+Products!B23+Products!B24+Products!B26+Products!B28+Products!B40","v":2}]
[null,"Benötigte Miniserver inkl. Extensions",{"$f":"ROUNDUP(C57/30,0)","v":1}]
[]
[]
[null,null,null,"AI (Eingang)","DI (Eingang)","AO (Ausgang)","DO (Ausgang)","1-Wire Kanal","Air Base Kanal","EnOcean","Tree Kanal","DO 16A","DMX Kanäle","Dali Kanäle"]
[null,"Miniserver",null,{"$f":"Products!$J$7","v":4},{"$f":"Products!$K$7","v":8},{"$f":"Products!$L$7","v":4},{"$f":"Products!$M$7","v":8}]
[null,"Extension",null,{"$f":"Products!$J$8","v":4},{"$f":"Products!$K$8","v":12},{"$f":"Products!$L$8","v":4},{"$f":"Products!$M$8","v":8}]
[null,"DMX Extension",null,null,null,null,null,null,null,null,null,null,{"$f":"Products!$N$12","v":128}]
[null,"1-wire Extension",null,null,null,null,null,{"$f":"Products!$N$14","v":20}]
[null,"EnOcean Extension",null,null,null,null,null,null,null,{"$f":"Products!$N$15","v":128}]
[null,"Dimmer Extension",null,null,{"$f":"Products!$K$21","v":8},{"$f":"Products!$L$21","v":4}]
[null,"Relay Extension",null,null,null,null,null,null,null,null,null,{"$f":"Products!$M$23","v":14}]
[null,"Air Base Extension",null,null,null,null,null,null,{"$f":"Products!$N$24","v":128}]
[null,"Multi Extension Air",null,null,{"$f":"Products!$K$26","v":12},null,null,{"$f":"Products!$N$26","v":20},null,null,null,{"$f":"Products!$M$26","v":8},"Air Dimmer"]
[null,"Miniserver Go",null,null,null,null,null,null,{"$f":"Products!$N$30","v":128}]
[null,"Tree Extension",null,null,null,null,null,null,null,null,100]
[null,"DI Extension",null,null,20]
[null,"Dali Extension",null,null,null,null,null,null,null,null,null,null,null,64]
[null,null,null,"Benötigte Kanäle \nauf Extension \n(Basis LED Streifen)"]
[null,"Licht","Anzahl","DMX Ext.","Air Base Ext.","DMX Frei","AO","DO","Dimmer Kanäle frei",null,"DO 16A","Tree"]
[null,{"$f":"Light!B18","v":"Light Circut (switched )"},{"$f":"IF(ISNA(VLOOKUP(B77,Main!$B$5:$C$15,2,FALSE)),0,VLOOKUP(B77,Main!$B$5:$C$15,2,FALSE))","v":3},null,null,null,null,{"$f":"1*C77","v":3}]
["100012",{"$f":"Light!B2","v":"DMX Extension"},{"$f":"IF(ISNA(VLOOKUP(B78,Main!$B$5:$C$15,2,FALSE)),0,VLOOKUP(B78,Main!$B$5:$C$15,2,FALSE))","v":0},null,null,{"$f":"Products!N12*C78","v":0}]
["100029",{"$f":"Light!B3","v":"Dimmer Channel (230V)"},{"$f":"ROUNDUP(IF(ISNA(VLOOKUP(B79,Main!$B$5:$C$15,2,FALSE)),0,VLOOKUP(B79,Main!$B$5:$C$15,2,FALSE))/4,0)","v":0},null,null,null,null,null,{"$f":"C79*4","v":0},null,null,null,null,{"$f":"ROUNDUP(IF(ISNA(VLOOKUP(B79,Main!$B$5:$C$15,2,FALSE)),0,VLOOKUP(B79,Main!$B$5:$C$15,2,FALSE)),0)","v":0}]
["100117",{"$f":"Light!B4","v":"RGBW 24V Dimmer DMX"},{"$f":"IF(ISNA(VLOOKUP(B80,Main!$B$5:$C$15,2,FALSE)),0,VLOOKUP(B80,Main!$B$5:$C$15,2,FALSE))","v":0},{"$f":"Products!N27*C80","v":0}]
["100125",{"$f":"Light!B5","v":"RGBW 24V Dimmer Air"},{"$f":"IF(ISNA(VLOOKUP(B81,Main!$B$5:$C$15,2,FALSE)),0,VLOOKUP(B81,Main!$B$5:$C$15,2,FALSE))","v":0},null,{"$f":"Products!N29*C81","v":0}]
["200042",{"$f":"Light!B6","v":"not sold"},{"$f":"IF(ISNA(VLOOKUP(B82,Main!$B$5:$C$15,2,FALSE)),0,VLOOKUP(B82,Main!$B$5:$C$15,2,FALSE))","v":0},null,null,null,null,null,"Slots Licht","DMX Ext."]
["200043",{"$f":"Light!B7","v":"Warm White LED Strip 5m"},{"$f":"IF(ISNA(VLOOKUP(B83,Main!$B$5:$C$15,2,FALSE)),0,VLOOKUP(B83,Main!$B$5:$C$15,2,FALSE))","v":0},null,null,null,null,null,"Verfügbare Kanäle",{"$f":"F78","v":0}]
["200045","RGB Streifen - gelöscht",{"$f":"IF(ISNA(VLOOKUP(B84,Main!$B$5:$C$15,2,FALSE)),0,VLOOKUP(B84,Main!$B$5:$C$15,2,FALSE))","v":0},null,null,null,null,null,"Benötigte Kanäle",{"$f":"D80","v":0}]
["200046",{"$f":"Light!B8","v":"not sold"},{"$f":"IF(ISNA(VLOOKUP(B85,Main!$B$5:$C$15,2,FALSE)),0,VLOOKUP(B85,Main!$B$5:$C$15,2,FALSE))","v":0},null,null,null,null,null,"Fehlende Kanäle",{"$f":"IF(J84>J83,J84-J83,0)","v":0}]
["200061",{"$f":"Light!B10","v":"Warm White LED Strip 5m IP65"},{"$f":"IF(ISNA(VLOOKUP(B86,Main!$B$5:$C$15,2,FALSE)),0,VLOOKUP(B86,Main!$B$5:$C$15,2,FALSE))","v":0},null,null,null,null,null,"Reserve",{"$f":"IF(J83>J84,J83-J84,0)","v":0}]
["200092",{"$f":"Light!B11","v":"Warm White LED Strip 5m IP68"},{"$f":"IF(ISNA(VLOOKUP(B87,Main!$B$5:$C$15,2,FALSE)),0,VLOOKUP(B87,Main!$B$5:$C$15,2,FALSE))","v":0}]
["200098",{"$f":"Light!B12","v":"RGBW LED Strip 5m IP20"},{"$f":"IF(ISNA(VLOOKUP(B88,Main!$B$5:$C$15,2,FALSE)),0,VLOOKUP(B88,Main!$B$5:$C$15,2,FALSE))","v":0},null,null,null,null,null,"DMX zusätzlich",{"$f":"ROUNDUP(J85/M64,0)","v":0}]
["200099",{"$f":"Light!B13","v":"RGBW LED Strip 5m IP65"},{"$f":"IF(ISNA(VLOOKUP(B89,Main!$B$5:$C$15,2,FALSE)),0,VLOOKUP(B89,Main!$B$5:$C$15,2,FALSE))","v":2}]
["200100",{"$f":"Light!B14","v":"RGBW LED Strip 5m IP68"},{"$f":"IF(ISNA(VLOOKUP(B90,Main!$B$5:$C$15,2,FALSE)),0,VLOOKUP(B90,Main!$B$5:$C$15,2,FALSE))","v":0}]
[200280,{"$f":"Light!B15","v":"LED Strip Accessories Set - RGBW"},{"$f":"IF(ISNA(VLOOKUP(B91,Main!$B$5:$C$15,2,FALSE)),0,VLOOKUP(B91,Main!$B$5:$C$15,2,FALSE))","v":0}]
[200278,{"$f":"Light!B16","v":"LED Strip Accessories Set - WW"},{"$f":"IF(ISNA(VLOOKUP(B92,Main!$B$5:$C$15,2,FALSE)),0,VLOOKUP(B92,Main!$B$5:$C$15,2,FALSE))","v":0}]
[null,{"$f":"Light!B17","v":"Analogue 1-10V"},{"$f":"IF(ISNA(VLOOKUP(B93,Main!$B$5:$C$15,2,FALSE)),0,VLOOKUP(B93,Main!$B$5:$C$15,2,FALSE))","v":0},null,null,null,{"$f":"1*C93","v":0}]
[100153,{"$f":"Light!B9","v":"Nano IO Air"},{"$f":"IF(ISNA(VLOOKUP(B94,Main!$B$5:$C$15,2,FALSE)),0,VLOOKUP(B94,Main!$B$5:$C$15,2,FALSE))","v":0},null,{"$f":"Products!N37*C94","v":0}]
["100204",{"$f":"Light!B19","v":"LED Spot RGBW - White"},{"$f":"IF(ISNA(VLOOKUP(B95,Main!$B$5:$C$15,2,FALSE)),0,VLOOKUP(B95,Main!$B$5:$C$15,2,FALSE))","v":0}]
["100203",{"$f":"Light!B20","v":"LED Spot WW - White"},{"$f":"IF(ISNA(VLOOKUP(B96,Main!$B$5:$C$15,2,FALSE)),0,VLOOKUP(B96,Main!$B$5:$C$15,2,FALSE))","v":0}]
[null,{"$f":"Light!B22","v":"Circut (switched ) 16A"},{"$f":"IF(ISNA(VLOOKUP(B97,Main!$B$5:$C$15,2,FALSE)),0,VLOOKUP(B97,Main!$B$5:$C$15,2,FALSE))","v":0},null,null,null,null,null,null,null,{"$f":"C97*1","v":0}]
[null,{"$f":"Light!B23","v":"LED Ceiling Spot RGBW - White"},{"$f":"IF(ISNA(VLOOKUP(B98,Main!$B$5:$C$15,2,FALSE)),0,VLOOKUP(B98,Main!$B$5:$C$15,2,FALSE))","v":0}]
[null,{"$f":"Light!B24","v":"LED Ceiling Spot WW - White"},{"$f":"IF(ISNA(VLOOKUP(B99,Main!$B$5:$C$15,2,FALSE)),0,VLOOKUP(B99,Main!$B$5:$C$15,2,FALSE))","v":0}]
[null,{"$f":"Light!B25","v":"LED Ceiling Spot Tree RGBW - White"},{"$f":"IF(ISNA(VLOOKUP(B100,Main!$B$5:$C$15,2,FALSE)),0,VLOOKUP(B100,Main!$B$5:$C$15,2,FALSE))","v":0},null,null,null,null,null,null,null,null,{"$f":"C100","v":0}]
[null,{"$f":"Light!B26","v":"LED Ceiling Spot Tree WW - White"},{"$f":"IF(ISNA(VLOOKUP(B101,Main!$B$5:$C$15,2,FALSE)),0,VLOOKUP(B101,Main!$B$5:$C$15,2,FALSE))","v":0},null,null,null,null,null,null,null,null,{"$f":"C101","v":0}]
[null,{"$f":"Light!B27","v":"LED Spot Tree WW - White"},{"$f":"IF(ISNA(VLOOKUP(B102,Main!$B$5:$C$15,2,FALSE)),0,VLOOKUP(B102,Main!$B$5:$C$15,2,FALSE))","v":37},null,null,null,null,null,null,null,null,{"$f":"C102","v":37}]
[null,{"$f":"Light!B28","v":"LED Spot Tree RGBW - White"},{"$f":"IF(ISNA(VLOOKUP(B103,Main!$B$5:$C$15,2,FALSE)),0,VLOOKUP(B103,Main!$B$5:$C$15,2,FALSE))","v":10},null,null,null,null,null,null,null,null,{"$f":"C103","v":10}]
[null,{"$f":"Light!B29","v":"RGBW 24V Dimmer Tree"},{"$f":"IF(ISNA(VLOOKUP(B104,Main!$B$5:$C$15,2,FALSE)),0,VLOOKUP(B104,Main!$B$5:$C$15,2,FALSE))","v":2},null,null,null,null,null,null,null,null,{"$f":"C104","v":2}]
[null,{"$f":"Light!B30","v":"LED Spot back box for cast concrete"},{"$f":"IF(ISNA(VLOOKUP(B105,Main!$B$5:$C$15,2,FALSE)),0,VLOOKUP(B105,Main!$B$5:$C$15,2,FALSE))","v":0}]
[null,{"$f":"Light!B31","v":"LED Pendulum Slim - White"},{"$f":"IF(ISNA(VLOOKUP(B106,Main!$B$5:$C$15,2,FALSE)),0,VLOOKUP(B106,Main!$B$5:$C$15,2,FALSE))","v":3}]
[null,{"$f":"Light!B32","v":"LED Pendulum Slim - Anthracite"},{"$f":"IF(ISNA(VLOOKUP(B107,Main!$B$5:$C$15,2,FALSE)),0,VLOOKUP(B107,Main!$B$5:$C$15,2,FALSE))","v":0}]
[null,{"$f":"Light!B33","v":"LED Ceiling Spot RGBW - Anthracite"},{"$f":"IF(ISNA(VLOOKUP(B108,Main!$B$5:$C$15,2,FALSE)),0,VLOOKUP(B108,Main!$B$5:$C$15,2,FALSE))","v":0}]
[null,{"$f":"Light!B34","v":"LED Ceiling Spot WW - Anthracite"},{"$f":"IF(ISNA(VLOOKUP(B109,Main!$B$5:$C$15,2,FALSE)),0,VLOOKUP(B109,Main!$B$5:$C$15,2,FALSE))","v":0}]
[null,{"$f":"Light!B35","v":"LED Ceiling Spot Tree RGBW - Anthracite"},{"$f":"IF(ISNA(VLOOKUP(B110,Main!$B$5:$C$15,2,FALSE)),0,VLOOKUP(B110,Main!$B$5:$C$15,2,FALSE))","v":0}]
[null,{"$f":"Light!B36","v":"LED Ceiling Spot Tree WW - Anthracite"},{"$f":"IF(ISNA(VLOOKUP(B111,Main!$B$5:$C$15,2,FALSE)),0,VLOOKUP(B111,Main!$B$5:$C$15,2,FALSE))","v":0}]
[null,{"$f":"Light!B37","v":"LED Spot Tree WW - Anthracite"},{"$f":"IF(ISNA(VLOOKUP(B112,Main!$B$5:$C$15,2,FALSE)),0,VLOOKUP(B112,Main!$B$5:$C$15,2,FALSE))","v":0}]
[null,{"$f":"Light!B38","v":"LED Spot Tree RGBW - Anthracite"},{"$f":"IF(ISNA(VLOOKUP(B113,Main!$B$5:$C$15,2,FALSE)),0,VLOOKUP(B113,Main!$B$5:$C$15,2,FALSE))","v":0}]
[null,{"$f":"Light!B39","v":"LED Spot RGBW - Anthracite"},{"$f":"IF(ISNA(VLOOKUP(B114,Main!$B$5:$C$15,2,FALSE)),0,VLOOKUP(B114,Main!$B$5:$C$15,2,FALSE))","v":0}]
[null,{"$f":"Light!B40","v":"LED Spot WW - Anthracite"},{"$f":"IF(ISNA(VLOOKUP(B115,Main!$B$5:$C$15,2,FALSE)),0,VLOOKUP(B115,Main!$B$5:$C$15,2,FALSE))","v":0}]
[null,null,null,0]
[]
[null,null,"Summe",{"$f":"SUM(D77:D117)","v":0},{"$f":"SUM(E77:E117)","v":0},{"$f":"SUM(F77:F117)","v":0},0,3,0,{"$f":"SUM(J90:J117)","v":0},0,49]
[]
[null,"Information"]
[null,"Pro Streifen 1 Dimmer & Pro Dimmer 1 Netzteil"]
[null,"DMX Dimmer belegt immer 4 Kanäle auf DMX Extension",null,0]
[null,"Dimmer Air belegt 1 Kanal auf Air Base Extension"]
[null,"Da Dimmer auch ausgewählt wird, verfügbare, benötigte, reserve und noch notwendige Kanäle berechnen",null,0]
[null,"Berechnung Kanäle auf Basis Dimmer nicht Streifen"]
[null,"Netzteilrechner: Spalte mit Watt pro Streifen",null,0]
[null,null,null,0,null,null,null,null,"Zusätzlich benötigt"]
[null,"2 Mal 1 Produkt auswählen geht nicht, weil Anzahl nicht zusammengezählt wird!",null,0,null,null,null,null,"Air Base Extension"]
[null,null,null,0,null,null,null,null,"Miniserver"]
[null,null,null,0]
[null,"Musik","Anzahl Stück",0]
["100165",{"$f":"Music!B3","v":"Loxone Music Server 4 Zone"},{"$f":"IF(ISNA(VLOOKUP(B132,Main!$B$64:$C$72,2,FALSE)),0,VLOOKUP(B132,Main!$B$64:$C$72,2,FALSE))","v":0},0]
["100166",{"$f":"Music!B4","v":"Loxone Music Server 8 Zone"},{"$f":"IF(ISNA(VLOOKUP(B133,Main!$B$64:$C$72,2,FALSE)),0,VLOOKUP(B133,Main!$B$64:$C$72,2,FALSE))","v":0},0]
["100167",{"$f":"Music!B5","v":"Loxone Music Server 12 Zone"},{"$f":"IF(ISNA(VLOOKUP(B134,Main!$B$64:$C$72,2,FALSE)),0,VLOOKUP(B134,Main!$B$64:$C$72,2,FALSE))","v":0},0,null,"Loxone Music Server 4",null,{"$f":"IF(C143>(H138*20+H137*16+H136*12+H135*8),ROUNDUP((C143-H138*20-H137*16-H136*12-H135*8)/4,0),0)","v":0}]
["100168",{"$f":"Music!B6","v":"Loxone Music Server 16 Zone"},{"$f":"IF(ISNA(VLOOKUP(B135,Main!$B$64:$C$72,2,FALSE)),0,VLOOKUP(B135,Main!$B$64:$C$72,2,FALSE))","v":0},0,null,"Loxone Music Server 8",null,{"$f":"IF((C143-H138*20-H137*16-H136*12)<=4,0,IF((C143>(H138*20+H137*16+H136*12)),ROUNDUP((C143-H138*20-H137*16-H136*12)/8,0),0))","v":1}]
["100169",{"$f":"Music!B7","v":"Loxone Music Server 20 Zone"},{"$f":"IF(ISNA(VLOOKUP(B136,Main!$B$64:$C$72,2,FALSE)),0,VLOOKUP(B136,Main!$B$64:$C$72,2,FALSE))","v":0},0,null,"Loxone Music Server 12",null,{"$f":"IF((C143-H138*20-H137*16)<=8,0,IF((C143>(H138*20+H137*16)),ROUNDUP((C143-H138*20-H137*16)/12,0),0))","v":0}]
["200097",{"$f":"Music!B8","v":"Loxone Speaker"},{"$f":"IF(ISNA(VLOOKUP(B137,Main!$B$64:$C$72,2,FALSE)),0,VLOOKUP(B137,Main!$B$64:$C$72,2,FALSE))","v":14},"Message box sperren",null,"Loxone Music Server 16",null,{"$f":"IF((C143-H138*20)<=12,0,IF((C143>H138*20),ROUNDUP((C143-H138*20)/16,0),0))","v":0}]
["200110",{"$f":"Music!B9","v":"Loxone 12 Channel Amplifier"},{"$f":"IF(ISNA(VLOOKUP(B138,Main!$B$64:$C$72,2,FALSE)),0,VLOOKUP(B138,Main!$B$64:$C$72,2,FALSE))","v":2},0,null,"Loxone Music Server 20",null,{"$f":"IF(OR(C143=17,C143=18,C143=19,C143=37,C143=38,C143=39),1,0)+I138","v":0},{"$f":"ROUNDDOWN(C143/20,0)","v":0}]
["200150",{"$f":"Music!B10","v":"Loxone Speaker Back Box"},{"$f":"IF(ISNA(VLOOKUP(B139,Main!$B$64:$C$72,2,FALSE)),0,VLOOKUP(B139,Main!$B$64:$C$72,2,FALSE))","v":0}]
["100205",{"$f":"Music!B13","v":"not sold"},{"$f":"IF(ISNA(VLOOKUP(B140,Main!$B$64:$C$72,2,FALSE)),0,VLOOKUP(B140,Main!$B$64:$C$72,2,FALSE))","v":0}]
["200202",{"$f":"Music!B12","v":"Loxone Speaker Back Box For Suspended Ceilings"},{"$f":"IF(ISNA(VLOOKUP(B141,Main!$B$64:$C$72,2,FALSE)),0,VLOOKUP(B141,Main!$B$64:$C$72,2,FALSE))","v":0}]
["200153",{"$f":"Music!B11","v":"Loxone Wall Speaker"},{"$f":"IF(ISNA(VLOOKUP(B142,Main!$B$64:$C$72,2,FALSE)),0,VLOOKUP(B142,Main!$B$64:$C$72,2,FALSE))","v":0}]
[null,{"$f":"Music!B2","v":"Music Server Zone"},{"$f":"IF(ISNA(VLOOKUP(B143,Main!$B$64:$C$72,2,FALSE)),0,VLOOKUP(B143,Main!$B$64:$C$72,2,FALSE))","v":8}]
[]
[null,"Heizung","Anzahl Stück",null,"AI","AO","DO","1-Wire",null,null,"Tree"]
["100163",{"$f":"Heating!B2","v":0},{"$f":"IF(ISNA(VLOOKUP(B146,Main!$B$21:$C$25,2,FALSE)),0,VLOOKUP(B146,Main!$B$21:$C$25,2,FALSE))","v":0},null,null,null,null,null,{"$f":"C146","v":0}]
["200003",{"$f":"Heating!B3","v":0},{"$f":"IF(ISNA(VLOOKUP(B147,Main!$B$21:$C$25,2,FALSE)),0,VLOOKUP(B147,Main!$B$21:$C$25,2,FALSE))","v":0},null,{"$f":"Products!J57*C147","v":0}]
[200004,{"$f":"Heating!B4","v":"Valve Actuator Air"},{"$f":"IF(ISNA(VLOOKUP(B148,Main!$B$21:$C$25,2,FALSE)),0,VLOOKUP(B148,Main!$B$21:$C$25,2,FALSE))","v":5},null,null,null,null,null,{"$f":"1*C148","v":5}]
[200005,{"$f":"Heating!B5","v":"No longer sold"},{"$f":"IF(ISNA(VLOOKUP(B149,Main!$B$21:$C$25,2,FALSE)),0,VLOOKUP(B149,Main!$B$21:$C$25,2,FALSE))","v":0},null,null,null,{"$f":"Products!M59*C149","v":0}]
[200006,{"$f":"Heating!B6","v":"Indoor Temperature Sensor 0-10V"},{"$f":"IF(ISNA(VLOOKUP(B150,Main!$B$21:$C$25,2,FALSE)),0,VLOOKUP(B150,Main!$B$21:$C$25,2,FALSE))","v":0},null,{"$f":"Products!J60*C150","v":0}]
[200010,{"$f":"Heating!B7","v":"Indoor Temperature & Humidity Sensor 0-10V"},{"$f":"IF(ISNA(VLOOKUP(B151,Main!$B$21:$C$25,2,FALSE)),0,VLOOKUP(B151,Main!$B$21:$C$25,2,FALSE))","v":0},null,{"$f":"Products!J62*C151","v":0}]
[200017,{"$f":"Heating!B8","v":"Indoor Temperature, Humidty & CO2 Sensor 0-10V"},{"$f":"IF(ISNA(VLOOKUP(B152,Main!$B$21:$C$25,2,FALSE)),0,VLOOKUP(B152,Main!$B$21:$C$25,2,FALSE))","v":0},null,{"$f":"Products!J65*C152","v":0}]
[200077,{"$f":"Heating!B9","v":"Temperature Probe 1-Wire"},{"$f":"IF(ISNA(VLOOKUP(B153,Main!$B$21:$C$25,2,FALSE)),0,VLOOKUP(B153,Main!$B$21:$C$25,2,FALSE))","v":0},null,null,null,null,{"$f":"Products!N87*C153","v":0}]
[200109,{"$f":"Heating!B10","v":"1-Wire Temperature Sensor"},{"$f":"ROUNDUP(IF(ISNA(VLOOKUP(B154,Main!$B$21:$C$25,2,FALSE)),0,VLOOKUP(B154,Main!$B$21:$C$25,2,FALSE))/5,0)","v":0},null,null,null,null,{"$f":"Products!N103*C154","v":0}]
[null,{"$f":"Heating!B11","v":"Valve Actuator Tree"},{"$f":"IF(ISNA(VLOOKUP(B155,Main!$B$21:$C$25,2,FALSE)),0,VLOOKUP(B155,Main!$B$21:$C$25,2,FALSE))","v":6},null,null,null,null,null,null,null,{"$f":"C155*Products!N154","v":6}]
[null,null,null,"Summe",{"$f":"SUM(E146:E154)","v":0},{"$f":"SUM(F146:F154)","v":0},{"$f":"SUM(G146:G154)","v":0},{"$f":"SUM(H146:H154)","v":0},{"$f":"SUM(I146:I154)","v":5},null,{"$f":"SUM(K148:K155)","v":6},{"$f":"SUM(L148:L155)","v":0}]
[]
[null,null,null,null,null,null,null,null,"Zusätzlich benötigt"]
[null,null,null,null,null,null,null,null,"1-Wire Extension"]
[null,null,null,null,null,null,null,null,"Extension"]
[null,null,null,null,null,null,null,null,"Miniserver"]
[]
[]
[null,"Zutritt","Anzahl","1-Wire"]
["200063",{"$f":"Entry!B2","v":"iButton Reader 1-Wire"},{"$f":"IF(ISNA(VLOOKUP(B165,Main!$B$59:$C$62,2,FALSE)),0,VLOOKUP(B165,Main!$B$59:$C$62,2,FALSE))","v":0},{"$f":"Products!N83*C165","v":0},"Jeder Leser 1 Extension, außer es ist schon eine 1-Wire Extension vorhanden, dann hat dort 1 Leser platz"]
["200064",{"$f":"Entry!B3","v":"iButton Electronic Key Fob"},{"$f":"IF(ISNA(VLOOKUP(B166,Main!$B$59:$C$62,2,FALSE)),0,VLOOKUP(B166,Main!$B$59:$C$62,2,FALSE))","v":0},null,null,null,"Ben. Kanäle","Ben. Ext","Freie Plätze"]
["200070",{"$f":"Entry!B4","v":"iButton Electronic Key Fob (Magnetic)"},{"$f":"IF(ISNA(VLOOKUP(B167,Main!$B$59:$C$62,2,FALSE)),0,VLOOKUP(B167,Main!$B$59:$C$62,2,FALSE))","v":0},null,null,"Summe Leser",{"$f":"D183","v":0},{"$f":"G167","v":0},{"$f":"(G170+H167)*20","v":0}]
["200076",null,null,null,null,"S. Heizung",{"$f":"H4*(-1)-G167","v":0},{"$f":"IF(I167<G168,ROUNDUP((G168-I167)/20,0),0)","v":0}]
["200082"]
["200093",{"$f":"Entry!B5","v":"Loxone Intercom"},{"$f":"IF(ISNA(VLOOKUP(B170,Main!$B$59:$C$62,2,FALSE)),0,VLOOKUP(B170,Main!$B$59:$C$62,2,FALSE))","v":0},null,null,"vorh. Ext.",{"$f":"C437","v":0}]
["200094",{"$f":"Entry!B6","v":"Flush-mounted box for the Loxone intercom"},{"$f":"IF(ISNA(VLOOKUP(B171,Main!$B$59:$C$62,2,FALSE)),0,VLOOKUP(B171,Main!$B$59:$C$62,2,FALSE))","v":1}]
["200095",{"$f":"Entry!B7","v":"Surface Box for Loxone Intercom"},{"$f":"IF(ISNA(VLOOKUP(B172,Main!$B$59:$C$62,2,FALSE)),0,VLOOKUP(B172,Main!$B$59:$C$62,2,FALSE))","v":0},null,null,null,{"$f":"IF(D183>(C40+C12),1,0)","v":0}]
["200191",{"$f":"Entry!B8","v":"iButton Reader 1-Wire Outdoor"},{"$f":"IF(ISNA(VLOOKUP(B173,Main!$B$59:$C$62,2,FALSE)),0,VLOOKUP(B173,Main!$B$59:$C$62,2,FALSE))","v":0},{"$f":"Products!N137*C173","v":0}]
["200273",{"$f":"Entry!B9","v":"Loxone Intercom XL"},{"$f":"IF(ISNA(VLOOKUP(B174,Main!$B$59:$C$62,2,FALSE)),0,VLOOKUP(B174,Main!$B$59:$C$62,2,FALSE))","v":1}]
[null,{"$f":"Entry!B10","v":"NFC Code Touch Air - White"},{"$f":"IF(ISNA(VLOOKUP(B175,Main!$B$59:$C$62,2,FALSE)),0,VLOOKUP(B175,Main!$B$59:$C$62,2,FALSE))","v":0},null,{"$f":"C175","v":0}]
[null,{"$f":"Entry!B11","v":"NFC Code Touch Tree - White"},{"$f":"IF(ISNA(VLOOKUP(B176,Main!$B$59:$C$62,2,FALSE)),0,VLOOKUP(B176,Main!$B$59:$C$62,2,FALSE))","v":1},null,null,{"$f":"C176","v":1}]
[null,{"$f":"Entry!B12","v":"NFC Code Touch for Nano - White"},{"$f":"IF(ISNA(VLOOKUP(B177,Main!$B$59:$C$62,2,FALSE)),0,VLOOKUP(B177,Main!$B$59:$C$62,2,FALSE))","v":0}]
[null,{"$f":"Entry!B13","v":"NFC Code Touch Air - Anthracite"},{"$f":"IF(ISNA(VLOOKUP(B178,Main!$B$59:$C$62,2,FALSE)),0,VLOOKUP(B178,Main!$B$59:$C$62,2,FALSE))","v":0},null,{"$f":"C178","v":0}]
[null,{"$f":"Entry!B14","v":"NFC Code Touch Tree - Anthracite"},{"$f":"IF(ISNA(VLOOKUP(B179,Main!$B$59:$C$62,2,FALSE)),0,VLOOKUP(B179,Main!$B$59:$C$62,2,FALSE))","v":0},null,null,{"$f":"C179","v":0}]
[null,{"$f":"Entry!B15","v":"NFC Code Touch for Nano - Anthracite"},{"$f":"IF(ISNA(VLOOKUP(B180,Main!$B$59:$C$62,2,FALSE)),0,VLOOKUP(B180,Main!$B$59:$C$62,2,FALSE))","v":0}]
[null,{"$f":"Entry!B16","v":"Battery Pack (Touch Surface)"},{"$f":"IF(ISNA(VLOOKUP(B181,Main!$B$59:$C$62,2,FALSE)),0,VLOOKUP(B181,Main!$B$59:$C$62,2,FALSE))","v":0}]
[null,{"$f":"Entry!B17","v":"Power Adapter (Touch Surface)"},{"$f":"IF(ISNA(VLOOKUP(B182,Main!$B$59:$C$62,2,FALSE)),0,VLOOKUP(B182,Main!$B$59:$C$62,2,FALSE))","v":0}]
[null,null,"Summe",{"$f":"SUM(D165:D182)","v":0},{"$f":"SUM(E175:E182)","v":0},{"$f":"SUM(F173:F182)","v":1}]
[null,null,null,null,"Air","Tree"]
[null,"Information",null,null,null,null,null,null,"Zusätzlich benötigt"]
[null,"1-Wire Extension (20 Slots) benötigt",null,null,null,null,null,null,"1-Wire Extension"]
[null,"1 Lesegerät = 1 Slot",null,null,null,null,null,null,"Miniserver"]
[]
[]
[null,"Sensoren","Anzahl","AI","DI",null,"1-Wire",null,null,null,"Tree","AIR"]
[200003,{"$f":"Sensors!B2","v":"No longer sold"},{"$f":"IF(ISNA(VLOOKUP(B191,Main!$B$27:$C$32,2,FALSE)),0,VLOOKUP(B191,Main!$B$27:$C$32,2,FALSE))","v":0},{"$f":"Products!J57*C191","v":0}]
[200006,{"$f":"Sensors!B3","v":"Indoor Temperature Sensor 0-10V"},{"$f":"IF(ISNA(VLOOKUP(B192,Main!$B$27:$C$32,2,FALSE)),0,VLOOKUP(B192,Main!$B$27:$C$32,2,FALSE))","v":0},{"$f":"Products!J60*C192","v":0}]
[200010,{"$f":"Sensors!B4","v":"Indoor Temperature & Humidity Sensor 0-10V"},{"$f":"IF(ISNA(VLOOKUP(B193,Main!$B$27:$C$32,2,FALSE)),0,VLOOKUP(B193,Main!$B$27:$C$32,2,FALSE))","v":0},{"$f":"Products!J62*C193","v":0}]
[200017,{"$f":"Sensors!B5","v":"Indoor Temperature, Humidty & CO2 Sensor 0-10V"},{"$f":"IF(ISNA(VLOOKUP(B194,Main!$B$27:$C$32,2,FALSE)),0,VLOOKUP(B194,Main!$B$27:$C$32,2,FALSE))","v":0},{"$f":"Products!J65*C194","v":0}]
["200018",{"$f":"Sensors!B6","v":"Rain Sensor (24V)"},{"$f":"IF(ISNA(VLOOKUP(B195,Main!$B$27:$C$32,2,FALSE)),0,VLOOKUP(B195,Main!$B$27:$C$32,2,FALSE))","v":0},null,{"$f":"Products!K66*C195","v":0}]
["200031",{"$f":"Sensors!B7","v":"Outdoor Temperature & Humidy Sensor 0-10V"},{"$f":"IF(ISNA(VLOOKUP(B196,Main!$B$27:$C$32,2,FALSE)),0,VLOOKUP(B196,Main!$B$27:$C$32,2,FALSE))","v":0},{"$f":"Products!J67*C196","v":0}]
["200032",{"$f":"Sensors!B8","v":"Brightness Sensor 0-10V"},{"$f":"IF(ISNA(VLOOKUP(B197,Main!$B$27:$C$32,2,FALSE)),0,VLOOKUP(B197,Main!$B$27:$C$32,2,FALSE))","v":0},{"$f":"Products!J68*C197","v":0}]
["200033",{"$f":"Sensors!B9","v":"Windsensor 24V"},{"$f":"IF(ISNA(VLOOKUP(B198,Main!$B$27:$C$32,2,FALSE)),0,VLOOKUP(B198,Main!$B$27:$C$32,2,FALSE))","v":0},null,{"$f":"Products!K69*C198","v":0}]
["200034",{"$f":"Sensors!B10","v":"Wind Sensor Mount"},{"$f":"IF(ISNA(VLOOKUP(B199,Main!$B$27:$C$32,2,FALSE)),0,VLOOKUP(B199,Main!$B$27:$C$32,2,FALSE))","v":0},null,null,"Stück"]
["200054",{"$f":"Sensors!B11","v":"Ultrasonic Sensor 0-10V"},{"$f":"IF(ISNA(VLOOKUP(B200,Main!$B$27:$C$32,2,FALSE)),0,VLOOKUP(B200,Main!$B$27:$C$32,2,FALSE))","v":0},{"$f":"Products!J79*C200","v":0}]
[200077,{"$f":"Sensors!B12","v":"Temperature Probe 1-Wire"},{"$f":"IF(ISNA(VLOOKUP(B201,Main!$B$27:$C$32,2,FALSE)),0,VLOOKUP(B201,Main!$B$27:$C$32,2,FALSE))","v":0},null,null,null,null,{"$f":"Products!N87*C201","v":0}]
["200101",{"$f":"Sensors!B13","v":"No longer sold"},{"$f":"IF(ISNA(VLOOKUP(B202,Main!$B$27:$C$32,2,FALSE)),0,VLOOKUP(B202,Main!$B$27:$C$32,2,FALSE))","v":0},null,{"$f":"Products!K101*C202","v":0}]
[200109,{"$f":"Sensors!B14","v":"Temperature Sensor Set 1-Wire"},{"$f":"IF(ISNA(VLOOKUP(B203,Main!$B$27:$C$32,2,FALSE)),0,VLOOKUP(B203,Main!$B$27:$C$32,2,FALSE))","v":0},null,null,null,null,{"$f":"Products!N103*C203","v":0}]
["200112",{"$f":"Sensors!B15","v":"Outside Motion Sensor (24V)"},{"$f":"IF(ISNA(VLOOKUP(B204,Main!$B$27:$C$32,2,FALSE)),0,VLOOKUP(B204,Main!$B$27:$C$32,2,FALSE))","v":0},null,{"$f":"Products!K105*C204","v":0}]
[null,{"$f":"Sensors!B16","v":"Window Contact (integrated - only reserve DI)"},{"$f":"IF(ISNA(VLOOKUP(B205,Main!$B$27:$C$32,2,FALSE)),0,VLOOKUP(B205,Main!$B$27:$C$32,2,FALSE))","v":7},null,{"$f":"C205","v":7}]
["200113",{"$f":"Sensors!B17","v":"Window & Door Contact"},{"$f":"IF(ISNA(VLOOKUP(B206,Main!$B$27:$C$32,2,FALSE)),0,VLOOKUP(B206,Main!$B$27:$C$32,2,FALSE))","v":0},null,{"$f":"Products!K106*C206","v":0}]
["200136",{"$f":"Sensors!B18","v":"Temperature & Humidity Sensor For Saunas"},{"$f":"IF(ISNA(VLOOKUP(B207,Main!$B$27:$C$32,2,FALSE)),0,VLOOKUP(B207,Main!$B$27:$C$32,2,FALSE))","v":0},{"$f":"Products!J109*C207","v":0}]
["200154",{"$f":"Sensors!B19","v":"Pressure Sensor 0-10V"},{"$f":"IF(ISNA(VLOOKUP(B208,Main!$B$27:$C$32,2,FALSE)),0,VLOOKUP(B208,Main!$B$27:$C$32,2,FALSE))","v":0},{"$f":"Products!J115*C208","v":0}]
["200155",{"$f":"Sensors!B20","v":"Glass Break Sensor 24V"},{"$f":"IF(ISNA(VLOOKUP(B209,Main!$B$27:$C$32,2,FALSE)),0,VLOOKUP(B209,Main!$B$27:$C$32,2,FALSE))","v":0},null,{"$f":"Products!K116*C209","v":0}]
[null,{"$f":"Sensors!B21","v":"Motion Sensor Tree - Anthracite"},{"$f":"IF(ISNA(VLOOKUP(B210,Main!$B$27:$C$32,2,FALSE)),0,VLOOKUP(B210,Main!$B$27:$C$32,2,FALSE))","v":0},null,null,null,null,null,null,null,{"$f":"C210*Products!N152","v":0}]
[null,{"$f":"Sensors!B22","v":"Motion Sensor Tree - White"},{"$f":"IF(ISNA(VLOOKUP(B211,Main!$B$27:$C$32,2,FALSE)),0,VLOOKUP(B211,Main!$B$27:$C$32,2,FALSE))","v":0},null,null,null,null,null,null,null,{"$f":"C211*Products!N153","v":0}]
[null,{"$f":"Sensors!B23","v":"Water Sensor Air"},{"$f":"IF(ISNA(VLOOKUP(B212,Main!$B$27:$C$32,2,FALSE)),0,VLOOKUP(B212,Main!$B$27:$C$32,2,FALSE))","v":5},null,null,null,null,null,{"$f":"C212*Products!N154","v":5},null,null,{"$f":"C212","v":5}]
[null,{"$f":"Sensors!B24","v":"Door & Window Contact Air - Anthracite"},{"$f":"IF(ISNA(VLOOKUP(B213,Main!$B$27:$C$32,2,FALSE)),0,VLOOKUP(B213,Main!$B$27:$C$32,2,FALSE))","v":0},null,null,null,null,null,{"$f":"C213*Products!N155","v":0},null,null,{"$f":"C213","v":0}]
[null,{"$f":"Sensors!B25","v":"Door & Window Contact Air - White"},{"$f":"IF(ISNA(VLOOKUP(B214,Main!$B$27:$C$32,2,FALSE)),0,VLOOKUP(B214,Main!$B$27:$C$32,2,FALSE))","v":3},null,null,null,null,null,{"$f":"C214*Products!N156","v":3},null,null,3]
[null,{"$f":"Sensors!B26","v":"Digital IN (Reserve)"},{"$f":"IF(ISNA(VLOOKUP(B215,Main!$B$27:$C$32,2,FALSE)),0,VLOOKUP(B215,Main!$B$27:$C$32,2,FALSE))","v":0},null,{"$f":"C215","v":0}]
[null,{"$f":"Sensors!B27","v":"Analog IN (Reserve)"},{"$f":"IF(ISNA(VLOOKUP(B216,Main!$B$27:$C$32,2,FALSE)),0,VLOOKUP(B216,Main!$B$27:$C$32,2,FALSE))","v":0},{"$f":"C216","v":0}]
[null,{"$f":"Products!D187","v":"Window Handle Air"},{"$f":"IF(ISNA(VLOOKUP(B217,Main!$B$27:$C$32,2,FALSE)),0,VLOOKUP(B217,Main!$B$27:$C$32,2,FALSE))","v":0},null,null,null,null,null,null,null,null,{"$f":"C217","v":0}]
[null,{"$f":"Products!D189","v":"Weather Station Tree"},{"$f":"IF(ISNA(VLOOKUP(B218,Main!$B$27:$C$32,2,FALSE)),0,VLOOKUP(B218,Main!$B$27:$C$32,2,FALSE))","v":1},null,null,null,null,null,null,null,{"$f":"C218","v":1}]
[null,{"$f":"Products!D190","v":"Weather Station Air"},{"$f":"IF(ISNA(VLOOKUP(B219,Main!$B$27:$C$32,2,FALSE)),0,VLOOKUP(B219,Main!$B$27:$C$32,2,FALSE))","v":0},null,null,null,null,null,null,null,null,{"$f":"C219","v":0}]
[null,null,"Summe",{"$f":"SUM(D191:D219)","v":0},7,0,0,0,8,0,1,{"$f":"SUM(L191:L219)","v":8}]
[]
[]
[null,"Verteiler","Anzahl"]
["200168",{"$f":"Distributors!B2","v":"Push In Terminal Block 8x4 Interconnected (20 pcs)"},{"$f":"IF(ISNA(VLOOKUP(B224,Main!$B$81:$C$90,2,FALSE)),0,VLOOKUP(B224,Main!$B$81:$C$90,2,FALSE))","v":1}]
["200169",{"$f":"Distributors!B3","v":"Push In Terminal Block 8x4 Seperated (20pcs)"},{"$f":"IF(ISNA(VLOOKUP(B225,Main!$B$81:$C$90,2,FALSE)),0,VLOOKUP(B225,Main!$B$81:$C$90,2,FALSE))","v":1}]
["200170",{"$f":"Distributors!B4","v":"Partition for 8x4 Terminals (10pcs)"},{"$f":"IF(ISNA(VLOOKUP(B226,Main!$B$81:$C$90,2,FALSE)),0,VLOOKUP(B226,Main!$B$81:$C$90,2,FALSE))","v":0}]
["200171",{"$f":"Distributors!B5","v":"Label Holder 8 Levels (20 pcs)"},{"$f":"IF(ISNA(VLOOKUP(B227,Main!$B$81:$C$90,2,FALSE)),0,VLOOKUP(B227,Main!$B$81:$C$90,2,FALSE))","v":0}]
["200172",{"$f":"Distributors!B6","v":"End Plate for 8x4 Terminals (10 pcs)"},{"$f":"IF(ISNA(VLOOKUP(B228,Main!$B$81:$C$90,2,FALSE)),0,VLOOKUP(B228,Main!$B$81:$C$90,2,FALSE))","v":0}]
["200173",{"$f":"Distributors!B7","v":"Push In Terminal Block 3+Earth (50 pcs)"},{"$f":"IF(ISNA(VLOOKUP(B229,Main!$B$81:$C$90,2,FALSE)),0,VLOOKUP(B229,Main!$B$81:$C$90,2,FALSE))","v":0}]
["200174",{"$f":"Distributors!B8","v":"End Plate for 3+Earth Terminals (20 pcs)"},{"$f":"IF(ISNA(VLOOKUP(B230,Main!$B$81:$C$90,2,FALSE)),0,VLOOKUP(B230,Main!$B$81:$C$90,2,FALSE))","v":0}]
["200175",{"$f":"Distributors!B9","v":"Push In Terminal Block Twin+Earth (50 pcs)"},{"$f":"IF(ISNA(VLOOKUP(B231,Main!$B$81:$C$90,2,FALSE)),0,VLOOKUP(B231,Main!$B$81:$C$90,2,FALSE))","v":0}]
["200176",{"$f":"Distributors!B10","v":"End Bracket (20 pcs)"},{"$f":"IF(ISNA(VLOOKUP(B232,Main!$B$81:$C$90,2,FALSE)),0,VLOOKUP(B232,Main!$B$81:$C$90,2,FALSE))","v":0}]
["200177",{"$f":"Distributors!B11","v":"End Plate for Twin+Earth Terminals (20 pcs)"},{"$f":"IF(ISNA(VLOOKUP(B233,Main!$B$81:$C$90,2,FALSE)),0,VLOOKUP(B233,Main!$B$81:$C$90,2,FALSE))","v":0}]
["200178",{"$f":"Distributors!B12","v":"Push in Fused Terminal Block (25 pcs)"},{"$f":"IF(ISNA(VLOOKUP(B234,Main!$B$81:$C$90,2,FALSE)),0,VLOOKUP(B234,Main!$B$81:$C$90,2,FALSE))","v":0}]
["200179",{"$f":"Distributors!B13","v":"End Plate For Fused Terminals (50 pcs)"},{"$f":"IF(ISNA(VLOOKUP(B235,Main!$B$81:$C$90,2,FALSE)),0,VLOOKUP(B235,Main!$B$81:$C$90,2,FALSE))","v":0}]
["200180",{"$f":"Distributors!B14","v":"Cross Connector For Fused Terminals (10 pcs)"},{"$f":"IF(ISNA(VLOOKUP(B236,Main!$B$81:$C$90,2,FALSE)),0,VLOOKUP(B236,Main!$B$81:$C$90,2,FALSE))","v":0}]
["200181",{"$f":"Distributors!B15","v":"Blade Fuse 2A (100 pcs)"},{"$f":"IF(ISNA(VLOOKUP(B237,Main!$B$81:$C$90,2,FALSE)),0,VLOOKUP(B237,Main!$B$81:$C$90,2,FALSE))","v":0}]
["200183",{"$f":"Distributors!B16","v":"Blade Fuse 5A (100 pcs)"},{"$f":"IF(ISNA(VLOOKUP(B238,Main!$B$81:$C$90,2,FALSE)),0,VLOOKUP(B238,Main!$B$81:$C$90,2,FALSE))","v":0}]
["200184",{"$f":"Distributors!B17","v":"Blade Fuse 10A (100 pcs)"},{"$f":"IF(ISNA(VLOOKUP(B239,Main!$B$81:$C$90,2,FALSE)),0,VLOOKUP(B239,Main!$B$81:$C$90,2,FALSE))","v":0}]
["200129",{"$f":"Distributors!B18","v":"Loxone CAT7 Cable (250m)"},{"$f":"IF(ISNA(VLOOKUP(B240,Main!$B$81:$C$90,2,FALSE)),0,VLOOKUP(B240,Main!$B$81:$C$90,2,FALSE))","v":2}]
["100150",{"$f":"Products!D35","v":"Loxone Tool Kit by Weidmüller"},{"$f":"IF(ISNA(VLOOKUP(B241,Main!$B$81:$C$90,2,FALSE)),0,VLOOKUP(B241,Main!$B$81:$C$90,2,FALSE))","v":0}]
[null,{"$f":"Products!D159","v":"Cross Connector for Mains Terminals (20 pcs)"},{"$f":"IF(ISNA(VLOOKUP(B242,Main!$B$81:$C$90,2,FALSE)),0,VLOOKUP(B242,Main!$B$81:$C$90,2,FALSE))","v":0}]
[null,{"$f":"Products!D77","v":"Coupling Relay"},{"$f":"IF(ISNA(VLOOKUP(B243,Main!$B$81:$C$90,2,FALSE)),0,VLOOKUP(B243,Main!$B$81:$C$90,2,FALSE))","v":0}]
[null,{"$f":"Products!D208","v":"Weidmüller DEK Terminal Markers (500 Stk) 1-50"},{"$f":"IF(ISNA(VLOOKUP(B244,Main!$B$81:$C$90,2,FALSE)),0,VLOOKUP(B244,Main!$B$81:$C$90,2,FALSE))","v":0}]
[null,{"$f":"Products!D209","v":"Weidmüller DEK Terminal Markers (500 Stk) 51-100"},{"$f":"IF(ISNA(VLOOKUP(B245,Main!$B$81:$C$90,2,FALSE)),0,VLOOKUP(B245,Main!$B$81:$C$90,2,FALSE))","v":0}]
[null,"Funk","Anzahl","Air Base","EnOcean","Kanäle frei","Info"]
["100114",{"$f":"Wireless!B2","v":"Air Base Extension"},{"$f":"IF(ISNA(VLOOKUP(B247,Main!$B$41:$C$50,2,FALSE)),0,VLOOKUP(B247,Main!$B$41:$C$50,2,FALSE))","v":0},null,null,{"$f":"Products!N24*C247","v":0}]
["100115",{"$f":"Wireless!B3","v":"Smart Socket Air - Type G (UK)"},{"$f":"IF(ISNA(VLOOKUP(B248,Main!$B$41:$C$50,2,FALSE)),0,VLOOKUP(B248,Main!$B$41:$C$50,2,FALSE))","v":2},{"$f":"Products!N25*C248","v":2}]
["100116",{"$f":"Wireless!B4","v":"Multi Extension Air"},{"$f":"IF(ISNA(VLOOKUP(B249,Main!$B$41:$C$50,2,FALSE)),0,VLOOKUP(B249,Main!$B$41:$C$50,2,FALSE))","v":0}]
["100139",{"$f":"Wireless!B5","v":"Miniserver Go"},{"$f":"IF(ISNA(VLOOKUP(B250,Main!$B$41:$C$50,2,FALSE)),0,VLOOKUP(B250,Main!$B$41:$C$50,2,FALSE))","v":0},null,null,{"$f":"Products!N30*C250","v":0}]
["100140",{"$f":"Wireless!B6","v":"Remote Air"},{"$f":"IF(ISNA(VLOOKUP(B251,Main!$B$41:$C$50,2,FALSE)),0,VLOOKUP(B251,Main!$B$41:$C$50,2,FALSE))","v":2},{"$f":"Products!N31*C251","v":2}]
["100141",{"$f":"Wireless!B7","v":"IR Control Air"},{"$f":"IF(ISNA(VLOOKUP(B252,Main!$B$41:$C$50,2,FALSE)),0,VLOOKUP(B252,Main!$B$41:$C$50,2,FALSE))","v":1},{"$f":"Products!N32*C252","v":1}]
["100142",{"$f":"Wireless!B8","v":"Smoke Detector Air"},{"$f":"IF(ISNA(VLOOKUP(B253,Main!$B$41:$C$50,2,FALSE)),0,VLOOKUP(B253,Main!$B$41:$C$50,2,FALSE))","v":0},{"$f":"Products!N33*C253","v":0}]
["100149",{"$f":"Wireless!B9","v":"Temperature & Humidity Sesnor Air"},{"$f":"IF(ISNA(VLOOKUP(B254,Main!$B$41:$C$50,2,FALSE)),0,VLOOKUP(B254,Main!$B$41:$C$50,2,FALSE))","v":0},{"$f":"Products!N34*C254","v":0}]
["100151",{"$f":"Wireless!B10","v":"Loxone Meter Reader IR Air"},{"$f":"IF(ISNA(VLOOKUP(B255,Main!$B$41:$C$50,2,FALSE)),0,VLOOKUP(B255,Main!$B$41:$C$50,2,FALSE))","v":0},{"$f":"Products!N36*C255","v":0}]
["100154",{"$f":"Wireless!B11","v":"Loxone Touch for Nano - White"},{"$f":"IF(ISNA(VLOOKUP(B256,Main!$B$41:$C$50,2,FALSE)),0,VLOOKUP(B256,Main!$B$41:$C$50,2,FALSE))","v":0}]
["100155",{"$f":"Wireless!B12","v":"Loxone Touch Air - White"},{"$f":"IF(ISNA(VLOOKUP(B257,Main!$B$41:$C$50,2,FALSE)),0,VLOOKUP(B257,Main!$B$41:$C$50,2,FALSE))","v":0},{"$f":"Products!N39*C257","v":0},null,null,null,null,"Zusätzlich Benötigt"]
["100163",{"$f":"Wireless!B18","v":"Valve Actuator Air"},{"$f":"IF(ISNA(VLOOKUP(B258,Main!$B$41:$C$50,2,FALSE)),0,VLOOKUP(B258,Main!$B$41:$C$50,2,FALSE))","v":0},{"$f":"Products!N34*C258","v":0}]
["200048",{"$f":"Wireless!B19","v":"SMA Antenna 868 MHz"},{"$f":"IF(ISNA(VLOOKUP(B259,Main!$B$41:$C$50,2,FALSE)),0,VLOOKUP(B259,Main!$B$41:$C$50,2,FALSE))","v":0},null,null,null,"Stück",null,"Air Base Extension"]
["200059",{"$f":"Wireless!B37","v":"NFC Code Touch for Nano - White"},{"$f":"IF(ISNA(VLOOKUP(B260,Main!$B$41:$C$50,2,FALSE)),0,VLOOKUP(B260,Main!$B$41:$C$50,2,FALSE))","v":0},null,{"$f":"Products!N81*C260","v":0},null,null,null,"EnOcean Extension"]
["200067",{"$f":"Wireless!B38","v":"NFC Code Touch Air - Anthracite"},{"$f":"IF(ISNA(VLOOKUP(B261,Main!$B$41:$C$50,2,FALSE)),0,VLOOKUP(B261,Main!$B$41:$C$50,2,FALSE))","v":0},null,{"$f":"Products!N85*C261","v":0},null,null,null,"Miniserver"]
["200135",{"$f":"Wireless!B39","v":"NFC Code Touch for Nano - Anthracite"},{"$f":"IF(ISNA(VLOOKUP(B262,Main!$B$41:$C$50,2,FALSE)),0,VLOOKUP(B262,Main!$B$41:$C$50,2,FALSE))","v":0},null,{"$f":"Products!N108*C262","v":0},null,null,null,"MiniserverGo"]
["200137",{"$f":"Wireless!B40","v":"Battery Pack (Touch Surface)"},{"$f":"IF(ISNA(VLOOKUP(B263,Main!$B$41:$C$50,2,FALSE)),0,VLOOKUP(B263,Main!$B$41:$C$50,2,FALSE))","v":0},null,{"$f":"Products!N110*C263","v":0}]
["200151",{"$f":"Wireless!B20","v":"SMA Antenna 4dBi 868 MHz"},{"$f":"IF(ISNA(VLOOKUP(B264,Main!$B$41:$C$50,2,FALSE)),0,VLOOKUP(B264,Main!$B$41:$C$50,2,FALSE))","v":0},null,null,null,"Stück"]
["100180",{"$f":"Products!D50","v":"Loxone Touch Air - Anthracite"},{"$f":"IF(ISNA(VLOOKUP(B265,Main!$B$41:$C$50,2,FALSE)),0,VLOOKUP(B265,Main!$B$41:$C$50,2,FALSE))","v":0},{"$f":"Products!N50*C265","v":0}]
["100181",{"$f":"Products!D51","v":"Loxone Touch for Nano - Anthracite"},{"$f":"IF(ISNA(VLOOKUP(B266,Main!$B$41:$C$50,2,FALSE)),0,VLOOKUP(B266,Main!$B$41:$C$50,2,FALSE))","v":0}]
["100182",{"$f":"Products!D52","v":"Tubular Motor SOLIDline Air 10Nm"},{"$f":"IF(ISNA(VLOOKUP(B267,Main!$B$41:$C$50,2,FALSE)),0,VLOOKUP(B267,Main!$B$41:$C$50,2,FALSE))","v":0},{"$f":"Products!N52*C267","v":0}]
["100183",{"$f":"Products!D53","v":"Tubular Motor SOLIDline Air 20Nm"},{"$f":"IF(ISNA(VLOOKUP(B268,Main!$B$41:$C$50,2,FALSE)),0,VLOOKUP(B268,Main!$B$41:$C$50,2,FALSE))","v":0},{"$f":"Products!N53*C268","v":0}]
["100184",{"$f":"Products!D54","v":"Tubular Motor SOLIDline Air 50Nm"},{"$f":"IF(ISNA(VLOOKUP(B269,Main!$B$41:$C$50,2,FALSE)),0,VLOOKUP(B269,Main!$B$41:$C$50,2,FALSE))","v":0},{"$f":"Products!N54*C269","v":0}]
["100190",{"$f":"Products!D145","v":"Motion Sensor Air - White"},{"$f":"IF(ISNA(VLOOKUP(B270,Main!$B$41:$C$50,2,FALSE)),0,VLOOKUP(B270,Main!$B$41:$C$50,2,FALSE))","v":0},{"$f":"Products!N145*C270","v":0}]
["100153",{"$f":"Products!D37","v":"Nano IO Air"},{"$f":"IF(ISNA(VLOOKUP(B271,Main!$B$41:$C$50,2,FALSE)),0,VLOOKUP(B271,Main!$B$41:$C$50,2,FALSE))","v":0},{"$f":"Products!N37*C271","v":0}]
["100211",{"$f":"Wireless!B23","v":"Water Sensor Air"},{"$f":"IF(ISNA(VLOOKUP(B272,Main!$B$41:$C$50,2,FALSE)),0,VLOOKUP(B272,Main!$B$41:$C$50,2,FALSE))","v":0},{"$f":"Products!N155*C272","v":0}]
["100213",{"$f":"Wireless!B24","v":"Door & Window Contact Air - Anthracite"},{"$f":"IF(ISNA(VLOOKUP(B273,Main!$B$41:$C$50,2,FALSE)),0,VLOOKUP(B273,Main!$B$41:$C$50,2,FALSE))","v":0},{"$f":"Products!N156*C273","v":0}]
["100210",{"$f":"Wireless!B25","v":"Door & Window Contact Air - White"},{"$f":"IF(ISNA(VLOOKUP(B274,Main!$B$41:$C$50,2,FALSE)),0,VLOOKUP(B274,Main!$B$41:$C$50,2,FALSE))","v":0},{"$f":"C274","v":0}]
[null,{"$f":"Wireless!B27","v":"Touch Pure for Nano - White"},{"$f":"IF(ISNA(VLOOKUP(B275,Main!$B$41:$C$50,2,FALSE)),0,VLOOKUP(B275,Main!$B$41:$C$50,2,FALSE))","v":0}]
[null,{"$f":"Wireless!B26","v":"Touch Pure Air - White"},{"$f":"IF(ISNA(VLOOKUP(B276,Main!$B$41:$C$50,2,FALSE)),0,VLOOKUP(B276,Main!$B$41:$C$50,2,FALSE))","v":0},{"$f":"C276","v":0}]
[null,{"$f":"Wireless!B28","v":"Nano Dimmer Air"},{"$f":"IF(ISNA(VLOOKUP(B277,Main!$B$41:$C$50,2,FALSE)),0,VLOOKUP(B277,Main!$B$41:$C$50,2,FALSE))","v":0},{"$f":"C277","v":0}]
[null,{"$f":"Products!D177","v":"not available in this country"},{"$f":"IF(ISNA(VLOOKUP(B278,Main!$B$41:$C$50,2,FALSE)),0,VLOOKUP(B278,Main!$B$41:$C$50,2,FALSE))","v":0},{"$f":"0*C278","v":0}]
[null,{"$f":"Products!D179","v":"not available in this country"},{"$f":"IF(ISNA(VLOOKUP(B279,Main!$B$41:$C$50,2,FALSE)),0,VLOOKUP(B279,Main!$B$41:$C$50,2,FALSE))","v":0},{"$f":"C279","v":0}]
[null,{"$f":"Products!D187","v":"Window Handle Air"},{"$f":"IF(ISNA(VLOOKUP(B280,Main!$B$41:$C$50,2,FALSE)),0,VLOOKUP(B280,Main!$B$41:$C$50,2,FALSE))","v":0},{"$f":"C280","v":0}]
[null,{"$f":"Products!D190","v":"Weather Station Air"},{"$f":"IF(ISNA(VLOOKUP(B281,Main!$B$41:$C$50,2,FALSE)),0,VLOOKUP(B281,Main!$B$41:$C$50,2,FALSE))","v":0},{"$f":"C281","v":0}]
[null,{"$f":"Products!D192","v":"Blind Motor GJ56 Air 6Nm connection at top"},{"$f":"IF(ISNA(VLOOKUP(B282,Main!$B$41:$C$50,2,FALSE)),0,VLOOKUP(B282,Main!$B$41:$C$50,2,FALSE))","v":0},{"$f":"C282","v":0}]
[null,{"$f":"Products!D193","v":"Blind Motor GJ56 Air 20Nm connection at top"},{"$f":"IF(ISNA(VLOOKUP(B283,Main!$B$41:$C$50,2,FALSE)),0,VLOOKUP(B283,Main!$B$41:$C$50,2,FALSE))","v":0},{"$f":"C283","v":0}]
[null,{"$f":"Products!D194","v":"Blind Motor GJ56 Air 6Nm connection at bottom"},{"$f":"IF(ISNA(VLOOKUP(B284,Main!$B$41:$C$50,2,FALSE)),0,VLOOKUP(B284,Main!$B$41:$C$50,2,FALSE))","v":0},0]
[null,{"$f":"Products!D195","v":"Blind Motor GJ56 Air 20Nm connection at bottom"},{"$f":"IF(ISNA(VLOOKUP(B285,Main!$B$41:$C$50,2,FALSE)),0,VLOOKUP(B285,Main!$B$41:$C$50,2,FALSE))","v":0},0]
[null,{"$f":"Products!D197","v":"Shading Actuator Air"},{"$f":"IF(ISNA(VLOOKUP(B286,Main!$B$41:$C$50,2,FALSE)),0,VLOOKUP(B286,Main!$B$41:$C$50,2,FALSE))","v":0},0]
[null,{"$f":"Wireless!B35","v":"Touch Surface Air"},{"$f":"IF(ISNA(VLOOKUP(B287,Main!$B$41:$C$50,2,FALSE)),0,VLOOKUP(B287,Main!$B$41:$C$50,2,FALSE))","v":1},{"$f":"C287","v":1}]
[null,{"$f":"Wireless!B36","v":"NFC Code Touch Air - White"},{"$f":"IF(ISNA(VLOOKUP(B288,Main!$B$41:$C$50,2,FALSE)),0,VLOOKUP(B288,Main!$B$41:$C$50,2,FALSE))","v":0},0]
[null,{"$f":"Wireless!B37","v":"NFC Code Touch for Nano - White"},{"$f":"IF(ISNA(VLOOKUP(B289,Main!$B$41:$C$50,2,FALSE)),0,VLOOKUP(B289,Main!$B$41:$C$50,2,FALSE))","v":0},0]
[null,{"$f":"Wireless!B38","v":"NFC Code Touch Air - Anthracite"},{"$f":"IF(ISNA(VLOOKUP(B290,Main!$B$41:$C$50,2,FALSE)),0,VLOOKUP(B290,Main!$B$41:$C$50,2,FALSE))","v":0},0]
[null,{"$f":"Wireless!B39","v":"NFC Code Touch for Nano - Anthracite"},{"$f":"IF(ISNA(VLOOKUP(B291,Main!$B$41:$C$50,2,FALSE)),0,VLOOKUP(B291,Main!$B$41:$C$50,2,FALSE))","v":0},0]
[null,{"$f":"Products!D218","v":"Battery Pack (Touch Surface)"},{"$f":"IF(ISNA(VLOOKUP(B292,Main!$B$41:$C$50,2,FALSE)),0,VLOOKUP(B292,Main!$B$41:$C$50,2,FALSE))","v":0},0]
[null,{"$f":"Products!D219","v":"Power Adapter (Touch Surface)"},{"$f":"IF(ISNA(VLOOKUP(B293,Main!$B$41:$C$50,2,FALSE)),0,VLOOKUP(B293,Main!$B$41:$C$50,2,FALSE))","v":0},0]
[null,null,"Summe",{"$f":"SUM(D247:D293)+E183","v":6},{"$f":"SUM(E247:E293)","v":0}]
[]
[]
[null,"Tree","Anzahl","Tree","Kanäle frei"]
[100218,{"$f":"Products!D150","v":"Tree Extension"},{"$f":"IF(ISNA(VLOOKUP(B298,Main!$B$34:$C$39,2,FALSE)),0,VLOOKUP(B298,Main!$B$34:$C$39,2,FALSE))","v":0}]
[100221,{"$f":"Products!D151","v":"Touch Tree - White"},{"$f":"IF(ISNA(VLOOKUP(B299,Main!$B$34:$C$39,2,FALSE)),0,VLOOKUP(B299,Main!$B$34:$C$39,2,FALSE))","v":0},{"$f":"Products!N151*C299","v":0}]
[100222,{"$f":"Products!D152","v":"Touch Tree - Anthracite"},{"$f":"IF(ISNA(VLOOKUP(B300,Main!$B$34:$C$39,2,FALSE)),0,VLOOKUP(B300,Main!$B$34:$C$39,2,FALSE))","v":0},{"$f":"Products!N152*C300","v":0}]
[100223,{"$f":"Products!D153","v":"Motion Sensor Tree - White"},{"$f":"IF(ISNA(VLOOKUP(B301,Main!$B$34:$C$39,2,FALSE)),0,VLOOKUP(B301,Main!$B$34:$C$39,2,FALSE))","v":13},{"$f":"Products!N153*C301","v":13}]
[100225,{"$f":"Products!D154","v":"Valve Actuator Tree"},{"$f":"IF(ISNA(VLOOKUP(B302,Main!$B$34:$C$39,2,FALSE)),0,VLOOKUP(B302,Main!$B$34:$C$39,2,FALSE))","v":0},{"$f":"Products!N154*C302","v":0}]
[100224,{"$f":"Products!D158","v":"Motion Sensor Tree - Anthracite"},{"$f":"IF(ISNA(VLOOKUP(B303,Main!$B$34:$C$39,2,FALSE)),0,VLOOKUP(B303,Main!$B$34:$C$39,2,FALSE))","v":0},{"$f":"Products!N155*C303","v":0}]
[null,{"$f":"Products!D162","v":"Touch Pure Air - White"},{"$f":"IF(ISNA(VLOOKUP(B304,Main!$B$34:$C$39,2,FALSE)),0,VLOOKUP(B304,Main!$B$34:$C$39,2,FALSE))","v":0},{"$f":"1*C304","v":0}]
[null,{"$f":"Products!D164","v":"Touch Pure Tree - White"},{"$f":"IF(ISNA(VLOOKUP(B305,Main!$B$34:$C$39,2,FALSE)),0,VLOOKUP(B305,Main!$B$34:$C$39,2,FALSE))","v":0},{"$f":"1*C305","v":0}]
[null,{"$f":"Products!D175","v":"Nano DI Tree"},{"$f":"IF(ISNA(VLOOKUP(B306,Main!$B$34:$C$39,2,FALSE)),0,VLOOKUP(B306,Main!$B$34:$C$39,2,FALSE))","v":0},{"$f":"1*C306","v":0}]
[null,{"$f":"Products!D178","v":"not available in this country"},{"$f":"IF(ISNA(VLOOKUP(B307,Main!$B$34:$C$39,2,FALSE)),0,VLOOKUP(B307,Main!$B$34:$C$39,2,FALSE))","v":0},{"$f":"1*C307","v":0}]
[null,{"$f":"Products!D182","v":"LED Ceiling Spot Tree RGBW - White"},{"$f":"IF(ISNA(VLOOKUP(B308,Main!$B$34:$C$39,2,FALSE)),0,VLOOKUP(B308,Main!$B$34:$C$39,2,FALSE))","v":0},0]
[null,{"$f":"Products!D183","v":"LED Ceiling Spot Tree WW - White"},{"$f":"IF(ISNA(VLOOKUP(B309,Main!$B$34:$C$39,2,FALSE)),0,VLOOKUP(B309,Main!$B$34:$C$39,2,FALSE))","v":0},0]
[null,{"$f":"Products!D184","v":"LED Spot Tree WW - White"},{"$f":"IF(ISNA(VLOOKUP(B310,Main!$B$34:$C$39,2,FALSE)),0,VLOOKUP(B310,Main!$B$34:$C$39,2,FALSE))","v":0},0]
[null,{"$f":"Products!D185","v":"LED Spot Tree RGBW - White"},{"$f":"IF(ISNA(VLOOKUP(B311,Main!$B$34:$C$39,2,FALSE)),0,VLOOKUP(B311,Main!$B$34:$C$39,2,FALSE))","v":0},0]
[null,{"$f":"Products!D186","v":"RGBW 24V Dimmer Tree"},{"$f":"IF(ISNA(VLOOKUP(B312,Main!$B$34:$C$39,2,FALSE)),0,VLOOKUP(B312,Main!$B$34:$C$39,2,FALSE))","v":0},0]
[null,{"$f":"Products!D189","v":"Weather Station Tree"},{"$f":"IF(ISNA(VLOOKUP(B313,Main!$B$34:$C$39,2,FALSE)),0,VLOOKUP(B313,Main!$B$34:$C$39,2,FALSE))","v":0},0]
[null,{"$f":"Tree!B19","v":"Touch Surface Tree"},{"$f":"IF(ISNA(VLOOKUP(B314,Main!$B$34:$C$39,2,FALSE)),0,VLOOKUP(B314,Main!$B$34:$C$39,2,FALSE))","v":0},{"$f":"1*C314","v":0}]
[null,{"$f":"Tree!B20","v":"NFC Code Touch Tree - White"},{"$f":"IF(ISNA(VLOOKUP(B315,Main!$B$34:$C$39,2,FALSE)),0,VLOOKUP(B315,Main!$B$34:$C$39,2,FALSE))","v":0},0]
[null,{"$f":"Tree!B21","v":"NFC Code Touch Tree - Anthracite"},{"$f":"IF(ISNA(VLOOKUP(B316,Main!$B$34:$C$39,2,FALSE)),0,VLOOKUP(B316,Main!$B$34:$C$39,2,FALSE))","v":0},0]
[]
[]
[]
[null,null,"Summe",{"$f":"SUM(D299:D319)+F396+F183","v":14}]
[null,null,"Summe mit anderen Kathegorien",null,null,{"$f":"D320+K428+K156+K220+L118","v":85},"sprich mit Kat. Switches"]
[]
[null,"Sonstiges",null,"DO 16A","DO","Modbus"]
[null,"Zubehör","Anzahl"]
["100008",{"$f":"Other!B12","v":"Micro SD Card with firmware"},{"$f":"IF(ISNA(VLOOKUP(B325,Main!$B$92:$C$101,2,FALSE)),0,VLOOKUP(B325,Main!$B$92:$C$101,2,FALSE))","v":0}]
["100011",{"$f":"Other!B50","v":"RS485 Extension"},{"$f":"IF(ISNA(VLOOKUP(B326,Main!$B$92:$C$101,2,FALSE)),0,VLOOKUP(B326,Main!$B$92:$C$101,2,FALSE))","v":0}]
["100013",{"$f":"Other!B51","v":"RS 232 Extension"},{"$f":"IF(ISNA(VLOOKUP(B327,Main!$B$92:$C$101,2,FALSE)),0,VLOOKUP(B327,Main!$B$92:$C$101,2,FALSE))","v":0}]
["100015",{"$f":"Other!B52","v":"Enocean Extension"},{"$f":"IF(ISNA(VLOOKUP(B328,Main!$B$92:$C$101,2,FALSE)),0,VLOOKUP(B328,Main!$B$92:$C$101,2,FALSE))","v":0}]
["100023",{"$f":"Other!B13","v":"No longer sold"},{"$f":"IF(ISNA(VLOOKUP(B329,Main!$B$92:$C$101,2,FALSE)),0,VLOOKUP(B329,Main!$B$92:$C$101,2,FALSE))","v":0}]
["100025",{"$f":"Other!B14","v":"Weather Service 1 Year"},{"$f":"IF(ISNA(VLOOKUP(B330,Main!$B$92:$C$101,2,FALSE)),0,VLOOKUP(B330,Main!$B$92:$C$101,2,FALSE))","v":0}]
["100026",{"$f":"Other!B15","v":"Weather Service 10 Year"},{"$f":"IF(ISNA(VLOOKUP(B331,Main!$B$92:$C$101,2,FALSE)),0,VLOOKUP(B331,Main!$B$92:$C$101,2,FALSE))","v":0}]
["100027",{"$f":"Other!B16","v":"Caller Service 1 Year"},{"$f":"IF(ISNA(VLOOKUP(B332,Main!$B$92:$C$101,2,FALSE)),0,VLOOKUP(B332,Main!$B$92:$C$101,2,FALSE))","v":0}]
["100028",{"$f":"Other!B17","v":"Caller Service 10 Years"},{"$f":"IF(ISNA(VLOOKUP(B333,Main!$B$92:$C$101,2,FALSE)),0,VLOOKUP(B333,Main!$B$92:$C$101,2,FALSE))","v":1}]
["100035",{"$f":"Other!B18","v":"No longer sold"},{"$f":"IF(ISNA(VLOOKUP(B334,Main!$B$92:$C$101,2,FALSE)),0,VLOOKUP(B334,Main!$B$92:$C$101,2,FALSE))","v":0}]
["100124",{"$f":"Other!B53","v":"Modbus Extension"},{"$f":"IF(ISNA(VLOOKUP(B335,Main!$B$92:$C$101,2,FALSE)),0,VLOOKUP(B335,Main!$B$92:$C$101,2,FALSE))","v":0}]
["100178",{"$f":"Other!B19","v":"AquaStar Air 1.5\""},{"$f":"IF(ISNA(VLOOKUP(B336,Main!$B$92:$C$101,2,FALSE)),0,VLOOKUP(B336,Main!$B$92:$C$101,2,FALSE))","v":0}]
["100179",{"$f":"Other!B20","v":"AquaStar Air 2\""},{"$f":"IF(ISNA(VLOOKUP(B337,Main!$B$92:$C$101,2,FALSE)),0,VLOOKUP(B337,Main!$B$92:$C$101,2,FALSE))","v":0}]
["200001",{"$f":"Other!B21","v":"24V Power Supply (1.3A)"},{"$f":"IF(ISNA(VLOOKUP(B338,Main!$B$92:$C$101,2,FALSE)),0,VLOOKUP(B338,Main!$B$92:$C$101,2,FALSE))","v":0}]
["200002",{"$f":"Other!B22","v":"24V Power Supply (4.2A)"},{"$f":"IF(ISNA(VLOOKUP(B339,Main!$B$92:$C$101,2,FALSE)),0,VLOOKUP(B339,Main!$B$92:$C$101,2,FALSE))","v":0},null,null,null,null,null,"Modbus berechnung"]
["200007",{"$f":"Other!B23","v":"not available in this country"},{"$f":"IF(ISNA(VLOOKUP(B340,Main!$B$92:$C$101,2,FALSE)),0,VLOOKUP(B340,Main!$B$92:$C$101,2,FALSE))","v":0},null,null,null,null,null,"benötigt für Geräte",{"$f":"IF(Calculation!F367>0, 1, 0)","v":0}]
["200012",{"$f":"Other!B24","v":"Valve Adaptor VA80"},{"$f":"IF(ISNA(VLOOKUP(B341,Main!$B$92:$C$101,2,FALSE)),0,VLOOKUP(B341,Main!$B$92:$C$101,2,FALSE))","v":0},null,null,null,null,null,"zusätzl. Ausgew.",{"$f":"Calculation!C335","v":0}]
["200013",{"$f":"Other!B25","v":"not available in this country"},{"$f":"IF(ISNA(VLOOKUP(B342,Main!$B$92:$C$101,2,FALSE)),0,VLOOKUP(B342,Main!$B$92:$C$101,2,FALSE))","v":0},null,null,null,null,null,null,{"$f":"SUM(J340:J341)","v":0}]
["200035",{"$f":"Other!B26","v":"24V Power Supply (10A)"},{"$f":"IF(ISNA(VLOOKUP(B343,Main!$B$92:$C$101,2,FALSE)),0,VLOOKUP(B343,Main!$B$92:$C$101,2,FALSE))","v":0}]
["200040",{"$f":"Other!B27","v":"not sold"},{"$f":"IF(ISNA(VLOOKUP(B344,Main!$B$92:$C$101,2,FALSE)),0,VLOOKUP(B344,Main!$B$92:$C$101,2,FALSE))","v":0}]
["200049",{"$f":"Other!B28","v":"Coupling Relay"},{"$f":"IF(ISNA(VLOOKUP(B345,Main!$B$92:$C$101,2,FALSE)),0,VLOOKUP(B345,Main!$B$92:$C$101,2,FALSE))","v":0}]
["200107",{"$f":"Other!B29","v":"not available in this country"},{"$f":"IF(ISNA(VLOOKUP(B346,Main!$B$92:$C$101,2,FALSE)),0,VLOOKUP(B346,Main!$B$92:$C$101,2,FALSE))","v":0}]
["200143",{"$f":"Other!B30","v":"24V Power Supply (0.4A)"},{"$f":"IF(ISNA(VLOOKUP(B347,Main!$B$92:$C$101,2,FALSE)),0,VLOOKUP(B347,Main!$B$92:$C$101,2,FALSE))","v":0}]
["200156",{"$f":"Other!B31","v":"Modbus Electricity Meter (Single Phase)"},{"$f":"IF(ISNA(VLOOKUP(B348,Main!$B$92:$C$101,2,FALSE)),0,VLOOKUP(B348,Main!$B$92:$C$101,2,FALSE))","v":0},null,null,{"$f":"C348","v":0}]
["200157",{"$f":"Other!B32","v":"Modbus Electricity Meter (Three Phase)"},{"$f":"IF(ISNA(VLOOKUP(B349,Main!$B$92:$C$101,2,FALSE)),0,VLOOKUP(B349,Main!$B$92:$C$101,2,FALSE))","v":0},null,null,{"$f":"C349","v":0}]
[null,{"$f":"Other!B33","v":"Other Load (0-5A)"},{"$f":"IF(ISNA(VLOOKUP(B350,Main!$B$92:$C$101,2,FALSE)),0,VLOOKUP(B350,Main!$B$92:$C$101,2,FALSE))","v":2},null,{"$f":"C350","v":2}]
[null,{"$f":"Other!B34","v":"Other Load (5-16A)"},{"$f":"IF(ISNA(VLOOKUP(B351,Main!$B$92:$C$101,2,FALSE)),0,VLOOKUP(B351,Main!$B$92:$C$101,2,FALSE))","v":0},{"$f":"C351","v":0}]
["200161",{"$f":"Other!B36","v":"Power Adapter 24V 6.25A"},{"$f":"IF(ISNA(VLOOKUP(B352,Main!$B$92:$C$101,2,FALSE)),0,VLOOKUP(B352,Main!$B$92:$C$101,2,FALSE))","v":0}]
["200207",{"$f":"Other!B35","v":"No longer sold"},{"$f":"IF(ISNA(VLOOKUP(B353,Main!$B$92:$C$101,2,FALSE)),0,VLOOKUP(B353,Main!$B$92:$C$101,2,FALSE))","v":0}]
["200281",{"$f":"Other!B37","v":"NFC Smart Tags"},{"$f":"IF(ISNA(VLOOKUP(B354,Main!$B$92:$C$101,2,FALSE)),0,VLOOKUP(B354,Main!$B$92:$C$101,2,FALSE))","v":0}]
["200294",{"$f":"Other!B38","v":"Electric Car Charging Cable Type 2"},{"$f":"IF(ISNA(VLOOKUP(B355,Main!$B$92:$C$101,2,FALSE)),0,VLOOKUP(B355,Main!$B$92:$C$101,2,FALSE))","v":0}]
[null,{"$f":"Other!B39","v":"24V LED Power Supply (2.5A)"},{"$f":"IF(ISNA(VLOOKUP(B356,Main!$B$92:$C$101,2,FALSE)),0,VLOOKUP(B356,Main!$B$92:$C$101,2,FALSE))","v":0}]
[null,{"$f":"Other!B40","v":"not available in this country"},{"$f":"IF(ISNA(VLOOKUP(B357,Main!$B$92:$C$101,2,FALSE)),0,VLOOKUP(B357,Main!$B$92:$C$101,2,FALSE))","v":0}]
[null,{"$f":"Other!B41","v":"not available in this country"},{"$f":"IF(ISNA(VLOOKUP(B358,Main!$B$92:$C$101,2,FALSE)),0,VLOOKUP(B358,Main!$B$92:$C$101,2,FALSE))","v":0}]
[null,{"$f":"Other!B42","v":"not available in this country"},{"$f":"IF(ISNA(VLOOKUP(B359,Main!$B$92:$C$101,2,FALSE)),0,VLOOKUP(B359,Main!$B$92:$C$101,2,FALSE))","v":0}]
[null,{"$f":"Other!B43","v":"Duracell Plus Power AA (Pack of 12)"},{"$f":"IF(ISNA(VLOOKUP(B360,Main!$B$92:$C$101,2,FALSE)),0,VLOOKUP(B360,Main!$B$92:$C$101,2,FALSE))","v":0}]
[null,{"$f":"Other!B44","v":"Duracell Plus Power AAA (Pack of 12)"},{"$f":"IF(ISNA(VLOOKUP(B361,Main!$B$92:$C$101,2,FALSE)),0,VLOOKUP(B361,Main!$B$92:$C$101,2,FALSE))","v":0}]
[null,{"$f":"Other!B45","v":"CR2032 Lithium Battery (Pack of 20)"},{"$f":"IF(ISNA(VLOOKUP(B362,Main!$B$92:$C$101,2,FALSE)),0,VLOOKUP(B362,Main!$B$92:$C$101,2,FALSE))","v":0}]
[null,{"$f":"Other!B46","v":"CR2450 Lithium Battery (Pack of 20)"},{"$f":"IF(ISNA(VLOOKUP(B363,Main!$B$92:$C$101,2,FALSE)),0,VLOOKUP(B363,Main!$B$92:$C$101,2,FALSE))","v":0}]
[null,{"$f":"Other!B47","v":"FDK 9V Lithium Battery"},{"$f":"IF(ISNA(VLOOKUP(B364,Main!$B$92:$C$101,2,FALSE)),0,VLOOKUP(B364,Main!$B$92:$C$101,2,FALSE))","v":0}]
[null,{"$f":"Other!B48","v":"not available in this country"},{"$f":"IF(ISNA(VLOOKUP(B365,Main!$B$92:$C$101,2,FALSE)),0,VLOOKUP(B365,Main!$B$92:$C$101,2,FALSE))","v":0}]
[null,{"$f":"Other!B49","v":"Dry Lining Box - Set 25"},{"$f":"IF(ISNA(VLOOKUP(B366,Main!$B$92:$C$101,2,FALSE)),0,VLOOKUP(B366,Main!$B$92:$C$101,2,FALSE))","v":0}]
[null,null,"Summe",{"$f":"D351","v":0},{"$f":"E350","v":2},{"$f":"SUM(F325:F355)","v":0}]
[]
[]
[null,"Fans&Partner","Anzahl"]
["100004",{"$f":"Other!B2","v":"Rollup Banner English"},{"$f":"IF(ISNA(VLOOKUP(B371,Main!$B$103:$C$107,2,FALSE)),0,VLOOKUP(B371,Main!$B$103:$C$107,2,FALSE))","v":0}]
["100170",{"$f":"Other!B3","v":"not available in this country"},{"$f":"IF(ISNA(VLOOKUP(B372,Main!$B$103:$C$107,2,FALSE)),0,VLOOKUP(B372,Main!$B$103:$C$107,2,FALSE))","v":0}]
["200050",{"$f":"Other!B4","v":"Loxone Sticker"},{"$f":"IF(ISNA(VLOOKUP(B373,Main!$B$103:$C$107,2,FALSE)),0,VLOOKUP(B373,Main!$B$103:$C$107,2,FALSE))","v":0}]
["200086",{"$f":"Other!B5","v":"Fanshirt S"},{"$f":"IF(ISNA(VLOOKUP(B374,Main!$B$103:$C$107,2,FALSE)),0,VLOOKUP(B374,Main!$B$103:$C$107,2,FALSE))","v":0}]
["200087",{"$f":"Other!B6","v":"Fanshirt M"},{"$f":"IF(ISNA(VLOOKUP(B375,Main!$B$103:$C$107,2,FALSE)),0,VLOOKUP(B375,Main!$B$103:$C$107,2,FALSE))","v":0}]
["200088",{"$f":"Other!B7","v":"Fanshirt L"},{"$f":"IF(ISNA(VLOOKUP(B376,Main!$B$103:$C$107,2,FALSE)),0,VLOOKUP(B376,Main!$B$103:$C$107,2,FALSE))","v":0}]
["200089",{"$f":"Other!B8","v":"Fanshirt XL"},{"$f":"IF(ISNA(VLOOKUP(B377,Main!$B$103:$C$107,2,FALSE)),0,VLOOKUP(B377,Main!$B$103:$C$107,2,FALSE))","v":0}]
["200090",{"$f":"Other!B9","v":"Fanshirt XXL"},{"$f":"IF(ISNA(VLOOKUP(B378,Main!$B$103:$C$107,2,FALSE)),0,VLOOKUP(B378,Main!$B$103:$C$107,2,FALSE))","v":0}]
["200158",{"$f":"Other!B10","v":"not available in this country"},{"$f":"IF(ISNA(VLOOKUP(B379,Main!$B$103:$C$107,2,FALSE)),0,VLOOKUP(B379,Main!$B$103:$C$107,2,FALSE))","v":0}]
["200186",{"$f":"Other!B11","v":"Loxone Brochure (25 pcs)"},{"$f":"IF(ISNA(VLOOKUP(B380,Main!$B$103:$C$107,2,FALSE)),0,VLOOKUP(B380,Main!$B$103:$C$107,2,FALSE))","v":0}]
[]
[]
[null,"Beschattung","Anzahl","DO","Air Base","Tree"]
[100153,{"$f":"Shading!B2","v":"Nano IO Air"},{"$f":"IF(ISNA(VLOOKUP(B384,Main!$B$17:$C$19,2,FALSE)),0,VLOOKUP(B384,Main!$B$17:$C$19,2,FALSE))","v":0},null,{"$f":"Products!N37*C384","v":0}]
[null,{"$f":"Shading!B3","v":"Shading (Blinds, Curtains, …)"},{"$f":"IF(ISNA(VLOOKUP(B385,Main!$B$17:$C$19,2,FALSE)),0,VLOOKUP(B385,Main!$B$17:$C$19,2,FALSE))","v":0},{"$f":"2*C385","v":0}]
["100182",{"$f":"Products!D52","v":"Tubular Motor SOLIDline Air 10Nm"},{"$f":"IF(ISNA(VLOOKUP(B386,Main!$B$17:$C$19,2,FALSE)),0,VLOOKUP(B386,Main!$B$17:$C$19,2,FALSE))","v":0},0,{"$f":"C386","v":0}]
["100183",{"$f":"Products!D53","v":"Tubular Motor SOLIDline Air 20Nm"},{"$f":"IF(ISNA(VLOOKUP(B387,Main!$B$17:$C$19,2,FALSE)),0,VLOOKUP(B387,Main!$B$17:$C$19,2,FALSE))","v":0},{"$f":"Products!N53*C387","v":0},{"$f":"C387","v":0}]
["100184",{"$f":"Products!D54","v":"Tubular Motor SOLIDline Air 50Nm"},{"$f":"IF(ISNA(VLOOKUP(B388,Main!$B$17:$C$19,2,FALSE)),0,VLOOKUP(B388,Main!$B$17:$C$19,2,FALSE))","v":0},{"$f":"Products!N54*C388","v":0},0]
[null,{"$f":"Products!D189","v":"Weather Station Tree"},{"$f":"IF(ISNA(VLOOKUP(B389,Main!$B$17:$C$19,2,FALSE)),0,VLOOKUP(B389,Main!$B$17:$C$19,2,FALSE))","v":0},null,null,{"$f":"1*C389","v":0}]
[null,{"$f":"Products!D190","v":"Weather Station Air"},{"$f":"IF(ISNA(VLOOKUP(B390,Main!$B$17:$C$19,2,FALSE)),0,VLOOKUP(B390,Main!$B$17:$C$19,2,FALSE))","v":0},null,{"$f":"1*C390","v":0}]
[null,{"$f":"Products!D192","v":"Blind Motor GJ56 Air 6Nm connection at top"},{"$f":"IF(ISNA(VLOOKUP(B391,Main!$B$17:$C$19,2,FALSE)),0,VLOOKUP(B391,Main!$B$17:$C$19,2,FALSE))","v":0},null,{"$f":"C391","v":0}]
[null,{"$f":"Products!D193","v":"Blind Motor GJ56 Air 20Nm connection at top"},{"$f":"IF(ISNA(VLOOKUP(B392,Main!$B$17:$C$19,2,FALSE)),0,VLOOKUP(B392,Main!$B$17:$C$19,2,FALSE))","v":0},null,{"$f":"C392","v":0}]
[null,{"$f":"Products!D194","v":"Blind Motor GJ56 Air 6Nm connection at bottom"},{"$f":"IF(ISNA(VLOOKUP(B393,Main!$B$17:$C$19,2,FALSE)),0,VLOOKUP(B393,Main!$B$17:$C$19,2,FALSE))","v":0},null,0]
[null,{"$f":"Products!D195","v":"Blind Motor GJ56 Air 20Nm connection at bottom"},{"$f":"IF(ISNA(VLOOKUP(B394,Main!$B$17:$C$19,2,FALSE)),0,VLOOKUP(B394,Main!$B$17:$C$19,2,FALSE))","v":0},null,0]
[null,{"$f":"Products!D197","v":"Shading Actuator Air"},{"$f":"IF(ISNA(VLOOKUP(B395,Main!$B$17:$C$19,2,FALSE)),0,VLOOKUP(B395,Main!$B$17:$C$19,2,FALSE))","v":5},null,5]
[null,null,"Summe",{"$f":"SUM(D384:D395)","v":0},{"$f":"SUM(E384:E395)","v":5},{"$f":"SUM(F384:F395)","v":0},null,null,"Zusätzlich Benötigt"]
[null,null,null,null,null,null,null,null,"Air Base Extension"]
[null,null,null,null,null,null,null,null,"Extension"]
[null,"Information",null,null,null,null,null,null,"Miniserver"]
[null,"Rollo per Kabel zu NANO IO und Nano zu AirBase per Funk"]
[null,"pro Rollo/Markise/Jalousie/Raffstore 1 Nano"]
[null,"1 Nano belegt 1 Kanal auf AirBase"]
[null,"Nano Air (DI6,DO2, 1W-Ausgang Sensor)"]
[null,"DI für Taster z.B."]
[null,"DO für Jalousie etc."]
[]
[]
[null,"Taster","Anzahl","DI","AI","Airbase","EnOcean",null,null,null,"TREE"]
[null,{"$f":"Switch!B2","v":"Retractive  Switch 1 Button (reserve 1 DI)"},{"$f":"IF(ISNA(VLOOKUP(B409,Main!$B$52:$C$57,2,FALSE)),0,VLOOKUP(B409,Main!$B$52:$C$57,2,FALSE))","v":0},{"$f":"1*C409","v":0}]
[null,{"$f":"Switch!B3","v":"Retractive  Switch 2 Buttons (reserve 2 DI)"},{"$f":"IF(ISNA(VLOOKUP(B410,Main!$B$52:$C$57,2,FALSE)),0,VLOOKUP(B410,Main!$B$52:$C$57,2,FALSE))","v":0},{"$f":"2*C410","v":0},null,null,null,null,null,null,null,null,"Information"]
[null,{"$f":"Switch!B4","v":"Retractive  Switch 4 Buttons (reserve 4 DI)"},{"$f":"IF(ISNA(VLOOKUP(B411,Main!$B$52:$C$57,2,FALSE)),0,VLOOKUP(B411,Main!$B$52:$C$57,2,FALSE))","v":0},{"$f":"4*C411","v":0}]
[null,{"$f":"Switch!B5","v":"Retractive  Switch 5 Buttons (reserve 5 DI)"},{"$f":"IF(ISNA(VLOOKUP(B412,Main!$B$52:$C$57,2,FALSE)),0,VLOOKUP(B412,Main!$B$52:$C$57,2,FALSE))","v":0},{"$f":"5*C412","v":0},null,null,null,null,null,null,null,null,"AI auch bei DI möglich, wenn frei!"]
["100154",{"$f":"Switch!B6","v":"Loxone Touch for Nano - White"},{"$f":"IF(ISNA(VLOOKUP(B413,Main!$B$52:$C$57,2,FALSE)),0,VLOOKUP(B413,Main!$B$52:$C$57,2,FALSE))","v":0},null,null,{"$f":"Products!N38*C413","v":0}]
["100155",{"$f":"Switch!B7","v":"Loxone Touch Air - White"},{"$f":"IF(ISNA(VLOOKUP(B414,Main!$B$52:$C$57,2,FALSE)),0,VLOOKUP(B414,Main!$B$52:$C$57,2,FALSE))","v":0},null,null,{"$f":"Products!N39*C414","v":0}]
[200057,{"$f":"Switch!B8","v":"not sold"},{"$f":"IF(ISNA(VLOOKUP(B415,Main!$B$52:$C$57,2,FALSE)),0,VLOOKUP(B415,Main!$B$52:$C$57,2,FALSE))","v":0},null,null,null,{"$f":"Products!N80*C415","v":0}]
["100180",{"$f":"Switch!B9","v":"Loxone Touch Air - Anthracite"},{"$f":"IF(ISNA(VLOOKUP(B416,Main!$B$52:$C$57,2,FALSE)),0,VLOOKUP(B416,Main!$B$52:$C$57,2,FALSE))","v":0},null,null,{"$f":"Products!N50*C265","v":0}]
["100181",{"$f":"Switch!B10","v":"Loxone Touch for Nano - Anthracite"},{"$f":"IF(ISNA(VLOOKUP(B417,Main!$B$52:$C$57,2,FALSE)),0,VLOOKUP(B417,Main!$B$52:$C$57,2,FALSE))","v":0},null,null,{"$f":"Products!N51*C266","v":0}]
[null,{"$f":"Switch!B11","v":"Touch Tree - White"},{"$f":"IF(ISNA(VLOOKUP(B418,Main!$B$52:$C$57,2,FALSE)),0,VLOOKUP(B418,Main!$B$52:$C$57,2,FALSE))","v":8},null,null,null,null,null,null,null,{"$f":"C418*Products!N151","v":8}]
[null,{"$f":"Switch!B14","v":"Touch Pure for Nano - White"},{"$f":"IF(ISNA(VLOOKUP(B419,Main!$B$52:$C$57,2,FALSE)),0,VLOOKUP(B419,Main!$B$52:$C$57,2,FALSE))","v":0}]
[null,{"$f":"Switch!B15","v":"Touch Pure Tree - White"},{"$f":"IF(ISNA(VLOOKUP(B420,Main!$B$52:$C$57,2,FALSE)),0,VLOOKUP(B420,Main!$B$52:$C$57,2,FALSE))","v":7},null,null,null,null,null,null,null,{"$f":"1*C420","v":7}]
[null,{"$f":"Switch!B12","v":"Touch Tree - Anthracite"},{"$f":"IF(ISNA(VLOOKUP(B421,Main!$B$52:$C$57,2,FALSE)),0,VLOOKUP(B421,Main!$B$52:$C$57,2,FALSE))","v":0},null,null,null,null,null,null,null,{"$f":"C421*Products!N152","v":0}]
[null,{"$f":"Wireless!B26","v":"Touch Pure Air - White"},{"$f":"IF(ISNA(VLOOKUP(B422,Main!$B$52:$C$57,2,FALSE)),0,VLOOKUP(B422,Main!$B$52:$C$57,2,FALSE))","v":0},null,null,{"$f":"C422","v":0}]
[null,{"$f":"Switch!B17","v":"not available in this country"},{"$f":"IF(ISNA(VLOOKUP(B423,Main!$B$52:$C$57,2,FALSE)),0,VLOOKUP(B423,Main!$B$52:$C$57,2,FALSE))","v":0}]
[null,{"$f":"Switch!B18","v":"not available in this country"},{"$f":"IF(ISNA(VLOOKUP(B424,Main!$B$52:$C$57,2,FALSE)),0,VLOOKUP(B424,Main!$B$52:$C$57,2,FALSE))","v":0},null,null,null,null,null,null,null,{"$f":"C424","v":0}]
[null,{"$f":"Switch!B19","v":"not available in this country"},{"$f":"IF(ISNA(VLOOKUP(B425,Main!$B$52:$C$57,2,FALSE)),0,VLOOKUP(B425,Main!$B$52:$C$57,2,FALSE))","v":0},null,null,{"$f":"C425","v":0}]
[null,null,{"$f":"IF(ISNA(VLOOKUP(B426,Main!$B$52:$C$57,2,FALSE)),0,VLOOKUP(B426,Main!$B$52:$C$57,2,FALSE))","v":0}]
[null,null,{"$f":"IF(ISNA(VLOOKUP(B427,Main!$B$52:$C$57,2,FALSE)),0,VLOOKUP(B427,Main!$B$52:$C$57,2,FALSE))","v":0}]
[null,null,"Summe",{"$f":"SUM(D409:D427)","v":0},{"$f":"SUM(E409:E427)","v":0},{"$f":"SUM(F409:F427)","v":0},{"$f":"SUM(G409:G415)","v":0},null,null,null,{"$f":"SUM(K409:K427)","v":15}]
[]
[]
[null,"Ms & Extensions","Anzahl","AI (Eingang)","DI (Eingang)","AO (Ausgang)","DO (Ausgang)","1-Wire Kanal","Air Base Kanal","EnOcean","Tree","DO 16A","DMX Kanäle","DMX Air Dimmer","Dali"]
["100001",{"$f":"'Ms&Extensions'!B2","v":"Miniserver"},{"$f":"IF(ISNA(VLOOKUP(B432,Main!$B$76:$C$79,2,FALSE)),0,VLOOKUP(B432,Main!$B$76:$C$79,2,FALSE))","v":0},{"$f":"Products!$J$7*C432","v":0},{"$f":"Products!$K$7*C432","v":0},{"$f":"Products!$L$7*C432","v":0},{"$f":"Products!$M$7*C432","v":0}]
["100002",{"$f":"'Ms&Extensions'!B3","v":"Extension"},{"$f":"IF(ISNA(VLOOKUP(B433,Main!$B$76:$C$79,2,FALSE)),0,VLOOKUP(B433,Main!$B$76:$C$79,2,FALSE))","v":0},{"$f":"Products!$J$8*C433","v":0},{"$f":"Products!$K$8*C433","v":0},{"$f":"Products!$L$8*C433","v":0},{"$f":"Products!$M$8*C433","v":0}]
["100011",{"$f":"'Ms&Extensions'!B4","v":"RS485 Extension"},{"$f":"IF(ISNA(VLOOKUP(B434,Main!$B$76:$C$79,2,FALSE)),0,VLOOKUP(B434,Main!$B$76:$C$79,2,FALSE))","v":0}]
["100012",{"$f":"'Ms&Extensions'!B5","v":"DMX Extension"},{"$f":"IF(ISNA(VLOOKUP(B435,Main!$B$76:$C$79,2,FALSE)),0,VLOOKUP(B435,Main!$B$76:$C$79,2,FALSE))","v":0},null,null,null,null,null,null,null,null,null,{"$f":"Products!$N$12*C435","v":0}]
["100013",{"$f":"'Ms&Extensions'!B6","v":"RS 232 Extension"},{"$f":"IF(ISNA(VLOOKUP(B436,Main!$B$76:$C$79,2,FALSE)),0,VLOOKUP(B436,Main!$B$76:$C$79,2,FALSE))","v":0}]
["100014",{"$f":"'Ms&Extensions'!B7","v":"1-Wire Extension"},{"$f":"IF(ISNA(VLOOKUP(B437,Main!$B$76:$C$79,2,FALSE)),0,VLOOKUP(B437,Main!$B$76:$C$79,2,FALSE))","v":0},null,null,null,null,{"$f":"Products!$N$14*C437","v":0}]
["100015",{"$f":"'Ms&Extensions'!B8","v":"Enocean Extension"},{"$f":"IF(ISNA(VLOOKUP(B438,Main!$B$76:$C$79,2,FALSE)),0,VLOOKUP(B438,Main!$B$76:$C$79,2,FALSE))","v":0},null,null,null,null,null,null,{"$f":"Products!$N$15*C438","v":0}]
[100124,{"$f":"Products!D28","v":"Modbus Extension"},{"$f":"IF(ISNA(VLOOKUP(B439,Main!$B$76:$C$79,2,FALSE)),0,VLOOKUP(B439,Main!$B$76:$C$79,2,FALSE))","v":1}]
["100029",{"$f":"'Ms&Extensions'!B10","v":"Dimmer Extension"},{"$f":"IF(ISNA(VLOOKUP(B440,Main!$B$76:$C$79,2,FALSE)),0,VLOOKUP(B440,Main!$B$76:$C$79,2,FALSE))","v":0},null,{"$f":"Products!$K$21*C440","v":0},{"$f":"Products!$L$21*C440","v":0}]
["100038",{"$f":"'Ms&Extensions'!B11","v":"Relay Extension"},{"$f":"IF(ISNA(VLOOKUP(B441,Main!$B$76:$C$79,2,FALSE)),0,VLOOKUP(B441,Main!$B$76:$C$79,2,FALSE))","v":0},null,null,null,null,null,null,null,null,{"$f":"Products!$M$23*C441","v":0}]
["100114",{"$f":"'Ms&Extensions'!B12","v":"Air Base Extension"},{"$f":"IF(ISNA(VLOOKUP(B442,Main!$B$76:$C$79,2,FALSE)),0,VLOOKUP(B442,Main!$B$76:$C$79,2,FALSE))","v":0},null,null,null,null,null,{"$f":"Products!$N$24*C442","v":0}]
["100116",{"$f":"'Ms&Extensions'!B13","v":"Multi Extension Air"},{"$f":"IF(ISNA(VLOOKUP(B443,Main!$B$76:$C$79,2,FALSE)),0,VLOOKUP(B443,Main!$B$76:$C$79,2,FALSE))","v":0},null,{"$f":"Products!$K$26*C443","v":0},null,null,{"$f":"Products!$N$26*C443","v":0},null,null,null,{"$f":"Products!$M$26*C443","v":0},null,{"$f":"C443","v":0}]
["100139",{"$f":"'Ms&Extensions'!B14","v":"Miniserver Go"},{"$f":"IF(ISNA(VLOOKUP(B444,Main!$B$76:$C$79,2,FALSE)),0,VLOOKUP(B444,Main!$B$76:$C$79,2,FALSE))","v":0},null,null,null,null,null,{"$f":"Products!$N$30*C444","v":0}]
["100158",{"$f":"'Ms&Extensions'!B15","v":"Fröling Extension"},{"$f":"IF(ISNA(VLOOKUP(B445,Main!$B$76:$C$79,2,FALSE)),0,VLOOKUP(B445,Main!$B$76:$C$79,2,FALSE))","v":0}]
[null,{"$f":"Products!D150","v":"Tree Extension"},{"$f":"IF(ISNA(VLOOKUP(B446,Main!$B$76:$C$79,2,FALSE)),0,VLOOKUP(B446,Main!$B$76:$C$79,2,FALSE))","v":0},null,null,null,null,null,null,null,1]
[null,{"$f":"'Ms&Extensions'!B17","v":"Dali Extension"},{"$f":"IF(ISNA(VLOOKUP(B447,Main!$B$76:$C$79,2,FALSE)),0,VLOOKUP(B447,Main!$B$76:$C$79,2,FALSE))","v":0}]
[null,{"$f":"'Ms&Extensions'!B18","v":"not available in this country"},{"$f":"IF(ISNA(VLOOKUP(B448,Main!$B$76:$C$79,2,FALSE)),0,VLOOKUP(B448,Main!$B$76:$C$79,2,FALSE))","v":0}]
[null,{"$f":"'Ms&Extensions'!B19","v":"DI Extension"},{"$f":"IF(ISNA(VLOOKUP(B449,Main!$B$76:$C$79,2,FALSE)),0,VLOOKUP(B449,Main!$B$76:$C$79,2,FALSE))","v":0},null,20]
[null,"Netzteilrechner","Anzahl","Ampere/Stk","Gesamt"]
["100001",{"$f":"'Ms&Extensions'!B2","v":"Miniserver"},{"$f":"Products!B7","v":1},{"$f":"0.12","v":0.12},{"$f":"C451*D451","v":0.12}]
["100002",{"$f":"'Ms&Extensions'!B3","v":"Extension"},{"$f":"Products!B8","v":0},{"$f":"0.06","v":0.06},{"$f":"C452*D452","v":0},null,null,null,null,"Summe Netzteile"]
["100011",{"$f":"'Ms&Extensions'!B4","v":"RS485 Extension"},{"$f":"Products!B11","v":0},0.03,0,null,"1,3A Netzteil",{"$f":"IF((E467-H454*4.2)<4.2,ROUNDUP((E467-H454*4.2)/1.3,0),0)","v":1},null,"0,4A Netzteil",null,{"$f":"H469","v":0}]
["100012",{"$f":"'Ms&Extensions'!B5","v":"DMX Extension"},{"$f":"Products!B12","v":0},0.03,0,null,"4,2A Netzteil",{"$f":"ROUNDDOWN(E467/4.2,0)","v":0},null,"1,3A Netzteil",null,{"$f":"H453+H502","v":2}]
["100013",{"$f":"'Ms&Extensions'!B6","v":"RS 232 Extension"},{"$f":"Products!B13","v":0},{"$f":"0.03","v":0.03},0,null,null,null,null,"4,2A Netzteil",null,{"$f":"H454+H472+H503","v":3}]
["100014",{"$f":"'Ms&Extensions'!B7","v":"1-Wire Extension"},{"$f":"Products!B14","v":0},{"$f":"0.03","v":0.03},0,null,null,null,null,"10A Netzteil",null,{"$f":"H473+H504","v":1}]
["100015",{"$f":"'Ms&Extensions'!B8","v":"Enocean Extension"},{"$f":"Products!B15","v":0},{"$f":"0.03","v":0.03},0]
["100029",{"$f":"'Ms&Extensions'!B10","v":"Dimmer Extension"},{"$f":"Products!B21","v":0},0.06,0]
["100035",{"$f":"Products!D22","v":"No longer sold"},{"$f":"Products!B22","v":0},0.03,0,null,null,null,"Extensions"]
["100038",{"$f":"'Ms&Extensions'!B11","v":"Relay Extension"},{"$f":"Products!B23","v":0},{"$f":"0.3","v":0.3},0,null,null,null,"Verfügbar",{"$f":"H453*1.3+H454*4.2","v":1.3}]
["100114",{"$f":"'Ms&Extensions'!B12","v":"Air Base Extension"},{"$f":"Products!B24","v":1},6.0000000000000001E-3,6.0000000000000001E-3,null,null,null,"Benötigt",{"$f":"E467","v":0.1608}]
["100124",{"$f":"Products!D28","v":"Modbus Extension"},{"$f":"Products!B28","v":1},0.03,{"$f":"C462*D462","v":0.03}]
["100158",{"$f":"'Ms&Extensions'!B15","v":"Fröling Extension"},{"$f":"Products!B40","v":0},0.03,{"$f":"C463*D463","v":0}]
[null,{"$f":"Products!D150","v":"Tree Extension"},{"$f":"Products!B150","v":1},{"$f":"Products!O150","v":4.7999999999999996E-3},{"$f":"C464*D464","v":4.7999999999999996E-3}]
[null,{"$f":"Products!D160","v":"Dali Extension"},{"$f":"Products!B160","v":0},0.1,{"$f":"C465*D465","v":0}]
[]
[null,null,null,"Summe",{"$f":"SUM(E451:E466)","v":0.1608}]
[]
["100116",{"$f":"'Ms&Extensions'!B13","v":"Multi Extension Air"},{"$f":"Products!B26","v":0},"0,4 A Netzt. Pro Ext.",null,null,"0,4A Netzteil",{"$f":"C469","v":0}]
[]
["200042",{"$f":"Products!D73","v":"not sold"},{"$f":"Products!B73","v":0},{"$f":"14.4*5/24","v":3},{"$f":"C471*D471","v":0}]
["200043",{"$f":"Products!D74","v":"Warm White LED Strip 5m"},{"$f":"Products!B74","v":0},{"$f":"14.4*5/24","v":3},0,null,"4,2A Netzteil",{"$f":"IF((E498-H473*10)<10,ROUNDUP((E498-H473*10)/4.2,0),0)","v":3}]
["200045","RGB Streifen IP 65 - gelöscht",null,null,null,null,"10A Netzteil",{"$f":"ROUNDDOWN(E498/10,0)","v":1}]
["200046",{"$f":"Products!D75","v":"not sold"},{"$f":"Products!B75","v":0},3,0]
["200061",{"$f":"Products!D82","v":"Warm White LED Strip 5m IP65"},{"$f":"Products!B82","v":0},{"$f":"14.4*5/24","v":3},0,null,null,null,"LED"]
["200092",{"$f":"Products!D93","v":"Warm White LED Strip 5m IP68"},{"$f":"Products!B93","v":0},{"$f":"14.4*5/24","v":3},0,null,null,null,"Verfügbar",{"$f":"H472*4.2+H473*10","v":22.6}]
["200098",{"$f":"Products!D98","v":"RGBW LED Strip 5m IP20"},{"$f":"Products!B98","v":0},3.6,0,null,null,null,"Benötigt",{"$f":"E498","v":19.510000000000002}]
["200099",{"$f":"Products!D99","v":"RGBW LED Strip 5m IP65"},{"$f":"Products!B99","v":2},3.6,7.2]
["200100",{"$f":"Products!D100","v":"RGBW LED Strip 5m IP68"},{"$f":"Products!B100","v":0},3.6,0]
[100204,{"$f":"Products!D147","v":"LED Spot RGBW - White"},{"$f":"Products!B147","v":0},0.2,0]
[100203,{"$f":"Products!D148","v":"LED Spot WW - White"},{"$f":"Products!B148","v":0},0.2,0]
[null,{"$f":"Light!B23","v":"LED Ceiling Spot RGBW - White"},{"$f":"Products!B180","v":0},0.39200000000000002,0]
[null,{"$f":"Light!B24","v":"LED Ceiling Spot WW - White"},{"$f":"Products!B181","v":0},0.39200000000000002,0]
[null,{"$f":"Light!B25","v":"LED Ceiling Spot Tree RGBW - White"},{"$f":"Products!B182","v":0},0.39200000000000002,0]
[null,{"$f":"Light!B26","v":"LED Ceiling Spot Tree WW - White"},{"$f":"Products!B183","v":0},0.39200000000000002,0]
[null,{"$f":"Light!B27","v":"LED Spot Tree WW - White"},{"$f":"Products!B184","v":37},0.23,8.51]
[null,{"$f":"Light!B28","v":"LED Spot Tree RGBW - White"},{"$f":"Products!B185","v":10},0.23,2.3000000000000003]
[null,{"$f":"Light!B31","v":"LED Pendulum Slim - White"},{"$f":"Products!B198","v":3},{"$f":"Power!E49","v":0.5},1.5]
[null,{"$f":"Light!B32","v":"LED Pendulum Slim - Anthracite"},{"$f":"Products!B199","v":0},{"$f":"Power!E50","v":0.5},0]
[null,{"$f":"Light!B33","v":"LED Ceiling Spot RGBW - Anthracite"},{"$f":"Products!B200","v":0},{"$f":"Power!E51","v":0.39200000000000002},0]
[null,{"$f":"Light!B34","v":"LED Ceiling Spot WW - Anthracite"},{"$f":"Products!B201","v":0},{"$f":"Power!E52","v":0.39200000000000002},0]
[null,{"$f":"Light!B35","v":"LED Ceiling Spot Tree RGBW - Anthracite"},{"$f":"Products!B202","v":0},{"$f":"Power!E53","v":0.39200000000000002},0]
[null,{"$f":"Light!B36","v":"LED Ceiling Spot Tree WW - Anthracite"},{"$f":"Products!B203","v":0},{"$f":"Power!E54","v":0.39200000000000002},0]
[null,{"$f":"Light!B37","v":"LED Spot Tree WW - Anthracite"},{"$f":"Products!B204","v":0},{"$f":"Power!E55","v":0.23},0]
[null,{"$f":"Light!B38","v":"LED Spot Tree RGBW - Anthracite"},{"$f":"Products!B205","v":0},{"$f":"Power!E56","v":0.23},0]
[null,{"$f":"Light!B39","v":"LED Spot RGBW - Anthracite"},{"$f":"Products!B206","v":0},{"$f":"Power!E57","v":0.2},0]
[null,{"$f":"Light!B40","v":"LED Spot WW - Anthracite"},{"$f":"Products!B207","v":0},{"$f":"Power!E58","v":0.2},0]
[null,null,null,"Summe",{"$f":"SUM(E471:E497)","v":19.510000000000002}]
[]
["200003",{"$f":"Products!D57","v":"No longer sold"},{"$f":"Products!B57","v":0},5.0000000000000001E-3,{"$f":"C500*D500","v":0}]
["200004",{"$f":"Products!D58","v":"No longer sold"},{"$f":"Products!B58","v":0},4.2000000000000003E-2,0]
["200006",{"$f":"Products!D60","v":"Indoor Temperature Sensor 0-10V"},{"$f":"Products!B60","v":0},5.0000000000000001E-3,0,null,"1,3A Netzteil",{"$f":"IF(E521>(H504*10+H503*4.2),ROUNDUP((E521-H504*10-H503*4.2)/1.3,0),0)","v":1}]
["200010",{"$f":"Products!D62","v":"Indoor Temperature & Humidity Sensor 0-10V"},{"$f":"Products!B62","v":0},5.0000000000000001E-3,0,null,"4,2A Netzteil",{"$f":"IF((E521-H504*10)<1.3,0,IF((E521>H504*10),ROUNDUP((E521-H504*10)/4.2,0),0))","v":0}]
["200017",{"$f":"Products!D65","v":"Indoor Temperature, Humidty & CO2 Sensor 0-10V"},{"$f":"Products!B65","v":0},0.01,0,null,"10A Netzteil",{"$f":"ROUNDDOWN(E521/10,0)","v":0}]
["200018",{"$f":"Products!D66","v":"Rain Sensor (24V)"},{"$f":"Products!B66","v":0},{"$f":"0.06","v":0.06},0]
["200031",{"$f":"Products!D67","v":"Outdoor Temperature & Humidy Sensor 0-10V"},{"$f":"Products!B67","v":0},5.0000000000000001E-3,0]
["200032",{"$f":"Products!D68","v":"Brightness Sensor 0-10V"},{"$f":"Products!B68","v":0},{"$f":"0.005","v":5.0000000000000001E-3},0,null,null,null,"Pheriperie"]
[null,null,null,null,null,null,null,null,"Verfügbar",{"$f":"H502*1.3+H503*4.2+H504*10","v":1.3}]
["200054",{"$f":"Products!D79","v":"Ultrasonic Sensor 0-10V"},{"$f":"Products!B79","v":0},0.06,0,null,null,null,"Benötigt",{"$f":"E521","v":0.3508}]
["200112",{"$f":"Products!D105","v":"Outside Motion Sensor (24V)"},{"$f":"Products!B105","v":0},1.4999999999999999E-2,0]
[200136,{"$f":"Products!D109","v":"Temperature & Humidity Sensor For Saunas"},{"$f":"Products!B109","v":0},5.0000000000000001E-3,0]
["200154",{"$f":"Products!D115","v":"Pressure Sensor 0-10V"},{"$f":"Products!B115","v":0},0.01,0]
[null,{"$f":"Products!D151","v":"Touch Tree - White"},{"$f":"Products!B151","v":8},{"$f":"Products!O151","v":4.7999999999999996E-3},3.8399999999999997E-2]
[null,{"$f":"Products!D152","v":"Touch Tree - Anthracite"},{"$f":"Products!B152","v":0},{"$f":"Products!O152","v":4.7999999999999996E-3},0]
[null,{"$f":"Products!D153","v":"Motion Sensor Tree - White"},{"$f":"Products!B153","v":13},{"$f":"Products!O153","v":4.7999999999999996E-3},6.2399999999999997E-2]
[null,{"$f":"Products!D162","v":"Touch Pure Air - White"},{"$f":"Products!B162","v":0},0]
[null,{"$f":"Products!D163","v":"Touch Pure for Nano - White"},{"$f":"Products!B163","v":0},0]
[null,{"$f":"Products!D164","v":"Touch Pure Tree - White"},{"$f":"Products!B164","v":7}]
[null,{"$f":"Products!D154","v":"Valve Actuator Tree"},{"$f":"Products!B154","v":6},0.05,{"$f":"IF(C519/100>1,ROUNDUP(C519/100,0)*1,IF(C519>0,D519*5,0))","v":0.25}]
[]
[null,null,null,"Summe",{"$f":"SUM(E500:E519)","v":0.3508}]
[]
[]
[]
[]
[]
[null,"Platzbedarfsrechner","Anzahl","Platz","Gesamt"]
["100001",{"$f":"'Ms&Extensions'!B2","v":"Miniserver"},{"$f":"C451","v":1},155,{"$f":"C528*D528","v":155}]
["100002",{"$f":"'Ms&Extensions'!B3","v":"Extension"},0,155,{"$f":"C529*D529","v":0}]
["100011",{"$f":"'Ms&Extensions'!B4","v":"RS485 Extension"},0,34,0]
["100012",{"$f":"'Ms&Extensions'!B5","v":"DMX Extension"},0,34,0,null,"Gesamt in mm",{"$f":"E558","v":1024}]
["100013",{"$f":"'Ms&Extensions'!B6","v":"RS 232 Extension"},0,34,0,null,"Teilungseinh.",{"$f":"ROUNDUP(H531/17.2,0)","v":60}]
["100014",{"$f":"'Ms&Extensions'!B7","v":"1-Wire Extension"},0,34,0]
["100015",{"$f":"'Ms&Extensions'!B8","v":"Enocean Extension"},0,34,0]
["100029",{"$f":"'Ms&Extensions'!B10","v":"Dimmer Extension"},0,155,0]
["100035",{"$f":"Products!D22","v":"No longer sold"},0,34,0]
["100038",{"$f":"'Ms&Extensions'!B11","v":"Relay Extension"},0,155,0]
["100114",{"$f":"'Ms&Extensions'!B12","v":"Air Base Extension"},1,34,34]
["100124",{"$f":"Products!D28","v":"Modbus Extension"},1,34,34]
["100158",{"$f":"'Ms&Extensions'!B15","v":"Fröling Extension"},0,35,0]
["200049",{"$f":"Products!D77","v":"Coupling Relay"},{"$f":"Products!B77","v":0},17,0]
["100117",{"$f":"Products!D27","v":"RGBW 24V Dimmer DMX"},{"$f":"Products!B27","v":0},34,0]
["200001",{"$f":"Products!D55","v":"24V Power Supply (1.3A)"},{"$f":"Products!B55","v":2},53,106]
["200002",{"$f":"Products!D56","v":"24V Power Supply (4.2A)"},{"$f":"Products!B56","v":3},90,270]
["200035",{"$f":"Products!D71","v":"24V Power Supply (10A)"},{"$f":"Products!B71","v":1},83,83]
["200143",{"$f":"Products!D111","v":"24V Power Supply (0.4A)"},{"$f":"Products!B111","v":0},18,0]
["200156",{"$f":"Products!D117","v":"Modbus Electricity Meter (Single Phase)"},{"$f":"Products!B117","v":0},17.5,0]
["200157",{"$f":"Products!D118","v":"Modbus Electricity Meter (Three Phase)"},{"$f":"Products!B118","v":0},70,0]
["200168",{"$f":"Products!D120","v":"Push In Terminal Block 8x4 Interconnected (20 pcs)"},{"$f":"Products!B120","v":1},120,120]
["200169",{"$f":"Products!D121","v":"Push In Terminal Block 8x4 Seperated (20pcs)"},{"$f":"Products!B121","v":1},120,120]
["200173",{"$f":"Products!D125","v":"Push In Terminal Block 3+Earth (50 pcs)"},{"$f":"Products!B125","v":0},104,0]
["200175",{"$f":"Products!D127","v":"Push In Terminal Block Twin+Earth (50 pcs)"},{"$f":"Products!B127","v":0},100,0]
["200178",{"$f":"Products!D130","v":"Push in Fused Terminal Block (25 pcs)"},{"$f":"Products!B130","v":0},70,0]
[null,{"$f":"Products!D150","v":"Tree Extension"},{"$f":"Products!B150","v":1},34,34]
[null,{"$f":"Products!D160","v":"Dali Extension"},{"$f":"Products!B160","v":0},34,{"$f":"C555*D555","v":0}]
[null,{"$f":"Products!D186","v":"RGBW 24V Dimmer Tree"},{"$f":"Products!B186","v":2},34,{"$f":"C556*D556","v":68}]
[]
[null,"Gesamt",null,null,{"$f":"SUM(E528:E556)","v":1024}]
[null,"Dali Berechnung","Anzahl Channel",null,0,null,"zusätzliche Extension ?"]
[null,{"$f":"Light!B21","v":"Dali Channel"},{"$f":"IF(ISNA(VLOOKUP(B560,Main!$B$5:$C$14,2,FALSE)),0,VLOOKUP(B560,Main!$B$2:$C$14,2,FALSE))","v":0},null,0]
[null,null,null,null,0]
[null,null,null,null,1]
[null,null,null,null,0]
[null,null,null,null,0]
[null,"DMX Berechnung","Anzahl Geräte",null,"Summe dimmbar","AIR","nach Projekttyp entscheiden"]
[null,"LED Streifen IP20",{"$f":"Products!B98","v":0},null,0]
[null,"LED IP 65",{"$f":"Products!B99","v":2},null,0]
[null,"LED IP 68",{"$f":"Products!B100","v":0},null,1]
[null,"Spot WW",{"$f":"Products!B148","v":0},null,0]
[null,"Spot RGBW",{"$f":"Products!B147","v":0}]
[null,"LED WW IP65",{"$f":"Products!B82","v":0}]
[null,"LED RGB ip20",{"$f":"Products!B73","v":0}]
[null,"LED RGB IP68",{"$f":"Products!B75","v":0}]
[null,"DMX Dimmer",{"$f":"Products!B27","v":0},null,"DMX Extension Berechnung"]
[null,"Air Dimmer",{"$f":"Products!B29","v":0},null,{"$f":"ROUNDUP(C574/32,0)","v":0}]

{"sheet":"Translating_general","index":24,"n_rows":164,"n_cols":39,"rows_kept":164,"cut":false,"hidden":true,"merged":[[1,0,1,14]]}
[]
["General Translating of the \"Eingabe\", \"Stückliste\", \"Netzteilrechner\"; \"Platzbedarfsrechner\" sheets => Normally you do this translation just once, Translating_products has to be updated constantly"]
[]
["Main"]
["DE","Stückzahl","Raumteilung","Licht","Beschattung","Heizung","Sensor","Air","Taster","Zutritt","Musik","Miniserver&Extension","Verteiler","Zubehör","Fans&Partner","Tree","Drop-Down-Menü Auswahl","Eingabe","Tree"]
["EN_UK","Quantity","Rooms","Lighting","Shading","Heating","Sensor","Air","Switches","Access","Music","Miniserver & Extension","Cabinet","Other","Fans & Partner","Tree","Drop Down Selection","Configuration","Tree"]
["EN_US","Quantity","Rooms","Light","Shading","Heating","Sensor","Air","Push-Buttons","Access","Music","Miniserver&Extension","Cabinet","Other","Fans&Partner","Tree","Drop Down Selection","Configuration","Tree"]
["FR","Quantité","Pièces","Eclairage","Ouvrants","Chauffage","Capteurs","Air","Boutons Poussoirs","Acccès","Audio","Miniserver&Extension","Tableau","Alimentations","Fans&Partenaires","Tree","Menu déroulant","Configuration","Tree"]
["ES","Número de unidades","Habitaciones","Iluminación","Sombreado","Climatización","Sensores","Air","Pulsadores","Acceso","Música","Miniserver y Extensiones","Conexión","Accesorios","Fans&Partner","Tree","Seleccinar del desplegable","Configuración","Tree"]
["CZ","Počet","Místnosti","Světlo","Stínění","Topení","Sensor","Air","Tlačítka","Přístup","Hudba","Miniserver&Extension","Rozvaděč","Příslušenství","Fanoušci a Partneři","Tree","Rozbalovací menu","Vyplňte","Tree"]
["IT","Quantità","Stanze","Illuminazione","Ombreggiatura","Riscaldamento","Sensori","Air","Pulsanti","Accesso","Musica","Miniserver & Extension","Distributore","Accessori","Fans & Partner","Tree","Scelta a menu drop-down","Immissione","Tree"]
["CHE","not translated yet","not translated yet","not translated yet","not translated yet","not translated yet","not translated yet","not translated yet","not translated yet","not translated yet","not translated yet","not translated yet","not translated yet","not translated yet","not translated yet","not translated yet","not translated yet","not translated yet","Tree"]
["SK","Počet","Místnosti","Světlo","Stínění","Topení","Sensor","Air","Tlačítka","Přístup","Hudba","Miniserver&Extension","Rozvaděč","Příslušenství","Fanoušci a Partneři","Tree","Rozbalovací menu","Vyplňte","Tree"]
["NL","Hoeveelheid","Ruimtes","Licht","Beschaduwing","Verwarming","Sensor","Air","Drukknoppen","Toegang","Muziek","Miniserver&Extension","Verdeelbord","Toebehoren","Fans&Partner","Tree","Drop-Down menu","Configuratie","Tree"]
["FI","not translated yet","not translated yet","not translated yet","not translated yet","not translated yet","not translated yet","not translated yet","not translated yet","not translated yet","not translated yet","not translated yet","not translated yet","not translated yet","not translated yet","not translated yet","not translated yet","not translated yet","Tree"]
["HU","Mennyiség","Helyiségek","Világítás","Árnyékolás","Fűtés","Érzékelők","Air","Kapcsolók","Beléptetés","Zene","Miniserver&Extension","Elosztószekrény","Kiegészítők","Rajongók és partnerek","Tree","Legördülő lista","Konfiguráció","Tree"]
["IE","not translated yet","not translated yet","not translated yet","not translated yet","not translated yet","not translated yet","not translated yet","not translated yet","not translated yet","not translated yet","not translated yet","not translated yet","not translated yet","not translated yet","not translated yet","not translated yet","not translated yet","Tree"]
["reservated",null,null,null,null,null,null,null,null,null,null,null,null,null,null,null,null,null,"to translate"]
["reservated",null,null,null,null,null,null,null,null,null,null,null,null,null,null,null,null,null,"to translate"]
["reservated",null,null,null,null,null,null,null,null,null,null,null,null,null,null,null,null,null,"to translate"]
["reservated",null,null,null,null,null,null,null,null,null,null,null,null,null,null,null,null,null,"to translate"]
["reservated",null,null,null,null,null,null,null,null,null,null,null,null,null,null,null,null,null,"to translate"]
[]
[]
[]
[]
[]
["Power"]
["DE","Netzteilrechner","Netzteile","Extensions","Artikelnummer","Produkte","Stück","Ampere/Stück","Gesamt","Ampere verfügbar","Ampere benötigt","Summe","LED","Peripherie","0,4 Ampere Netzteil/Stück"]
["EN_UK","Power Supply Calculator","Power Supplies","Extensions","Item number","Products","Quantity","Ampere/item","Total","Ampere available","Ampere needed","Total","LED","Periphery","0,4 Ampere Power Supply / item"]
["EN_US","Power Supply Calculator","Power Supplies","Extensions","Item number","Products","Quantity","Ampere/item","Total","Ampere available","Ampere needed","Total","LED","Periphery","0,4 Ampere Power Supply / item"]
["FR","Calcul d'Alimentation","Alimentation","Extensions","Référence","Produits","Quantité","Ampère/produit","Total","Ampère disponible","Ampère nécessaire","Total","LED","Periphérique","0,4 Ampère / produits"]
["ES","Calculadora de fuentes de alimentación","Fuentes de alimentación","Extensiones","Núm. de artículo","Productos","Unidades","Amperios/Ud.","Total","Amperios disponibles","Amperios necesarios","Total","LED","Periferia","0,4 Amperios F. Alimentación/Ud."]
["CZ","Výpočet zdroje","Zdroje","Extensiony","Číslo produktu","Produkty","Počet","Ampér/jednotku","Celkem","Zbývající Ampéry","Potřebné Ampéry","Celkem","LED","Příslušenství","0,4 Ampérový zdroj / jednotka"]
["IT","Calcolatore alimentatore","Alimentatori","Extensions","numero articolo","Prodotti","Pezzi","Ampere/pezzo","Totale","Ampere disponibile","Ampere necessita","Totale","LED","Periferia","0,4 Ampere alimentatore/pz"]
["CHE","Netzteilrechner","Netzteile","Extensions","Artikelnummer","Produkte","Stück","Ampere/Stück","Gesamt","Ampere verfügbar","Ampere benötigt","Summe","LED","Peripherie","0,4 Ampere Netzteil/Stück"]
["SK","Výpočet zdroje","Zdroje","Extensiony","Číslo produktu","Produkty","Počet","Ampér/jednotku","Celkem","Zbývající Ampéry","Potřebné Ampéry","Celkem","LED","Příslušenství","0,4 Ampérový zdroj / jednotka"]
["NL","Voeding calculator","Voeding","Extentions","Artikelnummer","Producten","Stuk","Ampère/Stuk","Totaal","Ampère beschikbaar","Ampère vereist","Totaal","LED","Toebehoren","0,4 Ampère Voeding / stuk"]
["FI","not translated yet","not translated yet","not translated yet","not translated yet","not translated yet","not translated yet","not translated yet","not translated yet","not translated yet","not translated yet","not translated yet","not translated yet","not translated yet","not translated yet"]
["HU","Szükséges hely kalkulátor","Cikkszám","Termék","Mennyiség","Szükséges hely","Összesen","Összes hely","Szükséges hely mm-ben","Szükséges hely modulméretben"]
["IE","not translated yet","not translated yet","not translated yet","not translated yet","not translated yet","not translated yet","not translated yet","not translated yet","not translated yet","not translated yet","not translated yet","not translated yet","not translated yet","not translated yet"]
["reservated"]
["reservated"]
["reservated"]
["reservated"]
["reservated"]
[]
[]
[]
[]
[]
["Space"]
["DE","Platzbedarfsrechner","Artikelnummer","Produkte","Stück","Platzbedarf","Gesamt","Platzbedarf gesamt","Platzbedarf in mm","Platzbedarf in Teilungseinheiten"]
["EN_UK","Required Space Calculator","Item Numer","Products","Quantity","Required Space","Total","Total Space","Required Space in mm","Required Space in splitting units"]
["EN_US","Required Space Calculator","Item Numer","Products","Quantity","Required Space","Total","Total Space","Required Space in mm","Required Space in splitting units"]
["FR","Calcul Place Tableau","Référence","Produits","Quantité","Place nécessaire","Total","Place totale","Place nécessaire en mm","Place nécessaire en unité"]
["ES","Dimensionamiento","Nº de Arículo","Productos","Unidades","Espacio requerido","Total","Espacio necesario","Espacio necesario en mm","Espacio necesario en unidades DIN"]
["CZ","Výpočet požadovaného místa v rozvaděči","Číslo produktu","Produkty","Počet","Požadované místo","Celkem","Celkem místa","Požadované místo v mm","Počet modulů v rozvaděči"]
["IT","Calcolatore spazio","numero articolo","Prodotti","Pezzi","Spazio richiesto","Totale","Spazio totale","Spazio in mm","Spazio in unità di divisione"]
["CHE","not translated yet","not translated yet","not translated yet","not translated yet","not translated yet","not translated yet","not translated yet","not translated yet","not translated yet"]
["SK","Výpočet požadovaného místa v rozvaděči","Číslo produktu","Produkty","Počet","Požadované místo","Celkem","Celkem místa","Požadované místo v mm","Počet modulů v rozvaděči"]
["NL","Benodigde Ruimte Calculator","Artikelnummer","Producten","Stuk","Benodigde Ruimte","Totaal","Totale Ruimte","Benodigde Ruimte in mm","Benodigde Ruimte in Modules"]
["FI","not translated yet","not translated yet","not translated yet","not translated yet","not translated yet","not translated yet","not translated yet","not translated yet","not translated yet"]
["HU","not translated yet","not translated yet","not translated yet","not translated yet","not translated yet","not translated yet","not translated yet","not translated yet","not translated yet"]
["IE","not translated yet","not translated yet","not translated yet","not translated yet","not translated yet","not translated yet","not translated yet","not translated yet","not translated yet"]
["reservated"]
["reservated"]
["reservated"]
["reservated"]
["reservated"]
[]
[]
[]
[]
[]
["Products (general)",null,null,null,null,null,null,null,null,"set an ' otherwise excel thinks + is a function",null,null,null,null,null,null,null,null,null,null,null,null,null,null,null,null,null,null,null,null,null,null,"currency/Währung",null,"VAT in %",null,"do a '  before the minus otherwise it coutns as a forumula"]
["DE","Stückliste","Stück","Nr.","Beschreibung","Stück Netto","Stück Brutto","Gesamt","Gesamtpreis exkl. Steuern","+ Steuern","Gesamtpreis inkl. Steuern","Verfügbar","Benötigt","Reserve","Analoge Eingänge","Digitale Eingänge","Analoge Ausgänge","Digitale Ausgänge 5A","1-Wire Kanal","Air Base Kanäle","EnOcean","Digitale Ausgänge 16A","Dimmkanäle","Platzbedarf im Verteiler","in mm","in Teilungseinheiten","Netzteilrechner in Ampere","Extension","LED","Peripherie","Verfügbar","Bedarf","€","Treekanäle",20,"DE","Rabatt","Rabattierter Betrag"]
["EN_UK","Parts List","Quantity","No.","Description","Unit Net","Unit Gross","Total","Total excl. VAT","+ VAT","Total incl. VAT","Available","Required","Spare","Analogue Inputs","Digital Inputs","Analogue Outputs","Digital Outputs 5A","1-Wire Channel","Air Base Channels","EnOcean","Digital Outputs 16A","Dimmer Channels","Space Requirement Cabinet","in mm","in breaker units","Power Supply Calc. In Amps","Extension","LED","Peripherals","Available","Requried","£","Tree Channels",20,"EN_UK","Discount","Discounted Price"]
["EN_US","Parts List","Quantity","Nr.","Description","Unit Net","Unit Gross","Total","Total without taxes","+ Taxes","Total with taxes","Available","Needed","Left","Analog Inputs","Digital Inputs","Analog Outputs","Digital Outputs 5A","1-Wire Channel","Air Base Channels","Not available in this country","Digital Outputs 16A","Dimmer Channels","Space Requirement Cabinet","in mm","in splitting units","Powersupply Calc. In Ampere","Extension","LED","Periphery","Available","Needed","$","Tree Channels",null,"EN_US","Discount","Discounted Price"]
["FR","Liste de produits","Quantité","N°","Description","Pièce Net","Pièce Brut","Total","Total HT","+TVA","Total TTC","Disponible","Nécessaire","Restant","Entrées analogiques","Entrées numériques","Sorties analogiques","Sorties numériques 5A","canal 1-wire","canal Air Base","EnOcean","Sorties numériques 16A","Canal Dimmer","Espace nécessaire Tableau","en mm","en unité U","Calc Alimentation en Ampère","Extension","LED","Périphérique","Disponible","Nécessaire","€","Tree Channels",20,"FR","Discount","Discounted Price"]
["ES","Lista de productos","Unidades","Nº","Descripción","Precio sin IVA","Precio con IVA","Total","Precio total IVA no incluido","+ IVA","Precio total IVA incluido","Disponible","Necesario","Reserva","Entradas analógicas","Entradas digitales","Salidas analógicas","Salidas digitales 5A","Canales 1-Wire","Canales Air Base","EnoCean","Salidas digitales 16A","Canales dimmer","Espacio necesario en armario","en mm","En unidades de carril DIN","Calculadora de Fuentes de Alimentación (A)","Extensión","LED","Periferia","Disponible","Necesario","€","Canales Tree",21,"ES","Discount","Discounted Price"]
["CZ","Seznam produktů","Počet","č.","Popis","Cena za kus bez DPH","Cena za kus s DPH","Celkem","Celkem bez DPH","+ DPH","Celkem s DPH","Dostupné","Potřebné","Zbývající","Analogové vstupy","Digitální vstupy","Analogové výstupy","Digitální výstupy 5A","1-Wire zařízení","Air Base zařízení","EnOcean","Digitální výstupy 16A","Kanály Dimmeru","Požadované místo v rozvaděči","v mm","počet modulů","Výpočet zdroje v Ampérech","Extension","LED","Příslušenství","Dostupné","Potřebné","Kč","Tree Channels",21,"CZ","Discount","Discounted Price"]
["IT","Distinta","Pezzi","Nr.","Descrizione","Pezzo senza IVA","Pezzo con IVA","Totale","Prezzo totale senza IVA","+ IVA","Prezzo totale con IVA","Disponibile","Necessita","Riserva","Ingressi analogici","Ingressi digitali","Uscite analogiche","Uscite digitali 5A","Canale 1-Wire","Canali Air Base","EnOcean","Uscite digitali 16A","Canali dimmerabili","Spazio nel distributore","in mm","in unità di divisione","Calcolatore alimentatore in Ampere","Extension","LED","Periferia","Disponibile","Necessita","€","Canali Tree",22,"IT","Sconto","Importo senza sconto"]
["CHE","not translated yet","not translated yet","not translated yet","not translated yet","not translated yet","not translated yet","not translated yet","not translated yet","+ not translated yet","not translated yet","not translated yet","not translated yet","not translated yet","not translated yet","not translated yet","not translated yet","not translated yet","not translated yet","not translated yet","not translated yet","not translated yet","not translated yet","not translated yet","not translated yet","not translated yet","not translated yet","not translated yet","not translated yet","not translated yet","not translated yet","not translated yet","CHF","Tree Channels",8,"CHE","Discount","Discounted Price"]
["SK","Seznam produktů","Počet","č.","Popis","Cena za kus bez DPH","Cena za kus s DPH","Celkem","Celkem bez DPH","+ DPH","Celkem s DPH","Dostupné","Potřebné","Zbývající","Analogové vstupy","Digitální vstupy","Analogové výstupy","Digitální výstupy 5A","1-Wire zařízení","Air Base zařízení","EnOcean","Digitální výstupy 16A","Kanály Dimmeru","Požadované místo v rozvaděči","v mm","počet modulů","Výpočet zdroje v Ampérech","Extension","LED","Příslušenství","Dostupné","Potřebné","€","Tree Channels",20,"SK","Discount","Discounted Price"]
["NL","Onderdelenlijst","Aantal","Nr.","Omschrijving","Stuk Netto","Stuk Brutto","Totaal","to translate","+ BTW","Totaal met BTW","Beschikbaar","Benodigd","Reserve","Analoge Ingang","Digitale Ingang","Analoge Uitgang","Digitale Uitgang 5A","1-Wire Kanaal","Air Base Kanaal","EnoCean","Digitale Uitgang 16A","Dimmer Kanalen","Benodigde Ruimte in Verdeelbord","in mm","In Modules","Voeding Calculator in Ampère","Extension","LED","Toebehoren","Beschikbaar","Benodigd","€","Tree Channels",21,"NL","Discount","Discounted Price"]
["FI","not translated yet","not translated yet","not translated yet","not translated yet","not translated yet","not translated yet","not translated yet","not translated yet","not translated yet","not translated yet","not translated yet","not translated yet","not translated yet","not translated yet","not translated yet","not translated yet","not translated yet","not translated yet","not translated yet","not translated yet","not translated yet","not translated yet","not translated yet","not translated yet","not translated yet","not translated yet","not translated yet","not translated yet","not translated yet","not translated yet","not translated yet","not translated yet","Tree Channels",24,"FI","Discount","Discounted Price"]
["HU","Eszközlista","Mennyiség","Sorszám","Leírás","Netto egységár","Brutto egységár","Összesen","Összesen ÁFA nélkül","+ÁFA","Összesen ÁFA-val","Elérhető","Szükséges","Tartalék","Analóg bemenetek","Digital bemenetek","Analóg kimenetek","Digitális kimenetek 5A","1-wire csatorna","Air Base csatorna","EnOcean","Digitális kimenet 16A","Dimmer csatorna","Elosztó szekrény szükséges mérete","mm-ben","modulegységben","Tápegység kalkuláció Amperben","Extension","LED","Periféria","Elérhető","Szükséges","Ft","Tree csatornák",27,"HU","Kedvezmény","Kedvezményes ár"]
["IE","not translated yet","not translated yet","not translated yet","not translated yet","not translated yet","not translated yet","not translated yet","not translated yet","not translated yet","not translated yet","not translated yet","not translated yet","not translated yet","not translated yet","not translated yet","not translated yet","not translated yet","not translated yet","not translated yet","not translated yet","not translated yet","not translated yet","not translated yet","not translated yet","not translated yet","not translated yet","not translated yet","not translated yet","not translated yet","not translated yet","not translated yet","not translated yet","Tree Channels",23,"IE","Discount","Discounted Price"]
["reservated",null,null,null,null,null,null,null,null,"to translate","to translate","to translate","to translate","to translate","to translate","to translate","to translate","to translate","to translate","to translate","to translate","to translate","to translate","to translate","to translate","to translate","to translate","to translate","to translate","to translate","to translate","to translate","to change","Tree Channels"]
["reservated",null,null,null,null,null,null,null,null,"to translate","to translate","to translate","to translate","to translate","to translate","to translate","to translate","to translate","to translate","to translate","to translate","to translate","to translate","to translate","to translate","to translate","to translate","to translate","to translate","to translate","to translate","to translate","to change","Tree Channels"]
["reservated",null,null,null,null,null,null,null,null,"to translate","to translate","to translate","to translate","to translate","to translate","to translate","to translate","to translate","to translate","to translate","to translate","to translate","to translate","to translate","to translate","to translate","to translate","to translate","to translate","to translate","to translate","to translate","to change","Tree Channels"]
["reservated",null,null,null,null,null,null,null,null,"to translate","to translate","to translate","to translate","to translate","to translate","to translate","to translate","to translate","to translate","to translate","to translate","to translate","to translate","to translate","to translate","to translate","to translate","to translate","to translate","to translate","to translate","to translate","to change","Tree Channels"]
["reservated",null,null,null,null,null,null,null,null,"to translate","to translate","to translate","to translate","to translate","to translate","to translate","to translate","to translate","to translate","to translate","to translate","to translate","to translate","to translate","to translate","to translate","to translate","to translate","to translate","to translate","to translate","to translate","to change","Tree Channels"]
[]
[]
[]
[]
[]
["Drop down (hidden pages)",null,null,null,null,null,null,null,null,null,null,null,null,null,null,"Just for inputs, not the real hardware"]
["DE","Dimmer Extension [Kanalauswahl]","Analog 1-10V","Lichtkreis schaltbar 5A/Verbraucher 5A","Lichtkreis dimmbar 230V","Lichtkreis Dimmbar 0-10V EVG","DMX Dimmkanal 50W","Air Dimmkanal 50W","1-Wire Temperaturfühler","Windsensor 24V (ben. Extension mit DI)","Fensterkontakt (im Fenster integriert; DI)","Verbraucher 5A","Verbraucher 5-16A","Beschattung (Rollo, Raffstore,...)",null,"Taster 1fach Digital","Taster 2fach Digital","Taster 4fach Digital","Taster 5fach Digital","Musikserver Zonenauswahl","Trennwand P-Reihe (10 Stk.)","Bezeichnungsträger P-Reihe (20 Stk.)","Abschlussplatte P-Reihe (10 Stk.)","Jalousie Anschlussklemme PMAK4 (50 Stk.)","Abschlussplatte PMAK4 (20 Stk.)","Installations- Reihenklemme PDL (50 Stk.)","Endwinkel ZEW 35 (20 Stk.)","Abschlussplatte PDL (20 Stk.)","Sicherungs-Reihenklemme (25 Stk.)","Abschlussplatte Sicherungskl. (50 Stk.) ","Querverbinder 24 Polig (10 Stk.)","Sicherung 2A (100 Stk.)","Sicherung 5A (100 Stk.)","Sicherung 10A (100 Stk.)","Loxone CAT7 Kabel (250m)",null,"Dali Kanal","Dali Kanäle","Verbraucher 16A"]
["EN_UK","Dimmer Channel (230V)","Analogue 1-10V","Light Circut (switched )","Light Circuit (dimmed 230V)","Light Circuit (dimmed 0-10V)","Light Circuit (24V 50W DMX)","Light Circuit (24V 50W Air)","1-Wire Temperature Sensor","Windsensor 24V","Window Contact (integrated - only reserve DI)","Other Load (0-5A)","Other Load (5-16A)","Shading (Blinds, Curtains, …)","to translate","Retractive  Switch 1 Button (reserve 1 DI)","Retractive  Switch 2 Buttons (reserve 2 DI)","Retractive  Switch 4 Buttons (reserve 4 DI)","Retractive  Switch 5 Buttons (reserve 5 DI)","Music Server Zone","Partition for 8x4 Terminals (10pcs)","Label Holder 8 Levels (20 pcs)","End Plate for 8x4 Terminals (10 pcs)","Push In Terminal Block 3+Earth (50 pcs)","End Plate for 3+Earth Terminals (20 pcs)","Push In Terminal Block Twin+Earth (50 pcs)","End Bracket (20 pcs)","End Plate for Twin+Earth Terminals (20 pcs)","Push in Fused Terminal Block (25 pcs)","End Plate For Fused Terminals (50 pcs)","Cross Connector For Fused Terminals (10 pcs)","Blade Fuse 2A (100 pcs)","Blade Fuse 5A (100 pcs)","Blade Fuse 10A (100 pcs)","Loxone CAT7 Cable (250m)","to translate","Dali Channel","Dali Channels","Circut (switched ) 16A"]
["EN_US","Dimmer Channel (110V)","Analogue 1-10V","Light Circut (switched )","Light Circuit (dimmed 110V)","Light Circuit (dimmed 0-10V)","Light Circuit (24V 50W DMX)","Light Circuit (24V 50W Air)","1-Wire Temperature Sensor","Windsensor 24V","Window Contact (integrated - only reserve DI)","Other Load (5A)","Other Load (5-16A)","Shading (Blinds, Curtains, …)","to translate","Retractive Wattstoper 1 Push button (reserve 1 DI)","Retractive  Wattstoper 2 Push buttons (reserve 2 DI)","Retractive  Wattstoper 4 Push buttons (reserve 4 DI)","Retractive  Wattstoper 5 Push buttons (reserve 5 DI)","Music Server Zone","Partition for 8x4 Terminals (10pcs)","Label Holder 8 Levels (20 pcs)","End Plate for 8x4 Terminals (10 pcs)","Push In Terminal Block 3+Earth (50 pcs)","End Plate for 3+Earth Terminals (20 pcs)","Push In Terminal Block Twin+Earth (50 pcs)","End Bracket (20 pcs)","End Plate for Twin+Earth Terminals (20 pcs)","Push in Fused Terminal Block (25 pcs)","End Plate For Fused Terminals (50 pcs)","Cross Connector For Fused Terminals (10 pcs)","Blade Fuse 2A (100 pcs)","Blade Fuse 5A (100 pcs)","Blade Fuse 10A (100 pcs)","Loxone CAT7 Cable (250m)","to translate","Dali Channel","Dali Channels","Circut (switched ) 16A"]
["FR","Canal dimmer (230V)","1-10V","Eclairage simple","Eclairage variation 230V","Eclairage 1-10V","Eclairage variation 24V DMX","Eclairage variation 24V Air","Sonde de temp 1-wire","Anémometre 24V","Contact d'ouverture intégré","Sortie numérique 5A","Sortie numérique 5-16A","Ouvrants (VR, stores ..)","not translated yet","BP 1 touche","BP 2 touches","BP 4 touches","BP 5 touches","Zone Music Server",null,"Porte étiquette (8 niveaux)","Plaque de fin pour bornier 8x4 (10pcs)","Bornier 3 + terre PMAK4 (50 pcs)"," Plaque de fin pour bornier 3 + terre PMAK4 (20 pcs)","Bornier 2 + Terre PDL  (50 pcs)","Délimitateur de rail Din (20 pcs)","Plaque de fin pour bornier 2 + terre PDL (20 pcs)","Bloc de terminal de fusible à connexion rapide (25 pcs)","Plaque de fin pour terminal de fusible (50 pcs)","Connecteur en croix pour terminal de fusible (10 pcs)","Fusible 2A (100 pcs)","Fusible 5A (100 pcs)","Fusible 10A (100 pcs)","Cat 7 250m","not translated yet","Dali Channel","Dali Channels","Eclairage simple 16A"]
["ES","Dimmer Extension [Canales]","Analógico 1-10V","Luminario ON/OFF 5A","Luminaria dimmer 230V","Luminaria dimmer 0-10V EVG","Canal dimmer DMX 50W","Canal dimmer Air 50W","Sensor de temperatura 1-Wire","Anemómetro 24V (necesaria entrada digital de Extension)","Contacto de ventana (integrado en ventana)","Consumidor 5A","Consumidor 5-16A","Sombreado (persiana, store,…)",null,"Pulsador digital 1 fase","Pulsador digital 2 fases","Pulsador digital 4 fases","Pulsador digital 5 fases","Music Server (seleccionar zonas)","Separador para bornes de Weidmüller (10Ud.)","Soporte de señalización para bornes (8 pisos) de Weidmüller (20Ud.)","Tapa final para borne 8x4 de Weidmüller (10Ud.)","Borne de 3 + tierra de Weidmüller","Tapa final para borne de 3 + tierra de Weidmüller (20Ud.)","Borne de 2 + tierra de Weidmüller (50Ud.)","Ángulo de fijación lateral de Weidmüller (20Ud.)","Tapa final para borne de 2 + tierra de Weidmüller (20Ud.)","Borne portafusibles de Weidmüller (25Ud.)","Tapa final para borne portafusibles de Weidmüller (50Ud.)","Conector transversal para borne portafusibles de Weidmüller (10Ud.)","Fusible 2A (100 unidades)","Fusible 5A (100 unidades)","Fusible 10A (100 unidades)","Cable CAT7 de Loxone","to translate","Canal Dali","Canales Dali","Luminario ON/OFF 16A"]
["CZ","Dimmer Extension (Výběr kanálu)","Analog 1-10V","Světelný okruh 5A","Stmívatelný okruh 230V","Stmívatelný okruh 0-10V s elektronickým předřadníkem","DMX Dimmer 50W na kanál","Air Dimmer kanál 50W","1-Wire teplotní senzor","Senzor rychlosti větru 24V (s digitálním vstupem na Extensionu)","Okenní kontakt (integrovaný v okně pouze DI)","Spotřebič do 5A","Spotřebič 5-16A","Stínění","to translate","1 Tlačítko","2 Tlačítko","4 Tlačítko","5 Tlačítko","Zóna Music Serveru","Předělovací deska PRV8 (10 ks)","Držák na značky pro PPV8/PRV8 (20ks)","Bočnice pro PPV8/PRV8 (10 ks)","Svorka na připojení motoru PMAK4 (50 ks)","Bočnice pro PMAK4 (20 ks)","Svorkovnice PDL (50ks)","Koncová podpěra svorkovnice ZEW (20 ks)","Bočnice pro PDL (20 ks)","Pojistková svorkovnice (25 ks)","Bočnice pojistkové svorkovnice (50 ks)","24 pólová propojka WEIDMÜLLER (10ks)","Pojistka 2A","Pojistka 5A (100ks)","Pojistka 10A (100ks)","Loxone CAT7 kabel (250m)","to translate","Dali Channel","Dali Channels","Světelný okruh 16A"]
["IT","Dimmer Extension [scelta canale]","Analogico 1-10V","Luce commutabile 5A","Luce dimmerabile 230V","Luce dimmerabile 0-10V","DMX canale dimmerabile 50W","Air canale dimmerabile 50W","Sensore temperatura 1-Wire","Sensore del vento 24V (rich. Extension con DI)","Contatto finestra (integrato nella finestra; DI)","Consumatore 5A","Consumatore 5-16A","Ombreggiatura (tapparelle, veneziane,...)","to translate","Pulsante digitale 1x","Pulsante digitale 2x","Pulsante digitale 4x","Pulsante digitale 5x","Music Server scelta canale","Piastra di separazione P-serie (10pz.)","Supporto per siglatura P-serie (20pz.)","Piastra terminale P-serie (10pz.)","Morsetto componibile colleg. motore PMAK4 (50pz.)","Piastra terminale PMAK4 (20pz.)","Morsetto per installazione ai piani PDL (50pz.)","Terminale di fissaggio ZEW 35 (20pz.)","Piastra terminale PDL (20pz.)","Morsetto componibile portafusibile (25pz.)","Piastra terminale portafusibile (50pz.)","Collegamento trasversale 24 poli (10pz.)","Fusibile 2A (100 pz.)","Fusibile 5A (100 pz.)","Fusibile 10A (100 pz.)","Loxone cavo CAT7 (250m)","to translate","Dali Channel","Dali Channels","Luce commutabile 16A"]
["CHE","not translated yet","not translated yet","not translated yet","not translated yet","not translated yet","not translated yet","not translated yet","not translated yet","not translated yet","not translated yet","not translated yet","not translated yet","not translated yet","not translated yet","not translated yet","not translated yet","not translated yet","not translated yet","not translated yet","not translated yet","not translated yet","not translated yet","not translated yet","not translated yet","not translated yet","not translated yet","not translated yet","not translated yet","not translated yet","not translated yet","not translated yet","not translated yet","not translated yet","not translated yet","not translated yet","Dali Channel","Dali Channels","not translated yet"]
["SK","Dimmer Extension (Výběr kanálu)","Analog 1-10V","Světelný okruh 5A","Stmívatelný okruh 230V","Stmívatelný okruh 0-10V s elektronickým předřadníkem","DMX Dimmer 50W na kanál","Air Dimmer kanál 50W","1-Wire teplotní senzor","Senzor rychlosti větru 24V (s digitálním vstupem na Extensionu)","Okenní kontakt (integrovaný v okně pouze DI)","Spotřebič do 5A","Spotřebič 5-16A","Stínění","to translate","1 Tlačítko","2 Tlačítko","4 Tlačítko","5 Tlačítko","Zóna Music Serveru","Předělovací deska PRV8 (10 ks)","Držák na značky pro PPV8/PRV8 (20ks)","Bočnice pro PPV8/PRV8 (10 ks)","Svorka na připojení motoru PMAK4 (50 ks)","Bočnice pro PMAK4 (20 ks)","Svorkovnice PDL (50ks)","Koncová podpěra svorkovnice ZEW (20 ks)","Bočnice pro PDL (20 ks)","Pojistková svorkovnice (25 ks)","Bočnice pojistkové svorkovnice (50 ks)","24 pólová propojka WEIDMÜLLER (10ks)","Pojistka 2A","Pojistka 5A (100ks)","Pojistka 10A (100ks)","Loxone CAT7 kabel (250m)","to translate","Dali Channel","Dali Channels","Světelný okruh 16A"]
["NL","Dimmer Extension [Kanaal keuze]","Analoog 1-10V","Lichtkring schakelbaar 5A","Lichtking dimmbaar 230V","Lichtkring dimmbaar 0-10V EVG","DMX Dimkanaal 50W","Air Dimkanaal 50W","1-Wire Temperatuurvoeler","Windsensor 24V (voor Extension met DI)","Raamcontact (in raam geïntegreerd; DI)","Verbruiker 5A","Verbruiker 5-16A","Beschaduwing (rolluik, lammellen,...)",null,"1-voudige digitale drukknop","2-voudige digitale drukknop","4-voudige digitale drukknop","5-voudige digitale drukknop","Muziek server zoneselectie","Scheidingswand P-serie (10 st.)","Markering houder P-serie (20 st.)","Afsluitplaat P-serie (10 st.)","Jaloezie afsluitplaat PMAK4 (50 st.)","Afsluitplaat PMAK4 (20 st.)","Installatie klem PDL (50 st.)","Eindklem ZEW 35 (20 st.)","Afsluitplaat PDL (20 st.)","Zekering klem (25 st.)","Afsluitplaat zekering klem (50 st.)","Kambrug voor klemmen 24 Polig (10 st.)","Zekering 2A (100 st.)","Zekering 5A (100 st.)","Zekering 10A (100 st.)","Loxone CAT7 Kabel (250m)",null,"Dali Channel","Dali Channels","Lichtkring schakelbaar 16A"]
["FI","not translated yet","not translated yet","not translated yet","not translated yet","not translated yet","not translated yet","not translated yet","not translated yet","not translated yet","not translated yet","not translated yet","not translated yet","not translated yet","not translated yet","not translated yet","not translated yet","not translated yet","not translated yet","not translated yet","not translated yet","not translated yet","not translated yet","not translated yet","not translated yet","not translated yet","not translated yet","not translated yet","not translated yet","not translated yet","not translated yet","not translated yet","not translated yet","not translated yet","not translated yet","not translated yet","Dali Channel","Dali Channels","not translated yet"]
["HU","Dimmer csatorna (230V)","Analóg 0-10V","Világítási kör (kapcsolt)","Világítási kör (dimmelt 230V)","Világítási kör (dimmelt 0-10V)","Világítási kör (24V 50W DMX)","Világítási kör ( 24V 50W Air)","1-Wire hőmérséklet érzékelő","Szélérzékelő 24V","Ablak nyitás érzékelő (beépített - csak DI szükséges)","Relé kimenet (5A)","Relé kimenet (16A)","Árnyékolás (redőny, függöny, ...)","not translated yet","1-es nyomógomb","2-es nyomógomb","4-es nyomógomb","5-ös nyomógomb","Zene szerver zóna","Elválasztó elem (10db)","Feliratmező (20db)","Záró elem (10db)","Sorkapocs PMAK4 (50db)","Záró elem sorkapocshoz (20db)","Sorkapocs PDL (50db)","Záró keret (20db)","Záró elem sorkapocshoz (20db)","Biztosított sorkapocs (25db)","Záróelem biztosított sorkapocshoz (50db)","Kereszt csatlakozó biztosító sorkapcsohoz (10db)","Biztosíték 2A (100db)","Biztosíték 5A(100db)","Biztosítés 10A (100db)","Loxone CAT7 kábel (250m)","not translated yet","Dali csatorna","Dali csatornák","Kapcsolt kör 16A"]
["IE","not translated yet","not translated yet","not translated yet","not translated yet","not translated yet","not translated yet","not translated yet","not translated yet","not translated yet","not translated yet","not translated yet","not translated yet","not translated yet","not translated yet","not translated yet","not translated yet","not translated yet","not translated yet","not translated yet","not translated yet","not translated yet","not translated yet","not translated yet","not translated yet","not translated yet","not translated yet","not translated yet","not translated yet","not translated yet","not translated yet","not translated yet","not translated yet","not translated yet","not translated yet","not translated yet","Dali Channel","Dali Channels","not translated yet"]
["reservated","not translated yet","not translated yet","not translated yet","not translated yet","not translated yet","not translated yet","not translated yet","not translated yet","not translated yet","not translated yet","not translated yet","not translated yet","not translated yet","not translated yet","not translated yet","not translated yet","not translated yet","not translated yet","not translated yet","not translated yet","not translated yet","not translated yet","not translated yet","not translated yet","not translated yet","not translated yet","not translated yet","not translated yet","not translated yet","not translated yet","not translated yet","not translated yet","not translated yet","not translated yet","not translated yet","Dali Channel","Dali Channels","not translated yet"]
["reservated","not translated yet","not translated yet","not translated yet","not translated yet","not translated yet","not translated yet","not translated yet","not translated yet","not translated yet","not translated yet","not translated yet","not translated yet","not translated yet","not translated yet","not translated yet","not translated yet","not translated yet","not translated yet","not translated yet","not translated yet","not translated yet","not translated yet","not translated yet","not translated yet","not translated yet","not translated yet","not translated yet","not translated yet","not translated yet","not translated yet","not translated yet","not translated yet","not translated yet","not translated yet","not translated yet","Dali Channel","Dali Channels","not translated yet"]
["reservated","not translated yet","not translated yet","not translated yet","not translated yet","not translated yet","not translated yet","not translated yet","not translated yet","not translated yet","not translated yet","not translated yet","not translated yet","not translated yet","not translated yet","not translated yet","not translated yet","not translated yet","not translated yet","not translated yet","not translated yet","not translated yet","not translated yet","not translated yet","not translated yet","not translated yet","not translated yet","not translated yet","not translated yet","not translated yet","not translated yet","not translated yet","not translated yet","not translated yet","not translated yet","not translated yet","Dali Channel","Dali Channels","not translated yet"]
["reservated","not translated yet","not translated yet","not translated yet","not translated yet","not translated yet","not translated yet","not translated yet","not translated yet","not translated yet","not translated yet","not translated yet","not translated yet","not translated yet","not translated yet","not translated yet","not translated yet","not translated yet","not translated yet","not translated yet","not translated yet","not translated yet","not translated yet","not translated yet","not translated yet","not translated yet","not translated yet","not translated yet","not translated yet","not translated yet","not translated yet","not translated yet","not translated yet","not translated yet","not translated yet","not translated yet","Dali Channel","Dali Channels","not translated yet"]
["reservated","not translated yet","not translated yet","not translated yet","not translated yet","not translated yet","not translated yet","not translated yet","not translated yet","not translated yet","not translated yet","not translated yet","not translated yet","not translated yet","not translated yet","not translated yet","not translated yet","not translated yet","not translated yet","not translated yet","not translated yet","not translated yet","not translated yet","not translated yet","not translated yet","not translated yet","not translated yet","not translated yet","not translated yet","not translated yet","not translated yet","not translated yet","not translated yet","not translated yet","not translated yet","not translated yet","Dali Channel","Dali Channels","not translated yet"]
[]
[]
[]
[]
[]
["Message Box"]
["DE","Bitte entsprechende/n Verstärker manuell hinzufügen!","Bitte Dimmer (RGBW DMX/AIR) manuel hinzufügen je nach Lichtkreisen!"]
["EN_UK","Please add an amplifier manually!","Please add dimmer (dmx/air) manually due to your circuits!"]
["EN_US","Please add an amplifier manually!","Please add dimmer (dmx/air) manually due to your circuits!"]
["FR","Please add an amplifier manually!","Please add dimmer (dmx/air) manually due to your circuits!"]
["ES","Please add an amplifier manually!","Please add dimmer (dmx/air) manually due to your circuits!"]
["CZ","Please add an amplifier manually!","Please add dimmer (dmx/air) manually due to your circuits!"]
["IT","Si prega di aggiungere manualmente l'amplificatore!","Si prega di aggiungere manualmente il dimmer (RGBW DMX / AIR) secondo le luci commutabili!"]
["CHE","Please add an amplifier manually!","Please add dimmer (dmx/air) manually due to your circuits!"]
["SK","Please add an amplifier manually!","Please add dimmer (dmx/air) manually due to your circuits!"]
["NL","Please add an amplifier manually!","Please add dimmer (dmx/air) manually due to your circuits!"]
["FI","Please add an amplifier manually!","Please add dimmer (dmx/air) manually due to your circuits!"]
["HU","Please add an amplifier manually!","Please add dimmer (dmx/air) manually due to your circuits!"]
["IE","Please add an amplifier manually!","Please add dimmer (dmx/air) manually due to your circuits!"]
["reservated","Please add an amplifier manually!","Please add dimmer (dmx/air) manually due to your circuits!"]
["reservated","Please add an amplifier manually!","Please add dimmer (dmx/air) manually due to your circuits!"]
["reservated","Please add an amplifier manually!","Please add dimmer (dmx/air) manually due to your circuits!"]
["reservated","Please add an amplifier manually!","Please add dimmer (dmx/air) manually due to your circuits!"]
["reservated","Please add an amplifier manually!","Please add dimmer (dmx/air) manually due to your circuits!"]
[]
[]
[]
[]
["DE"]
["EN_UK"]
["EN_US"]
["FR"]
["ES"]
["CZ"]
["IT"]
["CHE"]
["SK"]
["NL"]
["FI"]
["HU"]
["IE"]
["reservated"]
["reservated"]
["reservated"]
["reservated"]
["reservated"]

{"sheet":"Translating_products","index":25,"n_rows":465,"n_cols":151,"rows_kept":465,"cut":false,"hidden":true,"merged":[[0,55,0,56],[0,0,0,1],[0,5,0,6],[0,10,0,11],[0,15,0,16],[0,20,0,21],[0,25,0,26],[0,30,0,31],[0,35,0,36],[0,40,0,41],[0,45,0,46],[0,50,0,51],[0,2,0,4],[0,59,0,60],[0,64,0,65],[0,69,0,70],[0,74,0,75],[0,79,0,80]]}
["DE",null,"PRICES WITH A , NOT A  ",null,null,"EN_UK",null,null,null,null,"EN_US",null,null,null,null,"FR",null,null,null,null,"ES",null,null,null,null,"CZ",null,null,null,null,"IT",null,null,null,null,"CHE",null,null,null,null,"SK",null,null,null,null,"NL",null,null,null,null,"FI",null,null,null,null,"HU",null,null,null,"IE",null,null,null,null,"reserviert",null,null,null,null,"reserviert",null,null,null,null,"reserviert",null,null,null,null,"reserviert"]
[null,"Info: DO NOT CHANGE THE ORDER OF THE LIST",null,null,null,null,"Info: DO NOT CHANGE THE ORDER OF THE LIST",null,null,null,null,"Info: DO NOT CHANGE THE ORDER OF THE LIST",null,null,null,null,"Info: DO NOT CHANGE THE ORDER OF THE LIST",null,null,null,null,"Info: DO NOT CHANGE THE ORDER OF THE LIST",null,null,null,null,"Info: DO NOT CHANGE THE ORDER OF THE LIST",null,null,null,null,"Info: DO NOT CHANGE THE ORDER OF THE LIST",null,null,null,null,"Info: DO NOT CHANGE THE ORDER OF THE LIST",null,null,null,null,"Info: DO NOT CHANGE THE ORDER OF THE LIST",null,null,null,null,"Info: DO NOT CHANGE THE ORDER OF THE LIST",null,null,null,null,"Info: DO NOT CHANGE THE ORDER OF THE LIST",null,null,null,null,"Info: DO NOT CHANGE THE ORDER OF THE LIST",null,null,null,"Info: DO NOT CHANGE THE ORDER OF THE LIST",null,null,null,null,"Info: DO NOT CHANGE THE ORDER OF THE LIST ",null,null,null,null,"Info: DO NOT CHANGE THE ORDER OF THE LIST ",null,null,null,null,"Info: DO NOT CHANGE THE ORDER OF THE LIST ",null,null,null,null,"Info: DO NOT CHANGE THE ORDER OF THE LIST ",null,null,null,null,"DO ","NOT",null,null,null,null,"Just for the easier use of the function"]
["Art Nr","Name","Netto",null,null,"Item Nr","Name","excl Taxes",null,null,"Item Nr","Name","excl Taxes",null,null,"Item Nr","Name","excl Taxes",null,null,"Item Nr","Name","excl Taxes",null,null,"Item Nr","Name","excl Taxes",null,null,"Item Nr","Name","excl Taxes",null,null,"Item Nr","Name","excl Taxes",null,null,"Item Nr","Name","excl Taxes",null,null,"Item Nr","Name","excl Taxes",null,null,"Item Nr","Name","excl Taxes",null,null,"Item Nr","Name","excl Taxes",null,"Item Nr","Name","excl Taxes",null,null,"Item Nr","Name","excl Taxes",null,null,"Item Nr","Name","excl Taxes",null,null,"Item Nr","Name","excl Taxes",null,null,"Item Nr","Name","excl Taxes",null,null,null,"CHANGE","HERE",null,null,null,"Zeilennr",{"$f":"A3","v":"Art Nr"},{"$f":"F3","v":"Item Nr"},{"$f":"K3","v":"Item Nr"},{"$f":"P3","v":"Item Nr"},{"$f":"U3","v":"Item Nr"},{"$f":"Z3","v":"Item Nr"},{"$f":"AE3","v":"Item Nr"},{"$f":"AJ3","v":"Item Nr"},{"$f":"AO3","v":"Item Nr"},{"$f":"AT3","v":"Item Nr"},{"$f":"AY3","v":"Item Nr"},{"$f":"BD3","v":"Item Nr"},{"$f":"BH3","v":"Item Nr"},{"$f":"BM3","v":"Item Nr"},{"$f":"BR3","v":"Item Nr"},{"$f":"BW3","v":"Item Nr"},{"$f":"CB3","v":"Item Nr"},null,null,null,null,{"$f":"B3","v":"Name"},{"$f":"G3","v":"Name"},{"$f":"L3","v":"Name"},{"$f":"Q3","v":"Name"},{"$f":"V3","v":"Name"},{"$f":"$AA$3","v":"Name"},{"$f":"$AF$3","v":"Name"},{"$f":"$AK$3","v":"Name"},{"$f":"$AP$3","v":"Name"},{"$f":"$AU$3","v":"Name"},{"$f":"$AZ$3","v":"Name"},{"$f":"$BE$3","v":"Name"},{"$f":"$BI$3","v":"Name"},{"$f":"$BN$3","v":"Name"},{"$f":"$BS$3","v":"Name"},{"$f":"$BX$3","v":"Name"},{"$f":"$CC$3","v":"Name"},null,null,null,null,null,{"$f":"C3","v":"Netto"},{"$f":"H3","v":"excl Taxes"},{"$f":"M3","v":"excl Taxes"},{"$f":"R3","v":"excl Taxes"},{"$f":"W3","v":"excl Taxes"},{"$f":"AB3","v":"excl Taxes"},{"$f":"AG3","v":"excl Taxes"},{"$f":"AL3","v":"excl Taxes"},{"$f":"AQ3","v":"excl Taxes"},{"$f":"AV3","v":"excl Taxes"},{"$f":"BA3","v":"excl Taxes"},{"$f":"BF3","v":"excl Taxes"},{"$f":"BJ3","v":"excl Taxes"},{"$f":"BO3","v":"excl Taxes"},{"$f":"BT3","v":"excl Taxes"},{"$f":"BY3","v":"excl Taxes"},{"$f":"CD3","v":"excl Taxes"}]
["DE","DE","DE","DE is just for",null,"EN_UK","EN_UK","EN_UK",null,null,"EN_US","EN_US","EN_US",null,null,"FR","FR","FR",null,null,"ES","ES","ES",null,null,"CZ","CZ","CZ",null,null,"IT","IT","IT",null,null,"CHE","CHE","CHE",null,null,"SK","SK","SK",null,null,"NL","NL","NL",null,null,"FI","FI","FI",null,null,"HU","HU","HU",null,"IE","IE","IE",null,null,"name = how you select it in the lookup",null,null,null,null,"name = how you select it in the lookup",null,null,null,null,"name = how you select it in the lookup",null,null,null,null,"name = how you select it in the lookup",null,null,null,null,null,null,null,null,null,null,1,{"$f":"A4","v":"DE"},{"$f":"F4","v":"EN_UK"},{"$f":"K4","v":"EN_US"},{"$f":"P4","v":"FR"},{"$f":"U4","v":"ES"},{"$f":"Z4","v":"CZ"},{"$f":"AE4","v":"IT"},{"$f":"AJ4","v":"CHE"},{"$f":"AO4","v":"SK"},{"$f":"AT4","v":"NL"},{"$f":"AY4","v":"FI"},{"$f":"BD4","v":"HU"},{"$f":"BH4","v":"IE"},{"$f":"BM4","v":"name = how you select it in the lookup"},{"$f":"BR4","v":"name = how you select it in the lookup"},{"$f":"BW4","v":"name = how you select it in the lookup"},{"$f":"CB4","v":"name = how you select it in the lookup"},null,null,null,null,{"$f":"B4","v":"DE"},{"$f":"G4","v":"EN_UK"},{"$f":"L4","v":"EN_US"},{"$f":"Q4","v":"FR"},{"$f":"V4","v":"ES"},{"$f":"AA4","v":"CZ"},{"$f":"AF4","v":"IT"},{"$f":"AK4","v":"CHE"},{"$f":"AP4","v":"SK"},{"$f":"AU4","v":"NL"},{"$f":"AZ4","v":"FI"},{"$f":"BE4","v":"HU"},{"$f":"BI4","v":"IE"},{"$f":"BN4","v":0},{"$f":"BS4","v":0},{"$f":"BX4","v":0},{"$f":"CC4","v":0},null,null,null,null,null,{"$f":"C4","v":"DE"},{"$f":"H4","v":"EN_UK"},{"$f":"M4","v":"EN_US"},{"$f":"R4","v":"FR"},{"$f":"W4","v":"ES"},{"$f":"AB4","v":"CZ"},{"$f":"AG4","v":"IT"},{"$f":"AL4","v":"CHE"},{"$f":"AQ4","v":"SK"},{"$f":"AV4","v":"NL"},{"$f":"BA4","v":"FI"},{"$f":"BF4","v":"HU"},{"$f":"BJ4","v":"IE"},{"$f":"BO4","v":0},{"$f":"BT4","v":0},{"$f":"BY4","v":0},{"$f":"CD4","v":0}]
[100001,"Miniserver",426.21,"lookup function",null,100001,"Miniserver",380,null,null,100001,"Miniserver",583,null,null,100001,"Miniserver",426.21,null,null,100001,"Miniserver",426.21,null,null,100001,"Miniserver",10608.65,null,null,100001,"Miniserver",426.21,null,null,100001,"Miniserver",554.07000000000005,null,null,100001,"Miniserver",426.21,null,null,100001,"Miniserver",426.21,null,null,"Not done","not translated yet","Not done",null,null,100001,"Miniserver",139900,null,"Not done","not translated yet","Not done",null,null,"Not done","not translated yet","Not done",null,null,"Not done","not translated yet","Not done",null,null,"Not done","not translated yet","Not done",null,null,"Not done","not translated yet","Not done",null,null,null,null,null,null,null,null,2,{"$f":"A5","v":100001},100001,{"$f":"K5","v":100001},{"$f":"P5","v":100001},{"$f":"U5","v":100001},{"$f":"Z5","v":100001},{"$f":"AE5","v":100001},{"$f":"AJ5","v":100001},{"$f":"AO5","v":100001},{"$f":"AT5","v":100001},{"$f":"AY5","v":"Not done"},{"$f":"BD5","v":100001},{"$f":"BH5","v":"Not done"},{"$f":"BM5","v":"Not done"},{"$f":"BR5","v":"Not done"},{"$f":"BW5","v":"Not done"},{"$f":"CB5","v":"Not done"},null,null,null,null,{"$f":"B5","v":"Miniserver"},{"$f":"G5","v":"Miniserver"},{"$f":"L5","v":"Miniserver"},{"$f":"Q5","v":"Miniserver"},{"$f":"V5","v":"Miniserver"},{"$f":"AA5","v":"Miniserver"},{"$f":"AF5","v":"Miniserver"},{"$f":"AK5","v":"Miniserver"},{"$f":"AP5","v":"Miniserver"},{"$f":"AU5","v":"Miniserver"},{"$f":"AZ5","v":"not translated yet"},{"$f":"BE5","v":"Miniserver"},{"$f":"BI5","v":"not translated yet"},{"$f":"BN5","v":"not translated yet"},{"$f":"BS5","v":"not translated yet"},{"$f":"BX5","v":"not translated yet"},{"$f":"CC5","v":"not translated yet"},null,null,null,null,null,{"$f":"C5","v":426.21},{"$f":"H5","v":380},{"$f":"M5","v":583},{"$f":"R5","v":426.21},{"$f":"W5","v":426.21},{"$f":"AB5","v":10608.65},{"$f":"AG5","v":426.21},{"$f":"AL5","v":554.07000000000005},{"$f":"AQ5","v":426.21},{"$f":"AV5","v":426.21},{"$f":"BA5","v":"Not done"},{"$f":"BF5","v":139900},{"$f":"BJ5","v":"Not done"},{"$f":"BO5","v":"Not done"},{"$f":"BT5","v":"Not done"},{"$f":"BY5","v":"Not done"},{"$f":"CD5","v":"Not done"}]
[100002,"Extension",340.63,null,null,100002,"Extension",302.5,null,null,100002,"Extension",466,null,null,100002,"Extension",340.63,null,null,100002,"Extension",340.63,null,null,100002,"Extension",8486.76,null,null,100002,"Extension",340.63,null,null,100002,"Extension",442.81,null,null,100002,"Extension",340.63,null,null,100002,"Extension",340.63,null,null,"Not done","not translated yet","Not done",null,null,100002,"Extension",109900,null,"Not done","not translated yet","Not done",null,null,"Not done","not translated yet","Not done",null,null,"Not done","not translated yet","Not done",null,null,"Not done","not translated yet","Not done",null,null,"Not done","not translated yet","Not done",null,null,null,null,null,null,null,null,3,100002,100002,100002,100002,100002,100002,100002,100002,100002,100002,"Not done",100002,"Not done","Not done","Not done","Not done","Not done",null,null,null,null,"Extension","Extension","Extension","Extension","Extension","Extension","Extension","Extension","Extension","Extension","not translated yet","Extension","not translated yet","not translated yet","not translated yet","not translated yet","not translated yet",null,null,null,null,null,340.63,302.5,466,340.63,340.63,8486.76,340.63,442.81,340.63,340.63,"Not done",109900,"Not done","Not done","Not done","Not done","Not done"]
[100004,"Rollup Aufsteller",195.13,null,null,100005,"Rollup Banner English",90,null,null,100005,"Rollup Banner English",119,null,null,100046,"Rollup FR",195.13,null,null,100004,"Rollup Loxone",195.13,null,null,100040,"Rollup český",2771.87,null,null,100004,"Rollup Espositore",195.13,null,null,100004,"Rollup Aufsteller",132.16999999999999,null,null,100040,"Rollup český",195.13,null,null,100042,"Rollup Banner Nederlands",195.13,null,null,"Not done","not translated yet","Not done",null,null,"NA","not available in this country",0,null,"Not done","not translated yet","Not done",null,null,"Not done","not translated yet","Not done",null,null,"Not done","not translated yet","Not done",null,null,"Not done","not translated yet","Not done",null,null,"Not done","not translated yet","Not done",null,null,null,null,null,null,null,null,4,100004,100005,100005,100046,100004,100040,100004,100004,100040,100042,"Not done","NA","Not done","Not done","Not done","Not done","Not done",null,null,null,null,"Rollup Aufsteller","Rollup Banner English","Rollup Banner English","Rollup FR","Rollup Loxone","Rollup český","Rollup Espositore","Rollup Aufsteller","Rollup český","Rollup Banner Nederlands","not translated yet","not available in this country","not translated yet","not translated yet","not translated yet","not translated yet","not translated yet",null,null,null,null,null,195.13,90,119,195.13,195.13,2771.87,195.13,132.16999999999999,195.13,195.13,"Not done",0,"Not done","Not done","Not done","Not done","Not done"]
[100008,"SD-Karte mit Firmware",10.19,null,null,100008,"Micro SD Card with firmware",9,null,null,100008,"Micro SD Card with firmware",14,null,null,100008,"Micro SD Card avec firmware",10.19,null,null,100008,"Tarjeta SD con Firmware",10.19,null,null,100008,"SD-Karta s firmwarem",253.78,null,null,100008,"Scheda SD con Firmware",10.19,null,null,100008,"SD-Karte mit Firmware",13.24,null,null,100008,"SD-Karta s firmwarem",10.19,null,null,100008,"Micro SD Kaart met firmware",10.19,null,null,"Not done","not translated yet","Not done",null,null,100008,"Micro SD Kártya, firmwerrel",11900,null,"Not done","not translated yet","Not done",null,null,"Not done","not translated yet","Not done",null,null,"Not done","not translated yet","Not done",null,null,"Not done","not translated yet","Not done",null,null,"Not done","not translated yet","Not done",null,null,null,null,null,null,null,null,5,100008,100008,100008,100008,100008,100008,100008,100008,100008,100008,"Not done",100008,"Not done","Not done","Not done","Not done","Not done",null,null,null,null,"SD-Karte mit Firmware","Micro SD Card with firmware","Micro SD Card with firmware","Micro SD Card avec firmware","Tarjeta SD con Firmware","SD-Karta s firmwarem","Scheda SD con Firmware","SD-Karte mit Firmware","SD-Karta s firmwarem","Micro SD Kaart met firmware","not translated yet","Micro SD Kártya, firmwerrel","not translated yet","not translated yet","not translated yet","not translated yet","not translated yet",null,null,null,null,null,10.19,9,14,10.19,10.19,253.78,10.19,13.24,10.19,10.19,"Not done",11900,"Not done","Not done","Not done","Not done","Not done"]
[100011,"RS485 Extension",144.63999999999999,null,null,100011,"RS485 Extension",130,null,null,100011,"RS485 Extension",199,null,null,100011,"Extension RS485",144.63999999999999,null,null,100011,"RS485 Extension",144.63999999999999,null,null,100011,"RS485 Extension",3606.38,null,null,100011,"RS485 Extension",144.63999999999999,null,null,100011,"RS485 Extension",188.04,null,null,100011,"RS485 Extension",144.63999999999999,null,null,100011,"RS485 Extension",144.63999999999999,null,null,"Not done","not translated yet","Not done",null,null,100011,"RS485 Extension",49900,null,"Not done","not translated yet","Not done",null,null,"Not done","not translated yet","Not done",null,null,"Not done","not translated yet","Not done",null,null,"Not done","not translated yet","Not done",null,null,"Not done","not translated yet","Not done",null,null,null,null,null,null,null,null,6,100011,100011,100011,100011,100011,100011,100011,100011,100011,100011,"Not done",100011,"Not done","Not done","Not done","Not done","Not done",null,null,null,null,"RS485 Extension","RS485 Extension","RS485 Extension","Extension RS485","RS485 Extension","RS485 Extension","RS485 Extension","RS485 Extension","RS485 Extension","RS485 Extension","not translated yet","RS485 Extension","not translated yet","not translated yet","not translated yet","not translated yet","not translated yet",null,null,null,null,null,144.63999999999999,130,199,144.63999999999999,144.63999999999999,3606.38,144.63999999999999,188.04,144.63999999999999,144.63999999999999,"Not done",49900,"Not done","Not done","Not done","Not done","Not done"]
[100012,"DMX Extension",230.22,null,null,100012,"DMX Extension",205,null,null,100012,"DMX Extension",315,null,null,100012,"Extension DMX",230.22,null,null,100012,"DMX Extension",230.22,null,null,100012,"DMX Extension",5770.72,null,null,100012,"DMX Extension",230.22,null,null,100012,"DMX Extension",299.29000000000002,null,null,100012,"DMX Extension",230.22,null,null,100012,"DMX Extension",230.22,null,null,"Not done","not translated yet","Not done",null,null,100012,"DMX Extension",79900,null,"Not done","not translated yet","Not done",null,null,"Not done","not translated yet","Not done",null,null,"Not done","not translated yet","Not done",null,null,"Not done","not translated yet","Not done",null,null,"Not done","not translated yet","Not done",null,null,null,null,null,null,null,null,7,100012,100012,100012,100012,100012,100012,100012,100012,100012,100012,"Not done",100012,"Not done","Not done","Not done","Not done","Not done",null,null,null,null,"DMX Extension","DMX Extension","DMX Extension","Extension DMX","DMX Extension","DMX Extension","DMX Extension","DMX Extension","DMX Extension","DMX Extension","not translated yet","DMX Extension","not translated yet","not translated yet","not translated yet","not translated yet","not translated yet",null,null,null,null,null,230.22,205,315,230.22,230.22,5770.72,230.22,299.29000000000002,230.22,230.22,"Not done",79900,"Not done","Not done","Not done","Not done","Not done"]
[100013,"RS232 Extension",144.63999999999999,null,null,100013,"RS 232 Extension",130,null,null,100013,"RS 232 Extension",199,null,null,100013,"Extension RS 232",144.63999999999999,null,null,100013,"RS232 Extension",144.63999999999999,null,null,100013,"RS 232 Extension",3606.38,null,null,100013,"RS232 Extension",144.63999999999999,null,null,100013,"RS232 Extension",188.04,null,null,100013,"RS 232 Extension",144.63999999999999,null,null,100013,"RS 232 Extension",144.63999999999999,null,null,"Not done","not translated yet","Not done",null,null,100013,"RS 232 Extension",49900,null,"Not done","not translated yet","Not done",null,null,"Not done","not translated yet","Not done",null,null,"Not done","not translated yet","Not done",null,null,"Not done","not translated yet","Not done",null,null,"Not done","not translated yet","Not done",null,null,null,null,null,null,null,null,8,100013,100013,100013,100013,100013,100013,100013,100013,100013,100013,"Not done",100013,"Not done","Not done","Not done","Not done","Not done",null,null,null,null,"RS232 Extension","RS 232 Extension","RS 232 Extension","Extension RS 232","RS232 Extension","RS 232 Extension","RS232 Extension","RS232 Extension","RS 232 Extension","RS 232 Extension","not translated yet","RS 232 Extension","not translated yet","not translated yet","not translated yet","not translated yet","not translated yet",null,null,null,null,null,144.63999999999999,130,199,144.63999999999999,144.63999999999999,3606.38,144.63999999999999,188.04,144.63999999999999,144.63999999999999,"Not done",49900,"Not done","Not done","Not done","Not done","Not done"]
[100014,"1-wire Extension",144.63999999999999,null,null,100014,"1-Wire Extension",130,null,null,100014,"1-Wire Extension",199,null,null,100014,"Extension 1-Wire",144.63999999999999,null,null,100014,"1-wire Extension",144.63999999999999,null,null,100014,"1-Wire Extension",3606.38,null,null,100014,"1-wire Extension",144.63999999999999,null,null,100014,"1-wire Extension",188.04,null,null,100014,"1-Wire Extension",144.63999999999999,null,null,100014,"1-Wire Extension",144.63999999999999,null,null,"Not done","not translated yet","Not done",null,null,100014,"1-Wire Extension",49900,null,"Not done","not translated yet","Not done",null,null,"Not done","not translated yet","Not done",null,null,"Not done","not translated yet","Not done",null,null,"Not done","not translated yet","Not done",null,null,"Not done","not translated yet","Not done",null,null,null,null,null,null,null,null,9,100014,100014,100014,100014,100014,100014,100014,100014,100014,100014,"Not done",100014,"Not done","Not done","Not done","Not done","Not done",null,null,null,null,"1-wire Extension","1-Wire Extension","1-Wire Extension","Extension 1-Wire","1-wire Extension","1-Wire Extension","1-wire Extension","1-wire Extension","1-Wire Extension","1-Wire Extension","not translated yet","1-Wire Extension","not translated yet","not translated yet","not translated yet","not translated yet","not translated yet",null,null,null,null,null,144.63999999999999,130,199,144.63999999999999,144.63999999999999,3606.38,144.63999999999999,188.04,144.63999999999999,144.63999999999999,"Not done",49900,"Not done","Not done","Not done","Not done","Not done"]
[100015,"EnOcean Extension",255.9,null,null,100015,"Enocean Extension",230,null,null,"not available in this country","not available in this country",0,null,null,100015,"Extension Enocean",255.9,null,null,100015,"EnOcean Extension",255.9,null,null,100015,"Enocean Extension",6364.85,null,null,100015,"EnOcean Extension",255.9,null,null,100015,"EnOcean Extension",332.67,null,null,100015,"Enocean Extension",255.9,null,null,100015,"Enocean Extension",255.9,null,null,"Not done","not translated yet","Not done",null,null,100015,"Enocean Extension",85900,null,"Not done","not translated yet","Not done",null,null,"Not done","not translated yet","Not done",null,null,"Not done","not translated yet","Not done",null,null,"Not done","not translated yet","Not done",null,null,"Not done","not translated yet","Not done",null,null,null,null,null,null,null,null,10,100015,100015,"not available in this country",100015,100015,100015,100015,100015,100015,100015,"Not done",100015,"Not done","Not done","Not done","Not done","Not done",null,null,null,null,"EnOcean Extension","Enocean Extension","not available in this country","Extension Enocean","EnOcean Extension","Enocean Extension","EnOcean Extension","EnOcean Extension","Enocean Extension","Enocean Extension","not translated yet","Enocean Extension","not translated yet","not translated yet","not translated yet","not translated yet","not translated yet",null,null,null,null,null,255.9,230,0,255.9,255.9,6364.85,255.9,332.67,255.9,255.9,"Not done",85900,"Not done","Not done","Not done","Not done","Not done"]
[0,"No longer sold",0,null,null,0,"No longer sold",57.5,null,null,"No longer sold","No longer sold",0,null,null,100023,"IR Module",67.61,null,null,100023,"Módulo IR",67.61,null,null,0,"Neprodává se",0,null,null,100023,"Modulo IR",67.61,null,null,100023,"IR Module",0,null,null,0,"Neprodává se",0,null,null,100023,"IR Module",67.61,null,null,"Not done","not translated yet","Not done",null,null,0,"No longer sold",0,null,"Not done","not translated yet","Not done",null,null,"Not done","not translated yet","Not done",null,null,"Not done","not translated yet","Not done",null,null,"Not done","not translated yet","Not done",null,null,"Not done","not translated yet","Not done",null,null,null,null,null,null,null,null,11,0,0,"No longer sold",100023,100023,0,100023,100023,0,100023,"Not done",0,"Not done","Not done","Not done","Not done","Not done",null,null,null,null,"No longer sold","No longer sold","No longer sold","IR Module","Módulo IR","Neprodává se","Modulo IR","IR Module","Neprodává se","IR Module","not translated yet","No longer sold","not translated yet","not translated yet","not translated yet","not translated yet","not translated yet",null,null,null,null,null,0,57.5,0,67.61,67.61,0,67.61,0,0,67.61,"Not done",0,"Not done","Not done","Not done","Not done","Not done"]
[100025,"Cloud Weather 1 Jahr",51.27,null,null,100025,"Weather Service 1 Year",45,null,null,100025,"Weather Service 1 Year",69,null,null,100025,"Service météo 1 an",51.27,null,null,100025,"Servico Meteorológico 1 año",51.27,null,null,100025,"Weather Service 1 rok",1272.29,null,null,100025,"Cloud Weather 1 anno",51.27,null,null,100025,"Cloud Weather 1 Jahr",66.650000000000006,null,null,100025,"Weather Service 1 rok",51.27,null,null,100025,"Weather Service 1 Jaar",51.27,null,null,"Not done","not translated yet","Not done",null,null,100025,"Időjárás szolgáltatás 1 év",16900,null,"Not done","not translated yet","Not done",null,null,"Not done","not translated yet","Not done",null,null,"Not done","not translated yet","Not done",null,null,"Not done","not translated yet","Not done",null,null,"Not done","not translated yet","Not done",null,null,null,null,null,null,null,null,12,100025,100025,100025,100025,100025,100025,100025,100025,100025,100025,"Not done",100025,"Not done","Not done","Not done","Not done","Not done",null,null,null,null,"Cloud Weather 1 Jahr","Weather Service 1 Year","Weather Service 1 Year","Service météo 1 an","Servico Meteorológico 1 año","Weather Service 1 rok","Cloud Weather 1 anno","Cloud Weather 1 Jahr","Weather Service 1 rok","Weather Service 1 Jaar","not translated yet","Időjárás szolgáltatás 1 év","not translated yet","not translated yet","not translated yet","not translated yet","not translated yet",null,null,null,null,null,51.27,45,69,51.27,51.27,1272.29,51.27,66.650000000000006,51.27,51.27,"Not done",16900,"Not done","Not done","Not done","Not done","Not done"]
[100201,"Cloud Weather 10 Jahre",286.74,null,null,100201,"Weather Service 10 Year",265,null,null,100201,"Weather Service 10 Year",346,null,null,100201,"Service météo 10 ans",286.74,null,null,100201,"Servico Meteorológico 10 años",286.74,null,null,100201,"Weather Service 10 let",8112.27,null,null,100201,"Cloud Weather 10 anni",286.74,null,null,100201,"Cloud Weather 10 Jahre",388.29,null,null,100201,"Weather Service 10 let",286.74,null,null,100201,"Weather Service 10 Jaar",286.74,null,null,"Not done","not translated yet","Not done",null,null,100201,"Időjárás szolgáltatás 10 év",99900,null,"Not done","not translated yet","Not done",null,null,"Not done","not translated yet","Not done",null,null,"Not done","not translated yet","Not done",null,null,"Not done","not translated yet","Not done",null,null,"Not done","not translated yet","Not done",null,null,null,null,null,null,null,null,13,100201,100201,100201,100201,100201,100201,100201,100201,100201,100201,"Not done",100201,"Not done","Not done","Not done","Not done","Not done",null,null,null,null,"Cloud Weather 10 Jahre","Weather Service 10 Year","Weather Service 10 Year","Service météo 10 ans","Servico Meteorológico 10 años","Weather Service 10 let","Cloud Weather 10 anni","Cloud Weather 10 Jahre","Weather Service 10 let","Weather Service 10 Jaar","not translated yet","Időjárás szolgáltatás 10 év","not translated yet","not translated yet","not translated yet","not translated yet","not translated yet",null,null,null,null,null,286.74,265,346,286.74,286.74,8112.27,286.74,388.29,286.74,286.74,"Not done",99900,"Not done","Not done","Not done","Not done","Not done"]
[100027,"Cloud Caller 1 Jahr",51.27,null,null,100027,"Caller Service 1 Year",45,null,null,100027,"Caller Service 1 Year",69,null,null,100027,"Caller Service 1 an",51.27,null,null,100027,"Servicio de Llamadas 1 año",51.27,null,null,100027,"Caller Service 1 rok",1272.29,null,null,100027,"Cloud Caller 1 anno",51.27,null,null,100027,"Cloud Caller 1 Jahr",66.650000000000006,null,null,100027,"Caller Service 1 rok",51.27,null,null,100027,"Caller Service 1 Jaar",51.27,null,null,"Not done","not translated yet","Not done",null,null,100027,"Telefonos hívás szolgáltatás 1 év",19900,null,"Not done","not translated yet","Not done",null,null,"Not done","not translated yet","Not done",null,null,"Not done","not translated yet","Not done",null,null,"Not done","not translated yet","Not done",null,null,"Not done","not translated yet","Not done",null,null,null,null,null,null,null,null,14,100027,100027,100027,100027,100027,100027,100027,100027,100027,100027,"Not done",100027,"Not done","Not done","Not done","Not done","Not done",null,null,null,null,"Cloud Caller 1 Jahr","Caller Service 1 Year","Caller Service 1 Year","Caller Service 1 an","Servicio de Llamadas 1 año","Caller Service 1 rok","Cloud Caller 1 anno","Cloud Caller 1 Jahr","Caller Service 1 rok","Caller Service 1 Jaar","not translated yet","Telefonos hívás szolgáltatás 1 év","not translated yet","not translated yet","not translated yet","not translated yet","not translated yet",null,null,null,null,null,51.27,45,69,51.27,51.27,1272.29,51.27,66.650000000000006,51.27,51.27,"Not done",19900,"Not done","Not done","Not done","Not done","Not done"]
[100202,"Cloud Caller 10 Jahre",298.68,null,null,100202,"Caller Service 10 Years",265,null,null,100028,"Caller Service 10 Years",346,null,null,100028,"Caller Service 3 ans",298.68,null,null,100028,"Servicio de Llamadas 10 años",298.68,null,null,100028,"Caller Service 10 let",8112.27,null,null,100028,"Cloud Caller 10 anni",298.68,null,null,100028,"Cloud Caller 10 Jahre",388.29,null,null,100028,"Caller Service 10 let",298.68,null,null,100028,"Caller Service 3 Jaar",298.68,null,null,"Not done","not translated yet","Not done",null,null,100202,"Telefonos hívás szolgáltatás 10 év",95590,null,"Not done","not translated yet","Not done",null,null,"Not done","not translated yet","Not done",null,null,"Not done","not translated yet","Not done",null,null,"Not done","not translated yet","Not done",null,null,"Not done","not translated yet","Not done",null,null,null,null,null,null,null,null,15,100202,100202,100028,100028,100028,100028,100028,100028,100028,100028,"Not done",100202,"Not done","Not done","Not done","Not done","Not done",null,null,null,null,"Cloud Caller 10 Jahre","Caller Service 10 Years","Caller Service 10 Years","Caller Service 3 ans","Servicio de Llamadas 10 años","Caller Service 10 let","Cloud Caller 10 anni","Cloud Caller 10 Jahre","Caller Service 10 let","Caller Service 3 Jaar","not translated yet","Telefonos hívás szolgáltatás 10 év","not translated yet","not translated yet","not translated yet","not translated yet","not translated yet",null,null,null,null,null,298.68,265,346,298.68,298.68,8112.27,298.68,388.29,298.68,298.68,"Not done",95590,"Not done","Not done","Not done","Not done","Not done"]
[100029,"Dimmer Extension",383.41,null,null,100029,"Dimmer Extension",340,null,null,100029,"Dimmer Extension",524,null,null,100029,"Extension Dimmer",383.41,null,null,100029,"Dimmer Extension",383.41,null,null,100029,"Dimmer Extension",9590.15,null,null,100029,"Dimmer Extension",383.41,null,null,100029,"Dimmer Extension",498.43,null,null,100029,"Dimmer Extension",383.41,null,null,100029,"Dimmer Extension",383.41,null,null,"Not done","not translated yet","Not done",null,null,100029,"Dimmer Extension",129900,null,"Not done","not translated yet","Not done",null,null,"Not done","not translated yet","Not done",null,null,"Not done","not translated yet","Not done",null,null,"Not done","not translated yet","Not done",null,null,"Not done","not translated yet","Not done",null,null,null,null,null,null,null,null,16,100029,100029,100029,100029,100029,100029,100029,100029,100029,100029,"Not done",100029,"Not done","Not done","Not done","Not done","Not done",null,null,null,null,"Dimmer Extension","Dimmer Extension","Dimmer Extension","Extension Dimmer","Dimmer Extension","Dimmer Extension","Dimmer Extension","Dimmer Extension","Dimmer Extension","Dimmer Extension","not translated yet","Dimmer Extension","not translated yet","not translated yet","not translated yet","not translated yet","not translated yet",null,null,null,null,null,383.41,340,524,383.41,383.41,9590.15,383.41,498.43,383.41,383.41,"Not done",129900,"Not done","Not done","Not done","Not done","Not done"]
[0,"No longer sold",0,null,null,0,"No longer sold",147.5,null,null,"No Longer sold","No longer sold",0,null,null,100035,"Kit IR",170.31,null,null,100035,"IR Set",170.31,null,null,0,"Neprodává se",0,null,null,100035,"IR Set",170.31,null,null,0,"No longer sold",0,null,null,0,"Neprodává se",0,null,null,100035,"IR Set",170.31,null,null,"Not done","not translated yet","Not done",null,null,0,"No longer sold",0,null,"Not done","not translated yet","Not done",null,null,"Not done","not translated yet","Not done",null,null,"Not done","not translated yet","Not done",null,null,"Not done","not translated yet","Not done",null,null,"Not done","not translated yet","Not done",null,null,null,null,null,null,null,null,17,0,0,"No Longer sold",100035,100035,0,100035,0,0,100035,"Not done",0,"Not done","Not done","Not done","Not done","Not done",null,null,null,null,"No longer sold","No longer sold","No longer sold","Kit IR","IR Set","Neprodává se","IR Set","No longer sold","Neprodává se","IR Set","not translated yet","No longer sold","not translated yet","not translated yet","not translated yet","not translated yet","not translated yet",null,null,null,null,null,0,147.5,0,170.31,170.31,0,170.31,0,0,170.31,"Not done",0,"Not done","Not done","Not done","Not done","Not done"]
[100038,"Relay Extension",405.67,null,null,100038,"Relay Extension",360,null,null,100038,"Relay Extension",555,null,null,100038,"Extension Relay",405.67,null,null,100038,"Relay Extension",405.67,null,null,100038,"Relay Extension",10184.280000000001,null,null,100038,"Relay Extension",405.67,null,null,100038,"Relay Extension",527.36,null,null,100038,"Relay Extension",405.67,null,null,100038,"Relay Extension",405.67,null,null,"Not done","not translated yet","Not done",null,null,100038,"Relay Extension",134900,null,"Not done","not translated yet","Not done",null,null,"Not done","not translated yet","Not done",null,null,"Not done","not translated yet","Not done",null,null,"Not done","not translated yet","Not done",null,null,"Not done","not translated yet","Not done",null,null,null,null,null,null,null,null,18,100038,100038,100038,100038,100038,100038,100038,100038,100038,100038,"Not done",100038,"Not done","Not done","Not done","Not done","Not done",null,null,null,null,"Relay Extension","Relay Extension","Relay Extension","Extension Relay","Relay Extension","Relay Extension","Relay Extension","Relay Extension","Relay Extension","Relay Extension","not translated yet","Relay Extension","not translated yet","not translated yet","not translated yet","not translated yet","not translated yet",null,null,null,null,null,405.67,360,555,405.67,405.67,10184.280000000001,405.67,527.36,405.67,405.67,"Not done",134900,"Not done","Not done","Not done","Not done","Not done"]
[100114,"Air Base Extension",84.73,null,null,100114,"Air Base Extension",77.5,null,null,100114,"Air Base Extension",116,null,null,100114,"Extension Air Base",84.73,null,null,100114,"Air Base Extension",84.73,null,null,100114,"Air Base Extension",2155.67,null,null,100114,"Air Base Extension",84.73,null,null,100114,"Air Base Extension",110.15,null,null,100114,"Air Base Extension",84.73,null,null,100114,"Air Base Extension",84.73,null,null,"Not done","not translated yet","Not done",null,null,100114,"Air Base Extension",29900,null,"Not done","not translated yet","Not done",null,null,"Not done","not translated yet","Not done",null,null,"Not done","not translated yet","Not done",null,null,"Not done","not translated yet","Not done",null,null,"Not done","not translated yet","Not done",null,null,null,null,null,null,null,null,19,100114,100114,100114,100114,100114,100114,100114,100114,100114,100114,"Not done",100114,"Not done","Not done","Not done","Not done","Not done",null,null,null,null,"Air Base Extension","Air Base Extension","Air Base Extension","Extension Air Base","Air Base Extension","Air Base Extension","Air Base Extension","Air Base Extension","Air Base Extension","Air Base Extension","not translated yet","Air Base Extension","not translated yet","not translated yet","not translated yet","not translated yet","not translated yet",null,null,null,null,null,84.73,77.5,116,84.73,84.73,2155.67,84.73,110.15,84.73,84.73,"Not done",29900,"Not done","Not done","Not done","Not done","Not done"]
[100115,"Smart Socket Air - Typ F AT",59.82,null,null,100121,"Smart Socket Air - Type G (UK)",52.5,null,null,"not available in this country","not available in this country",0,null,null,100120,"Smart Socket Air - Type E (FR)",59.82,null,null,100115,"Smart Socket Air - Tipo F ES",59.82,null,null,100120,"Smart Socket Air Typ E",1539.47,null,null,100115,"Smart Socket Air - Typ F AT",59.82,null,null,100119,"Smart Socket Air - Typ J (CH, LI)",77.77,null,null,100120,"Smart Socket Air Typ E",59.82,null,null,100120,"Smart Socket Air BE Type E - NL Type F (100115)",59.82,null,null,"Not done","not translated yet","Not done",null,null,100115,"Smart Socket Air - Type F (EU)",19900,null,"Not done","not translated yet","Not done",null,null,"Not done","not translated yet","Not done",null,null,"Not done","not translated yet","Not done",null,null,"Not done","not translated yet","Not done",null,null,"Not done","not translated yet","Not done",null,null,null,null,null,null,null,null,20,100115,100121,"not available in this country",100120,100115,100120,100115,100119,100120,100120,"Not done",100115,"Not done","Not done","Not done","Not done","Not done",null,null,null,null,"Smart Socket Air - Typ F AT","Smart Socket Air - Type G (UK)","not available in this country","Smart Socket Air - Type E (FR)","Smart Socket Air - Tipo F ES","Smart Socket Air Typ E","Smart Socket Air - Typ F AT","Smart Socket Air - Typ J (CH, LI)","Smart Socket Air Typ E","Smart Socket Air BE Type E - NL Type F (100115)","not translated yet","Smart Socket Air - Type F (EU)","not translated yet","not translated yet","not translated yet","not translated yet","not translated yet",null,null,null,null,null,59.82,52.5,0,59.82,59.82,1539.47,59.82,77.77,59.82,59.82,"Not done",19900,"Not done","Not done","Not done","Not done","Not done"]
[100116,"Multi Extension Air",405.67,null,null,100116,"Multi Extension Air",360,null,null,100116,"Multi Extension Air",555,null,null,100116,"Multi Extension Air",405.67,null,null,100116,"Multi Extension Air",405.67,null,null,100116,"Multi Extension Air",10184.280000000001,null,null,100116,"Multi Extension Air",405.67,null,null,100116,"Multi Extension Air",527.36,null,null,100116,"Multi Extension Air",405.67,null,null,100116,"Multi Extension Air",405.67,null,null,"Not done","not translated yet","Not done",null,null,100116,"Multi Extension Air",137900,null,"Not done","not translated yet","Not done",null,null,"Not done","not translated yet","Not done",null,null,"Not done","not translated yet","Not done",null,null,"Not done","not translated yet","Not done",null,null,"Not done","not translated yet","Not done",null,null,null,null,null,null,null,null,21,100116,100116,100116,100116,100116,100116,100116,100116,100116,100116,"Not done",100116,"Not done","Not done","Not done","Not done","Not done",null,null,null,null,"Multi Extension Air","Multi Extension Air","Multi Extension Air","Multi Extension Air","Multi Extension Air","Multi Extension Air","Multi Extension Air","Multi Extension Air","Multi Extension Air","Multi Extension Air","not translated yet","Multi Extension Air","not translated yet","not translated yet","not translated yet","not translated yet","not translated yet",null,null,null,null,null,405.67,360,555,405.67,405.67,10184.280000000001,405.67,527.36,405.67,405.67,"Not done",137900,"Not done","Not done","Not done","Not done","Not done"]
[100117,"RGBW 24V Dimmer DMX",61.52,null,null,100117,"RGBW 24V Dimmer DMX",57.5,null,null,100117,"RGBW 24V Dimmer DMX",82,null,null,100117,"RGBW 24V Dimmer DMX",61.52,null,null,100117,"Dimmer DMX RGBW 24V",61.52,null,null,100117,"RGBW 24V Dimmer DMX",1539.47,null,null,100117,"RGBW 24V Dimmer DMX",61.52,null,null,100117,"RGBW 24V Dimmer DMX",79.97,null,null,100117,"RGBW 24V Dimmer DMX",61.52,null,null,100117,"RGBW 24V Dimmer DMX",61.52,null,null,"Not done","not translated yet","Not done",null,null,100117,"RGBW 24V Dimmer DMX",21900,null,"Not done","not translated yet","Not done",null,null,"Not done","not translated yet","Not done",null,null,"Not done","not translated yet","Not done",null,null,"Not done","not translated yet","Not done",null,null,"Not done","not translated yet","Not done",null,null,null,null,null,null,null,null,22,100117,100117,100117,100117,100117,100117,100117,100117,100117,100117,"Not done",100117,"Not done","Not done","Not done","Not done","Not done",null,null,null,null,"RGBW 24V Dimmer DMX","RGBW 24V Dimmer DMX","RGBW 24V Dimmer DMX","RGBW 24V Dimmer DMX","Dimmer DMX RGBW 24V","RGBW 24V Dimmer DMX","RGBW 24V Dimmer DMX","RGBW 24V Dimmer DMX","RGBW 24V Dimmer DMX","RGBW 24V Dimmer DMX","not translated yet","RGBW 24V Dimmer DMX","not translated yet","not translated yet","not translated yet","not translated yet","not translated yet",null,null,null,null,null,61.52,57.5,82,61.52,61.52,1539.47,61.52,79.97,61.52,61.52,"Not done",21900,"Not done","Not done","Not done","Not done","Not done"]
[100124,"Modbus Extension",195.13,null,null,100124,"Modbus Extension",175,null,null,100124,"Modbus Extension",267,null,null,100124,"Extension Modbus",195.13,null,null,100124,"Modbus Extension",195.13,null,null,100124,"Modbus Extension",4928.57,null,null,100124,"Modbus Extension",195.13,null,null,100124,"Modbus Extension",253.67,null,null,100124,"Modbus Extension",195.13,null,null,100124,"Modbus Extension",195.13,null,null,"Not done","not translated yet","Not done",null,null,100124,"Modbus Extension",69900,null,"Not done","not translated yet","Not done",null,null,"Not done","not translated yet","Not done",null,null,"Not done","not translated yet","Not done",null,null,"Not done","not translated yet","Not done",null,null,"Not done","not translated yet","Not done",null,null,null,null,null,null,null,null,23,100124,100124,100124,100124,100124,100124,100124,100124,100124,100124,"Not done",100124,"Not done","Not done","Not done","Not done","Not done",null,null,null,null,"Modbus Extension","Modbus Extension","Modbus Extension","Extension Modbus","Modbus Extension","Modbus Extension","Modbus Extension","Modbus Extension","Modbus Extension","Modbus Extension","not translated yet","Modbus Extension","not translated yet","not translated yet","not translated yet","not translated yet","not translated yet",null,null,null,null,null,195.13,175,267,195.13,195.13,4928.57,195.13,253.67,195.13,195.13,"Not done",69900,"Not done","Not done","Not done","Not done","Not done"]
[100125,"RGBW 24V Dimmer Air",71.790000000000006,null,null,100125,"RGBW 24V Dimmer Air",65,null,null,100125,"RGBW 24V Dimmer Air",98,null,null,100125,"RGBW 24V Dimmer Air",71.790000000000006,null,null,100125,"Dimmer Air RGBW 24V",71.790000000000006,null,null,100125,"RGBW 24V Dimmer Air",1898.92,null,null,100125,"RGBW 24V Dimmer Air",71.790000000000006,null,null,100125,"RGBW 24V Dimmer Air",93.32,null,null,100125,"RGBW 24V Dimmer Air",71.790000000000006,null,null,100125,"RGBW 24V Dimmer Air",71.790000000000006,null,null,"Not done","not translated yet","Not done",null,null,100125,"RGBW 24V Dimmer Air",23900,null,"Not done","not translated yet","Not done",null,null,"Not done","not translated yet","Not done",null,null,"Not done","not translated yet","Not done",null,null,"Not done","not translated yet","Not done",null,null,"Not done","not translated yet","Not done",null,null,null,null,null,null,null,null,24,100125,100125,100125,100125,100125,100125,100125,100125,100125,100125,"Not done",100125,"Not done","Not done","Not done","Not done","Not done",null,null,null,null,"RGBW 24V Dimmer Air","RGBW 24V Dimmer Air","RGBW 24V Dimmer Air","RGBW 24V Dimmer Air","Dimmer Air RGBW 24V","RGBW 24V Dimmer Air","RGBW 24V Dimmer Air","RGBW 24V Dimmer Air","RGBW 24V Dimmer Air","RGBW 24V Dimmer Air","not translated yet","RGBW 24V Dimmer Air","not translated yet","not translated yet","not translated yet","not translated yet","not translated yet",null,null,null,null,null,71.790000000000006,65,98,71.790000000000006,71.790000000000006,1898.92,71.790000000000006,93.32,71.790000000000006,71.790000000000006,"Not done",23900,"Not done","Not done","Not done","Not done","Not done"]
[100139,"Miniserver Go",307.07,null,null,100139,"Miniserver Go",275,null,null,100139,"Miniserver Go",420,null,null,100139,"Miniserver Go",307.07,null,null,100139,"Miniserver Go",307.07,null,null,100139,"Miniserver Go",8486.75,null,null,100139,"Miniserver Go",307.07,null,null,100139,"Miniserver Go",399.19,null,null,100139,"Miniserver Go",307.07,null,null,100139,"Miniserver Go",307.07,null,null,"Not done","not translated yet","Not done",null,null,100139,"Miniserver Go",99900,null,"Not done","not translated yet","Not done",null,null,"Not done","not translated yet","Not done",null,null,"Not done","not translated yet","Not done",null,null,"Not done","not translated yet","Not done",null,null,"Not done","not translated yet","Not done",null,null,null,null,null,null,null,null,25,100139,100139,100139,100139,100139,100139,100139,100139,100139,100139,"Not done",100139,"Not done","Not done","Not done","Not done","Not done",null,null,null,null,"Miniserver Go","Miniserver Go","Miniserver Go","Miniserver Go","Miniserver Go","Miniserver Go","Miniserver Go","Miniserver Go","Miniserver Go","Miniserver Go","not translated yet","Miniserver Go","not translated yet","not translated yet","not translated yet","not translated yet","not translated yet",null,null,null,null,null,307.07,275,420,307.07,307.07,8486.75,307.07,399.19,307.07,307.07,"Not done",99900,"Not done","Not done","Not done","Not done","Not done"]
[100140,"Remote Air",42.11,null,null,100140,"Remote Air",37.5,null,null,100140,"Remote Air",58,null,null,100140,"Remote Air",42.11,null,null,100140,"Remote Air",42.11,null,null,100140,"Remote Air",1128.67,null,null,100140,"Remote Air",42.11,null,null,100140,"Remote Air",54.74,null,null,100140,"Remote Air",42.11,null,null,100140,"Remote Air",42.11,null,null,"Not done","not translated yet","Not done",null,null,100140,"Távirányító Air",15900,null,"Not done","not translated yet","Not done",null,null,"Not done","not translated yet","Not done",null,null,"Not done","not translated yet","Not done",null,null,"Not done","not translated yet","Not done",null,null,"Not done","not translated yet","Not done",null,null,null,null,null,null,null,null,26,100140,100140,100140,100140,100140,100140,100140,100140,100140,100140,"Not done",100140,"Not done","Not done","Not done","Not done","Not done",null,null,null,null,"Remote Air","Remote Air","Remote Air","Remote Air","Remote Air","Remote Air","Remote Air","Remote Air","Remote Air","Remote Air","not translated yet","Távirányító Air","not translated yet","not translated yet","not translated yet","not translated yet","not translated yet",null,null,null,null,null,42.11,37.5,58,42.11,42.11,1128.67,42.11,54.74,42.11,42.11,"Not done",15900,"Not done","Not done","Not done","Not done","Not done"]
[100141,"IR Control Air",91.4,null,null,100141,"IR Control Air",82.5,null,null,100141,"IR Control Air",125,null,null,100141,"IR Control Air",91.4,null,null,100141,"IR Control Air",91.4,null,null,100141,"IR Control Air",2566.4699999999998,null,null,100141,"IR Control Air",91.4,null,null,100141,"IR Control Air",118.82,null,null,100141,"IR Control Air",91.4,null,null,100141,"IR Control Air",91.4,null,null,"Not done","not translated yet","Not done",null,null,100141,"IR Control Air",34900,null,"Not done","not translated yet","Not done",null,null,"Not done","not translated yet","Not done",null,null,"Not done","not translated yet","Not done",null,null,"Not done","not translated yet","Not done",null,null,"Not done","not translated yet","Not done",null,null,null,null,null,null,null,null,27,100141,100141,100141,100141,100141,100141,100141,100141,100141,100141,"Not done",100141,"Not done","Not done","Not done","Not done","Not done",null,null,null,null,"IR Control Air","IR Control Air","IR Control Air","IR Control Air","IR Control Air","IR Control Air","IR Control Air","IR Control Air","IR Control Air","IR Control Air","not translated yet","IR Control Air","not translated yet","not translated yet","not translated yet","not translated yet","not translated yet",null,null,null,null,null,91.4,82.5,125,91.4,91.4,2566.4699999999998,91.4,118.82,91.4,91.4,"Not done",34900,"Not done","Not done","Not done","Not done","Not done"]
[100142,"Smoke Detector Air",77.03,null,null,100142,"Smoke Detector Air",70,null,null,100142,"Smoke Detector Air",105,null,null,100142,"Détecteur de Fumée Air",77.03,null,null,100142,"Detector de humo Air",77.03,null,null,100142,"Detektor kouře Air",2104.3200000000002,null,null,100142,"Smoke Detector Air",77.03,null,null,100142,"Smoke Detector Air",100.13,null,null,100142,"Detektor kouře Air",77.03,null,null,100142,"Smoke Detector Air",77.03,null,null,"Not done","not translated yet","Not done",null,null,100142,"Füst érzékelő Air",29900,null,"Not done","not translated yet","Not done",null,null,"Not done","not translated yet","Not done",null,null,"Not done","not translated yet","Not done",null,null,"Not done","not translated yet","Not done",null,null,"Not done","not translated yet","Not done",null,null,null,null,null,null,null,null,28,100142,100142,100142,100142,100142,100142,100142,100142,100142,100142,"Not done",100142,"Not done","Not done","Not done","Not done","Not done",null,null,null,null,"Smoke Detector Air","Smoke Detector Air","Smoke Detector Air","Détecteur de Fumée Air","Detector de humo Air","Detektor kouře Air","Smoke Detector Air","Smoke Detector Air","Detektor kouře Air","Smoke Detector Air","not translated yet","Füst érzékelő Air","not translated yet","not translated yet","not translated yet","not translated yet","not translated yet",null,null,null,null,null,77.03,70,105,77.03,77.03,2104.3200000000002,77.03,100.13,77.03,77.03,"Not done",29900,"Not done","Not done","Not done","Not done","Not done"]
[100149,"Temperatur & Feuchtefühler Air",70.86,null,null,100149,"Temperature & Humidity Sesnor Air",62.5,null,null,100149,"Temperature & Humidity Sesnor Air",97,null,null,100149,"Sonde de Température et humidité Air",70.86,null,null,100149,"Sensor de temperatura y humedad Air",70.86,null,null,100149,"Senzor teploty & vlhkosti Air",1950.27,null,null,100149,"Sensore temperatura & umidità Air",70.86,null,null,100149,"Temperatur & Feuchtefühler Air",92.12,null,null,100149,"Senzor teploty & vlhkosti Air",70.86,null,null,100149,"Temperatuur & Vochtigheidsvoeler Air",70.86,null,null,"Not done","not translated yet","Not done",null,null,100149,"Hőmérséklet és páratartalom érzékelő Air",23900,null,"Not done","not translated yet","Not done",null,null,"Not done","not translated yet","Not done",null,null,"Not done","not translated yet","Not done",null,null,"Not done","not translated yet","Not done",null,null,"Not done","not translated yet","Not done",null,null,null,null,null,null,null,null,29,100149,100149,100149,100149,100149,100149,100149,100149,100149,100149,"Not done",100149,"Not done","Not done","Not done","Not done","Not done",null,null,null,null,"Temperatur & Feuchtefühler Air","Temperature & Humidity Sesnor Air","Temperature & Humidity Sesnor Air","Sonde de Température et humidité Air","Sensor de temperatura y humedad Air","Senzor teploty & vlhkosti Air","Sensore temperatura & umidità Air","Temperatur & Feuchtefühler Air","Senzor teploty & vlhkosti Air","Temperatuur & Vochtigheidsvoeler Air","not translated yet","Hőmérséklet és páratartalom érzékelő Air","not translated yet","not translated yet","not translated yet","not translated yet","not translated yet",null,null,null,null,null,70.86,62.5,97,70.86,70.86,1950.27,70.86,92.12,70.86,70.86,"Not done",23900,"Not done","Not done","Not done","Not done","Not done"]
[100150,"Werkzeug-Set by Weidmüller",313.24,null,null,100150,"Loxone Tool Kit by Weidmüller",280,null,null,100150,"Loxone Tool Kit by Weidmüller",339,null,null,100150,"Loxone Tool Kit by Weidmüller",313.24,null,null,100150,"Estuche de herramientas by Weidmüller",313.24,null,null,100150,"Loxone set nářadí",8625.77,null,null,100150,"Set atrezzi by Weidmüller",313.24,null,null,100150,"Werkzeug-Set by Weidmüller",407.21,null,null,100150,"Loxone set nářadí",313.24,null,null,100150,"Loxone Tool Kit van Weidmüller",313.24,null,null,"Not done","not translated yet","Not done",null,null,100150,"Loxone szerszámkészlet Weidmüller",98990,null,"Not done","not translated yet","Not done",null,null,"Not done","not translated yet","Not done",null,null,"Not done","not translated yet","Not done",null,null,"Not done","not translated yet","Not done",null,null,"Not done","not translated yet","Not done",null,null,null,null,null,null,null,null,30,100150,100150,100150,100150,100150,100150,100150,100150,100150,100150,"Not done",100150,"Not done","Not done","Not done","Not done","Not done",null,null,null,null,"Werkzeug-Set by Weidmüller","Loxone Tool Kit by Weidmüller","Loxone Tool Kit by Weidmüller","Loxone Tool Kit by Weidmüller","Estuche de herramientas by Weidmüller","Loxone set nářadí","Set atrezzi by Weidmüller","Werkzeug-Set by Weidmüller","Loxone set nářadí","Loxone Tool Kit van Weidmüller","not translated yet","Loxone szerszámkészlet Weidmüller","not translated yet","not translated yet","not translated yet","not translated yet","not translated yet",null,null,null,null,null,313.24,280,339,313.24,313.24,8625.77,313.24,407.21,313.24,313.24,"Not done",98990,"Not done","Not done","Not done","Not done","Not done"]
[100151,"Loxone Zählerinterface IR Air",91.4,null,null,100151,"Loxone Meter Reader IR Air",82.5,null,null,"not available in this country","not available in this country",0,null,null,100151,"Controleur IR Air",91.4,null,null,100151,"Contador IR Air Loxone",91.4,null,null,100151,"IR Elektroměr Air",2155.67,null,null,100151,"Loxone contatore interface IR Air",91.4,null,null,100151,"Loxone Zählerinterface IR Air",118.82,null,null,"not available in this country","not available in this country",0,null,null,100151,"Loxone Tellerinterface IR AIR",91.4,null,null,"Not done","not translated yet","Not done",null,null,100151,"Loxone Meter Reader IR Air",28990,null,"Not done","not translated yet","Not done",null,null,"Not done","not translated yet","Not done",null,null,"Not done","not translated yet","Not done",null,null,"Not done","not translated yet","Not done",null,null,"Not done","not translated yet","Not done",null,null,null,null,null,null,null,null,31,100151,100151,"not available in this country",100151,100151,100151,100151,100151,"not available in this country",100151,"Not done",100151,"Not done","Not done","Not done","Not done","Not done",null,null,null,null,"Loxone Zählerinterface IR Air","Loxone Meter Reader IR Air","not available in this country","Controleur IR Air","Contador IR Air Loxone","IR Elektroměr Air","Loxone contatore interface IR Air","Loxone Zählerinterface IR Air","not available in this country","Loxone Tellerinterface IR AIR","not translated yet","Loxone Meter Reader IR Air","not translated yet","not translated yet","not translated yet","not translated yet","not translated yet",null,null,null,null,null,91.4,82.5,0,91.4,91.4,2155.67,91.4,118.82,0,91.4,"Not done",28990,"Not done","Not done","Not done","Not done","Not done"]
[100153,"Nano IO Air",94.48,null,null,100153,"Nano IO Air",82.5,null,null,"No longer sold","no longer sold",0,null,null,100153,"Nano IO Air",94.48,null,null,100153,"Nano IO Air",94.48,null,null,100153,"Nano IO Air",2566.4699999999998,null,null,100153,"Nano IO Air",94.48,null,null,100153,"Nano IO Air",122.83,null,null,100153,"Nano IO Air",94.48,null,null,100153,"Nano IO Air",94.48,null,null,"Not done","not translated yet","Not done",null,null,100153,"Nano IO Air",29900,null,"Not done","not translated yet","Not done",null,null,"Not done","not translated yet","Not done",null,null,"Not done","not translated yet","Not done",null,null,"Not done","not translated yet","Not done",null,null,"Not done","not translated yet","Not done",null,null,null,null,null,null,null,null,32,100153,100153,"No longer sold",100153,100153,100153,100153,100153,100153,100153,"Not done",100153,"Not done","Not done","Not done","Not done","Not done",null,null,null,null,"Nano IO Air","Nano IO Air","no longer sold","Nano IO Air","Nano IO Air","Nano IO Air","Nano IO Air","Nano IO Air","Nano IO Air","Nano IO Air","not translated yet","Nano IO Air","not translated yet","not translated yet","not translated yet","not translated yet","not translated yet",null,null,null,null,null,94.48,82.5,0,94.48,94.48,2566.4699999999998,94.48,122.83,94.48,94.48,"Not done",29900,"Not done","Not done","Not done","Not done","Not done"]
[100154,"Loxone Touch for Nano Weiß",40.049999999999997,null,null,100154,"Loxone Touch for Nano - White",35,null,null,100154,"Loxone Touch for Nano White",555,null,null,100154,"Loxone Touch pour Nano Blanc",40.049999999999997,null,null,100154,"Loxone Touch para Nano blanco",40.049999999999997,null,null,100154,"Loxone Touch for Nano Bílá",1077.32,null,null,100154,"Loxone Touch for Nano bianco",40.049999999999997,null,null,100154,"Loxone Touch for Nano Weiß",52.07,null,null,100154,"Loxone Touch for Nano Bílá",40.049999999999997,null,null,100154,"Loxone Touch for Nano Wit",40.049999999999997,null,null,"Not done","not translated yet","Not done",null,null,100154,"Loxone Touch for Nano - Fehér",13900,null,"Not done","not translated yet","Not done",null,null,"Not done","not translated yet","Not done",null,null,"Not done","not translated yet","Not done",null,null,"Not done","not translated yet","Not done",null,null,"Not done","not translated yet","Not done",null,null,null,null,null,null,null,null,33,100154,100154,100154,100154,100154,100154,100154,100154,100154,100154,"Not done",100154,"Not done","Not done","Not done","Not done","Not done",null,null,null,null,"Loxone Touch for Nano Weiß","Loxone Touch for Nano - White","Loxone Touch for Nano White","Loxone Touch pour Nano Blanc","Loxone Touch para Nano blanco","Loxone Touch for Nano Bílá","Loxone Touch for Nano bianco","Loxone Touch for Nano Weiß","Loxone Touch for Nano Bílá","Loxone Touch for Nano Wit","not translated yet","Loxone Touch for Nano - Fehér","not translated yet","not translated yet","not translated yet","not translated yet","not translated yet",null,null,null,null,null,40.049999999999997,35,555,40.049999999999997,40.049999999999997,1077.32,40.049999999999997,52.07,40.049999999999997,40.049999999999997,"Not done",13900,"Not done","Not done","Not done","Not done","Not done"]
[100155,"Loxone Touch Air Weiß",91.4,null,null,100155,"Loxone Touch Air - White",80,null,null,100155,"Loxone Touch Air White",125,null,null,100155,"Loxone Touch Air Blanc",91.4,null,null,100155,"Loxone Touch Air blanco",91.4,null,null,100155,"Loxone Touch Air Bílá",2566.4699999999998,null,null,100155,"Loxone Touch Air bianco",91.4,null,null,100155,"Loxone Touch Air Weiß",118.82,null,null,100155,"Loxone Touch Air Bílá",91.4,null,null,100155,"Loxone Touch Air Wit",91.4,null,null,"Not done","not translated yet","Not done",null,null,100155,"Loxone Touch Air - Fehér",29900,null,"Not done","not translated yet","Not done",null,null,"Not done","not translated yet","Not done",null,null,"Not done","not translated yet","Not done",null,null,"Not done","not translated yet","Not done",null,null,"Not done","not translated yet","Not done",null,null,null,null,null,null,null,null,34,100155,100155,100155,100155,100155,100155,100155,100155,100155,100155,"Not done",100155,"Not done","Not done","Not done","Not done","Not done",null,null,null,null,"Loxone Touch Air Weiß","Loxone Touch Air - White","Loxone Touch Air White","Loxone Touch Air Blanc","Loxone Touch Air blanco","Loxone Touch Air Bílá","Loxone Touch Air bianco","Loxone Touch Air Weiß","Loxone Touch Air Bílá","Loxone Touch Air Wit","not translated yet","Loxone Touch Air - Fehér","not translated yet","not translated yet","not translated yet","not translated yet","not translated yet",null,null,null,null,null,91.4,80,125,91.4,91.4,2566.4699999999998,91.4,118.82,91.4,91.4,"Not done",29900,"Not done","Not done","Not done","Not done","Not done"]
[100158,"Fröling Extension",170.31,null,null,100158,"Fröling Extension",155,null,null,"not available in this country","not available in this country",0,null,null,100158,"Extension Fröling",170.31,null,null,100158,"Fröling Extension",170.31,null,null,100158,"Fröling Extension",4620.47,null,null,100158,"Fröling Extension",170.31,null,null,100158,"Fröling Extension",221.4,null,null,100158,"Fröling Extension",170.31,null,null,100158,"Fröling Extension",170.31,null,null,"Not done","not translated yet","Not done",null,null,100158,"Fröling Extension",80990,null,"Not done","not translated yet","Not done",null,null,"Not done","not translated yet","Not done",null,null,"Not done","not translated yet","Not done",null,null,"Not done","not translated yet","Not done",null,null,"Not done","not translated yet","Not done",null,null,null,null,null,null,null,null,35,100158,100158,"not available in this country",100158,100158,100158,100158,100158,100158,100158,"Not done",100158,"Not done","Not done","Not done","Not done","Not done",null,null,null,null,"Fröling Extension","Fröling Extension","not available in this country","Extension Fröling","Fröling Extension","Fröling Extension","Fröling Extension","Fröling Extension","Fröling Extension","Fröling Extension","not translated yet","Fröling Extension","not translated yet","not translated yet","not translated yet","not translated yet","not translated yet",null,null,null,null,null,170.31,155,0,170.31,170.31,4620.47,170.31,221.4,170.31,170.31,"Not done",80990,"Not done","Not done","Not done","Not done","Not done"]
[100163,"Stellantrieb Air",80.11,null,null,100163,"Valve Actuator Air",65,null,null,100163,"Valve Actuator Air",110,null,null,100163,"Tête Thermostatique Air",80.11,null,null,100163,"Actuador válvula Air",80.11,null,null,100163,"Hlavice Air",2155.67,null,null,100163,"Valvola termica Air",80.11,null,null,100163,"Stellantrieb Air",104.14,null,null,100163,"Hlavice Air",80.11,null,null,100163,"Stelventiel Air",80.11,null,null,"Not done","not translated yet","Not done",null,null,100163,"Szelepmozgató Air",25900,null,"Not done","not translated yet","Not done",null,null,"Not done","not translated yet","Not done",null,null,"Not done","not translated yet","Not done",null,null,"Not done","not translated yet","Not done",null,null,"Not done","not translated yet","Not done",null,null,null,null,null,null,null,null,36,100163,100163,100163,100163,100163,100163,100163,100163,100163,100163,"Not done",100163,"Not done","Not done","Not done","Not done","Not done",null,null,null,null,"Stellantrieb Air","Valve Actuator Air","Valve Actuator Air","Tête Thermostatique Air","Actuador válvula Air","Hlavice Air","Valvola termica Air","Stellantrieb Air","Hlavice Air","Stelventiel Air","not translated yet","Szelepmozgató Air","not translated yet","not translated yet","not translated yet","not translated yet","not translated yet",null,null,null,null,null,80.11,65,110,80.11,80.11,2155.67,80.11,104.14,80.11,80.11,"Not done",25900,"Not done","Not done","Not done","Not done","Not done"]
[100165,"Loxone Music Server 4",1181.05,null,null,100165,"Loxone Music Server 4 Zone",1050,null,null,100165,"Loxone Music Server 4 Zone",1615,null,null,100165,"Loxone Music Server 4 Zones",1181.05,null,null,100165,"Loxone Music Server 4 zonas",1181.05,null,null,100165,"Loxone Music Server 4 Zóny",32862.97,null,null,100165,"Loxone Music Server 4",1181.05,null,null,100165,"Loxone Music Server 4",1535.37,null,null,100165,"Loxone Music Server 4 Zóny",1181.05,null,null,100165,"Loxone Music Server 4 Zones",1181.05,null,null,"Not done","not translated yet","Not done",null,null,100165,"Loxone Zeneszerver 4 Zóna",389900,null,"Not done","not translated yet","Not done",null,null,"Not done","not translated yet","Not done",null,null,"Not done","not translated yet","Not done",null,null,"Not done","not translated yet","Not done",null,null,"Not done","not translated yet","Not done",null,null,null,null,null,null,null,null,37,100165,100165,100165,100165,100165,100165,100165,100165,100165,100165,"Not done",100165,"Not done","Not done","Not done","Not done","Not done",null,null,null,null,"Loxone Music Server 4","Loxone Music Server 4 Zone","Loxone Music Server 4 Zone","Loxone Music Server 4 Zones","Loxone Music Server 4 zonas","Loxone Music Server 4 Zóny","Loxone Music Server 4","Loxone Music Server 4","Loxone Music Server 4 Zóny","Loxone Music Server 4 Zones","not translated yet","Loxone Zeneszerver 4 Zóna","not translated yet","not translated yet","not translated yet","not translated yet","not translated yet",null,null,null,null,null,1181.05,1050,1615,1181.05,1181.05,32862.97,1181.05,1535.37,1181.05,1181.05,"Not done",389900,"Not done","Not done","Not done","Not done","Not done"]
[100166,"Loxone Music Server 8",1744.87,null,null,100166,"Loxone Music Server 8 Zone",1550,null,null,100166,"Loxone Music Server 8 Zone",2385,null,null,100166,"Loxone Music Server 8 Zones",1744.87,null,null,100166,"Loxone Music Server 8 zonas",1744.87,null,null,100166,"Loxone Music Server 8 Zón",46213.97,null,null,100166,"Loxone Music Server 8",1744.87,null,null,100166,"Loxone Music Server 8",2268.33,null,null,100166,"Loxone Music Server 8 Zón",1744.87,null,null,100166,"Loxone Music Server 8 Zones",1744.87,null,null,"Not done","not translated yet","Not done",null,null,100166,"Loxone Zeneszerver 8 Zóna",579900,null,"Not done","not translated yet","Not done",null,null,"Not done","not translated yet","Not done",null,null,"Not done","not translated yet","Not done",null,null,"Not done","not translated yet","Not done",null,null,"Not done","not translated yet","Not done",null,null,null,null,null,null,null,null,38,100166,100166,100166,100166,100166,100166,100166,100166,100166,100166,"Not done",100166,"Not done","Not done","Not done","Not done","Not done",null,null,null,null,"Loxone Music Server 8","Loxone Music Server 8 Zone","Loxone Music Server 8 Zone","Loxone Music Server 8 Zones","Loxone Music Server 8 zonas","Loxone Music Server 8 Zón","Loxone Music Server 8","Loxone Music Server 8","Loxone Music Server 8 Zón","Loxone Music Server 8 Zones","not translated yet","Loxone Zeneszerver 8 Zóna","not translated yet","not translated yet","not translated yet","not translated yet","not translated yet",null,null,null,null,null,1744.87,1550,2385,1744.87,1744.87,46213.97,1744.87,2268.33,1744.87,1744.87,"Not done",579900,"Not done","Not done","Not done","Not done","Not done"]
[100167,"Loxone Music Server 12",2052.9699999999998,null,null,100167,"Loxone Music Server 12 Zone",1900,null,null,100167,"Loxone Music Server 12 Zone",2807,null,null,100167,"Loxone Music Server 12 Zones",2052.9699999999998,null,null,100167,"Loxone Music Server 12 zonas",2052.9699999999998,null,null,100167,"Loxone Music Server 12 Zón",53916.47,null,null,100167,"Loxone Music Server 12",2052.9699999999998,null,null,100167,"Loxone Music Server 12",2668.86,null,null,100167,"Loxone Music Server 12 Zón",2052.9699999999998,null,null,100167,"Loxone Music Server 12 Zones",2052.9699999999998,null,null,"Not done","not translated yet","Not done",null,null,100167,"Loxone Zeneszerver 12 Zóna",679900,null,"Not done","not translated yet","Not done",null,null,"Not done","not translated yet","Not done",null,null,"Not done","not translated yet","Not done",null,null,"Not done","not translated yet","Not done",null,null,"Not done","not translated yet","Not done",null,null,null,null,null,null,null,null,39,100167,100167,100167,100167,100167,100167,100167,100167,100167,100167,"Not done",100167,"Not done","Not done","Not done","Not done","Not done",null,null,null,null,"Loxone Music Server 12","Loxone Music Server 12 Zone","Loxone Music Server 12 Zone","Loxone Music Server 12 Zones","Loxone Music Server 12 zonas","Loxone Music Server 12 Zón","Loxone Music Server 12","Loxone Music Server 12","Loxone Music Server 12 Zón","Loxone Music Server 12 Zones","not translated yet","Loxone Zeneszerver 12 Zóna","not translated yet","not translated yet","not translated yet","not translated yet","not translated yet",null,null,null,null,null,2052.9699999999998,1900,2807,2052.9699999999998,2052.9699999999998,53916.47,2052.9699999999998,2668.86,2052.9699999999998,2052.9699999999998,"Not done",679900,"Not done","Not done","Not done","Not done","Not done"]
[100168,"Loxone Music Server 16",2566.4699999999998,null,null,100168,"Loxone Music Server 16 Zone",2250,null,null,100168,"Loxone Music Server 16 Zone",3509,null,null,100168,"Loxone Music Server 16 Zones",2566.4699999999998,null,null,100168,"Loxone Music Server 16 zonas",2566.4699999999998,null,null,100168,"Loxone Music Server 16 Zón",66753.97,null,null,100168,"Loxone Music Server 16",2566.4699999999998,null,null,100168,"Loxone Music Server 16",3336.41,null,null,100168,"Loxone Music Server 16 Zón",2566.4699999999998,null,null,100168,"Loxone Music Server 16 Zones",2566.4699999999998,null,null,"Not done","not translated yet","Not done",null,null,100168,"Loxone Zeneszerver 16 Zóna",100068,null,"Not done","not translated yet","Not done",null,null,"Not done","not translated yet","Not done",null,null,"Not done","not translated yet","Not done",null,null,"Not done","not translated yet","Not done",null,null,"Not done","not translated yet","Not done",null,null,null,null,null,null,null,null,40,100168,100168,100168,100168,100168,100168,100168,100168,100168,100168,"Not done",100168,"Not done","Not done","Not done","Not done","Not done",null,null,null,null,"Loxone Music Server 16","Loxone Music Server 16 Zone","Loxone Music Server 16 Zone","Loxone Music Server 16 Zones","Loxone Music Server 16 zonas","Loxone Music Server 16 Zón","Loxone Music Server 16","Loxone Music Server 16","Loxone Music Server 16 Zón","Loxone Music Server 16 Zones","not translated yet","Loxone Zeneszerver 16 Zóna","not translated yet","not translated yet","not translated yet","not translated yet","not translated yet",null,null,null,null,null,2566.4699999999998,2250,3509,2566.4699999999998,2566.4699999999998,66753.97,2566.4699999999998,3336.41,2566.4699999999998,2566.4699999999998,"Not done",100068,"Not done","Not done","Not done","Not done","Not done"]
[100169,"Loxone Music Server 20",2874.57,null,null,100169,"Loxone Music Server 20 Zone",2550,null,null,100169,"Loxone Music Server 20 Zone",3930,null,null,100169,"Loxone Music Server 20 Zones",2874.57,null,null,100169,"Loxone Music Server 20 zonas",2874.57,null,null,100169,"Loxone Music Server 20 Zón",77023.97,null,null,100169,"Loxone Music Server 20",2874.57,null,null,100169,"Loxone Music Server 20",3736.94,null,null,100169,"Loxone Music Server 20 Zón",2874.57,null,null,100169,"Loxone Music Server 20 Zones",2874.57,null,null,"Not done","not translated yet","Not done",null,null,100169,"Loxone Zeneszerver 20 Zóna",905990,null,"Not done","not translated yet","Not done",null,null,"Not done","not translated yet","Not done",null,null,"Not done","not translated yet","Not done",null,null,"Not done","not translated yet","Not done",null,null,"Not done","not translated yet","Not done",null,null,null,null,null,null,null,null,41,100169,100169,100169,100169,100169,100169,100169,100169,100169,100169,"Not done",100169,"Not done","Not done","Not done","Not done","Not done",null,null,null,null,"Loxone Music Server 20","Loxone Music Server 20 Zone","Loxone Music Server 20 Zone","Loxone Music Server 20 Zones","Loxone Music Server 20 zonas","Loxone Music Server 20 Zón","Loxone Music Server 20","Loxone Music Server 20","Loxone Music Server 20 Zón","Loxone Music Server 20 Zones","not translated yet","Loxone Zeneszerver 20 Zóna","not translated yet","not translated yet","not translated yet","not translated yet","not translated yet",null,null,null,null,null,2874.57,2550,3930,2874.57,2874.57,77023.97,2874.57,3736.94,2874.57,2874.57,"Not done",905990,"Not done","Not done","Not done","Not done","Not done"]
[100170,"Loxone Tischaufsteller",null,null,null,"NA","not available in this country",0,null,null,"not available in this country","not available in this country",0,null,null,"not available in this country","not available in this country",null,null,null,"not available in this country","not available in this country",null,"NO AVAIABLE IN LOXONE SHOP ES",null,"not available in this country","not available in this country",0,null,null,100170,"Loxone espositore da tavolo",null,null,null,100170,"Loxone Tischaufsteller",52.07,null,null,"not available in this country","not available in this country",0,null,null,100170,"Loxone tafeldisplay",null,null,null,"Not done","not translated yet","Not done",null,null,"NA","not available in this country",0,null,"Not done","not translated yet","Not done",null,null,"Not done","not translated yet","Not done",null,null,"Not done","not translated yet","Not done",null,null,"Not done","not translated yet","Not done",null,null,"Not done","not translated yet","Not done",null,null,null,null,null,null,null,null,42,100170,"NA","not available in this country","not available in this country","not available in this country","not available in this country",100170,100170,"not available in this country",100170,"Not done","NA","Not done","Not done","Not done","Not done","Not done",null,null,null,null,"Loxone Tischaufsteller","not available in this country","not available in this country","not available in this country","not available in this country","not available in this country","Loxone espositore da tavolo","Loxone Tischaufsteller","not available in this country","Loxone tafeldisplay","not translated yet","not available in this country","not translated yet","not translated yet","not translated yet","not translated yet","not translated yet",null,null,null,null,null,0,0,0,0,0,0,0,52.07,0,0,"Not done",0,"Not done","Not done","Not done","Not done","Not done"]
[100178,"AquaStar Air 1,5\"",1437.8,null,null,100178,"AquaStar Air 1.5\"",1280,null,null,100178,"AquaStar Air 15\"",1966,null,null,100178,"AquaStar Air 15\"",1437.8,null,null,100178,"AquaStar Air 1,5\"",1437.8,null,null,100178,"AquaStar Air 15\"",40051.97,null,null,100178,"AquaStar Air 1,5\"",1437.8,null,null,100178,"AquaStar Air 1,5\"",1869.14,null,null,100178,"AquaStar Air 15\"",1437.8,null,null,100178,"AquaStar Air 15\"",1437.8,null,null,"Not done","not translated yet","Not done",null,null,100178,"AquaStar Air 1.5\"",459900,null,"Not done","not translated yet","Not done",null,null,"Not done","not translated yet","Not done",null,null,"Not done","not translated yet","Not done",null,null,"Not done","not translated yet","Not done",null,null,"Not done","not translated yet","Not done",null,null,null,null,null,null,null,null,43,100178,100178,100178,100178,100178,100178,100178,100178,100178,100178,"Not done",100178,"Not done","Not done","Not done","Not done","Not done",null,null,null,null,"AquaStar Air 1,5\"","AquaStar Air 1.5\"","AquaStar Air 15\"","AquaStar Air 15\"","AquaStar Air 1,5\"","AquaStar Air 15\"","AquaStar Air 1,5\"","AquaStar Air 1,5\"","AquaStar Air 15\"","AquaStar Air 15\"","not translated yet","AquaStar Air 1.5\"","not translated yet","not translated yet","not translated yet","not translated yet","not translated yet",null,null,null,null,null,1437.8,1280,1966,1437.8,1437.8,40051.97,1437.8,1869.14,1437.8,1437.8,"Not done",459900,"Not done","Not done","Not done","Not done","Not done"]
[100179,"AquaStar Air 2\"",1540.5,null,null,100179,"AquaStar Air 2\"",1370,null,null,100179,"AquaStar Air 2\"",2106,null,null,100179,"AquaStar Air 2\"",1540.5,null,null,100179,"AquaStar Air 2\"",1540.5,null,null,100179,"AquaStar Air 2\"",53402.97,null,null,100179,"AquaStar Air 2\"",1540.5,null,null,100179,"AquaStar Air 2\"",2002.65,null,null,100179,"AquaStar Air 2\"",1540.5,null,null,100179,"AquaStar Air 2\"",1540.5,null,null,"Not done","not translated yet","Not done",null,null,100179,"AquaStar Air 2\"",49900,null,"Not done","not translated yet","Not done",null,null,"Not done","not translated yet","Not done",null,null,"Not done","not translated yet","Not done",null,null,"Not done","not translated yet","Not done",null,null,"Not done","not translated yet","Not done",null,null,null,null,null,null,null,null,44,100179,100179,100179,100179,100179,100179,100179,100179,100179,100179,"Not done",100179,"Not done","Not done","Not done","Not done","Not done",null,null,null,null,"AquaStar Air 2\"","AquaStar Air 2\"","AquaStar Air 2\"","AquaStar Air 2\"","AquaStar Air 2\"","AquaStar Air 2\"","AquaStar Air 2\"","AquaStar Air 2\"","AquaStar Air 2\"","AquaStar Air 2\"","not translated yet","AquaStar Air 2\"","not translated yet","not translated yet","not translated yet","not translated yet","not translated yet",null,null,null,null,null,1540.5,1370,2106,1540.5,1540.5,53402.97,1540.5,2002.65,1540.5,1540.5,"Not done",49900,"Not done","Not done","Not done","Not done","Not done"]
[100180,"Loxone Touch Air Anthrazit",91.4,null,null,100180,"Loxone Touch Air - Anthracite",80,null,null,100180,"Loxone Touch Air Anthracite",125,null,null,100180,"Loxone Touch Air Anthracite",91.4,null,null,100180,"Loxone Touch Air Antracita",91.4,null,null,100180,"Loxone Touch Air Anthrazit",2566.4699999999998,null,null,100180,"Loxone Touch Air antracite",91.4,null,null,100180,"Loxone Touch Air Anthrazit",118.82,null,null,100180,"Loxone Touch Air Anthrazit",91.4,null,null,100180,"Loxone Touch Air Anthraciet",91.4,null,null,"Not done","not translated yet","Not done",null,null,100180,"Loxone Touch Air - Anthracite",29900,null,"Not done","not translated yet","Not done",null,null,"Not done","not translated yet","Not done",null,null,"Not done","not translated yet","Not done",null,null,"Not done","not translated yet","Not done",null,null,"Not done","not translated yet","Not done",null,null,null,null,null,null,null,null,45,100180,100180,100180,100180,100180,100180,100180,100180,100180,100180,"Not done",100180,"Not done","Not done","Not done","Not done","Not done",null,null,null,null,"Loxone Touch Air Anthrazit","Loxone Touch Air - Anthracite","Loxone Touch Air Anthracite","Loxone Touch Air Anthracite","Loxone Touch Air Antracita","Loxone Touch Air Anthrazit","Loxone Touch Air antracite","Loxone Touch Air Anthrazit","Loxone Touch Air Anthrazit","Loxone Touch Air Anthraciet","not translated yet","Loxone Touch Air - Anthracite","not translated yet","not translated yet","not translated yet","not translated yet","not translated yet",null,null,null,null,null,91.4,80,125,91.4,91.4,2566.4699999999998,91.4,118.82,91.4,91.4,"Not done",29900,"Not done","Not done","Not done","Not done","Not done"]
[100181,"Loxone Touch for Nano Anthrazit",40.049999999999997,null,null,100181,"Loxone Touch for Nano - Anthracite",35,null,null,100181,"Loxone Touch for Nano Anthracite",55,null,null,100181,"Loxone Touch pour Nano Anthracite",40.049999999999997,null,null,100181,"Loxone Touch para Nano Antracita",40.049999999999997,null,null,100181,"Loxone Touch for Nano Anthrazit",1077.32,null,null,100181,"Loxone Touch for Nano antracite",40.049999999999997,null,null,100181,"Loxone Touch for Nano Anthrazit",52.07,null,null,100181,"Loxone Touch for Nano Anthrazit",40.049999999999997,null,null,100181,"Loxone Touch for Nano Anthraciet",40.049999999999997,null,null,"Not done","not translated yet","Not done",null,null,100181,"Loxone Touch for Nano - Anthracite",29900,null,"Not done","not translated yet","Not done",null,null,"Not done","not translated yet","Not done",null,null,"Not done","not translated yet","Not done",null,null,"Not done","not translated yet","Not done",null,null,"Not done","not translated yet","Not done",null,null,null,null,null,null,null,null,46,100181,100181,100181,100181,100181,100181,100181,100181,100181,100181,"Not done",100181,"Not done","Not done","Not done","Not done","Not done",null,null,null,null,"Loxone Touch for Nano Anthrazit","Loxone Touch for Nano - Anthracite","Loxone Touch for Nano Anthracite","Loxone Touch pour Nano Anthracite","Loxone Touch para Nano Antracita","Loxone Touch for Nano Anthrazit","Loxone Touch for Nano antracite","Loxone Touch for Nano Anthrazit","Loxone Touch for Nano Anthrazit","Loxone Touch for Nano Anthraciet","not translated yet","Loxone Touch for Nano - Anthracite","not translated yet","not translated yet","not translated yet","not translated yet","not translated yet",null,null,null,null,null,40.049999999999997,35,55,40.049999999999997,40.049999999999997,1077.32,40.049999999999997,52.07,40.049999999999997,40.049999999999997,"Not done",29900,"Not done","Not done","Not done","Not done","Not done"]
[100182,"Geiger SOLIDline Air 10Nm",169.46,null,null,100182,"Tubular Motor SOLIDline Air 10Nm",150,null,null,"not available in this country","not available in this country",0,null,null,100182,"Moteur SOLIDline Air 10Nm",169.46,null,null,100182,"Motor persiana SOLIDline Air 10Nm",169.46,null,null,100182,"Trubkový Motor SOLIDline Air 10Nm",4620.47,null,null,100182,"Geiger SOLIDline Air 10Nm",169.46,null,null,100182,"Geiger SOLIDline Air 10Nm",220.29,null,null,100182,"Trubkový Motor SOLIDline Air 10Nm",169.46,null,null,100182,"Tubular Motor SOLIDline Air 10Nm",169.46,null,null,"Not done","not translated yet","Not done",null,null,100182,"Csőmotor SOLIDline Air 10Nm",54900,null,"Not done","not translated yet","Not done",null,null,"Not done","not translated yet","Not done",null,null,"Not done","not translated yet","Not done",null,null,"Not done","not translated yet","Not done",null,null,"Not done","not translated yet","Not done",null,null,null,null,null,null,null,null,47,100182,100182,"not available in this country",100182,100182,100182,100182,100182,100182,100182,"Not done",100182,"Not done","Not done","Not done","Not done","Not done",null,null,null,null,"Geiger SOLIDline Air 10Nm","Tubular Motor SOLIDline Air 10Nm","not available in this country","Moteur SOLIDline Air 10Nm","Motor persiana SOLIDline Air 10Nm","Trubkový Motor SOLIDline Air 10Nm","Geiger SOLIDline Air 10Nm","Geiger SOLIDline Air 10Nm","Trubkový Motor SOLIDline Air 10Nm","Tubular Motor SOLIDline Air 10Nm","not translated yet","Csőmotor SOLIDline Air 10Nm","not translated yet","not translated yet","not translated yet","not translated yet","not translated yet",null,null,null,null,null,169.46,150,0,169.46,169.46,4620.47,169.46,220.29,169.46,169.46,"Not done",54900,"Not done","Not done","Not done","Not done","Not done"]
[100183,"Geiger SOLIDline Air 20Nm",190,null,null,100183,"Tubular Motor SOLIDline Air 20Nm",170,null,null,"not available in this country","not available in this country",0,null,null,100183,"Moteurr SOLIDline Air 20Nm",190,null,null,100183,"Motor persiana SOLIDline Air 20Nm",190,null,null,100183,"Trubkový Motor SOLIDline Air 20Nm",5133.97,null,null,100183,"Geiger SOLIDline Air 20Nm",190,null,null,100183,"Geiger SOLIDline Air 20Nm",246.99,null,null,100183,"Trubkový Motor SOLIDline Air 20Nm",190,null,null,100183,"Tubular Motor SOLIDline Air 20Nm",190,null,null,"Not done","not translated yet","Not done",null,null,100183,"Csőmotor SOLIDline Air 20Nm",61900,null,"Not done","not translated yet","Not done",null,null,"Not done","not translated yet","Not done",null,null,"Not done","not translated yet","Not done",null,null,"Not done","not translated yet","Not done",null,null,"Not done","not translated yet","Not done",null,null,null,null,null,null,null,null,48,100183,100183,"not available in this country",100183,100183,100183,100183,100183,100183,100183,"Not done",100183,"Not done","Not done","Not done","Not done","Not done",null,null,null,null,"Geiger SOLIDline Air 20Nm","Tubular Motor SOLIDline Air 20Nm","not available in this country","Moteurr SOLIDline Air 20Nm","Motor persiana SOLIDline Air 20Nm","Trubkový Motor SOLIDline Air 20Nm","Geiger SOLIDline Air 20Nm","Geiger SOLIDline Air 20Nm","Trubkový Motor SOLIDline Air 20Nm","Tubular Motor SOLIDline Air 20Nm","not translated yet","Csőmotor SOLIDline Air 20Nm","not translated yet","not translated yet","not translated yet","not translated yet","not translated yet",null,null,null,null,null,190,170,0,190,190,5133.97,190,246.99,190,190,"Not done",61900,"Not done","Not done","Not done","Not done","Not done"]
[100184,"Geiger SOLIDline Air 50Nm",220.81,null,null,100184,"Tubular Motor SOLIDline Air 50Nm",195,null,null,"not available in this country","not available in this country",0,null,null,100184,"Moteur SOLIDline Air 50Nm",220.81,null,null,100184,"Motor persiana SOLIDline Air 50Nm",220.81,null,null,100184,"Trubkový Motor SOLIDline Air 50Nm",5955.57,null,null,100184,"Geiger SOLIDline Air 50Nm",220.81,null,null,100184,"Geiger SOLIDline Air 50Nm",287.05,null,null,100184,"Trubkový Motor SOLIDline Air 50Nm",220.81,null,null,100184,"Tubular Motor SOLIDline Air 50Nm",220.81,null,null,"Not done","not translated yet","Not done",null,null,100184,"Csőmotor SOLIDline Air 50Nm",74900,null,"Not done","not translated yet","Not done",null,null,"Not done","not translated yet","Not done",null,null,"Not done","not translated yet","Not done",null,null,"Not done","not translated yet","Not done",null,null,"Not done","not translated yet","Not done",null,null,null,null,null,null,null,null,49,100184,100184,"not available in this country",100184,100184,100184,100184,100184,100184,100184,"Not done",100184,"Not done","Not done","Not done","Not done","Not done",null,null,null,null,"Geiger SOLIDline Air 50Nm","Tubular Motor SOLIDline Air 50Nm","not available in this country","Moteur SOLIDline Air 50Nm","Motor persiana SOLIDline Air 50Nm","Trubkový Motor SOLIDline Air 50Nm","Geiger SOLIDline Air 50Nm","Geiger SOLIDline Air 50Nm","Trubkový Motor SOLIDline Air 50Nm","Tubular Motor SOLIDline Air 50Nm","not translated yet","Csőmotor SOLIDline Air 50Nm","not translated yet","not translated yet","not translated yet","not translated yet","not translated yet",null,null,null,null,null,220.81,195,0,220.81,220.81,5955.57,220.81,287.05,220.81,220.81,"Not done",74900,"Not done","Not done","Not done","Not done","Not done"]
[200001,"Netzteil 24V, 1,3A",36.83,null,null,200001,"24V Power Supply (1.3A)",33,null,null,200001,"24V Power Supply (13A)",50,null,null,200001,"Alimentation 24V (13A)",36.83,null,null,200001,"Fuente de alimentación 24V, 1,3A",36.83,null,null,200001,"24V Zdroj (13A)",932.78,null,null,200001,"Alimentatore 24V 1,3A",36.83,null,null,200001,"Netzteil 24V, 1,3A",47.88,null,null,200001,"24V Zdroj (13A)",36.83,null,null,200001,"24V Voeding (13A)",36.83,null,null,"Not done","not translated yet","Not done",null,null,200001,"24V Tápegység (1.3A)",12900,null,"Not done","not translated yet","Not done",null,null,"Not done","not translated yet","Not done",null,null,"Not done","not translated yet","Not done",null,null,"Not done","not translated yet","Not done",null,null,"Not done","not translated yet","Not done",null,null,null,null,null,null,null,null,50,200001,200001,200001,200001,200001,200001,200001,200001,200001,200001,"Not done",200001,"Not done","Not done","Not done","Not done","Not done",null,null,null,null,"Netzteil 24V, 1,3A","24V Power Supply (1.3A)","24V Power Supply (13A)","Alimentation 24V (13A)","Fuente de alimentación 24V, 1,3A","24V Zdroj (13A)","Alimentatore 24V 1,3A","Netzteil 24V, 1,3A","24V Zdroj (13A)","24V Voeding (13A)","not translated yet","24V Tápegység (1.3A)","not translated yet","not translated yet","not translated yet","not translated yet","not translated yet",null,null,null,null,null,36.83,33,50,36.83,36.83,932.78,36.83,47.88,36.83,36.83,"Not done",12900,"Not done","Not done","Not done","Not done","Not done"]
[200002,"Netzteil 24V, 4,2A",57.32,null,null,200002,"24V Power Supply (4.2A)",51,null,null,200002,"24V Power Supply (42A)",78,null,null,200002,"Alimentation 24V (42A)",57.32,null,null,200002,"Fuente de alimentación 24V, 4,2A",57.32,null,null,200002,"24V Zdroj (42A)",1442.04,null,null,200002,"Alimentatore 24V 4,2A",57.32,null,null,200002,"Netzteil 24V, 4,2A",74.510000000000005,null,null,200002,"24V Zdroj (42A)",57.32,null,null,200002,"24V Voeding (42A)",57.32,null,null,"Not done","not translated yet","Not done",null,null,200002,"24V Tápegység (4.2A)",19900,null,"Not done","not translated yet","Not done",null,null,"Not done","not translated yet","Not done",null,null,"Not done","not translated yet","Not done",null,null,"Not done","not translated yet","Not done",null,null,"Not done","not translated yet","Not done",null,null,null,null,null,null,null,null,51,200002,200002,200002,200002,200002,200002,200002,200002,200002,200002,"Not done",200002,"Not done","Not done","Not done","Not done","Not done",null,null,null,null,"Netzteil 24V, 4,2A","24V Power Supply (4.2A)","24V Power Supply (42A)","Alimentation 24V (42A)","Fuente de alimentación 24V, 4,2A","24V Zdroj (42A)","Alimentatore 24V 4,2A","Netzteil 24V, 4,2A","24V Zdroj (42A)","24V Voeding (42A)","not translated yet","24V Tápegység (4.2A)","not translated yet","not translated yet","not translated yet","not translated yet","not translated yet",null,null,null,null,null,57.32,51,78,57.32,57.32,1442.04,57.32,74.510000000000005,57.32,57.32,"Not done",19900,"Not done","Not done","Not done","Not done","Not done"]
[0,"No longer sold",0,null,null,0,"No longer sold",0,null,null,0,"No longer sold",0,null,null,0,"No longer sold",0,null,null,0,"No longer sold",0,null,null,0,"Neprodává se",0,null,null,0,"No longer sold",0,null,null,0,"No longer sold",0,null,null,0,"No longer sold",0,null,null,0,"No longer sold",0,null,null,0,"No longer sold",0,null,null,0,"No longer sold",0,null,"Not done","not translated yet","Not done",null,null,"Not done","not translated yet","Not done",null,null,"Not done","not translated yet","Not done",null,null,"Not done","not translated yet","Not done",null,null,"Not done","not translated yet","Not done",null,null,null,null,null,null,null,null,52,0,0,0,0,0,0,0,0,0,0,0,0,"Not done","Not done","Not done","Not done","Not done",null,null,null,null,"No longer sold","No longer sold","No longer sold","No longer sold","No longer sold","Neprodává se","No longer sold","No longer sold","No longer sold","No longer sold","No longer sold","No longer sold","not translated yet","not translated yet","not translated yet","not translated yet","not translated yet",null,null,null,null,null,0,0,0,0,0,0,0,0,0,0,0,0,"Not done","Not done","Not done","Not done","Not done"]
[0,"No longer sold",0,null,null,0,"No longer sold",0,null,null,0,"No longer sold",0,null,null,0,"No longer sold",0,null,null,0,"No longer sold",0,null,null,0,"Neprodává se",0,null,null,0,"No longer sold",0,null,null,0,"No longer sold",0,null,null,0,"No longer sold",0,null,null,0,"No longer sold",0,null,null,"Not done","not translated yet","Not done",null,null,0,"No longer sold",0,null,"Not done","not translated yet","Not done",null,null,"Not done","not translated yet","Not done",null,null,"Not done","not translated yet","Not done",null,null,"Not done","not translated yet","Not done",null,null,"Not done","not translated yet","Not done",null,null,null,null,null,null,null,null,53,0,0,0,0,0,0,0,0,0,0,"Not done",0,"Not done","Not done","Not done","Not done","Not done",null,null,null,null,"No longer sold","No longer sold","No longer sold","No longer sold","No longer sold","Neprodává se","No longer sold","No longer sold","No longer sold","No longer sold","not translated yet","No longer sold","not translated yet","not translated yet","not translated yet","not translated yet","not translated yet",null,null,null,null,null,0,0,0,0,0,0,0,0,0,0,"Not done",0,"Not done","Not done","Not done","Not done","Not done"]
[0,"No longer sold",0,null,null,0,"No longer sold",0,null,null,0,"No longer sold",0,null,null,0,"No longer sold",0,null,null,0,"No longer sold",0,null,null,0,"Neprodává se",0,null,null,0,"No longer sold",0,null,null,0,"No longer sold",0,null,null,0,"No longer sold",0,null,null,0,"No longer sold",0,null,null,"Not done","not translated yet","Not done",null,null,0,"No longer sold",0,null,"Not done","not translated yet","Not done",null,null,"Not done","not translated yet","Not done",null,null,"Not done","not translated yet","Not done",null,null,"Not done","not translated yet","Not done",null,null,"Not done","not translated yet","Not done",null,null,null,null,null,null,null,null,54,0,0,0,0,0,0,0,0,0,0,"Not done",0,"Not done","Not done","Not done","Not done","Not done",null,null,null,null,"No longer sold","No longer sold","No longer sold","No longer sold","No longer sold","Neprodává se","No longer sold","No longer sold","No longer sold","No longer sold","not translated yet","No longer sold","not translated yet","not translated yet","not translated yet","not translated yet","not translated yet",null,null,null,null,null,0,0,0,0,0,0,0,0,0,0,"Not done",0,"Not done","Not done","Not done","Not done","Not done"]
[200006,"Temperaturfühler Wohnraum",42.72,null,null,200006,"Indoor Temperature Sensor 0-10V",38,null,null,200006,"Indoor Temperature Sensor 0-10V",59,null,null,200006,"Sonde de température intérieur 0-10V",42.72,null,null,200006,"Sensor de temperatura para interior 0-10V",42.72,null,null,200006,"Vnitřní teplotní senzor 0-10V",1060.0999999999999,null,null,200006,"Sensore temperatura interno 0-10V",42.72,null,null,200006,"Temperaturfühler Wohnraum",55.54,null,null,200006,"Vnitřní teplotní senzor 0-10V",42.72,null,null,200006,"Binnentemperatuur voeler 0-10V",42.72,null,null,"Not done","not translated yet","Not done",null,null,200006,"Beltéri hőmérséklet érzékelő 0-10V",14900,null,"Not done","not translated yet","Not done",null,null,"Not done","not translated yet","Not done",null,null,"Not done","not translated yet","Not done",null,null,"Not done","not translated yet","Not done",null,null,"Not done","not translated yet","Not done",null,null,null,null,null,null,null,null,55,200006,200006,200006,200006,200006,200006,200006,200006,200006,200006,"Not done",200006,"Not done","Not done","Not done","Not done","Not done",null,null,null,null,"Temperaturfühler Wohnraum","Indoor Temperature Sensor 0-10V","Indoor Temperature Sensor 0-10V","Sonde de température intérieur 0-10V","Sensor de temperatura para interior 0-10V","Vnitřní teplotní senzor 0-10V","Sensore temperatura interno 0-10V","Temperaturfühler Wohnraum","Vnitřní teplotní senzor 0-10V","Binnentemperatuur voeler 0-10V","not translated yet","Beltéri hőmérséklet érzékelő 0-10V","not translated yet","not translated yet","not translated yet","not translated yet","not translated yet",null,null,null,null,null,42.72,38,59,42.72,42.72,1060.0999999999999,42.72,55.54,42.72,42.72,"Not done",14900,"Not done","Not done","Not done","Not done","Not done"]
[200007,"Wireless-G Router",25.59,null,null,"NA","not available in this country",0,null,null,"not available in this country","not available in this country",0,null,null,200007,"Routeur Wifi - Netgear",25.59,null,null,200007,"Wireless-G Router",25.59,null,null,"not available in this country","not available in this country",0,null,null,200007,"Wireless-G Router",25.59,null,null,200007,"Wireless-G Router",33.270000000000003,null,null,"not available in this country","not available in this country",0,null,null,200007,"Wireless-N Router",25.59,null,null,"Not done","not translated yet","Not done",null,null,"NA","not available in this country",0,null,"Not done","not translated yet","Not done",null,null,"Not done","not translated yet","Not done",null,null,"Not done","not translated yet","Not done",null,null,"Not done","not translated yet","Not done",null,null,"Not done","not translated yet","Not done",null,null,null,null,null,null,null,null,56,200007,"NA","not available in this country",200007,200007,"not available in this country",200007,200007,"not available in this country",200007,"Not done","NA","Not done","Not done","Not done","Not done","Not done",null,null,null,null,"Wireless-G Router","not available in this country","not available in this country","Routeur Wifi - Netgear","Wireless-G Router","not available in this country","Wireless-G Router","Wireless-G Router","not available in this country","Wireless-N Router","not translated yet","not available in this country","not translated yet","not translated yet","not translated yet","not translated yet","not translated yet",null,null,null,null,null,25.59,0,0,25.59,25.59,0,25.59,33.270000000000003,0,25.59,"Not done",0,"Not done","Not done","Not done","Not done","Not done"]
[200010,"Temperatur/Feuchte Wohnraum",89.76,null,null,200010,"Indoor Temperature & Humidity Sensor 0-10V",80,null,null,200010,"Indoor Temperature & Humidity Sensor 0-10V",119,null,null,200010,"Sonde de Temp & Hum intérieur 0-10V",89.76,null,null,200010,"Sensor de temperatura y humedad para interior 0-10V",89.76,null,null,200010,"Senzor teploty a vlhkosti (vnitřní) 0-10V",2248.37,null,null,200010,"Temperatura/umidità interno 0-10V",89.76,null,null,200010,"Temperatur/Feuchte Wohnraum",116.69,null,null,200010,"Senzor teploty a vlhkosti (vnitřní) 0-10V",89.76,null,null,200010,"Binnentemperatuur & Vochtigheid Voeler Sensor 0-10V",89.76,null,null,"Not done","not translated yet","Not done",null,null,200010,"Beltéri hőmésréklet és páratartalom érzékelő 0-10V",29900,null,"Not done","not translated yet","Not done",null,null,"Not done","not translated yet","Not done",null,null,"Not done","not translated yet","Not done",null,null,"Not done","not translated yet","Not done",null,null,"Not done","not translated yet","Not done",null,null,null,null,null,null,null,null,57,200010,200010,200010,200010,200010,200010,200010,200010,200010,200010,"Not done",200010,"Not done","Not done","Not done","Not done","Not done",null,null,null,null,"Temperatur/Feuchte Wohnraum","Indoor Temperature & Humidity Sensor 0-10V","Indoor Temperature & Humidity Sensor 0-10V","Sonde de Temp & Hum intérieur 0-10V","Sensor de temperatura y humedad para interior 0-10V","Senzor teploty a vlhkosti (vnitřní) 0-10V","Temperatura/umidità interno 0-10V","Temperatur/Feuchte Wohnraum","Senzor teploty a vlhkosti (vnitřní) 0-10V","Binnentemperatuur & Vochtigheid Voeler Sensor 0-10V","not translated yet","Beltéri hőmésréklet és páratartalom érzékelő 0-10V","not translated yet","not translated yet","not translated yet","not translated yet","not translated yet",null,null,null,null,null,89.76,80,119,89.76,89.76,2248.37,89.76,116.69,89.76,89.76,"Not done",29900,"Not done","Not done","Not done","Not done","Not done"]
[200012,"Ventiladapter VA80",1.22,null,null,200012,"Valve Adaptor VA80",1.1000000000000001,null,null,200012,"Valve Adaptor VA80",2,null,null,200012,"Adaptateur vanne VA80",1.22,null,null,200012,"Adaptador para válvula VA80",1.22,null,null,200012,"Adaptér ventilu VA80",30.55,null,null,200012,"Adattore valvola VA80",1.22,null,null,200012,"Ventiladapter VA80",1.59,null,null,200012,"Adaptér ventilu VA80",1.22,null,null,200012,"Ventieladapter VA80",1.22,null,null,"Not done","not translated yet","Not done",null,null,200012,"Szelep adapter VA80",490,null,"Not done","not translated yet","Not done",null,null,"Not done","not translated yet","Not done",null,null,"Not done","not translated yet","Not done",null,null,"Not done","not translated yet","Not done",null,null,"Not done","not translated yet","Not done",null,null,null,null,null,null,null,null,58,200012,200012,200012,200012,200012,200012,200012,200012,200012,200012,"Not done",200012,"Not done","Not done","Not done","Not done","Not done",null,null,null,null,"Ventiladapter VA80","Valve Adaptor VA80","Valve Adaptor VA80","Adaptateur vanne VA80","Adaptador para válvula VA80","Adaptér ventilu VA80","Adattore valvola VA80","Ventiladapter VA80","Adaptér ventilu VA80","Ventieladapter VA80","not translated yet","Szelep adapter VA80","not translated yet","not translated yet","not translated yet","not translated yet","not translated yet",null,null,null,null,null,1.22,1.1000000000000001,2,1.22,1.22,30.55,1.22,1.59,1.22,1.22,"Not done",490,"Not done","Not done","Not done","Not done","Not done"]
[200013,"Micro-SD Karte",null,null,null,"NA","not available in this country",0,null,null,"not available in this country","not available in this country",0,null,null,0,"No longer sold",null,null,null,200013,"Tarjeta Micro-SD",null,null,null,"not available in this country","not available in this country",0,null,null,200013,"Scheda micro SD",null,null,null,40,"Micro-SD Karte",3.86,null,null,"not available in this country","not available in this country",0,null,null,200013,"Micro SD Kaart",null,null,null,"Not done","not translated yet","Not done",null,null,"NA","not available in this country",0,null,"Not done","not translated yet","Not done",null,null,"Not done","not translated yet","Not done",null,null,"Not done","not translated yet","Not done",null,null,"Not done","not translated yet","Not done",null,null,"Not done","not translated yet","Not done",null,null,null,null,null,null,null,null,59,200013,"NA","not available in this country",0,200013,"not available in this country",200013,40,"not available in this country",200013,"Not done","NA","Not done","Not done","Not done","Not done","Not done",null,null,null,null,"Micro-SD Karte","not available in this country","not available in this country","No longer sold","Tarjeta Micro-SD","not available in this country","Scheda micro SD","Micro-SD Karte","not available in this country","Micro SD Kaart","not translated yet","not available in this country","not translated yet","not translated yet","not translated yet","not translated yet","not translated yet",null,null,null,null,null,0,0,0,0,0,0,0,3.86,0,0,"Not done",0,"Not done","Not done","Not done","Not done","Not done"]
[200017,"Temperatur/Feuchte/ CO2",236.11,null,null,200017,"Indoor Temperature, Humidty & CO2 Sensor 0-10V",210,null,null,200017,"Indoor Temperature, Humidty & CO2 Sensor 0-10V",314,null,null,200017,"Capteur Temp / hum / CO2 intérieur 0-10V",236.11,null,null,200017,"Sensor CO2, temperatura y humedad",236.11,null,null,200017,"Senzor CO2/Teplota/Vlhkost",5940.48,null,null,200017,"Temperatura/umidità/CO2",236.11,null,null,200017,"Temperatur/Feuchte/ CO2",306.94,null,null,200017,"Senzor CO2/Teplota/Vlhkost",236.11,null,null,200017,"Binnentemperatuur/Vochtigheid/CO2 Voeler 0-10V",236.11,null,null,"Not done","not translated yet","Not done",null,null,200017,"Beltéri hőmérséklet, páratartalom és CO2 érzékelő 0-10V",79900,null,"Not done","not translated yet","Not done",null,null,"Not done","not translated yet","Not done",null,null,"Not done","not translated yet","Not done",null,null,"Not done","not translated yet","Not done",null,null,"Not done","not translated yet","Not done",null,null,null,null,null,null,null,null,60,200017,200017,200017,200017,200017,200017,200017,200017,200017,200017,"Not done",200017,"Not done","Not done","Not done","Not done","Not done",null,null,null,null,"Temperatur/Feuchte/ CO2","Indoor Temperature, Humidty & CO2 Sensor 0-10V","Indoor Temperature, Humidty & CO2 Sensor 0-10V","Capteur Temp / hum / CO2 intérieur 0-10V","Sensor CO2, temperatura y humedad","Senzor CO2/Teplota/Vlhkost","Temperatura/umidità/CO2","Temperatur/Feuchte/ CO2","Senzor CO2/Teplota/Vlhkost","Binnentemperatuur/Vochtigheid/CO2 Voeler 0-10V","not translated yet","Beltéri hőmérséklet, páratartalom és CO2 érzékelő 0-10V","not translated yet","not translated yet","not translated yet","not translated yet","not translated yet",null,null,null,null,null,236.11,210,314,236.11,236.11,5940.48,236.11,306.94,236.11,236.11,"Not done",79900,"Not done","Not done","Not done","Not done","Not done"]
[200018,"Regensensor 24V",59.46,null,null,200018,"Rain Sensor (24V)",55,null,null,"No longer sold","No longer sold",0,null,null,200018,"Capteur de pluie 24V",59.46,null,null,200018,"Sensor de lluvia 24V",59.46,null,null,200018,"Dešťový senzor (24V)",1484.48,null,null,200018,"Sensore pioggia 24V",59.46,null,null,200018,"Regensensor 24V",77.3,null,null,200018,"Dešťový senzor (24V)",59.46,null,null,200018,"RegenSensor (24V)",59.46,null,null,"Not done","not translated yet","Not done",null,null,200018,"Eső érzékelő (24V)",29900,null,"Not done","not translated yet","Not done",null,null,"Not done","not translated yet","Not done",null,null,"Not done","not translated yet","Not done",null,null,"Not done","not translated yet","Not done",null,null,"Not done","not translated yet","Not done",null,null,null,null,null,null,null,null,61,200018,200018,"No longer sold",200018,200018,200018,200018,200018,200018,200018,"Not done",200018,"Not done","Not done","Not done","Not done","Not done",null,null,null,null,"Regensensor 24V","Rain Sensor (24V)","No longer sold","Capteur de pluie 24V","Sensor de lluvia 24V","Dešťový senzor (24V)","Sensore pioggia 24V","Regensensor 24V","Dešťový senzor (24V)","RegenSensor (24V)","not translated yet","Eső érzékelő (24V)","not translated yet","not translated yet","not translated yet","not translated yet","not translated yet",null,null,null,null,null,59.46,55,0,59.46,59.46,1484.48,59.46,77.3,59.46,59.46,"Not done",29900,"Not done","Not done","Not done","Not done","Not done"]
[200031,"Temperatur/Feuchte Außen",120.06,null,null,200031,"Outdoor Temperature & Humidy Sensor 0-10V",107.5,null,null,"No longer sold","No longer sold",0,null,null,200031,"Sonde Temp & Hum Exterieur",120.06,null,null,200031,"Sensor de temperatura y humedad exterior 0-10V",120.06,null,null,200031,"Senzor teploty a vlhkosti (venkovní)",3012.25,null,null,200031,"Temperatura/umidità esterno",120.06,null,null,200031,"Temperatur/Feuchte Außen",156.07,null,null,200031,"Senzor teploty a vlhkosti (venkovní)",120.06,null,null,200031,"Buitentemperatuur & Vochtigheidsvoeler",120.06,null,null,"Not done","not translated yet","Not done",null,null,200031,"Kültéri hőmérséklet és páratartalom érzékelő",39900,null,"Not done","not translated yet","Not done",null,null,"Not done","not translated yet","Not done",null,null,"Not done","not translated yet","Not done",null,null,"Not done","not translated yet","Not done",null,null,"Not done","not translated yet","Not done",null,null,null,null,null,null,null,null,62,200031,200031,"No longer sold",200031,200031,200031,200031,200031,200031,200031,"Not done",200031,"Not done","Not done","Not done","Not done","Not done",null,null,null,null,"Temperatur/Feuchte Außen","Outdoor Temperature & Humidy Sensor 0-10V","No longer sold","Sonde Temp & Hum Exterieur","Sensor de temperatura y humedad exterior 0-10V","Senzor teploty a vlhkosti (venkovní)","Temperatura/umidità esterno","Temperatur/Feuchte Außen","Senzor teploty a vlhkosti (venkovní)","Buitentemperatuur & Vochtigheidsvoeler","not translated yet","Kültéri hőmérséklet és páratartalom érzékelő","not translated yet","not translated yet","not translated yet","not translated yet","not translated yet",null,null,null,null,null,120.06,107.5,0,120.06,120.06,3012.25,120.06,156.07,120.06,120.06,"Not done",39900,"Not done","Not done","Not done","Not done","Not done"]
[200032,"Helligkeitssensor 0-10V",82.06,null,null,200032,"Brightness Sensor 0-10V",73,null,null,"No longer sold","No longer sold",0,null,null,200032,"Capteur de luminosité 24V",82.06,null,null,200032,"Sensor de luminosidad 0-10V",82.06,null,null,200032,"Senzor osvětlení 0-10V",2036.17,null,null,200032,"Sensore di luminosità 0-10V",82.06,null,null,200032,"Helligkeitssensor 0-10V",106.67,null,null,200032,"Senzor osvětlení 0-10V",82.06,null,null,200032,"Helderheid Sensor 0-10V",82.06,null,null,"Not done","not translated yet","Not done",null,null,200032,"Fényérzékelő 0-10V",29900,null,"Not done","not translated yet","Not done",null,null,"Not done","not translated yet","Not done",null,null,"Not done","not translated yet","Not done",null,null,"Not done","not translated yet","Not done",null,null,"Not done","not translated yet","Not done",null,null,null,null,null,null,null,null,63,200032,200032,"No longer sold",200032,200032,200032,200032,200032,200032,200032,"Not done",200032,"Not done","Not done","Not done","Not done","Not done",null,null,null,null,"Helligkeitssensor 0-10V","Brightness Sensor 0-10V","No longer sold","Capteur de luminosité 24V","Sensor de luminosidad 0-10V","Senzor osvětlení 0-10V","Sensore di luminosità 0-10V","Helligkeitssensor 0-10V","Senzor osvětlení 0-10V","Helderheid Sensor 0-10V","not translated yet","Fényérzékelő 0-10V","not translated yet","not translated yet","not translated yet","not translated yet","not translated yet",null,null,null,null,null,82.06,73,0,82.06,82.06,2036.17,82.06,106.67,82.06,82.06,"Not done",29900,"Not done","Not done","Not done","Not done","Not done"]
[200033,"Windsensor 24V",75.180000000000007,null,null,200033,"Wind Sensor (24V)",67.5,null,null,"No longer sold","No longer sold",0,null,null,200033,"Anémomètre 24V",75.180000000000007,null,null,200033,"Anemómetro 24V",75.180000000000007,null,null,200033,"Senzor větru (24V)",1866.43,null,null,200033,"Sensore del vento 24V",75.180000000000007,null,null,200033,"Windsensor 24V",97.73,null,null,200033,"Senzor větru (24V)",75.180000000000007,null,null,200033,"Wind Sensor (24V)",75.180000000000007,null,null,"Not done","not translated yet","Not done",null,null,200033,"Szél érzékelő (24V)",25900,null,"Not done","not translated yet","Not done",null,null,"Not done","not translated yet","Not done",null,null,"Not done","not translated yet","Not done",null,null,"Not done","not translated yet","Not done",null,null,"Not done","not translated yet","Not done",null,null,null,null,null,null,null,null,64,200033,200033,"No longer sold",200033,200033,200033,200033,200033,200033,200033,"Not done",200033,"Not done","Not done","Not done","Not done","Not done",null,null,null,null,"Windsensor 24V","Wind Sensor (24V)","No longer sold","Anémomètre 24V","Anemómetro 24V","Senzor větru (24V)","Sensore del vento 24V","Windsensor 24V","Senzor větru (24V)","Wind Sensor (24V)","not translated yet","Szél érzékelő (24V)","not translated yet","not translated yet","not translated yet","not translated yet","not translated yet",null,null,null,null,null,75.180000000000007,67.5,0,75.180000000000007,75.180000000000007,1866.43,75.180000000000007,97.73,75.180000000000007,75.180000000000007,"Not done",25900,"Not done","Not done","Not done","Not done","Not done"]
[200034,"Halterung für Windsensor",56.49,null,null,200034,"Wind Sensor Mount",50,null,null,"No longer sold","No longer sold",0,null,null,200034,"Socle anémomètre",56.49,null,null,200034,"Soporte para sensor de viento",56.49,null,null,200034,"Držák pro senzor větru",1399.61,null,null,200034,"Supporto per sensore del vento",56.49,null,null,200034,"Halterung für Windsensor",73.430000000000007,null,null,200034,"Držák pro senzor větru",56.49,null,null,200034,"Wind Sensor Muurbevestiging",56.49,null,null,"Not done","not translated yet","Not done",null,null,200034,"Szél érzékelő tartókonzol",19900,null,"Not done","not translated yet","Not done",null,null,"Not done","not translated yet","Not done",null,null,"Not done","not translated yet","Not done",null,null,"Not done","not translated yet","Not done",null,null,"Not done","not translated yet","Not done",null,null,null,null,null,null,null,null,65,200034,{"$f":"F68","v":200034},"No longer sold",200034,200034,200034,200034,200034,200034,200034,"Not done",200034,"Not done","Not done","Not done","Not done","Not done",null,null,null,null,"Halterung für Windsensor","Wind Sensor Mount","No longer sold","Socle anémomètre","Soporte para sensor de viento","Držák pro senzor větru","Supporto per sensore del vento","Halterung für Windsensor","Držák pro senzor větru","Wind Sensor Muurbevestiging","not translated yet","Szél érzékelő tartókonzol","not translated yet","not translated yet","not translated yet","not translated yet","not translated yet",null,null,null,null,null,56.49,50,0,56.49,56.49,1399.61,56.49,73.430000000000007,56.49,56.49,"Not done",19900,"Not done","Not done","Not done","Not done","Not done"]
[200035,"Netzteil 24V, 10A",133.41,null,null,200035,"24V Power Supply (10A)",120,null,null,200035,"24V Power Supply (10A)",182,null,null,200035,"Alimentation 24V 10A",133.41,null,null,200035,"Fuente de alimentación 24V, 10A",133.41,null,null,200035,"24V Zdroj (10A)",3394.19,null,null,200035,"Alimentatore 24V 10A",133.41,null,null,200035,"Netzteil 24V, 10A",173.43,null,null,200035,"24V Zdroj (10A)",133.41,null,null,200035,"24V Voeding (10A)",133.41,null,null,"Not done","not translated yet","Not done",null,null,200035,"24V Tápegység (10A)",44900,null,"Not done","not translated yet","Not done",null,null,"Not done","not translated yet","Not done",null,null,"Not done","not translated yet","Not done",null,null,"Not done","not translated yet","Not done",null,null,"Not done","not translated yet","Not done",null,null,null,null,null,null,null,null,66,{"$f":"A69","v":200035},200035,{"$f":"K69","v":200035},{"$f":"P69","v":200035},{"$f":"U69","v":200035},{"$f":"Z69","v":200035},{"$f":"AE69","v":200035},{"$f":"AJ69","v":200035},{"$f":"AO69","v":200035},{"$f":"AT69","v":200035},{"$f":"AY69","v":"Not done"},{"$f":"BD69","v":200035},{"$f":"BH69","v":"Not done"},{"$f":"BM69","v":"Not done"},{"$f":"BR69","v":"Not done"},{"$f":"BW69","v":"Not done"},{"$f":"CB69","v":"Not done"},null,null,null,null,{"$f":"B69","v":"Netzteil 24V, 10A"},{"$f":"G69","v":"24V Power Supply (10A)"},{"$f":"L69","v":"24V Power Supply (10A)"},{"$f":"Q69","v":"Alimentation 24V 10A"},{"$f":"V69","v":"Fuente de alimentación 24V, 10A"},{"$f":"AA69","v":"24V Zdroj (10A)"},{"$f":"AF69","v":"Alimentatore 24V 10A"},{"$f":"AK69","v":"Netzteil 24V, 10A"},{"$f":"AP69","v":"24V Zdroj (10A)"},{"$f":"AU69","v":"24V Voeding (10A)"},{"$f":"AZ69","v":"not translated yet"},{"$f":"BE69","v":"24V Tápegység (10A)"},{"$f":"BI69","v":"not translated yet"},{"$f":"BN69","v":"not translated yet"},{"$f":"BS69","v":"not translated yet"},{"$f":"BX69","v":"not translated yet"},{"$f":"CC69","v":"not translated yet"},null,null,null,null,null,{"$f":"C69","v":133.41},{"$f":"H69","v":120},{"$f":"M69","v":182},{"$f":"R69","v":133.41},{"$f":"W69","v":133.41},{"$f":"AB69","v":3394.19},{"$f":"AG69","v":133.41},{"$f":"AL69","v":173.43},{"$f":"AQ69","v":133.41},{"$f":"AV69","v":133.41},{"$f":"BA69","v":"Not done"},{"$f":"BF69","v":44900},{"$f":"BJ69","v":"Not done"},{"$f":"BO69","v":"Not done"},{"$f":"BT69","v":"Not done"},{"$f":"BY69","v":"Not done"},{"$f":"CD69","v":"Not done"}]
[200039,"Präsenzmelder 24V",107.73,null,null,0,"not sold",93.75,null,null,"not available in this country","not available in this country",0,null,null,0,"No longer sold",107.73,null,null,200039,"Detector de presencia para interior 24V",107.73,null,null,200039,"Senzor přítomnosti (24V) vnitřní",2874.57,null,null,200039,"Sensore di presenza 24V",107.73,null,null,200039,"Präsenzmelder 24V",140.05000000000001,null,null,200039,"Senzor přítomnosti (24V) vnitřní",107.73,null,null,200039,"Aanwezigheidsmelder (24V)",107.73,null,null,"Not done","not translated yet","Not done",null,null,0,"not sold",0,null,"Not done","not translated yet","Not done",null,null,"Not done","not translated yet","Not done",null,null,"Not done","not translated yet","Not done",null,null,"Not done","not translated yet","Not done",null,null,"Not done","not translated yet","Not done",null,null,null,null,null,null,null,null,67,200039,0,"not available in this country",0,200039,200039,200039,200039,200039,200039,"Not done",0,"Not done","Not done","Not done","Not done","Not done",null,null,null,null,"Präsenzmelder 24V","not sold","not available in this country","No longer sold","Detector de presencia para interior 24V","Senzor přítomnosti (24V) vnitřní","Sensore di presenza 24V","Präsenzmelder 24V","Senzor přítomnosti (24V) vnitřní","Aanwezigheidsmelder (24V)","not translated yet","not sold","not translated yet","not translated yet","not translated yet","not translated yet","not translated yet",null,null,null,null,null,107.73,93.75,0,107.73,107.73,2874.57,107.73,140.05000000000001,107.73,107.73,"Not done",0,"Not done","Not done","Not done","Not done","Not done"]
[200040,"Aufputzdose IP 20 weiß",7.09,null,null,0,"not sold",6.25,null,null,200040,"Mounting bracket IP 20 white",10,null,null,200040,"Surface Mount Box - IP20",7.09,null,null,200040,"Caja para montaje superficial IP 20 blanca",7.09,null,null,0,"Neprodává se",0,null,null,200040,"Scatola sporgente IP 20 bianco",7.09,null,null,"not available in this country","not available in this country",0,null,null,0,"Neprodává se",0,null,null,200040,"Opbouwdoos - IP20 - Wit",7.09,null,null,"Not done","not translated yet","Not done",null,null,200040,"Loxone Kiemelődoboz jelenlétérzékelőhöz - IP20",2900,null,"Not done","not translated yet","Not done",null,null,"Not done","not translated yet","Not done",null,null,"Not done","not translated yet","Not done",null,null,"Not done","not translated yet","Not done",null,null,"Not done","not translated yet","Not done",null,null,null,null,null,null,null,null,68,200040,0,200040,200040,200040,0,200040,"not available in this country",0,200040,"Not done",200040,"Not done","Not done","Not done","Not done","Not done",null,null,null,null,"Aufputzdose IP 20 weiß","not sold","Mounting bracket IP 20 white","Surface Mount Box - IP20","Caja para montaje superficial IP 20 blanca","Neprodává se","Scatola sporgente IP 20 bianco","not available in this country","Neprodává se","Opbouwdoos - IP20 - Wit","not translated yet","Loxone Kiemelődoboz jelenlétérzékelőhöz - IP20","not translated yet","not translated yet","not translated yet","not translated yet","not translated yet",null,null,null,null,null,7.09,6.25,10,7.09,7.09,0,7.09,0,0,7.09,"Not done",2900,"Not done","Not done","Not done","Not done","Not done"]
[200042,"RGB LED Streifen 5m IP20",82.06,null,null,0,"not sold",72.5,null,null,200042,"RGB LED Strip 5m",109,null,null,200042,"Ruban Led RGB 5m IP20",82.06,null,null,200042,"Tira LED RGB 5m IP20",82.06,null,null,0,"Neprodává se",0,null,null,200042,"RGB strisce LED 5m IP20",82.06,null,null,200042,"RGB LED Streifen 5m IP20",74.67,null,null,0,"Neprodává se",0,null,null,200042,"RGB LED Strip 5m",82.06,null,null,"Not done","not translated yet","Not done",null,null,0,"not sold",0,null,"Not done","not translated yet","Not done",null,null,"Not done","not translated yet","Not done",null,null,"Not done","not translated yet","Not done",null,null,"Not done","not translated yet","Not done",null,null,"Not done","not translated yet","Not done",null,null,null,null,null,null,null,null,69,200042,0,200042,200042,200042,0,200042,200042,0,200042,"Not done",0,"Not done","Not done","Not done","Not done","Not done",null,null,null,null,"RGB LED Streifen 5m IP20","not sold","RGB LED Strip 5m","Ruban Led RGB 5m IP20","Tira LED RGB 5m IP20","Neprodává se","RGB strisce LED 5m IP20","RGB LED Streifen 5m IP20","Neprodává se","RGB LED Strip 5m","not translated yet","not sold","not translated yet","not translated yet","not translated yet","not translated yet","not translated yet",null,null,null,null,null,82.06,72.5,109,82.06,82.06,0,82.06,74.67,0,82.06,"Not done",0,"Not done","Not done","Not done","Not done","Not done"]
[200043,"LED Streifen Warmweiß IP20",82.06,null,null,200043,"Warm White LED Strip 5m",72.5,null,null,200043,"Warm White LED Strip 5m",112,null,null,200043,"Ruban Blanc Chaud 5m IP20",82.06,null,null,200043,"Tira LED blanco cálido IP20",82.06,null,null,200043,"5m LED pásky (teplá bílá) - IP20 (bez ochrany proti vodě)",2207.02,null,null,200043,"Strisce LED bianco caldo IP20",82.06,null,null,200043,"LED Streifen Warmweiß IP20",106.67,null,null,200043,"5m LED pásky (teplá bílá) - IP20 (bez ochrany proti vodě)",82.06,null,null,200043,"Warm Wit LED Strip 5m",82.06,null,null,"Not done","not translated yet","Not done",null,null,200043,"Meleg Fehér LED Szalag 5m",29900,null,"Not done","not translated yet","Not done",null,null,"Not done","not translated yet","Not done",null,null,"Not done","not translated yet","Not done",null,null,"Not done","not translated yet","Not done",null,null,"Not done","not translated yet","Not done",null,null,null,null,null,null,null,null,70,200043,200043,200043,200043,200043,200043,200043,200043,200043,200043,"Not done",200043,"Not done","Not done","Not done","Not done","Not done",null,null,null,null,"LED Streifen Warmweiß IP20","Warm White LED Strip 5m","Warm White LED Strip 5m","Ruban Blanc Chaud 5m IP20","Tira LED blanco cálido IP20","5m LED pásky (teplá bílá) - IP20 (bez ochrany proti vodě)","Strisce LED bianco caldo IP20","LED Streifen Warmweiß IP20","5m LED pásky (teplá bílá) - IP20 (bez ochrany proti vodě)","Warm Wit LED Strip 5m","not translated yet","Meleg Fehér LED Szalag 5m","not translated yet","not translated yet","not translated yet","not translated yet","not translated yet",null,null,null,null,null,82.06,72.5,112,82.06,82.06,2207.02,82.06,106.67,82.06,82.06,"Not done",29900,"Not done","Not done","Not done","Not done","Not done"]
[200045,"RGB LED Str 5m IP65",87.19,null,null,0,"not sold",75,null,null,200045,"RGB LED Strip 5m IP65",122,null,null,200045,"Ruban Led RGB 5m IP65",87.19,null,null,200045,"Tira LED RGB 5m IP65",87.19,null,null,"not available in this country","not available in this country",0,null,null,200045,"RGB strisce LED 5m IP65",87.19,null,null,"not available in this country","not available in this country",0,null,null,"not available in this country","not available in this country",0,null,null,200045,"RGB LED Strip 5m IP65",87.19,null,null,"Not done","not translated yet","Not done",null,null,200045,"RGB LED Szalag 5m - IP65",27900,null,"Not done","not translated yet","Not done",null,null,"Not done","not translated yet","Not done",null,null,"Not done","not translated yet","Not done",null,null,"Not done","not translated yet","Not done",null,null,"Not done","not translated yet","Not done",null,null,null,null,null,null,null,null,71,200045,0,200045,200045,200045,"not available in this country",200045,"not available in this country","not available in this country",200045,"Not done",200045,"Not done","Not done","Not done","Not done","Not done",null,null,null,null,"RGB LED Str 5m IP65","not sold","RGB LED Strip 5m IP65","Ruban Led RGB 5m IP65","Tira LED RGB 5m IP65","not available in this country","RGB strisce LED 5m IP65","not available in this country","not available in this country","RGB LED Strip 5m IP65","not translated yet","RGB LED Szalag 5m - IP65","not translated yet","not translated yet","not translated yet","not translated yet","not translated yet",null,null,null,null,null,87.19,75,122,87.19,87.19,0,87.19,0,0,87.19,"Not done",27900,"Not done","Not done","Not done","Not done","Not done"]
[200046,"RGB LED Streifen 5m IP68",92.33,null,null,0,"not sold",77.5,null,null,200046,"RGB LED Strip 5m IP68",122,null,null,200046,"Ruban led RGB 5m IP68",92.33,null,null,200046,"Tira LED RGB 5m IP68",92.33,null,null,0,"Neprodává se",0,null,null,200046,"RGB strisce LED 5m IP68",92.33,null,null,200046,"RGB LED Streifen 5m IP68",84.02,null,null,0,"Neprodává se",0,null,null,200046,"RGB LED Strip 5m IP68",92.33,null,null,"Not done","not translated yet","Not done",null,null,200046,"RGB LED szalag 5m - IP68",29900,null,"Not done","not translated yet","Not done",null,null,"Not done","not translated yet","Not done",null,null,"Not done","not translated yet","Not done",null,null,"Not done","not translated yet","Not done",null,null,"Not done","not translated yet","Not done",null,null,null,null,null,null,null,null,72,200046,0,200046,200046,200046,0,200046,200046,0,200046,"Not done",200046,"Not done","Not done","Not done","Not done","Not done",null,null,null,null,"RGB LED Streifen 5m IP68","not sold","RGB LED Strip 5m IP68","Ruban led RGB 5m IP68","Tira LED RGB 5m IP68","Neprodává se","RGB strisce LED 5m IP68","RGB LED Streifen 5m IP68","Neprodává se","RGB LED Strip 5m IP68","not translated yet","RGB LED szalag 5m - IP68","not translated yet","not translated yet","not translated yet","not translated yet","not translated yet",null,null,null,null,null,92.33,77.5,122,92.33,92.33,0,92.33,84.02,0,92.33,"Not done",29900,"Not done","Not done","Not done","Not done","Not done"]
[200048,"SMA Klebeantenne 868 MHz",15.3,null,null,200048,"SMA Antenna 868 MHz",13.75,null,null,200048,"SMA Antenna 868 MHz",21,null,null,200048,"Antenne SMA 868 MHz",15.3,null,null,200048,"Antena SMA 868 MHz",15.3,null,null,200048,"SMA anténa 868 MHz",381.94,null,null,200048,"SMA antenna 868 MHz",15.3,null,null,200048,"SMA Klebeantenne 868 MHz",19.89,null,null,200048,"SMA anténa 868 MHz",15.3,null,null,200048,"SMA Antenne 868 MHz",15.3,null,null,"Not done","not translated yet","Not done",null,null,200048,"SMA Antenna 868 MHz",5900,null,"Not done","not translated yet","Not done",null,null,"Not done","not translated yet","Not done",null,null,"Not done","not translated yet","Not done",null,null,"Not done","not translated yet","Not done",null,null,"Not done","not translated yet","Not done",null,null,null,null,null,null,null,null,73,200048,200048,200048,200048,200048,200048,200048,200048,200048,200048,"Not done",200048,"Not done","Not done","Not done","Not done","Not done",null,null,null,null,"SMA Klebeantenne 868 MHz","SMA Antenna 868 MHz","SMA Antenna 868 MHz","Antenne SMA 868 MHz","Antena SMA 868 MHz","SMA anténa 868 MHz","SMA antenna 868 MHz","SMA Klebeantenne 868 MHz","SMA anténa 868 MHz","SMA Antenne 868 MHz","not translated yet","SMA Antenna 868 MHz","not translated yet","not translated yet","not translated yet","not translated yet","not translated yet",null,null,null,null,null,15.3,13.75,21,15.3,15.3,381.94,15.3,19.89,15.3,15.3,"Not done",5900,"Not done","Not done","Not done","Not done","Not done"]
[200049,"Koppelrelais",16.329999999999998,null,null,200049,"Coupling Relay",14.5,null,null,200049,"Coupling Relay",23,null,null,200049,"Relai de couplage",16.329999999999998,null,null,200049,"Relé de acoplamiento de 16A",16.329999999999998,null,null,200049,"Spojovací relé",407.4,null,null,200049,"Relè di accoppiamento",16.329999999999998,null,null,200049,"Koppelrelais",21.23,null,null,200049,"Spojovací relé",16.329999999999998,null,null,200049,"Koppelrelais",16.329999999999998,null,null,"Not done","not translated yet","Not done",null,null,200049,"Loxone segédrelé foglalattal",5900,null,"Not done","not translated yet","Not done",null,null,"Not done","not translated yet","Not done",null,null,"Not done","not translated yet","Not done",null,null,"Not done","not translated yet","Not done",null,null,"Not done","not translated yet","Not done",null,null,null,null,null,null,null,null,74,200049,200049,200049,200049,200049,200049,200049,200049,200049,200049,"Not done",200049,"Not done","Not done","Not done","Not done","Not done",null,null,null,null,"Koppelrelais","Coupling Relay","Coupling Relay","Relai de couplage","Relé de acoplamiento de 16A","Spojovací relé","Relè di accoppiamento","Koppelrelais","Spojovací relé","Koppelrelais","not translated yet","Loxone segédrelé foglalattal","not translated yet","not translated yet","not translated yet","not translated yet","not translated yet",null,null,null,null,null,16.329999999999998,14.5,23,16.329999999999998,16.329999999999998,407.4,16.329999999999998,21.23,16.329999999999998,16.329999999999998,"Not done",5900,"Not done","Not done","Not done","Not done","Not done"]
[200050,"Loxone Aufkleber",2.98,null,null,200050,"Loxone Sticker",3,null,null,200050,"Loxone Sticker",5,null,null,200050,"Autocollants Loxone",2.98,null,null,200050,"Adhesivo Loxone",2.98,null,null,200050,"Loxone samolepky",75.540000000000006,null,null,200050,"Loxone sticker",2.98,null,null,200050,"Loxone Aufkleber",0,null,null,200050,"Loxone samolepky",2.98,null,null,200050,"Loxone Sticker",2.98,null,null,"Not done","not translated yet","Not done",null,null,200050,"Loxone Matrica",1490,null,"Not done","not translated yet","Not done",null,null,"Not done","not translated yet","Not done",null,null,"Not done","not translated yet","Not done",null,null,"Not done","not translated yet","Not done",null,null,"Not done","not translated yet","Not done",null,null,null,null,null,null,null,null,75,200050,200050,200050,200050,200050,200050,200050,200050,200050,200050,"Not done",200050,"Not done","Not done","Not done","Not done","Not done",null,null,null,null,"Loxone Aufkleber","Loxone Sticker","Loxone Sticker","Autocollants Loxone","Adhesivo Loxone","Loxone samolepky","Loxone sticker","Loxone Aufkleber","Loxone samolepky","Loxone Sticker","not translated yet","Loxone Matrica","not translated yet","not translated yet","not translated yet","not translated yet","not translated yet",null,null,null,null,null,2.98,3,5,2.98,2.98,75.540000000000006,2.98,0,2.98,2.98,"Not done",1490,"Not done","Not done","Not done","Not done","Not done"]
[200054,"Ultraschallsensor",215.57,null,null,200054,"Ultrasonic Sensor 0-10V",192.5,null,null,200054,"Ultrasonic Sensor 0-10V",295,null,null,200054,"Capteur ultrason 0-10V",215.57,null,null,200054,"Sensor de ultrasonidos 0-10V",215.57,null,null,200054,"Ultrazvukový senzor 0-10V",5388.78,null,null,200054,"Sensore a ultrasuoni",215.57,null,null,200054,"Ultraschallsensor",280.24,null,null,200054,"Ultrazvukový senzor 0-10V",215.57,null,null,200054,"Ultrasone Sensor 0-10V",215.57,null,null,"Not done","not translated yet","Not done",null,null,200054,"Ultrahangos távolságmérő 0-10V",74900,null,"Not done","not translated yet","Not done",null,null,"Not done","not translated yet","Not done",null,null,"Not done","not translated yet","Not done",null,null,"Not done","not translated yet","Not done",null,null,"Not done","not translated yet","Not done",null,null,null,null,null,null,null,null,76,200054,200054,200054,200054,200054,200054,200054,200054,200054,200054,"Not done",200054,"Not done","Not done","Not done","Not done","Not done",null,null,null,null,"Ultraschallsensor","Ultrasonic Sensor 0-10V","Ultrasonic Sensor 0-10V","Capteur ultrason 0-10V","Sensor de ultrasonidos 0-10V","Ultrazvukový senzor 0-10V","Sensore a ultrasuoni","Ultraschallsensor","Ultrazvukový senzor 0-10V","Ultrasone Sensor 0-10V","not translated yet","Ultrahangos távolságmérő 0-10V","not translated yet","not translated yet","not translated yet","not translated yet","not translated yet",null,null,null,null,null,215.57,192.5,295,215.57,215.57,5388.78,215.57,280.24,215.57,215.57,"Not done",74900,"Not done","Not done","Not done","Not done","Not done"]
[0,"No longer sold",0,null,null,0,"not sold",41.25,null,null,"not available in this country","not available in this country",0,null,null,0,"No longer sold",47.14,null,null,200057,"Pulsador inalámbrico EnOcean",47.14,null,null,0,"Neprodává se",0,null,null,200057,"EnOcean pulsante a radio",47.14,null,null,"not available in this country","not available in this country",0,null,null,0,"Neprodává se",0,null,null,200057,"Enocean draadloze drukknop",47.14,null,null,"Not done","not translated yet","Not done",null,null,0,"not sold",0,null,"Not done","not translated yet","Not done",null,null,"Not done","not translated yet","Not done",null,null,"Not done","not translated yet","Not done",null,null,"Not done","not translated yet","Not done",null,null,"Not done","not translated yet","Not done",null,null,null,null,null,null,null,null,77,0,0,"not available in this country",0,200057,0,200057,"not available in this country",0,200057,"Not done",0,"Not done","Not done","Not done","Not done","Not done",null,null,null,null,"No longer sold","not sold","not available in this country","No longer sold","Pulsador inalámbrico EnOcean","Neprodává se","EnOcean pulsante a radio","not available in this country","Neprodává se","Enocean draadloze drukknop","not translated yet","not sold","not translated yet","not translated yet","not translated yet","not translated yet","not translated yet",null,null,null,null,null,0,41.25,0,47.14,47.14,0,47.14,0,0,47.14,"Not done",0,"Not done","Not done","Not done","Not done","Not done"]
[0,"No longer sold",0,null,null,0,"not sold",68.75,null,null,"not available in this country","not available in this country",0,null,null,0,"No longer sold",82.06,null,null,200059,"Contacto inalámbrico para puertas y ventanas EnOcean",82.06,null,null,0,"Neprodává se",0,null,null,200059,"EnOcean contatto finestra a radio",82.06,null,null,"not available in this country","not available in this country",0,null,null,0,"Neprodává se",0,null,null,200059,"Enocean Draadloos Raamcontact",82.06,null,null,"Not done","not translated yet","Not done",null,null,0,"not sold",0,null,"Not done","not translated yet","Not done",null,null,"Not done","not translated yet","Not done",null,null,"Not done","not translated yet","Not done",null,null,"Not done","not translated yet","Not done",null,null,"Not done","not translated yet","Not done",null,null,null,null,null,null,null,null,78,0,0,"not available in this country",0,200059,0,200059,"not available in this country",0,200059,"Not done",0,"Not done","Not done","Not done","Not done","Not done",null,null,null,null,"No longer sold","not sold","not available in this country","No longer sold","Contacto inalámbrico para puertas y ventanas EnOcean","Neprodává se","EnOcean contatto finestra a radio","not available in this country","Neprodává se","Enocean Draadloos Raamcontact","not translated yet","not sold","not translated yet","not translated yet","not translated yet","not translated yet","not translated yet",null,null,null,null,null,0,68.75,0,82.06,82.06,0,82.06,0,0,82.06,"Not done",0,"Not done","Not done","Not done","Not done","Not done"]
[200061,"LED Str WW 5m IP65",87.19,null,null,200061,"Warm White LED Strip 5m IP65",77.5,null,null,200061,"Warm White LED Strip 5m IP65",115,null,null,200061,"Ruban Blanc Chaud 5m IP65",87.19,null,null,200061,"Tira LED blanco cálido 5m IP65",87.19,null,null,200061,"5m LED pásky (teplá bílá) - IP65 (proti tryskající vodě)",2361.0700000000002,null,null,200061,"Strisce LED WW 5m IP65",87.19,null,null,200061,"LED Str WW 5m IP65",113.35,null,null,200061,"5m LED pásky (teplá bílá) - IP65 (proti tryskající vodě)",87.19,null,null,200061,"Warm Wit LED Strip 5m IP65",87.19,null,null,"Not done","not translated yet","Not done",null,null,200061,"Meleg Fehér LED Szalag 5m IP65",31900,null,"Not done","not translated yet","Not done",null,null,"Not done","not translated yet","Not done",null,null,"Not done","not translated yet","Not done",null,null,"Not done","not translated yet","Not done",null,null,"Not done","not translated yet","Not done",null,null,null,null,null,null,null,null,79,200061,200061,200061,200061,200061,200061,200061,200061,200061,200061,"Not done",200061,"Not done","Not done","Not done","Not done","Not done",null,null,null,null,"LED Str WW 5m IP65","Warm White LED Strip 5m IP65","Warm White LED Strip 5m IP65","Ruban Blanc Chaud 5m IP65","Tira LED blanco cálido 5m IP65","5m LED pásky (teplá bílá) - IP65 (proti tryskající vodě)","Strisce LED WW 5m IP65","LED Str WW 5m IP65","5m LED pásky (teplá bílá) - IP65 (proti tryskající vodě)","Warm Wit LED Strip 5m IP65","not translated yet","Meleg Fehér LED Szalag 5m IP65","not translated yet","not translated yet","not translated yet","not translated yet","not translated yet",null,null,null,null,null,87.19,77.5,115,87.19,87.19,2361.0700000000002,87.19,113.35,87.19,87.19,"Not done",31900,"Not done","Not done","Not done","Not done","Not done"]
[200063,"Elektronischer Schlüssel Leser",9.33,null,null,200063,"iButton Reader 1-Wire",8.5,null,null,200063,"iButton Reader 1-Wire",13,null,null,200063,"Lecteur iButton",9.33,null,null,200063,"Lector de llaves electrónicas",9.33,null,null,200063,"Čtečka elektronického klíče",236.81,null,null,200063,"Lettore chiave elettronica",9.33,null,null,200063,"Elektronischer Schlüssel Leser",12.12,null,null,200063,"Čtečka elektronického klíče",9.33,null,null,200063,"iButton lezer 1-Wire",9.33,null,null,"Not done","not translated yet","Not done",null,null,200063,"iButton Olvasó 1-Wire",3190,null,"Not done","not translated yet","Not done",null,null,"Not done","not translated yet","Not done",null,null,"Not done","not translated yet","Not done",null,null,"Not done","not translated yet","Not done",null,null,"Not done","not translated yet","Not done",null,null,null,null,null,null,null,null,80,200063,200063,200063,200063,200063,200063,200063,200063,200063,200063,"Not done",200063,"Not done","Not done","Not done","Not done","Not done",null,null,null,null,"Elektronischer Schlüssel Leser","iButton Reader 1-Wire","iButton Reader 1-Wire","Lecteur iButton","Lector de llaves electrónicas","Čtečka elektronického klíče","Lettore chiave elettronica","Elektronischer Schlüssel Leser","Čtečka elektronického klíče","iButton lezer 1-Wire","not translated yet","iButton Olvasó 1-Wire","not translated yet","not translated yet","not translated yet","not translated yet","not translated yet",null,null,null,null,null,9.33,8.5,13,9.33,9.33,236.81,9.33,12.12,9.33,9.33,"Not done",3190,"Not done","Not done","Not done","Not done","Not done"]
[200064,"Elektronischer Schlüssel",3.49,null,null,200064,"iButton Electronic Key Fob",3.25,null,null,200064,"iButton Electronic Key Fob",5,null,null,200064,"Clé iButton",3.49,null,null,200064,"Llave electrónica iButton",3.49,null,null,200064,"Elektronický klíč",84.03,null,null,200064,"Chiave elettronica",3.49,null,null,200064,"Elektronischer Schlüssel",4.54,null,null,200064,"Elektronický klíč",3.49,null,null,200064,"iButton Electronische sleutel",3.49,null,null,"Not done","not translated yet","Not done",null,null,200064,"iButton kulcs",1190,null,"Not done","not translated yet","Not done",null,null,"Not done","not translated yet","Not done",null,null,"Not done","not translated yet","Not done",null,null,"Not done","not translated yet","Not done",null,null,"Not done","not translated yet","Not done",null,null,null,null,null,null,null,null,81,200064,200064,200064,200064,200064,200064,200064,200064,200064,200064,"Not done",200064,"Not done","Not done","Not done","Not done","Not done",null,null,null,null,"Elektronischer Schlüssel","iButton Electronic Key Fob","iButton Electronic Key Fob","Clé iButton","Llave electrónica iButton","Elektronický klíč","Chiave elettronica","Elektronischer Schlüssel","Elektronický klíč","iButton Electronische sleutel","not translated yet","iButton kulcs","not translated yet","not translated yet","not translated yet","not translated yet","not translated yet",null,null,null,null,null,3.49,3.25,5,3.49,3.49,84.03,3.49,4.54,3.49,3.49,"Not done",1190,"Not done","Not done","Not done","Not done","Not done"]
[0,"No longer sold",0,null,null,0,"not sold",122.5,null,null,"not available in this country","not available in this country",0,null,null,0,"No longer sold",143.68,null,null,200067,"Válvula para radiadores con pilas EnOcean",143.68,null,null,0,"Neprodává se",0,null,null,200067,"Valvola termica EnOcean",143.68,null,null,"not available in this country","not available in this country",0,null,null,0,"Neprodává se",0,null,null,200067,"Enocean Draadloos stelventiel",143.68,null,null,"Not done","not translated yet","Not done",null,null,0,"not sold",0,null,"Not done","not translated yet","Not done",null,null,"Not done","not translated yet","Not done",null,null,"Not done","not translated yet","Not done",null,null,"Not done","not translated yet","Not done",null,null,"Not done","not translated yet","Not done",null,null,null,null,null,null,null,null,82,0,0,"not available in this country",0,200067,0,200067,"not available in this country",0,200067,"Not done",0,"Not done","Not done","Not done","Not done","Not done",null,null,null,null,"No longer sold","not sold","not available in this country","No longer sold","Válvula para radiadores con pilas EnOcean","Neprodává se","Valvola termica EnOcean","not available in this country","Neprodává se","Enocean Draadloos stelventiel","not translated yet","not sold","not translated yet","not translated yet","not translated yet","not translated yet","not translated yet",null,null,null,null,null,0,122.5,0,143.68,143.68,0,143.68,0,0,143.68,"Not done",0,"Not done","Not done","Not done","Not done","Not done"]
[200070,"Elektronischer Schlüssel Magn",8.4700000000000006,null,null,200070,"iButton Electronic Key Fob (Magnetic)",7.5,null,null,"not available in this country","not available in this country",0,null,null,200070,"Clé iButton magnétique",8.4700000000000006,null,null,200070,"Llave electrónica iButton magnética",8.4700000000000006,null,null,200070,"Elektronický klíč (Magnetický)",211.35,null,null,200070,"Chiave elettronica magnetico",8.4700000000000006,null,null,200070,"Elektronischer Schlüssel Magn",11.01,null,null,200070,"Elektronický klíč (Magnetický)",8.4700000000000006,null,null,200070,"iButton Electronische sleutel (Magnetisch)",8.4700000000000006,null,null,"Not done","not translated yet","Not done",null,null,200070,"iButton kulcs, mágneses",2900,null,"Not done","not translated yet","Not done",null,null,"Not done","not translated yet","Not done",null,null,"Not done","not translated yet","Not done",null,null,"Not done","not translated yet","Not done",null,null,"Not done","not translated yet","Not done",null,null,null,null,null,null,null,null,83,200070,200070,"not available in this country",200070,200070,200070,200070,200070,200070,200070,"Not done",200070,"Not done","Not done","Not done","Not done","Not done",null,null,null,null,"Elektronischer Schlüssel Magn","iButton Electronic Key Fob (Magnetic)","not available in this country","Clé iButton magnétique","Llave electrónica iButton magnética","Elektronický klíč (Magnetický)","Chiave elettronica magnetico","Elektronischer Schlüssel Magn","Elektronický klíč (Magnetický)","iButton Electronische sleutel (Magnetisch)","not translated yet","iButton kulcs, mágneses","not translated yet","not translated yet","not translated yet","not translated yet","not translated yet",null,null,null,null,null,8.4700000000000006,7.5,0,8.4700000000000006,8.4700000000000006,211.35,8.4700000000000006,11.01,8.4700000000000006,8.4700000000000006,"Not done",2900,"Not done","Not done","Not done","Not done","Not done"]
[200077,"1-Wire Hülsen Temperaturfühler",11.19,null,null,200077,"Temperature Probe 1-Wire",10,null,null,200077,"Temperature Probe 1-Wire",16,null,null,200077,"Sonde de température étanche 1-Wire",11.19,null,null,200077,"Sensor de temperatura 1-Wire metálico",11.19,null,null,200077,"1-Wire teplotní čip v pouzdře",293.11,null,null,200077,"1-Wire sensore di temperatura a manicotto",11.19,null,null,200077,"1-Wire Hülsen Temperaturfühler",15.22,null,null,200077,"1-Wire teplotní čip v pouzdře",11.19,null,null,200077,"Temperatuurvoeler 1-Wire",11.19,null,null,"Not done","not translated yet","Not done",null,null,200077,"Csőhőmérő 1-Wire",3900,null,"Not done","not translated yet","Not done",null,null,"Not done","not translated yet","Not done",null,null,"Not done","not translated yet","Not done",null,null,"Not done","not translated yet","Not done",null,null,"Not done","not translated yet","Not done",null,null,null,null,null,null,null,null,84,200077,200077,200077,200077,200077,200077,200077,200077,200077,200077,"Not done",200077,"Not done","Not done","Not done","Not done","Not done",null,null,null,null,"1-Wire Hülsen Temperaturfühler","Temperature Probe 1-Wire","Temperature Probe 1-Wire","Sonde de température étanche 1-Wire","Sensor de temperatura 1-Wire metálico","1-Wire teplotní čip v pouzdře","1-Wire sensore di temperatura a manicotto","1-Wire Hülsen Temperaturfühler","1-Wire teplotní čip v pouzdře","Temperatuurvoeler 1-Wire","not translated yet","Csőhőmérő 1-Wire","not translated yet","not translated yet","not translated yet","not translated yet","not translated yet",null,null,null,null,null,11.19,10,16,11.19,11.19,293.11,11.19,15.22,11.19,11.19,"Not done",3900,"Not done","Not done","Not done","Not done","Not done"]
[200086,"Fanshirt S",12.83,null,null,200086,"Fanshirt S",11.5,null,null,200086,"Fanshirt S",19,null,null,200086,"Fanshirt S",12.83,null,null,200086,"Camiseta Fan S",12.83,null,null,200086,"Loxone Fanshirt S",293.11,null,null,200086,"Fanshirt S",12.83,null,null,200086,"Fanshirt S",16.68,null,null,200086,"Loxone Fanshirt S",12.83,null,null,200086,"Fanshirt S",12.83,null,null,"Not done","not translated yet","Not done",null,null,200086,"Loxone póló S",4900,null,"Not done","not translated yet","Not done",null,null,"Not done","not translated yet","Not done",null,null,"Not done","not translated yet","Not done",null,null,"Not done","not translated yet","Not done",null,null,"Not done","not translated yet","Not done",null,null,null,null,null,null,null,null,85,200086,200086,200086,200086,200086,200086,200086,200086,200086,200086,"Not done",200086,"Not done","Not done","Not done","Not done","Not done",null,null,null,null,"Fanshirt S","Fanshirt S","Fanshirt S","Fanshirt S","Camiseta Fan S","Loxone Fanshirt S","Fanshirt S","Fanshirt S","Loxone Fanshirt S","Fanshirt S","not translated yet","Loxone póló S","not translated yet","not translated yet","not translated yet","not translated yet","not translated yet",null,null,null,null,null,12.83,11.5,19,12.83,12.83,293.11,12.83,16.68,12.83,12.83,"Not done",4900,"Not done","Not done","Not done","Not done","Not done"]
[200087,"Fanshirt M",12.83,null,null,200087,"Fanshirt M",11.5,null,null,200087,"Fanshirt M",19,null,null,200087,"Fanshirt M",12.83,null,null,200087,"Camiseta Fan M",12.83,null,null,200087,"Loxone Fanshirt M",327.61,null,null,200087,"Fanshirt M",12.83,null,null,200087,"Fanshirt M",16.68,null,null,200087,"Loxone Fanshirt M",12.83,null,null,200087,"Fanshirt M",12.83,null,null,"Not done","not translated yet","Not done",null,null,200087,"Loxone póló M",4900,null,"Not done","not translated yet","Not done",null,null,"Not done","not translated yet","Not done",null,null,"Not done","not translated yet","Not done",null,null,"Not done","not translated yet","Not done",null,null,"Not done","not translated yet","Not done",null,null,null,null,null,null,null,null,86,200087,200087,200087,200087,200087,200087,200087,200087,200087,200087,"Not done",200087,"Not done","Not done","Not done","Not done","Not done",null,null,null,null,"Fanshirt M","Fanshirt M","Fanshirt M","Fanshirt M","Camiseta Fan M","Loxone Fanshirt M","Fanshirt M","Fanshirt M","Loxone Fanshirt M","Fanshirt M","not translated yet","Loxone póló M","not translated yet","not translated yet","not translated yet","not translated yet","not translated yet",null,null,null,null,null,12.83,11.5,19,12.83,12.83,327.61,12.83,16.68,12.83,12.83,"Not done",4900,"Not done","Not done","Not done","Not done","Not done"]
[200088,"Fanshirt L",12.83,null,null,200088,"Fanshirt L",11.5,null,null,200088,"Fanshirt L",19,null,null,200088,"Fanshirt L",12.83,null,null,200088,"Camiseta Fan L",12.83,null,null,200088,"Loxone Fanshirt L",327.61,null,null,200088,"Fanshirt L",12.83,null,null,200088,"Fanshirt L",16.68,null,null,200088,"Loxone Fanshirt L",12.83,null,null,200088,"Fanshirt L",12.83,null,null,"Not done","not translated yet","Not done",null,null,200088,"Loxone póló L",4900,null,"Not done","not translated yet","Not done",null,null,"Not done","not translated yet","Not done",null,null,"Not done","not translated yet","Not done",null,null,"Not done","not translated yet","Not done",null,null,"Not done","not translated yet","Not done",null,null,null,null,null,null,null,null,87,200088,200088,200088,200088,200088,200088,200088,200088,200088,200088,"Not done",200088,"Not done","Not done","Not done","Not done","Not done",null,null,null,null,"Fanshirt L","Fanshirt L","Fanshirt L","Fanshirt L","Camiseta Fan L","Loxone Fanshirt L","Fanshirt L","Fanshirt L","Loxone Fanshirt L","Fanshirt L","not translated yet","Loxone póló L","not translated yet","not translated yet","not translated yet","not translated yet","not translated yet",null,null,null,null,null,12.83,11.5,19,12.83,12.83,327.61,12.83,16.68,12.83,12.83,"Not done",4900,"Not done","Not done","Not done","Not done","Not done"]
[200089,"Fanshirt XL",12.83,null,null,200089,"Fanshirt XL",11.5,null,null,200089,"Fanshirt XL",19,null,null,200089,"Fanshirt XL",12.83,null,null,200089,"Camiseta Fan XL",12.83,null,null,200089,"Loxone Fanshirt XL",327.61,null,null,200089,"Fanshirt XL",12.83,null,null,200089,"Fanshirt XL",16.68,null,null,200089,"Loxone Fanshirt XL",12.83,null,null,200089,"Fanshirt XL",12.83,null,null,"Not done","not translated yet","Not done",null,null,200089,"Loxone póló XL",4900,null,"Not done","not translated yet","Not done",null,null,"Not done","not translated yet","Not done",null,null,"Not done","not translated yet","Not done",null,null,"Not done","not translated yet","Not done",null,null,"Not done","not translated yet","Not done",null,null,null,null,null,null,null,null,88,200089,200089,200089,200089,200089,200089,200089,200089,200089,200089,"Not done",200089,"Not done","Not done","Not done","Not done","Not done",null,null,null,null,"Fanshirt XL","Fanshirt XL","Fanshirt XL","Fanshirt XL","Camiseta Fan XL","Loxone Fanshirt XL","Fanshirt XL","Fanshirt XL","Loxone Fanshirt XL","Fanshirt XL","not translated yet","Loxone póló XL","not translated yet","not translated yet","not translated yet","not translated yet","not translated yet",null,null,null,null,null,12.83,11.5,19,12.83,12.83,327.61,12.83,16.68,12.83,12.83,"Not done",4900,"Not done","Not done","Not done","Not done","Not done"]
[200090,"Fanshirt XXL",12.83,null,null,200090,"Fanshirt XXL",11.5,null,null,200090,"Fanshirt XXL",19,null,null,200090,"Fanshirt XXL",12.83,null,null,200090,"Camiseta Fan XXL",12.83,null,null,200090,"Loxone Fanshirt XXL",327.61,null,null,200090,"Fanshirt XXL",12.83,null,null,200090,"Fanshirt XXL",16.68,null,null,200090,"Loxone Fanshirt XXL",12.83,null,null,200090,"Fanshirt XXL",12.83,null,null,"Not done","not translated yet","Not done",null,null,200090,"Loxone póló XXL",4900,null,"Not done","not translated yet","Not done",null,null,"Not done","not translated yet","Not done",null,null,"Not done","not translated yet","Not done",null,null,"Not done","not translated yet","Not done",null,null,"Not done","not translated yet","Not done",null,null,null,null,null,null,null,null,89,200090,200090,200090,200090,200090,200090,200090,200090,200090,200090,"Not done",200090,"Not done","Not done","Not done","Not done","Not done",null,null,null,null,"Fanshirt XXL","Fanshirt XXL","Fanshirt XXL","Fanshirt XXL","Camiseta Fan XXL","Loxone Fanshirt XXL","Fanshirt XXL","Fanshirt XXL","Loxone Fanshirt XXL","Fanshirt XXL","not translated yet","Loxone póló XXL","not translated yet","not translated yet","not translated yet","not translated yet","not translated yet",null,null,null,null,null,12.83,11.5,19,12.83,12.83,327.61,12.83,16.68,12.83,12.83,"Not done",4900,"Not done","Not done","Not done","Not done","Not done"]
[200092,"LED Str WW 5m IP68",92.33,null,null,200092,"Warm White LED Strip 5m IP68",82.5,null,null,200092,"Warm White LED Strip 5m IP68",115,null,null,200092,"Ruban blanc chaud 5m IP68",92.33,null,null,200092,"Tira LED blanco cálido 5m IP68",92.33,null,null,200092,"5m LED pásky (teplá bílá) - IP68 (proti potopení do vody)",2566.4699999999998,null,null,200092,"Strisce LED WW 5m IP68",92.33,null,null,200092,"LED Str WW 5m IP68",120.03,null,null,200092,"5m LED pásky (teplá bílá) - IP68 (proti potopení do vody)",92.33,null,null,200092,"Warm Wit LED Strip 5m IP68",92.33,null,null,"Not done","not translated yet","Not done",null,null,200092,"Meleg Fehér LED Szalag 5m IP68",32900,null,"Not done","not translated yet","Not done",null,null,"Not done","not translated yet","Not done",null,null,"Not done","not translated yet","Not done",null,null,"Not done","not translated yet","Not done",null,null,"Not done","not translated yet","Not done",null,null,null,null,null,null,null,null,90,200092,200092,200092,200092,200092,200092,200092,200092,200092,200092,"Not done",200092,"Not done","Not done","Not done","Not done","Not done",null,null,null,null,"LED Str WW 5m IP68","Warm White LED Strip 5m IP68","Warm White LED Strip 5m IP68","Ruban blanc chaud 5m IP68","Tira LED blanco cálido 5m IP68","5m LED pásky (teplá bílá) - IP68 (proti potopení do vody)","Strisce LED WW 5m IP68","LED Str WW 5m IP68","5m LED pásky (teplá bílá) - IP68 (proti potopení do vody)","Warm Wit LED Strip 5m IP68","not translated yet","Meleg Fehér LED Szalag 5m IP68","not translated yet","not translated yet","not translated yet","not translated yet","not translated yet",null,null,null,null,null,92.33,82.5,115,92.33,92.33,2566.4699999999998,92.33,120.03,92.33,92.33,"Not done",32900,"Not done","Not done","Not done","Not done","Not done"]
[200093,"Loxone Intercom",863.02,null,null,200103,"Loxone Intercom",770,null,null,200103,"Loxone Intercom",1180,null,null,200103,"Loxone Intercom",863.02,null,null,200093,"Loxone Intercom",863.02,null,null,200093,"Loxone Intercom",25673.97,null,null,200093,"Loxone Intercom",863.02,null,null,200093,"Loxone Intercom",1121.92,null,null,200093,"Loxone Intercom",863.02,null,null,200093,"Loxone Intercom",863.02,null,null,"Not done","not translated yet","Not done",null,null,200103,"Loxone kaputelefon",289900,null,"Not done","not translated yet","Not done",null,null,"Not done","not translated yet","Not done",null,null,"Not done","not translated yet","Not done",null,null,"Not done","not translated yet","Not done",null,null,"Not done","not translated yet","Not done",null,null,null,null,null,null,null,null,91,200093,200103,200103,200103,200093,200093,200093,200093,200093,200093,"Not done",200103,"Not done","Not done","Not done","Not done","Not done",null,null,null,null,"Loxone Intercom","Loxone Intercom","Loxone Intercom","Loxone Intercom","Loxone Intercom","Loxone Intercom","Loxone Intercom","Loxone Intercom","Loxone Intercom","Loxone Intercom","not translated yet","Loxone kaputelefon","not translated yet","not translated yet","not translated yet","not translated yet","not translated yet",null,null,null,null,null,863.02,770,1180,863.02,863.02,25673.97,863.02,1121.92,863.02,863.02,"Not done",289900,"Not done","Not done","Not done","Not done","Not done"]
[200094,"Intercom Unterputz-Box",56.49,null,null,200094,"Flush-mounted box for the Loxone intercom",50,null,null,200094,"Flush-mounted box for the Loxone intercom",77,null,null,200094,"Boitier d'encastrement Intercom",56.49,null,null,200094,"Caja para montaje empotrado Loxone Intercom",56.49,null,null,200094,"Zapuštěný box pro Loxone Intercom",1412.13,null,null,200094,"Intercom box montaggio a livello",56.49,null,null,200094,"Intercom Unterputz-Box",73.430000000000007,null,null,200094,"Zapuštěný box pro Loxone Intercom",56.49,null,null,200094,"Inbouwbehuizing voor Loxone intercom",56.49,null,null,"Not done","not translated yet","Not done",null,null,200094,"Falba szerelhető beépítődoboz Loxone kaputelefonhoz",19900,null,"Not done","not translated yet","Not done",null,null,"Not done","not translated yet","Not done",null,null,"Not done","not translated yet","Not done",null,null,"Not done","not translated yet","Not done",null,null,"Not done","not translated yet","Not done",null,null,null,null,null,null,null,null,92,200094,200094,200094,200094,200094,200094,200094,200094,200094,200094,"Not done",200094,"Not done","Not done","Not done","Not done","Not done",null,null,null,null,"Intercom Unterputz-Box","Flush-mounted box for the Loxone intercom","Flush-mounted box for the Loxone intercom","Boitier d'encastrement Intercom","Caja para montaje empotrado Loxone Intercom","Zapuštěný box pro Loxone Intercom","Intercom box montaggio a livello","Intercom Unterputz-Box","Zapuštěný box pro Loxone Intercom","Inbouwbehuizing voor Loxone intercom","not translated yet","Falba szerelhető beépítődoboz Loxone kaputelefonhoz","not translated yet","not translated yet","not translated yet","not translated yet","not translated yet",null,null,null,null,null,56.49,50,77,56.49,56.49,1412.13,56.49,73.430000000000007,56.49,56.49,"Not done",19900,"Not done","Not done","Not done","Not done","Not done"]
[200095,"Intercom Aufputz-Box",102.7,null,null,200095,"Surface Box for Loxone Intercom",92.5,null,null,200095,"Surface Box for Loxone Intercom",140,null,null,200095,"Boitier applique Intercom",102.7,null,null,200095,"Caja para montaje en superficie Loxone Intercom",102.7,null,null,200095,"Povrchový box pro Loxone Intercom",2566.4699999999998,null,null,200095,"Intercom box montaggio sporgente",102.7,null,null,200095,"Intercom Aufputz-Box",133.51,null,null,200095,"Povrchový box pro Loxone Intercom",102.7,null,null,200095,"Opbouwbehuizing voor Loxone Intercom",102.7,null,null,"Not done","not translated yet","Not done",null,null,200095,"Falon kívüli beépítődoboz Loxone kaputelefonhoz",35900,null,"Not done","not translated yet","Not done",null,null,"Not done","not translated yet","Not done",null,null,"Not done","not translated yet","Not done",null,null,"Not done","not translated yet","Not done",null,null,"Not done","not translated yet","Not done",null,null,null,null,null,null,null,null,93,200095,200095,200095,200095,200095,200095,200095,200095,200095,200095,"Not done",200095,"Not done","Not done","Not done","Not done","Not done",null,null,null,null,"Intercom Aufputz-Box","Surface Box for Loxone Intercom","Surface Box for Loxone Intercom","Boitier applique Intercom","Caja para montaje en superficie Loxone Intercom","Povrchový box pro Loxone Intercom","Intercom box montaggio sporgente","Intercom Aufputz-Box","Povrchový box pro Loxone Intercom","Opbouwbehuizing voor Loxone Intercom","not translated yet","Falon kívüli beépítődoboz Loxone kaputelefonhoz","not translated yet","not translated yet","not translated yet","not translated yet","not translated yet",null,null,null,null,null,102.7,92.5,140,102.7,102.7,2566.4699999999998,102.7,133.51,102.7,102.7,"Not done",35900,"Not done","Not done","Not done","Not done","Not done"]
[200097,"Loxone Speaker",91.4,null,null,200097,"Loxone Speaker",82.5,null,null,200097,"Loxone Speaker",109,null,null,200097,"Loxone Speaker",91.4,null,null,200097,"Loxone Speaker",91.4,null,null,200097,"Loxone Speaker",2285.08,null,null,200097,"Loxone Speaker",91.4,null,null,200097,"Loxone Speaker",118.82,null,null,200097,"Loxone Speaker",91.4,null,null,200097,"Loxone Speaker",91.4,null,null,"Not done","not translated yet","Not done",null,null,200097,"Loxone hangszóró",29900,null,"Not done","not translated yet","Not done",null,null,"Not done","not translated yet","Not done",null,null,"Not done","not translated yet","Not done",null,null,"Not done","not translated yet","Not done",null,null,"Not done","not translated yet","Not done",null,null,null,null,null,null,null,null,94,200097,200097,200097,200097,200097,200097,200097,200097,200097,200097,"Not done",200097,"Not done","Not done","Not done","Not done","Not done",null,null,null,null,"Loxone Speaker","Loxone Speaker","Loxone Speaker","Loxone Speaker","Loxone Speaker","Loxone Speaker","Loxone Speaker","Loxone Speaker","Loxone Speaker","Loxone Speaker","not translated yet","Loxone hangszóró","not translated yet","not translated yet","not translated yet","not translated yet","not translated yet",null,null,null,null,null,91.4,82.5,109,91.4,91.4,2285.08,91.4,118.82,91.4,91.4,"Not done",29900,"Not done","Not done","Not done","Not done","Not done"]
[200098,"RGBW LED Streifen 5 m IP20",112.87,null,null,200098,"RGBW LED Strip 5m IP20",100,null,null,200098,"RGBW LED Strip 5m IP20",149,null,null,200098,"Ruban Led RGBW 5m IP20",112.87,null,null,200098,"Tira LED RGBW 5 m IP20",112.87,null,null,200098,"5m RGBW LED pásky IP20 (bez ochrany proti vodě)",3079.97,null,null,200098,"Strisce RGBW LED 5 m IP20",112.87,null,null,200098,"RGBW LED Streifen 5 m IP20",146.72999999999999,null,null,200098,"5m RGBW LED pásky IP20 (bez ochrany proti vodě)",112.87,null,null,200098,"RGBW LED Strip 5m IP20",112.87,null,null,"Not done","not translated yet","Not done",null,null,200098,"RGBW LED Szalag 5m IP20",35999,null,"Not done","not translated yet","Not done",null,null,"Not done","not translated yet","Not done",null,null,"Not done","not translated yet","Not done",null,null,"Not done","not translated yet","Not done",null,null,"Not done","not translated yet","Not done",null,null,null,null,null,null,null,null,95,200098,200098,200098,200098,200098,200098,200098,200098,200098,200098,"Not done",200098,"Not done","Not done","Not done","Not done","Not done",null,null,null,null,"RGBW LED Streifen 5 m IP20","RGBW LED Strip 5m IP20","RGBW LED Strip 5m IP20","Ruban Led RGBW 5m IP20","Tira LED RGBW 5 m IP20","5m RGBW LED pásky IP20 (bez ochrany proti vodě)","Strisce RGBW LED 5 m IP20","RGBW LED Streifen 5 m IP20","5m RGBW LED pásky IP20 (bez ochrany proti vodě)","RGBW LED Strip 5m IP20","not translated yet","RGBW LED Szalag 5m IP20","not translated yet","not translated yet","not translated yet","not translated yet","not translated yet",null,null,null,null,null,112.87,100,149,112.87,112.87,3079.97,112.87,146.72999999999999,112.87,112.87,"Not done",35999,"Not done","Not done","Not done","Not done","Not done"]
[200099,"RGBW LED Streifen 5 m IP65",118,null,null,200099,"RGBW LED Strip 5m IP65",105,null,null,200099,"RGBW LED Strip 5m IP65",156,null,null,200099,"Ruban Led RGBW 5m IP65",118,null,null,200099,"Tira LED RGBW 5 m IP65",118,null,null,200099,"5m RGBW LED pásky IP65 (proti tryskající vodě)",3182.67,null,null,200099,"Strisce RGBW LED 5 m IP65",118,null,null,200099,"RGBW LED Streifen 5 m IP65",153.4,null,null,200099,"5m RGBW LED pásky IP65 (proti tryskající vodě)",118,null,null,200099,"RGBW LED Strip 5m IP65",118,null,null,"Not done","not translated yet","Not done",null,null,200099,"RGBW LED Szalag 5m IP65",38900,null,"Not done","not translated yet","Not done",null,null,"Not done","not translated yet","Not done",null,null,"Not done","not translated yet","Not done",null,null,"Not done","not translated yet","Not done",null,null,"Not done","not translated yet","Not done",null,null,null,null,null,null,null,null,96,200099,200099,200099,200099,200099,200099,200099,200099,200099,200099,"Not done",200099,"Not done","Not done","Not done","Not done","Not done",null,null,null,null,"RGBW LED Streifen 5 m IP65","RGBW LED Strip 5m IP65","RGBW LED Strip 5m IP65","Ruban Led RGBW 5m IP65","Tira LED RGBW 5 m IP65","5m RGBW LED pásky IP65 (proti tryskající vodě)","Strisce RGBW LED 5 m IP65","RGBW LED Streifen 5 m IP65","5m RGBW LED pásky IP65 (proti tryskající vodě)","RGBW LED Strip 5m IP65","not translated yet","RGBW LED Szalag 5m IP65","not translated yet","not translated yet","not translated yet","not translated yet","not translated yet",null,null,null,null,null,118,105,156,118,118,3182.67,118,153.4,118,118,"Not done",38900,"Not done","Not done","Not done","Not done","Not done"]
[200100,"RGBW LED Streifen 5 m IP68",123.14,null,null,200100,"RGBW LED Strip 5m IP68",110,null,null,200100,"RGBW LED Strip 5m IP68",164,null,null,200100,"Ruban Led RGBW 5m IP68",123.14,null,null,200100,"Tira LED RGBW 5 m IP68",123.14,null,null,200100,"5m RGBW LED pásky IP68 (proti potopení do vody)",3336.72,null,null,200100,"Strisce RGBW LED 5 m IP68",123.14,null,null,200100,"RGBW LED Streifen 5 m IP68",160.08000000000001,null,null,200100,"5m RGBW LED pásky IP68 (proti potopení do vody)",123.14,null,null,200100,"RGBW LED Strip 5m IP68",123.14,null,null,"Not done","not translated yet","Not done",null,null,200100,"RGBW LED Szalag 5m IP68",40900,null,"Not done","not translated yet","Not done",null,null,"Not done","not translated yet","Not done",null,null,"Not done","not translated yet","Not done",null,null,"Not done","not translated yet","Not done",null,null,"Not done","not translated yet","Not done",null,null,null,null,null,null,null,null,97,200100,200100,200100,200100,200100,200100,200100,200100,200100,200100,"Not done",200100,"Not done","Not done","Not done","Not done","Not done",null,null,null,null,"RGBW LED Streifen 5 m IP68","RGBW LED Strip 5m IP68","RGBW LED Strip 5m IP68","Ruban Led RGBW 5m IP68","Tira LED RGBW 5 m IP68","5m RGBW LED pásky IP68 (proti potopení do vody)","Strisce RGBW LED 5 m IP68","RGBW LED Streifen 5 m IP68","5m RGBW LED pásky IP68 (proti potopení do vody)","RGBW LED Strip 5m IP68","not translated yet","RGBW LED Szalag 5m IP68","not translated yet","not translated yet","not translated yet","not translated yet","not translated yet",null,null,null,null,null,123.14,110,164,123.14,123.14,3336.72,123.14,160.08000000000001,123.14,123.14,"Not done",40900,"Not done","Not done","Not done","Not done","Not done"]
[0,"No longer sold",0,null,null,0,"No longer sold",0,null,null,0,"No longer sold",0,null,null,0,"No longer sold",0,null,null,0,"No longer sold",0,null,null,0,"Neprodává se",0,null,null,0,"No longer sold",0,null,null,0,"No longer sold",0,null,null,0,"Neprodává se",0,null,null,0,"No longer sold",0,null,null,"Not done","not translated yet","Not done",null,null,0,"No longer sold",0,null,"Not done","not translated yet","Not done",null,null,"Not done","not translated yet","Not done",null,null,"Not done","not translated yet","Not done",null,null,"Not done","not translated yet","Not done",null,null,"Not done","not translated yet","Not done",null,null,null,null,null,null,null,null,98,0,0,0,0,0,0,0,0,0,0,"Not done",0,"Not done","Not done","Not done","Not done","Not done",null,null,null,null,"No longer sold","No longer sold","No longer sold","No longer sold","No longer sold","Neprodává se","No longer sold","No longer sold","Neprodává se","No longer sold","not translated yet","No longer sold","not translated yet","not translated yet","not translated yet","not translated yet","not translated yet",null,null,null,null,null,0,0,0,0,0,0,0,0,0,0,"Not done",0,"Not done","Not done","Not done","Not done","Not done"]
[0,"No longer sold",0,null,null,"NA","not available in this country",0,null,null,"not available in this country","not available in this country",0,null,null,0,"No longer sold",null,null,null,0,"No longer sold",0,null,null,"not available in this country","not available in this country",0,null,null,0,"No longer sold",0,null,null,"not available in this country","not available in this country",0,null,null,"not available in this country","not available in this country",0,null,null,0,"No longer sold",0,null,null,"Not done","not translated yet","Not done",null,null,"NA","not available in this country",0,null,"Not done","not translated yet","Not done",null,null,"Not done","not translated yet","Not done",null,null,"Not done","not translated yet","Not done",null,null,"Not done","not translated yet","Not done",null,null,"Not done","not translated yet","Not done",null,null,null,null,null,null,null,null,99,0,"NA","not available in this country",0,0,"not available in this country",0,"not available in this country","not available in this country",0,"Not done","NA","Not done","Not done","Not done","Not done","Not done",null,null,null,null,"No longer sold","not available in this country","not available in this country","No longer sold","No longer sold","not available in this country","No longer sold","not available in this country","not available in this country","No longer sold","not translated yet","not available in this country","not translated yet","not translated yet","not translated yet","not translated yet","not translated yet",null,null,null,null,null,0,0,0,0,0,0,0,0,0,0,"Not done",0,"Not done","Not done","Not done","Not done","Not done"]
[200109,"1-wire Temperaturfühler Set",40.98,null,null,200109,"Temperature Sensor Set 1-Wire",36.5,null,null,200109,"Temperature Sensor Set 1-Wire",56,null,null,200109,"Kit de sondes de tempréature 1-Wire",40.98,null,null,200109,"Set 5 sensores de Temperatura 1-Wire",40.98,null,null,200109,"1-Wire teplotní senzor set",1077.32,null,null,200109,"1-wire sensore temperatura set",40.98,null,null,200109,"1-wire Temperaturfühler Set",53.27,null,null,200109,"1-Wire teplotní senzor set",40.98,null,null,200109,"Temperatuur Sensor Set 1-Wire",40.98,null,null,"Not done","not translated yet","Not done",null,null,200109,"Hőmérséklet érzékelő szett 1-Wire",14900,null,"Not done","not translated yet","Not done",null,null,"Not done","not translated yet","Not done",null,null,"Not done","not translated yet","Not done",null,null,"Not done","not translated yet","Not done",null,null,"Not done","not translated yet","Not done",null,null,null,null,null,null,null,null,100,200109,200109,200109,200109,200109,200109,200109,200109,200109,200109,"Not done",200109,"Not done","Not done","Not done","Not done","Not done",null,null,null,null,"1-wire Temperaturfühler Set","Temperature Sensor Set 1-Wire","Temperature Sensor Set 1-Wire","Kit de sondes de tempréature 1-Wire","Set 5 sensores de Temperatura 1-Wire","1-Wire teplotní senzor set","1-wire sensore temperatura set","1-wire Temperaturfühler Set","1-Wire teplotní senzor set","Temperatuur Sensor Set 1-Wire","not translated yet","Hőmérséklet érzékelő szett 1-Wire","not translated yet","not translated yet","not translated yet","not translated yet","not translated yet",null,null,null,null,null,40.98,36.5,56,40.98,40.98,1077.32,40.98,53.27,40.98,40.98,"Not done",14900,"Not done","Not done","Not done","Not done","Not done"]
[200110,"Loxone 12-Kanal Verstärker",615.16999999999996,null,null,200110,"Loxone 12 Channel Amplifier",547.5,null,null,200110,"Loxone 12 Channel Amplifier",999,null,null,200110,"Amplificateur 12 canaux",615.16999999999996,null,null,200110,"Amplificador Loxone 12-Canales",615.16999999999996,null,null,200110,"Loxone 12ti kanálový zesilovač",16430.97,null,null,200110,"Loxone amplificatore 12 canali",615.16999999999996,null,null,200110,"Loxone 12-Kanal Verstärker",799.72,null,null,200110,"Loxone 12ti kanálový zesilovač",615.16999999999996,null,null,200110,"Loxone 12 Kanaal Versterker",615.16999999999996,null,null,"Not done","not translated yet","Not done",null,null,200110,"Loxone 12 csatornás erősítő",209900,null,"Not done","not translated yet","Not done",null,null,"Not done","not translated yet","Not done",null,null,"Not done","not translated yet","Not done",null,null,"Not done","not translated yet","Not done",null,null,"Not done","not translated yet","Not done",null,null,null,null,null,null,null,null,101,200110,200110,200110,200110,200110,200110,200110,200110,200110,200110,"Not done",200110,"Not done","Not done","Not done","Not done","Not done",null,null,null,null,"Loxone 12-Kanal Verstärker","Loxone 12 Channel Amplifier","Loxone 12 Channel Amplifier","Amplificateur 12 canaux","Amplificador Loxone 12-Canales","Loxone 12ti kanálový zesilovač","Loxone amplificatore 12 canali","Loxone 12-Kanal Verstärker","Loxone 12ti kanálový zesilovač","Loxone 12 Kanaal Versterker","not translated yet","Loxone 12 csatornás erősítő","not translated yet","not translated yet","not translated yet","not translated yet","not translated yet",null,null,null,null,null,615.16999999999996,547.5,999,615.16999999999996,615.16999999999996,16430.97,615.16999999999996,799.72,615.16999999999996,615.16999999999996,"Not done",209900,"Not done","Not done","Not done","Not done","Not done"]
[200112,"Bewegungsmelder 24V (Aussenbereich)",102.29,null,null,200112,"Outside Motion Sensor (24V)",92.5,null,null,200112,"Outside Motion Sensor (24V)",135,null,null,200112,"Détecteur de présence extérieur (24V)",102.29,null,null,200112,"Detector de presencia para exterior 24V",102.29,null,null,200112,"Senzor pohybu 24V (venkovní)",2566.4699999999998,null,null,200112,"Sensore movimento 24V",102.29,null,null,200112,"Bewegungsmelder 24V (Aussenbereich)",132.97999999999999,null,null,200112,"Senzor pohybu 24V (venkovní)",102.29,null,null,200112,"Buitenbewegingsmelder (24V)",102.29,null,null,"Not done","not translated yet","Not done",null,null,200112,"Kültéri mozgásérzékelő (24V)",34900,null,"Not done","not translated yet","Not done",null,null,"Not done","not translated yet","Not done",null,null,"Not done","not translated yet","Not done",null,null,"Not done","not translated yet","Not done",null,null,"Not done","not translated yet","Not done",null,null,null,null,null,null,null,null,102,200112,200112,200112,200112,200112,200112,200112,200112,200112,200112,"Not done",200112,"Not done","Not done","Not done","Not done","Not done",null,null,null,null,"Bewegungsmelder 24V (Aussenbereich)","Outside Motion Sensor (24V)","Outside Motion Sensor (24V)","Détecteur de présence extérieur (24V)","Detector de presencia para exterior 24V","Senzor pohybu 24V (venkovní)","Sensore movimento 24V","Bewegungsmelder 24V (Aussenbereich)","Senzor pohybu 24V (venkovní)","Buitenbewegingsmelder (24V)","not translated yet","Kültéri mozgásérzékelő (24V)","not translated yet","not translated yet","not translated yet","not translated yet","not translated yet",null,null,null,null,null,102.29,92.5,135,102.29,102.29,2566.4699999999998,102.29,132.97999999999999,102.29,102.29,"Not done",34900,"Not done","Not done","Not done","Not done","Not done"]
[200113,"Fensterkontakt Loxone",10.17,null,null,200113,"Window & Door Contact",9,null,null,200113,"Window & Door Contact",14,null,null,200113,"Contact d'ouverture porte / fenêtre",10.17,null,null,200113,"Contacto de ventana Loxone",10.17,null,null,200113,"Okenní kontakt",265.99,null,null,200113,"Contatto finestra Loxone",10.17,null,null,200113,"Fensterkontakt Loxone",13.22,null,null,200113,"Okenní kontakt",10.17,null,null,200113,"Raam- /Deurcontact",10.17,null,null,"Not done","not translated yet","Not done",null,null,200113,"Ablak és ajtónyitás érzékelő",4900,null,"Not done","not translated yet","Not done",null,null,"Not done","not translated yet","Not done",null,null,"Not done","not translated yet","Not done",null,null,"Not done","not translated yet","Not done",null,null,"Not done","not translated yet","Not done",null,null,null,null,null,null,null,null,103,200113,200113,200113,200113,200113,200113,200113,200113,200113,200113,"Not done",200113,"Not done","Not done","Not done","Not done","Not done",null,null,null,null,"Fensterkontakt Loxone","Window & Door Contact","Window & Door Contact","Contact d'ouverture porte / fenêtre","Contacto de ventana Loxone","Okenní kontakt","Contatto finestra Loxone","Fensterkontakt Loxone","Okenní kontakt","Raam- /Deurcontact","not translated yet","Ablak és ajtónyitás érzékelő","not translated yet","not translated yet","not translated yet","not translated yet","not translated yet",null,null,null,null,null,10.17,9,14,10.17,10.17,265.99,10.17,13.22,10.17,10.17,"Not done",4900,"Not done","Not done","Not done","Not done","Not done"]
[200129,"Loxone CAT7 Kabel (250 m)",177.16,null,null,200129,"Loxone Cat 7 Cable",155,null,null,200129,"Loxone Cat 7 Cable (820ft)",275,null,null,200129,"Câble Cat 7",177.16,null,null,200129,"Cable CAT7 Loxone (250 m)",177.16,null,null,200129,"Loxone Cat 7 kabel",4825.87,null,null,200129,"Loxone cavo CAT7 (250 m)",177.16,null,null,200129,"Loxone CAT7 Kabel (250 m)",230.3,null,null,200129,"Loxone Cat 7 kabel",177.16,null,null,200129,"Loxone Cat 7 Kabel",177.16,null,null,"Not done","not translated yet","Not done",null,null,200129,"Loxone Cat 7 Kábel",59900,null,"Not done","not translated yet","Not done",null,null,"Not done","not translated yet","Not done",null,null,"Not done","not translated yet","Not done",null,null,"Not done","not translated yet","Not done",null,null,"Not done","not translated yet","Not done",null,null,null,null,null,null,null,null,104,200129,200129,200129,200129,200129,200129,200129,200129,200129,200129,"Not done",200129,"Not done","Not done","Not done","Not done","Not done",null,null,null,null,"Loxone CAT7 Kabel (250 m)","Loxone Cat 7 Cable","Loxone Cat 7 Cable (820ft)","Câble Cat 7","Cable CAT7 Loxone (250 m)","Loxone Cat 7 kabel","Loxone cavo CAT7 (250 m)","Loxone CAT7 Kabel (250 m)","Loxone Cat 7 kabel","Loxone Cat 7 Kabel","not translated yet","Loxone Cat 7 Kábel","not translated yet","not translated yet","not translated yet","not translated yet","not translated yet",null,null,null,null,null,177.16,155,275,177.16,177.16,4825.87,177.16,230.3,177.16,177.16,"Not done",59900,"Not done","Not done","Not done","Not done","Not done"]
[0,"No longer sold",112.87,null,null,0,"not sold",95,null,null,"not available in this country","not available in this country",0,null,null,0,"No longer sold",112.87,null,null,200135,"Detector de presencia inalámbrico EnOcean",112.87,null,null,0,"Neprodává se",0,null,null,200135,"EnOcean sensore di movimento",112.87,null,null,0,"No longer sold","x",null,null,0,"Neprodává se",0,null,null,200135,"Enocean Bewegingsmelder",112.87,null,null,"Not done","not translated yet","Not done",null,null,0,"not sold",0,null,"Not done","not translated yet","Not done",null,null,"Not done","not translated yet","Not done",null,null,"Not done","not translated yet","Not done",null,null,"Not done","not translated yet","Not done",null,null,"Not done","not translated yet","Not done",null,null,null,null,null,null,null,null,105,0,0,"not available in this country",0,200135,0,200135,0,0,200135,"Not done",0,"Not done","Not done","Not done","Not done","Not done",null,null,null,null,"No longer sold","not sold","not available in this country","No longer sold","Detector de presencia inalámbrico EnOcean","Neprodává se","EnOcean sensore di movimento","No longer sold","Neprodává se","Enocean Bewegingsmelder","not translated yet","not sold","not translated yet","not translated yet","not translated yet","not translated yet","not translated yet",null,null,null,null,null,112.87,95,0,112.87,112.87,0,112.87,"x",0,112.87,"Not done",0,"Not done","Not done","Not done","Not done","Not done"]
[200136,"Temp-/Feuchtefühler Sauna",153.94999999999999,null,null,200136,"Temperature & Humidity Sensor For Saunas",137.5,null,null,200136,"Temperature & Humidity Sensor For Saunas",210,null,null,200136,"Sonde de Temp & Hum pour Sauna",153.94999999999999,null,null,200136,"Sensor de temperatura y humedad para Sauna",153.94999999999999,null,null,200136,"Saunový senzor teplota/vlhkost",4106.97,null,null,200136,"Sensore temperatura/umidità sauna",153.94999999999999,null,null,200136,"Temp-/Feuchtefühler Sauna",200.13,null,null,200136,"Saunový senzor teplota/vlhkost",153.94999999999999,null,null,200136,"Temperatuur- & Vochtigheidsvoeler Sauna",153.94999999999999,null,null,"Not done","not translated yet","Not done",null,null,200136,"Szauna hőmérséklet és páratartalom érzékelő",54900,null,"Not done","not translated yet","Not done",null,null,"Not done","not translated yet","Not done",null,null,"Not done","not translated yet","Not done",null,null,"Not done","not translated yet","Not done",null,null,"Not done","not translated yet","Not done",null,null,null,null,null,null,null,null,106,200136,200136,200136,200136,200136,200136,200136,200136,200136,200136,"Not done",200136,"Not done","Not done","Not done","Not done","Not done",null,null,null,null,"Temp-/Feuchtefühler Sauna","Temperature & Humidity Sensor For Saunas","Temperature & Humidity Sensor For Saunas","Sonde de Temp & Hum pour Sauna","Sensor de temperatura y humedad para Sauna","Saunový senzor teplota/vlhkost","Sensore temperatura/umidità sauna","Temp-/Feuchtefühler Sauna","Saunový senzor teplota/vlhkost","Temperatuur- & Vochtigheidsvoeler Sauna","not translated yet","Szauna hőmérséklet és páratartalom érzékelő","not translated yet","not translated yet","not translated yet","not translated yet","not translated yet",null,null,null,null,null,153.94999999999999,137.5,210,153.94999999999999,153.94999999999999,4106.97,153.94999999999999,200.13,153.94999999999999,153.94999999999999,"Not done",54900,"Not done","Not done","Not done","Not done","Not done"]
[0,"No longer sold",76.92,null,null,0,"not sold",65,null,null,"not available in this country","not available in this country",0,null,null,0,"No longer sold",76.92,null,null,200137,"Actuador inalámbrico EnOcean",76.92,null,null,0,"Neprodává se",0,null,null,200137,"EnOcean relè",76.92,null,null,0,"no longer sold",0,null,null,0,"Neprodává se",0,null,null,200137,"Enocean Relais",76.92,null,null,"Not done","not translated yet","Not done",null,null,0,"not sold",0,null,"Not done","not translated yet","Not done",null,null,"Not done","not translated yet","Not done",null,null,"Not done","not translated yet","Not done",null,null,"Not done","not translated yet","Not done",null,null,"Not done","not translated yet","Not done",null,null,null,null,null,null,null,null,107,0,0,"not available in this country",0,200137,0,200137,0,0,200137,"Not done",0,"Not done","Not done","Not done","Not done","Not done",null,null,null,null,"No longer sold","not sold","not available in this country","No longer sold","Actuador inalámbrico EnOcean","Neprodává se","EnOcean relè","no longer sold","Neprodává se","Enocean Relais","not translated yet","not sold","not translated yet","not translated yet","not translated yet","not translated yet","not translated yet",null,null,null,null,null,76.92,65,0,76.92,76.92,0,76.92,0,0,76.92,"Not done",0,"Not done","Not done","Not done","Not done","Not done"]
[200143,"Netzteil 24V, 0,4A",27.63,null,null,200143,"24V Power Supply (0.4A)",25,null,null,200143,"24V Power Supply (04A)",38,null,null,200143,"Alimentation 24V 0,4A",27.63,null,null,200143,"Fuente de alimentación 24V, 0,4A",27.63,null,null,200143,"Zdroj 24V, 0,4A",769.22,null,null,200143,"Alimentatore 24V 0,4A",27.63,null,null,200143,"Netzteil 24V, 0,4A",35.909999999999997,null,null,200143,"Zdroj 24V, 0,4A",27.63,null,null,200143,"24V Voeding (04A)",27.63,null,null,"Not done","not translated yet","Not done",null,null,200143,"24V Tápegység (0.4A)",9900,null,"Not done","not translated yet","Not done",null,null,"Not done","not translated yet","Not done",null,null,"Not done","not translated yet","Not done",null,null,"Not done","not translated yet","Not done",null,null,"Not done","not translated yet","Not done",null,null,null,null,null,null,null,null,108,200143,200143,200143,200143,200143,200143,200143,200143,200143,200143,"Not done",200143,"Not done","Not done","Not done","Not done","Not done",null,null,null,null,"Netzteil 24V, 0,4A","24V Power Supply (0.4A)","24V Power Supply (04A)","Alimentation 24V 0,4A","Fuente de alimentación 24V, 0,4A","Zdroj 24V, 0,4A","Alimentatore 24V 0,4A","Netzteil 24V, 0,4A","Zdroj 24V, 0,4A","24V Voeding (04A)","not translated yet","24V Tápegység (0.4A)","not translated yet","not translated yet","not translated yet","not translated yet","not translated yet",null,null,null,null,null,27.63,25,38,27.63,27.63,769.22,27.63,35.909999999999997,27.63,27.63,"Not done",9900,"Not done","Not done","Not done","Not done","Not done"]
[200150,"Loxone Speaker Einbaubox",44.06,null,null,200150,"Loxone Speaker Back Box",40,null,null,200150,"Loxone Speaker Back Box",60,null,null,200150,"Loxone Speaker Back Box",44.06,null,null,200150,"Caja para empotrar Loxone Speaker",44.06,null,null,200150,"Instalační box pro Loxone reproduktor (speaker)",1231.3699999999999,null,null,200150,"Loxone Speaker box incasso",44.06,null,null,200150,"Loxone Speaker Einbaubox",57.28,null,null,200150,"Instalační box pro Loxone reproduktor (speaker)",44.06,null,null,200150,"Inbouwdoos Loxone Speaker",44.06,null,null,"Not done","not translated yet","Not done",null,null,200150,"Loxone hangszóró beépítődoboz",14900,null,"Not done","not translated yet","Not done",null,null,"Not done","not translated yet","Not done",null,null,"Not done","not translated yet","Not done",null,null,"Not done","not translated yet","Not done",null,null,"Not done","not translated yet","Not done",null,null,null,null,null,null,null,null,109,200150,200150,200150,200150,200150,200150,200150,200150,200150,200150,"Not done",200150,"Not done","Not done","Not done","Not done","Not done",null,null,null,null,"Loxone Speaker Einbaubox","Loxone Speaker Back Box","Loxone Speaker Back Box","Loxone Speaker Back Box","Caja para empotrar Loxone Speaker","Instalační box pro Loxone reproduktor (speaker)","Loxone Speaker box incasso","Loxone Speaker Einbaubox","Instalační box pro Loxone reproduktor (speaker)","Inbouwdoos Loxone Speaker","not translated yet","Loxone hangszóró beépítődoboz","not translated yet","not translated yet","not translated yet","not translated yet","not translated yet",null,null,null,null,null,44.06,40,60,44.06,44.06,1231.3699999999999,44.06,57.28,44.06,44.06,"Not done",14900,"Not done","Not done","Not done","Not done","Not done"]
[200151,"SMA Stabantenne 4dBi 868 MHz",21.31,null,null,200151,"SMA Antenna 4dBi 868 MHz",19,null,null,200151,"SMA Antenna 4dBi 868 MHz",29.9,null,null,200151,"Antenne SMA 4dBi 868 MHz",21.31,null,null,200151,"Antena de varilla SMA 4dBi 868 MHz",21.31,null,null,200151,"SMA Anténa 4dBi 868 MHz",594.63,null,null,200151,"SMA antenna 4dBi 868 MHz",21.31,null,null,200151,"SMA Stabantenne 4dBi 868 MHz",27.7,null,null,200151,"SMA Anténa 4dBi 868 MHz",21.31,null,null,200151,"SMA Antenne 4dBi 868 MHz",21.31,null,null,"Not done","not translated yet","Not done",null,null,200151,"SMA Antenna 4dBi 868 MHz",6900,null,"Not done","not translated yet","Not done",null,null,"Not done","not translated yet","Not done",null,null,"Not done","not translated yet","Not done",null,null,"Not done","not translated yet","Not done",null,null,"Not done","not translated yet","Not done",null,null,null,null,null,null,null,null,110,200151,200151,200151,200151,200151,200151,200151,200151,200151,200151,"Not done",200151,"Not done","Not done","Not done","Not done","Not done",null,null,null,null,"SMA Stabantenne 4dBi 868 MHz","SMA Antenna 4dBi 868 MHz","SMA Antenna 4dBi 868 MHz","Antenne SMA 4dBi 868 MHz","Antena de varilla SMA 4dBi 868 MHz","SMA Anténa 4dBi 868 MHz","SMA antenna 4dBi 868 MHz","SMA Stabantenne 4dBi 868 MHz","SMA Anténa 4dBi 868 MHz","SMA Antenne 4dBi 868 MHz","not translated yet","SMA Antenna 4dBi 868 MHz","not translated yet","not translated yet","not translated yet","not translated yet","not translated yet",null,null,null,null,null,21.31,19,29.9,21.31,21.31,594.63,21.31,27.7,21.31,21.31,"Not done",6900,"Not done","Not done","Not done","Not done","Not done"]
[200153,"Loxone Wall Speaker",112.97,null,null,200153,"Loxone Wall Speaker",100,null,null,200153,"Loxone Wall Speaker",149,null,null,200153,"Loxone Wall Speaker",112.97,null,null,200153,"Loxone Wall Speaker",112.97,null,null,200153,"Loxone Wall Speaker",3182.67,null,null,200153,"Loxone Wall Speaker",112.97,null,null,200153,"Loxone Wall Speaker",146.86000000000001,null,null,200153,"Loxone Wall Speaker",112.97,null,null,200153,"Loxone Wall Speaker",112.97,null,null,"Not done","not translated yet","Not done",null,null,200153,"Loxone fali hangszóró",39900,null,"Not done","not translated yet","Not done",null,null,"Not done","not translated yet","Not done",null,null,"Not done","not translated yet","Not done",null,null,"Not done","not translated yet","Not done",null,null,"Not done","not translated yet","Not done",null,null,null,null,null,null,null,null,111,200153,200153,200153,200153,200153,200153,200153,200153,200153,200153,"Not done",200153,"Not done","Not done","Not done","Not done","Not done",null,null,null,null,"Loxone Wall Speaker","Loxone Wall Speaker","Loxone Wall Speaker","Loxone Wall Speaker","Loxone Wall Speaker","Loxone Wall Speaker","Loxone Wall Speaker","Loxone Wall Speaker","Loxone Wall Speaker","Loxone Wall Speaker","not translated yet","Loxone fali hangszóró","not translated yet","not translated yet","not translated yet","not translated yet","not translated yet",null,null,null,null,null,112.97,100,149,112.97,112.97,3182.67,112.97,146.86000000000001,112.97,112.97,"Not done",39900,"Not done","Not done","Not done","Not done","Not done"]
[200154,"Drucksensor 0-10V",107.73,null,null,200154,"Pressure Sensor 0-10V",95,null,null,200154,"Pressure Sensor 0-10V",147,null,null,200154,"Sonde de pression 0-10V",107.73,null,null,200154,"Sensor de presión 0-10V",107.73,null,null,200154,"Senzor tlaku 0-10V",2925.92,null,null,200154,"Sensore pressione 0-10V",107.73,null,null,200154,"Drucksensor 0-10V",140.05000000000001,null,null,200154,"Senzor tlaku 0-10V",107.73,null,null,200154,"Druksensor 0-10V",107.73,null,null,"Not done","not translated yet","Not done",null,null,200154,"Nyomásérzékelő 0-10V",37900,null,"Not done","not translated yet","Not done",null,null,"Not done","not translated yet","Not done",null,null,"Not done","not translated yet","Not done",null,null,"Not done","not translated yet","Not done",null,null,"Not done","not translated yet","Not done",null,null,null,null,null,null,null,null,112,200154,200154,200154,200154,200154,200154,200154,200154,200154,200154,"Not done",200154,"Not done","Not done","Not done","Not done","Not done",null,null,null,null,"Drucksensor 0-10V","Pressure Sensor 0-10V","Pressure Sensor 0-10V","Sonde de pression 0-10V","Sensor de presión 0-10V","Senzor tlaku 0-10V","Sensore pressione 0-10V","Drucksensor 0-10V","Senzor tlaku 0-10V","Druksensor 0-10V","not translated yet","Nyomásérzékelő 0-10V","not translated yet","not translated yet","not translated yet","not translated yet","not translated yet",null,null,null,null,null,107.73,95,147,107.73,107.73,2925.92,107.73,140.05000000000001,107.73,107.73,"Not done",37900,"Not done","Not done","Not done","Not done","Not done"]
[200155,"Glasbruchmelder 24V",25.57,null,null,200155,"Glass Break Sensor 24V",22.75,null,null,200155,"Glass Break Sensor 24V",35,null,null,200155,"Détecteur bris de glace 24V",25.57,null,null,200155,"Detector de rotura de cristal 24V",25.57,null,null,200155,"Senzor rozbití okna 24V",717.87,null,null,200155,"Sensore rottura vetro 24V",25.57,null,null,200155,"Glasbruchmelder 24V",33.24,null,null,200155,"Senzor rozbití okna 24V",25.57,null,null,200155,"Glasbreuksensor 24V",25.57,null,null,"Not done","not translated yet","Not done",null,null,200155,"Üvegtörés érzékelő 24V",8900,null,"Not done","not translated yet","Not done",null,null,"Not done","not translated yet","Not done",null,null,"Not done","not translated yet","Not done",null,null,"Not done","not translated yet","Not done",null,null,"Not done","not translated yet","Not done",null,null,null,null,null,null,null,null,113,200155,200155,200155,200155,200155,200155,200155,200155,200155,200155,"Not done",200155,"Not done","Not done","Not done","Not done","Not done",null,null,null,null,"Glasbruchmelder 24V","Glass Break Sensor 24V","Glass Break Sensor 24V","Détecteur bris de glace 24V","Detector de rotura de cristal 24V","Senzor rozbití okna 24V","Sensore rottura vetro 24V","Glasbruchmelder 24V","Senzor rozbití okna 24V","Glasbreuksensor 24V","not translated yet","Üvegtörés érzékelő 24V","not translated yet","not translated yet","not translated yet","not translated yet","not translated yet",null,null,null,null,null,25.57,22.75,35,25.57,25.57,717.87,25.57,33.24,25.57,25.57,"Not done",8900,"Not done","Not done","Not done","Not done","Not done"]
[200156,"Modbus Energiezähler 1-phasig",142.75,null,null,200156,"Modbus Electricity Meter (Single Phase)",127.5,null,null,"not available in this country","not available in this country",0,null,null,200156,"Compteur d'énergie Modbus monophasé",142.75,null,null,200156,"Contador de energía Modbus monofásico",142.75,null,null,200156,"1-fázový elektroměr (Modbus)",3901.57,null,null,200156,"Modbus contatore energia 1-fase",142.75,null,null,200156,"Modbus Energiezähler 1-phasig",185.58,null,null,200156,"1-fázový elektroměr (Modbus)",142.75,null,null,200156,"Modbus energieteller 1-fasig",142.75,null,null,"Not done","not translated yet","Not done",null,null,200156,"Loxone fogyasztásmérő 1fázisú",49900,null,"Not done","not translated yet","Not done",null,null,"Not done","not translated yet","Not done",null,null,"Not done","not translated yet","Not done",null,null,"Not done","not translated yet","Not done",null,null,"Not done","not translated yet","Not done",null,null,null,null,null,null,null,null,114,200156,200156,"not available in this country",200156,200156,200156,200156,200156,200156,200156,"Not done",200156,"Not done","Not done","Not done","Not done","Not done",null,null,null,null,"Modbus Energiezähler 1-phasig","Modbus Electricity Meter (Single Phase)","not available in this country","Compteur d'énergie Modbus monophasé","Contador de energía Modbus monofásico","1-fázový elektroměr (Modbus)","Modbus contatore energia 1-fase","Modbus Energiezähler 1-phasig","1-fázový elektroměr (Modbus)","Modbus energieteller 1-fasig","not translated yet","Loxone fogyasztásmérő 1fázisú","not translated yet","not translated yet","not translated yet","not translated yet","not translated yet",null,null,null,null,null,142.75,127.5,0,142.75,142.75,3901.57,142.75,185.58,142.75,142.75,"Not done",49900,"Not done","Not done","Not done","Not done","Not done"]
[200157,"Modbus Energiezähler 3-phasig",255.72,null,null,200157,"Modbus Electricity Meter (Three Phase)",227.5,null,null,"not available in this country","not available in this country",0,null,null,200157,"Compteur d'énergie Modbus triphasé",255.72,null,null,200157,"Contador de energía Modbus trifásico",255.72,null,null,200157,"3-fázový elektroměr (Modbus)",6982.57,null,null,200157,"Modbus contatore energia 3-fasi",255.72,null,null,200157,"Modbus Energiezähler 3-phasig",332.44,null,null,200157,"3-fázový elektroměr (Modbus)",255.72,null,null,200157,"Modbus energieteller 3-fasig",255.72,null,null,"Not done","not translated yet","Not done",null,null,200157,"Loxone fogyasztásmérő 3fázisú",89900,null,"Not done","not translated yet","Not done",null,null,"Not done","not translated yet","Not done",null,null,"Not done","not translated yet","Not done",null,null,"Not done","not translated yet","Not done",null,null,"Not done","not translated yet","Not done",null,null,null,null,null,null,null,null,115,200157,200157,"not available in this country",200157,200157,200157,200157,200157,200157,200157,"Not done",200157,"Not done","Not done","Not done","Not done","Not done",null,null,null,null,"Modbus Energiezähler 3-phasig","Modbus Electricity Meter (Three Phase)","not available in this country","Compteur d'énergie Modbus triphasé","Contador de energía Modbus trifásico","3-fázový elektroměr (Modbus)","Modbus contatore energia 3-fasi","Modbus Energiezähler 3-phasig","3-fázový elektroměr (Modbus)","Modbus energieteller 3-fasig","not translated yet","Loxone fogyasztásmérő 3fázisú","not translated yet","not translated yet","not translated yet","not translated yet","not translated yet",null,null,null,null,null,255.72,227.5,0,255.72,255.72,6982.57,255.72,332.44,255.72,255.72,"Not done",89900,"Not done","Not done","Not done","Not done","Not done"]
[200158,"Baustellenschild",null,null,null,"NA","not available in this country",0,null,null,"not available in this country","not available in this country",0,null,null,"not available in this country","not available in this country",null,null,null,"not available in this country","not available in this country",null,"NO AVAIABLE IN LOXONE SHOP ES",null,"not available in this country","not available in this country",0,null,null,200158,"Espositore cantiere",null,null,null,200158,"Baustellenschild",160.21,null,null,"not available in this country","not available in this country",null,null,null,200158,"Bouwborden",null,null,null,"Not done","not translated yet","Not done",null,null,"NA","not available in this country",0,null,"Not done","not translated yet","Not done",null,null,"Not done","not translated yet","Not done",null,null,"Not done","not translated yet","Not done",null,null,"Not done","not translated yet","Not done",null,null,"Not done","not translated yet","Not done",null,null,null,null,null,null,null,null,116,200158,"NA","not available in this country","not available in this country","not available in this country","not available in this country",200158,200158,"not available in this country",200158,"Not done","NA","Not done","Not done","Not done","Not done","Not done",null,null,null,null,"Baustellenschild","not available in this country","not available in this country","not available in this country","not available in this country","not available in this country","Espositore cantiere","Baustellenschild","not available in this country","Bouwborden","not translated yet","not available in this country","not translated yet","not translated yet","not translated yet","not translated yet","not translated yet",null,null,null,null,null,0,0,0,0,0,0,0,160.21,0,0,"Not done",0,"Not done","Not done","Not done","Not done","Not done"]
[200168,"Potenzialverteiler PPV8 (20 Stk)",200.27,null,null,200168,"Push In Terminal Block 8x4 Interconnected (20 pcs)",178,null,null,200168,"Push In Terminal Block 8x4 Interconnected (20 pcs)",274,null,null,200168,"Bornier 8x4 interconnectés (20 pcs)",200.27,null,null,200168,"Borne para distribuidor de potencial 8x4 PPV8",200.27,null,null,200168,"Svorka na DIN lištu PPV8 (20 kusů)",5647.47,null,null,200168,"Ripartitori di potenziale PPV8 (20pz)",200.27,null,null,200168,"Potenzialverteiler PPV8 (20 Stk)",260.33999999999997,null,null,200168,"Svorka na DIN lištu PPV8 (20 kusů)",200.27,null,null,200168,"Potentieel verdeler PPV8 (20 stuks)",200.27,null,null,"Not done","not translated yet","Not done",null,null,"NA","not available in this country",0,null,"Not done","not translated yet","Not done",null,null,"Not done","not translated yet","Not done",null,null,"Not done","not translated yet","Not done",null,null,"Not done","not translated yet","Not done",null,null,"Not done","not translated yet","Not done",null,null,null,null,null,null,null,null,117,200168,200168,200168,200168,200168,200168,200168,200168,200168,200168,"Not done","NA","Not done","Not done","Not done","Not done","Not done",null,null,null,null,"Potenzialverteiler PPV8 (20 Stk)","Push In Terminal Block 8x4 Interconnected (20 pcs)","Push In Terminal Block 8x4 Interconnected (20 pcs)","Bornier 8x4 interconnectés (20 pcs)","Borne para distribuidor de potencial 8x4 PPV8","Svorka na DIN lištu PPV8 (20 kusů)","Ripartitori di potenziale PPV8 (20pz)","Potenzialverteiler PPV8 (20 Stk)","Svorka na DIN lištu PPV8 (20 kusů)","Potentieel verdeler PPV8 (20 stuks)","not translated yet","not available in this country","not translated yet","not translated yet","not translated yet","not translated yet","not translated yet",null,null,null,null,null,200.27,178,274,200.27,200.27,5647.47,200.27,260.33999999999997,200.27,200.27,"Not done",0,"Not done","Not done","Not done","Not done","Not done"]
[200169,"Rangierverteiler PRV8 (20 Stk)",190,null,null,200169,"Push In Terminal Block 8x4 Seperated (20pcs)",169,null,null,200169,"Push In Terminal Block 8x4 Seperated (20pcs)",260,null,null,200169,"Bornier 8x4 Séparés (20pcs)",190,null,null,200169,"Borne para distribuidor de señales 8x4 PRV8",190,null,null,200169,"Propojovací rozvaděč PRV8 (20 kusů)",5339.37,null,null,200169,"Ripartitori di derivazione PRV8 (20pz)",190,null,null,200169,"Rangierverteiler PRV8 (20 Stk)",246.99,null,null,200169,"Propojovací rozvaděč PRV8 (20 kusů)",190,null,null,200169,"Patch verdeler PRV8 (20 stuks)",190,null,null,"Not done","not translated yet","Not done",null,null,"NA","not available in this country",0,null,"Not done","not translated yet","Not done",null,null,"Not done","not translated yet","Not done",null,null,"Not done","not translated yet","Not done",null,null,"Not done","not translated yet","Not done",null,null,"Not done","not translated yet","Not done",null,null,null,null,null,null,null,null,118,200169,200169,200169,200169,200169,200169,200169,200169,200169,200169,"Not done","NA","Not done","Not done","Not done","Not done","Not done",null,null,null,null,"Rangierverteiler PRV8 (20 Stk)","Push In Terminal Block 8x4 Seperated (20pcs)","Push In Terminal Block 8x4 Seperated (20pcs)","Bornier 8x4 Séparés (20pcs)","Borne para distribuidor de señales 8x4 PRV8","Propojovací rozvaděč PRV8 (20 kusů)","Ripartitori di derivazione PRV8 (20pz)","Rangierverteiler PRV8 (20 Stk)","Propojovací rozvaděč PRV8 (20 kusů)","Patch verdeler PRV8 (20 stuks)","not translated yet","not available in this country","not translated yet","not translated yet","not translated yet","not translated yet","not translated yet",null,null,null,null,null,190,169,260,190,190,5339.37,190,246.99,190,190,"Not done",0,"Not done","Not done","Not done","Not done","Not done"]
[200170,"Trennwand P-Reihe",10.27,null,null,200170,"Partition for 8x4 Terminals (10pcs)",9,null,null,200170,"Partition for 8x4 Terminals (10pcs)",14,null,null,200170,"Séparation pour bornier (10pcs)",10.27,null,null,200170,"Separador para bornes",10.27,null,null,200170,"Předělovací deska PRV8 (10 kusů)",307.07,null,null,200170,"Piastra di separazione P-serie (10pz)",10.27,null,null,200170,"Trennwand P-Reihe",13.35,null,null,200170,"Předělovací deska PRV8 (10 kusů)",10.27,null,null,200170,"Scheidingsplaat P-serie (10 stuks)",10.27,null,null,"Not done","not translated yet","Not done",null,null,"NA","not available in this country",0,null,"Not done","not translated yet","Not done",null,null,"Not done","not translated yet","Not done",null,null,"Not done","not translated yet","Not done",null,null,"Not done","not translated yet","Not done",null,null,"Not done","not translated yet","Not done",null,null,null,null,null,null,null,null,119,200170,200170,200170,200170,200170,200170,200170,200170,200170,200170,"Not done","NA","Not done","Not done","Not done","Not done","Not done",null,null,null,null,"Trennwand P-Reihe","Partition for 8x4 Terminals (10pcs)","Partition for 8x4 Terminals (10pcs)","Séparation pour bornier (10pcs)","Separador para bornes","Předělovací deska PRV8 (10 kusů)","Piastra di separazione P-serie (10pz)","Trennwand P-Reihe","Předělovací deska PRV8 (10 kusů)","Scheidingsplaat P-serie (10 stuks)","not translated yet","not available in this country","not translated yet","not translated yet","not translated yet","not translated yet","not translated yet",null,null,null,null,null,10.27,9,14,10.27,10.27,307.07,10.27,13.35,10.27,10.27,"Not done",0,"Not done","Not done","Not done","Not done","Not done"]
[200171,"Bezeichnungsträger P-Reihe",25.68,null,null,200171,"Label Holder 8 Levels (20 pcs)",23,null,null,200171,"Label Holder 8 Levels (20 pcs)",35,null,null,200171,"Porte étiquette (8 niveaux) (20 pcs)",25.68,null,null,200171,"Soporte de señalización para bornes (8 pisos)",25.68,null,null,200171,"Držák na značky pro PPV8/PRV8 (20 kusů)",717.87,null,null,200171,"Supporto per siglatura P-serie (20pz)",25.68,null,null,200171,"Bezeichnungsträger P-Reihe",33.380000000000003,null,null,200171,"Držák na značky pro PPV8/PRV8 (20 kusů)",25.68,null,null,200171,"Markering houder P-serie (20 stuks)",25.68,null,null,"Not done","not translated yet","Not done",null,null,"NA","not available in this country",0,null,"Not done","not translated yet","Not done",null,null,"Not done","not translated yet","Not done",null,null,"Not done","not translated yet","Not done",null,null,"Not done","not translated yet","Not done",null,null,"Not done","not translated yet","Not done",null,null,null,null,null,null,null,null,120,200171,200171,200171,200171,200171,200171,200171,200171,200171,200171,"Not done","NA","Not done","Not done","Not done","Not done","Not done",null,null,null,null,"Bezeichnungsträger P-Reihe","Label Holder 8 Levels (20 pcs)","Label Holder 8 Levels (20 pcs)","Porte étiquette (8 niveaux) (20 pcs)","Soporte de señalización para bornes (8 pisos)","Držák na značky pro PPV8/PRV8 (20 kusů)","Supporto per siglatura P-serie (20pz)","Bezeichnungsträger P-Reihe","Držák na značky pro PPV8/PRV8 (20 kusů)","Markering houder P-serie (20 stuks)","not translated yet","not available in this country","not translated yet","not translated yet","not translated yet","not translated yet","not translated yet",null,null,null,null,null,25.68,23,35,25.68,25.68,717.87,25.68,33.380000000000003,25.68,25.68,"Not done",0,"Not done","Not done","Not done","Not done","Not done"]
[200172,"Abschlussplatte P-Reihe",5.14,null,null,200172,"End Plate for 8x4 Terminals (10 pcs)",4.5,null,null,200172,"End Plate for 8x4 Terminals (10 pcs)",7,null,null,200172,"Plaque de fin pour bornier 8x4 (10 pcs)",5.14,null,null,200172,"Tapa final para borne 8x4",5.14,null,null,200172,"Bočnice pro PPV8/PRV8 (10 kusů)",142.75,null,null,200172,"Piastra terminale P-serie (10pz)",5.14,null,null,200172,"Abschlussplatte P-Reihe",6.68,null,null,200172,"Bočnice pro PPV8/PRV8 (10 kusů)",5.14,null,null,200172,"Afsluitplaat P-serie (10 stuks)",5.14,null,null,"Not done","not translated yet","Not done",null,null,"NA","not available in this country",0,null,"Not done","not translated yet","Not done",null,null,"Not done","not translated yet","Not done",null,null,"Not done","not translated yet","Not done",null,null,"Not done","not translated yet","Not done",null,null,"Not done","not translated yet","Not done",null,null,null,null,null,null,null,null,121,200172,200172,200172,200172,200172,200172,200172,200172,200172,200172,"Not done","NA","Not done","Not done","Not done","Not done","Not done",null,null,null,null,"Abschlussplatte P-Reihe","End Plate for 8x4 Terminals (10 pcs)","End Plate for 8x4 Terminals (10 pcs)","Plaque de fin pour bornier 8x4 (10 pcs)","Tapa final para borne 8x4","Bočnice pro PPV8/PRV8 (10 kusů)","Piastra terminale P-serie (10pz)","Abschlussplatte P-Reihe","Bočnice pro PPV8/PRV8 (10 kusů)","Afsluitplaat P-serie (10 stuks)","not translated yet","not available in this country","not translated yet","not translated yet","not translated yet","not translated yet","not translated yet",null,null,null,null,null,5.14,4.5,7,5.14,5.14,142.75,5.14,6.68,5.14,5.14,"Not done",0,"Not done","Not done","Not done","Not done","Not done"]
[200173,"Jalousie Anschlussklemme PMAK4",195.13,null,null,200173,"Push In Terminal Block 3+Earth (50 pcs)",174,null,null,200173,"Push In Terminal Block 3+Earth (50 pcs)",267,null,null,200173,"Bornier 3 + terre PMAK4 (50 pcs)",195.13,null,null,200173,"Borne de 3 + tierra PMAK4",195.13,null,null,200173,"Svorka pro připojení motoru PMAK4 (50 kusů)",5442.07,null,null,200173,"Morsetto componibile colleg motore PMAK4 (50pz)",195.13,null,null,200173,"Jalousie Anschlussklemme PMAK4",253.67,null,null,200173,"Svorka pro připojení motoru PMAK4 (50 kusů)",195.13,null,null,200173,"motor aansluitklem PMAK4 (50 stuks)",195.13,null,null,"Not done","not translated yet","Not done",null,null,"NA","not available in this country",0,null,"Not done","not translated yet","Not done",null,null,"Not done","not translated yet","Not done",null,null,"Not done","not translated yet","Not done",null,null,"Not done","not translated yet","Not done",null,null,"Not done","not translated yet","Not done",null,null,null,null,null,null,null,null,122,200173,200173,200173,200173,200173,200173,200173,200173,200173,200173,"Not done","NA","Not done","Not done","Not done","Not done","Not done",null,null,null,null,"Jalousie Anschlussklemme PMAK4","Push In Terminal Block 3+Earth (50 pcs)","Push In Terminal Block 3+Earth (50 pcs)","Bornier 3 + terre PMAK4 (50 pcs)","Borne de 3 + tierra PMAK4","Svorka pro připojení motoru PMAK4 (50 kusů)","Morsetto componibile colleg motore PMAK4 (50pz)","Jalousie Anschlussklemme PMAK4","Svorka pro připojení motoru PMAK4 (50 kusů)","motor aansluitklem PMAK4 (50 stuks)","not translated yet","not available in this country","not translated yet","not translated yet","not translated yet","not translated yet","not translated yet",null,null,null,null,null,195.13,174,267,195.13,195.13,5442.07,195.13,253.67,195.13,195.13,"Not done",0,"Not done","Not done","Not done","Not done","Not done"]
[200174,"Abschlussplatte PMAK4",10.27,null,null,200174,"End Plate for 3+Earth Terminals (20 pcs)",9,null,null,200174,"End Plate for 3+Earth Terminals (20 pcs)",14,null,null,200174,"Plaque de fin pour bornier 3 + terre PMAK4 (20 pcs)",10.27,null,null,200174,"Tapa final para borne de 3 + tierra PMAK4",10.27,null,null,200174,"Bočnice pro PMAK4 (20 kusů)",286.52999999999997,null,null,200174,"Piastra terminale PMAK4 (20pz)",10.27,null,null,200174,"Abschlussplatte PMAK4",13.35,null,null,200174,"Bočnice pro PMAK4 (20 kusů)",10.27,null,null,200174,"Afsluitplaat PMAK4 (20 stuks)",10.27,null,null,"Not done","not translated yet","Not done",null,null,"NA","not available in this country",0,null,"Not done","not translated yet","Not done",null,null,"Not done","not translated yet","Not done",null,null,"Not done","not translated yet","Not done",null,null,"Not done","not translated yet","Not done",null,null,"Not done","not translated yet","Not done",null,null,null,null,null,null,null,null,123,200174,200174,200174,200174,200174,200174,200174,200174,200174,200174,"Not done","NA","Not done","Not done","Not done","Not done","Not done",null,null,null,null,"Abschlussplatte PMAK4","End Plate for 3+Earth Terminals (20 pcs)","End Plate for 3+Earth Terminals (20 pcs)","Plaque de fin pour bornier 3 + terre PMAK4 (20 pcs)","Tapa final para borne de 3 + tierra PMAK4","Bočnice pro PMAK4 (20 kusů)","Piastra terminale PMAK4 (20pz)","Abschlussplatte PMAK4","Bočnice pro PMAK4 (20 kusů)","Afsluitplaat PMAK4 (20 stuks)","not translated yet","not available in this country","not translated yet","not translated yet","not translated yet","not translated yet","not translated yet",null,null,null,null,null,10.27,9,14,10.27,10.27,286.52999999999997,10.27,13.35,10.27,10.27,"Not done",0,"Not done","Not done","Not done","Not done","Not done"]
[200175,"Installations-Reihenklemme PDL",102.7,null,null,200175,"Push In Terminal Block Twin+Earth (50 pcs)",92.5,null,null,200175,"Push In Terminal Block Twin+Earth (50 pcs)",141.5,null,null,200175,"Bornier 2 + Terre PDL (50 pcs)",102.7,null,null,200175,"Borne de 2 + tierra PDL",102.7,null,null,200175,"Svorkovnice PDL (50 kusů)",2874.57,null,null,200175,"Morsetto per installazione ai piani PDL (50pz)",102.7,null,null,200175,"Installations-Reihenklemme PDL",133.51,null,null,200175,"Svorkovnice PDL (50 kusů)",102.7,null,null,200175,"Installatie klem PDL",102.7,null,null,"Not done","not translated yet","Not done",null,null,"NA","not available in this country",0,null,"Not done","not translated yet","Not done",null,null,"Not done","not translated yet","Not done",null,null,"Not done","not translated yet","Not done",null,null,"Not done","not translated yet","Not done",null,null,"Not done","not translated yet","Not done",null,null,null,null,null,null,null,null,124,200175,200175,200175,200175,200175,200175,200175,200175,200175,200175,"Not done","NA","Not done","Not done","Not done","Not done","Not done",null,null,null,null,"Installations-Reihenklemme PDL","Push In Terminal Block Twin+Earth (50 pcs)","Push In Terminal Block Twin+Earth (50 pcs)","Bornier 2 + Terre PDL (50 pcs)","Borne de 2 + tierra PDL","Svorkovnice PDL (50 kusů)","Morsetto per installazione ai piani PDL (50pz)","Installations-Reihenklemme PDL","Svorkovnice PDL (50 kusů)","Installatie klem PDL","not translated yet","not available in this country","not translated yet","not translated yet","not translated yet","not translated yet","not translated yet",null,null,null,null,null,102.7,92.5,141.5,102.7,102.7,2874.57,102.7,133.51,102.7,102.7,"Not done",0,"Not done","Not done","Not done","Not done","Not done"]
[200176,"Abschlussplatte PDL",7.19,null,null,200176,"End Plate for Twin+Earth Terminals (20 pcs)",6.5,null,null,200176,"End Plate for Twin+Earth Terminals (20 pcs)",10,null,null,200176,"Plaque de fin pour bornier 2 + terre PDL (20 pcs)",7.19,null,null,200176,"Tapa final para borne de 2 + tierra PDL",7.19,null,null,200176,"Bočnice pro PDL (20 kusů)",204.37,null,null,200176,"Piastra terminale PDL (20pz)",7.19,null,null,200176,"Abschlussplatte PDL",9.35,null,null,200176,"Bočnice pro PDL (20 kusů)",7.19,null,null,200176,"Afsluitplaat PDL (20 stuks)",7.19,null,null,"Not done","not translated yet","Not done",null,null,"NA","not available in this country",0,null,"Not done","not translated yet","Not done",null,null,"Not done","not translated yet","Not done",null,null,"Not done","not translated yet","Not done",null,null,"Not done","not translated yet","Not done",null,null,"Not done","not translated yet","Not done",null,null,null,null,null,null,null,null,125,200176,200176,200176,200176,200176,200176,200176,200176,200176,200176,"Not done","NA","Not done","Not done","Not done","Not done","Not done",null,null,null,null,"Abschlussplatte PDL","End Plate for Twin+Earth Terminals (20 pcs)","End Plate for Twin+Earth Terminals (20 pcs)","Plaque de fin pour bornier 2 + terre PDL (20 pcs)","Tapa final para borne de 2 + tierra PDL","Bočnice pro PDL (20 kusů)","Piastra terminale PDL (20pz)","Abschlussplatte PDL","Bočnice pro PDL (20 kusů)","Afsluitplaat PDL (20 stuks)","not translated yet","not available in this country","not translated yet","not translated yet","not translated yet","not translated yet","not translated yet",null,null,null,null,null,7.19,6.5,10,7.19,7.19,204.37,7.19,9.35,7.19,7.19,"Not done",0,"Not done","Not done","Not done","Not done","Not done"]
[200177,"Endwinkel ZEW 35",7.19,null,null,200177,"End Bracket (20 pcs)",6.5,null,null,200177,"End Bracket (20 pcs)",10,null,null,200177,"Délimitateur de rail Din (20 pcs)",7.19,null,null,200177,"Ángulo de fijación lateral ZEW 35",7.19,null,null,200177,"Koncová podpěra svorkovnice ZEW 35 (20 kusů)",204.37,null,null,200177,"Terminale di fissaggio ZEW 35 (20pz)",7.19,null,null,200177,"Endwinkel ZEW 35",9.35,null,null,200177,"Koncová podpěra svorkovnice ZEW 35 (20 kusů)",7.19,null,null,200177,"Eind klem ZEW (20 stuks)",7.19,null,null,"Not done","not translated yet","Not done",null,null,"NA","not available in this country",0,null,"Not done","not translated yet","Not done",null,null,"Not done","not translated yet","Not done",null,null,"Not done","not translated yet","Not done",null,null,"Not done","not translated yet","Not done",null,null,"Not done","not translated yet","Not done",null,null,null,null,null,null,null,null,126,200177,200177,200177,200177,200177,200177,200177,200177,200177,200177,"Not done","NA","Not done","Not done","Not done","Not done","Not done",null,null,null,null,"Endwinkel ZEW 35","End Bracket (20 pcs)","End Bracket (20 pcs)","Délimitateur de rail Din (20 pcs)","Ángulo de fijación lateral ZEW 35","Koncová podpěra svorkovnice ZEW 35 (20 kusů)","Terminale di fissaggio ZEW 35 (20pz)","Endwinkel ZEW 35","Koncová podpěra svorkovnice ZEW 35 (20 kusů)","Eind klem ZEW (20 stuks)","not translated yet","not available in this country","not translated yet","not translated yet","not translated yet","not translated yet","not translated yet",null,null,null,null,null,7.19,6.5,10,7.19,7.19,204.37,7.19,9.35,7.19,7.19,"Not done",0,"Not done","Not done","Not done","Not done","Not done"]
[200178,"Sicherungs-Reihenklemme",123.24,null,null,200178,"Push in Fused Terminal Block (25 pcs)",110,null,null,200178,"Push in Fused Terminal Block (25 pcs)",168,null,null,200178,"Bloc de terminal de fusible à connexion rapide (25 pcs)",123.24,null,null,200178,"Borne portafusibles",123.24,null,null,200178,"Pojistková svorkovnice (25 kusů)",3490.77,null,null,200178,"Morsetto componibile portafusibile (25pz)",123.24,null,null,200178,"Sicherungs-Reihenklemme",160.21,null,null,200178,"Pojistková svorkovnice (25 kusů)",123.24,null,null,200178,"Zekering klem (25 stuks)",123.24,null,null,"Not done","not translated yet","Not done",null,null,"NA","not available in this country",0,null,"Not done","not translated yet","Not done",null,null,"Not done","not translated yet","Not done",null,null,"Not done","not translated yet","Not done",null,null,"Not done","not translated yet","Not done",null,null,"Not done","not translated yet","Not done",null,null,null,null,null,null,null,null,127,200178,200178,200178,200178,200178,200178,200178,200178,200178,200178,"Not done","NA","Not done","Not done","Not done","Not done","Not done",null,null,null,null,"Sicherungs-Reihenklemme","Push in Fused Terminal Block (25 pcs)","Push in Fused Terminal Block (25 pcs)","Bloc de terminal de fusible à connexion rapide (25 pcs)","Borne portafusibles","Pojistková svorkovnice (25 kusů)","Morsetto componibile portafusibile (25pz)","Sicherungs-Reihenklemme","Pojistková svorkovnice (25 kusů)","Zekering klem (25 stuks)","not translated yet","not available in this country","not translated yet","not translated yet","not translated yet","not translated yet","not translated yet",null,null,null,null,null,123.24,110,168,123.24,123.24,3490.77,123.24,160.21,123.24,123.24,"Not done",0,"Not done","Not done","Not done","Not done","Not done"]
[200179,"Abschlussplatte Sicherungskl",16.43,null,null,200179,"End Plate For Fused Terminals (50 pcs)",14.5,null,null,200179,"End Plate For Fused Terminals (50 pcs)",22,null,null,200179,"Plaque de fin pour terminal de fusible (50 pcs)",16.43,null,null,200179,"Tapa final para borne portafusibles",16.43,null,null,200179,"Bočnice pojistkové svorkovnice (50 kusů)",461.12,null,null,200179,"Piastra terminale portafusibile (50pz)",16.43,null,null,200179,"Abschlussplatte Sicherungskl",21.36,null,null,200179,"Bočnice pojistkové svorkovnice (50 kusů)",16.43,null,null,200179,"Afsluitplaat zekering klem (50 pcs)",16.43,null,null,"Not done","not translated yet","Not done",null,null,"NA","not available in this country",0,null,"Not done","not translated yet","Not done",null,null,"Not done","not translated yet","Not done",null,null,"Not done","not translated yet","Not done",null,null,"Not done","not translated yet","Not done",null,null,"Not done","not translated yet","Not done",null,null,null,null,null,null,null,null,128,200179,200179,200179,200179,200179,200179,200179,200179,200179,200179,"Not done","NA","Not done","Not done","Not done","Not done","Not done",null,null,null,null,"Abschlussplatte Sicherungskl","End Plate For Fused Terminals (50 pcs)","End Plate For Fused Terminals (50 pcs)","Plaque de fin pour terminal de fusible (50 pcs)","Tapa final para borne portafusibles","Bočnice pojistkové svorkovnice (50 kusů)","Piastra terminale portafusibile (50pz)","Abschlussplatte Sicherungskl","Bočnice pojistkové svorkovnice (50 kusů)","Afsluitplaat zekering klem (50 pcs)","not translated yet","not available in this country","not translated yet","not translated yet","not translated yet","not translated yet","not translated yet",null,null,null,null,null,16.43,14.5,22,16.43,16.43,461.12,16.43,21.36,16.43,16.43,"Not done",0,"Not done","Not done","Not done","Not done","Not done"]
[200180,"Querverbinder 24 Polig (10 Stück)",61.62,null,null,200180,"Cross Connector For Fused Terminals (10 pcs)",55,null,null,200180,"Cross Connector For Fused Terminals (10 pcs)",84,null,null,200180,"Connecteur en croix pour terminal de fusible (10 pcs)",61.62,null,null,200180,"Conector transversal para borne portafusibles 24 Polig",61.62,null,null,200180,"24 pólová propojka (10 kusů)",1744.87,null,null,200180,"Collegamento trasversale 24 poli (10pz)",61.62,null,null,200180,"Querverbinder 24 Polig (10 Stück)",80.11,null,null,200180,"24 pólová propojka (10 kusů)",61.62,null,null,200180,"Dwarsconnector 24 polig (10 pcs)",61.62,null,null,"Not done","not translated yet","Not done",null,null,"NA","not available in this country",0,null,"Not done","not translated yet","Not done",null,null,"Not done","not translated yet","Not done",null,null,"Not done","not translated yet","Not done",null,null,"Not done","not translated yet","Not done",null,null,"Not done","not translated yet","Not done",null,null,null,null,null,null,null,null,129,200180,{"$f":"F132","v":200180},200180,200180,200180,200180,200180,200180,200180,200180,"Not done","NA","Not done","Not done","Not done","Not done","Not done",null,null,null,null,"Querverbinder 24 Polig (10 Stück)","Cross Connector For Fused Terminals (10 pcs)","Cross Connector For Fused Terminals (10 pcs)","Connecteur en croix pour terminal de fusible (10 pcs)","Conector transversal para borne portafusibles 24 Polig","24 pólová propojka (10 kusů)","Collegamento trasversale 24 poli (10pz)","Querverbinder 24 Polig (10 Stück)","24 pólová propojka (10 kusů)","Dwarsconnector 24 polig (10 pcs)","not translated yet","not available in this country","not translated yet","not translated yet","not translated yet","not translated yet","not translated yet",null,null,null,null,null,61.62,55,84,61.62,61.62,1744.87,61.62,80.11,61.62,61.62,"Not done",0,"Not done","Not done","Not done","Not done","Not done"]
[200181,"Sicherung 2A",9.24,null,null,200181,"Blade Fuse 2A (100 pcs)",8.25,null,null,200181,"Blade Fuse 2A (100 pcs)",13,null,null,200181,"Fusible 2A (100 pcs)",9.24,null,null,200181,"Fusible 2A",9.24,null,null,200181,"Pojistky 2A (100 kusů)",255.72,null,null,200181,"Fusibile 2A (100pz)",9.24,null,null,200181,"Sicherung 2A",12.02,null,null,200181,"Pojistky 2A (100 kusů)",9.24,null,null,200181,"Zekering 2A (100 pcs)",9.24,null,null,"Not done","not translated yet","Not done",null,null,"NA","not available in this country",0,null,"Not done","not translated yet","Not done",null,null,"Not done","not translated yet","Not done",null,null,"Not done","not translated yet","Not done",null,null,"Not done","not translated yet","Not done",null,null,"Not done","not translated yet","Not done",null,null,null,null,null,null,null,null,130,{"$f":"A133","v":200181},200181,{"$f":"K133","v":200181},{"$f":"P133","v":200181},{"$f":"U133","v":200181},{"$f":"Z133","v":200181},{"$f":"AE133","v":200181},{"$f":"AJ133","v":200181},{"$f":"AO133","v":200181},{"$f":"AT133","v":200181},{"$f":"AY133","v":"Not done"},{"$f":"BD133","v":"NA"},{"$f":"BH133","v":"Not done"},{"$f":"BM133","v":"Not done"},{"$f":"BR133","v":"Not done"},{"$f":"BW133","v":"Not done"},{"$f":"CB133","v":"Not done"},null,null,null,null,{"$f":"B133","v":"Sicherung 2A"},{"$f":"G133","v":"Blade Fuse 2A (100 pcs)"},{"$f":"L133","v":"Blade Fuse 2A (100 pcs)"},{"$f":"Q133","v":"Fusible 2A (100 pcs)"},{"$f":"V133","v":"Fusible 2A"},{"$f":"AA133","v":"Pojistky 2A (100 kusů)"},{"$f":"AF133","v":"Fusibile 2A (100pz)"},{"$f":"AK133","v":"Sicherung 2A"},{"$f":"AP133","v":"Pojistky 2A (100 kusů)"},{"$f":"AU133","v":"Zekering 2A (100 pcs)"},{"$f":"AZ133","v":"not translated yet"},{"$f":"BE133","v":"not available in this country"},{"$f":"BI133","v":"not translated yet"},{"$f":"BN133","v":"not translated yet"},{"$f":"BS133","v":"not translated yet"},{"$f":"BX133","v":"not translated yet"},{"$f":"CC133","v":"not translated yet"},null,null,null,null,null,{"$f":"C133","v":9.24},{"$f":"H133","v":8.25},{"$f":"M133","v":13},{"$f":"R133","v":9.24},{"$f":"W133","v":9.24},{"$f":"AB133","v":255.72},{"$f":"AG133","v":9.24},{"$f":"AL133","v":12.02},{"$f":"AQ133","v":9.24},{"$f":"AV133","v":9.24},{"$f":"BA133","v":"Not done"},{"$f":"BF133","v":0},{"$f":"BJ133","v":"Not done"},{"$f":"BO133","v":"Not done"},{"$f":"BT133","v":"Not done"},{"$f":"BY133","v":"Not done"},{"$f":"CD133","v":"Not done"}]
[200183,"Sicherung 5A",9.24,null,null,200183,"Blade Fuse 5A (100 pcs)",8.25,null,null,200183,"Blade Fuse 5A (100 pcs)",13,null,null,200183,"Fusible 5A (100 pcs)",9.24,null,null,200183,"Fusible 5A",9.24,null,null,200183,"Pojistky 5A (100 kusů)",255.72,null,null,200183,"Fusibile 5A (100pz)",9.24,null,null,200183,"Sicherung 5A",12.02,null,null,200183,"Pojistky 5A (100 kusů)",9.24,null,null,200183,"Zekering 5A (100 pcs)",9.24,null,null,"Not done","not translated yet","Not done",null,null,"NA","not available in this country",0,null,"Not done","not translated yet","Not done",null,null,"Not done","not translated yet","Not done",null,null,"Not done","not translated yet","Not done",null,null,"Not done","not translated yet","Not done",null,null,"Not done","not translated yet","Not done",null,null,null,null,null,null,null,null,131,200183,200183,200183,200183,200183,200183,200183,200183,200183,200183,"Not done","NA","Not done","Not done","Not done","Not done","Not done",null,null,null,null,"Sicherung 5A","Blade Fuse 5A (100 pcs)","Blade Fuse 5A (100 pcs)","Fusible 5A (100 pcs)","Fusible 5A","Pojistky 5A (100 kusů)","Fusibile 5A (100pz)","Sicherung 5A","Pojistky 5A (100 kusů)","Zekering 5A (100 pcs)","not translated yet","not available in this country","not translated yet","not translated yet","not translated yet","not translated yet","not translated yet",null,null,null,null,null,9.24,8.25,13,9.24,9.24,255.72,9.24,12.02,9.24,9.24,"Not done",0,"Not done","Not done","Not done","Not done","Not done"]
[200184,"Sicherung 10A",9.24,null,null,200184,"Blade Fuse 10A (100 pcs)",8.25,null,null,200184,"Blade Fuse 10A (100 pcs)",13,null,null,200184,"Fusible 10A (100 pcs)",9.24,null,null,200184,"Fusible 10A",9.24,null,null,200184,"Pojistky 10A (100 kusů)",255.72,null,null,200184,"Fusibile 10A (100pz)",9.24,null,null,200184,"Sicherung 10A",12.02,null,null,200184,"Pojistky 10A (100 kusů)",9.24,null,null,200184,"Zekering 10A (100 pcs)",9.24,null,null,"Not done","not translated yet","Not done",null,null,"NA","not available in this country",0,null,"Not done","not translated yet","Not done",null,null,"Not done","not translated yet","Not done",null,null,"Not done","not translated yet","Not done",null,null,"Not done","not translated yet","Not done",null,null,"Not done","not translated yet","Not done",null,null,null,null,null,null,null,null,132,200184,200184,200184,200184,200184,200184,200184,200184,200184,200184,"Not done","NA","Not done","Not done","Not done","Not done","Not done",null,null,null,null,"Sicherung 10A","Blade Fuse 10A (100 pcs)","Blade Fuse 10A (100 pcs)","Fusible 10A (100 pcs)","Fusible 10A","Pojistky 10A (100 kusů)","Fusibile 10A (100pz)","Sicherung 10A","Pojistky 10A (100 kusů)","Zekering 10A (100 pcs)","not translated yet","not available in this country","not translated yet","not translated yet","not translated yet","not translated yet","not translated yet",null,null,null,null,null,9.24,8.25,13,9.24,9.24,255.72,9.24,12.02,9.24,9.24,"Not done",0,"Not done","Not done","Not done","Not done","Not done"]
[200186,"Loxone Folder Set",3.08,null,null,200186,"Loxone Brochure (25 pcs)",0.5,null,null,200186,"Loxone Brochure (25 pcs)",5,null,null,200186,"Loxone Brochure (25 pcs)",3.08,null,null,200186,"Catálogo Loxone",3.08,null,null,200193,"Loxone brožurka - 25 kusů",87.3,null,null,200186,"Loxone Folder Set",3.08,null,null,200201,"Loxone Folder Set",4.01,null,null,200193,"Loxone brožurka - 25 kusů",3.08,null,null,200292,"Loxone Brochure NL (25 pcs)",3.08,null,null,"Not done","not translated yet","Not done",null,null,"NA","not available in this country",0,null,"Not done","not translated yet","Not done",null,null,"Not done","not translated yet","Not done",null,null,"Not done","not translated yet","Not done",null,null,"Not done","not translated yet","Not done",null,null,"Not done","not translated yet","Not done",null,null,null,null,null,null,null,null,133,200186,200186,200186,200186,200186,200193,200186,200201,200193,200292,"Not done","NA","Not done","Not done","Not done","Not done","Not done",null,null,null,null,"Loxone Folder Set","Loxone Brochure (25 pcs)","Loxone Brochure (25 pcs)","Loxone Brochure (25 pcs)","Catálogo Loxone","Loxone brožurka - 25 kusů","Loxone Folder Set","Loxone Folder Set","Loxone brožurka - 25 kusů","Loxone Brochure NL (25 pcs)","not translated yet","not available in this country","not translated yet","not translated yet","not translated yet","not translated yet","not translated yet",null,null,null,null,null,3.08,0.5,5,3.08,3.08,87.3,3.08,4.01,3.08,3.08,"Not done",0,"Not done","Not done","Not done","Not done","Not done"]
[200191,"ElektrSchlüssel Leser Outdoor",28.76,null,null,200191,"iButton Reader 1-Wire Outdoor",25,null,null,200191,"iButton Reader 1-Wire Outdoor",39,null,null,200191,"Lecteur iButton extérieur",28.76,null,null,200191,"Lector de llaves iReader exterior",28.76,null,null,200191,"čtečka elektronického klíče - nerez",800.03,null,null,200191,"Lettore chiave elettronica outdoor",28.76,null,null,200191,"ElektrSchlüssel Leser Outdoor",37.380000000000003,null,null,200191,"čtečka elektronického klíče - nerez",28.76,null,null,200191,"iButton Elec Sleutel 1-Wire Outdoor",28.76,null,null,"Not done","not translated yet","Not done",null,null,200191,"iButton kulcsolvasó kültéri",9900,null,"Not done","not translated yet","Not done",null,null,"Not done","not translated yet","Not done",null,null,"Not done","not translated yet","Not done",null,null,"Not done","not translated yet","Not done",null,null,"Not done","not translated yet","Not done",null,null,null,null,null,null,null,null,134,200191,200191,200191,200191,200191,200191,200191,200191,200191,200191,"Not done",200191,"Not done","Not done","Not done","Not done","Not done",null,null,null,null,"ElektrSchlüssel Leser Outdoor","iButton Reader 1-Wire Outdoor","iButton Reader 1-Wire Outdoor","Lecteur iButton extérieur","Lector de llaves iReader exterior","čtečka elektronického klíče - nerez","Lettore chiave elettronica outdoor","ElektrSchlüssel Leser Outdoor","čtečka elektronického klíče - nerez","iButton Elec Sleutel 1-Wire Outdoor","not translated yet","iButton kulcsolvasó kültéri","not translated yet","not translated yet","not translated yet","not translated yet","not translated yet",null,null,null,null,null,28.76,25,39,28.76,28.76,800.03,28.76,37.380000000000003,28.76,28.76,"Not done",9900,"Not done","Not done","Not done","Not done","Not done"]
[0,"No longer sold",0,null,null,0,"No longer sold",0,null,0,"No longer sold",0,0,null,null,0,"No longer sold",0,null,null,0,"No longer sold",0,null,null,0,"No longer sold",0,null,null,0,"No longer sold",0,null,null,0,"No longer sold",0,null,null,0,"No longer sold",0,null,null,0,"No longer sold",0,null,null,"Not done","not translated yet","Not done",null,null,0,"No longer sold",0,null,"Not done","not translated yet","Not done",null,null,"Not done","not translated yet","Not done",null,null,"Not done","not translated yet","Not done",null,null,"Not done","not translated yet","Not done",null,null,"Not done","not translated yet","Not done",null,null,null,null,null,null,null,null,135,0,0,"No longer sold",0,0,0,0,0,0,0,"Not done",0,"Not done","Not done","Not done","Not done","Not done",null,null,null,null,"No longer sold","No longer sold",0,"No longer sold","No longer sold","No longer sold","No longer sold","No longer sold","No longer sold","No longer sold","not translated yet","No longer sold","not translated yet","not translated yet","not translated yet","not translated yet","not translated yet",null,null,null,null,null,0,0,0,0,0,0,0,0,0,0,"Not done",0,"Not done","Not done","Not done","Not done","Not done"]
[200202,"Loxone Speaker Einbaubox abgehängte Decken",36.97,null,null,200202,"Loxone Speaker Back Box For Suspended Ceilings",33,null,null,200202,"Loxone Speaker Back Box For Suspended Ceilings",51,null,null,200202,"Loxone Speaker Back Box pour faux plafond",36.97,null,null,200202,"Caja de empotrar falso techo Loxone Speaker",36.97,null,null,200202,"Loxone Speaker back box pro snížené stropy",1025.97,null,null,200202,"Loxone Speaker box incasso controsoffitti",36.97,null,null,200202,"Loxone Speaker Einbaubox abgehängte Decken",48.06,null,null,200202,"Loxone Speaker back box pro snížené stropy",36.97,null,null,200202,"Loxone Speaker Inbouwdoos voor vals plafond",36.97,null,null,"Not done","not translated yet","Not done",null,null,200202,"Loxone hangszóró beépítődoboz álmennyzethez",13900,null,"Not done","not translated yet","Not done",null,null,"Not done","not translated yet","Not done",null,null,"Not done","not translated yet","Not done",null,null,"Not done","not translated yet","Not done",null,null,"Not done","not translated yet","Not done",null,null,null,null,null,null,null,null,136,200202,200202,200202,200202,200202,200202,200202,200202,200202,200202,"Not done",200202,"Not done","Not done","Not done","Not done","Not done",null,null,null,null,"Loxone Speaker Einbaubox abgehängte Decken","Loxone Speaker Back Box For Suspended Ceilings","Loxone Speaker Back Box For Suspended Ceilings","Loxone Speaker Back Box pour faux plafond","Caja de empotrar falso techo Loxone Speaker","Loxone Speaker back box pro snížené stropy","Loxone Speaker box incasso controsoffitti","Loxone Speaker Einbaubox abgehängte Decken","Loxone Speaker back box pro snížené stropy","Loxone Speaker Inbouwdoos voor vals plafond","not translated yet","Loxone hangszóró beépítődoboz álmennyzethez","not translated yet","not translated yet","not translated yet","not translated yet","not translated yet",null,null,null,null,null,36.97,33,51,36.97,36.97,1025.97,36.97,48.06,36.97,36.97,"Not done",13900,"Not done","Not done","Not done","Not done","Not done"]
[200280,"LED Streifen Zubehör-Set RGBW",17.46,null,null,200280,"LED Strip Accessories Set - RGBW",15.5,null,null,200280,"LED Strip Accessories Set - RGBW",19,null,null,200280,"Kit accessoires Ruban Led RGBW",17.46,null,null,200280,"Kit de accesorios para tiras LED RGBW",17.46,null,null,200280,"Příslušenství k LED páskům - set RGBW",461.12,null,null,200280,"Strisce LED set accessorio RGBW",17.46,null,null,200280,"LED Streifen Zubehör-Set RGBW",22.7,null,null,200280,"Příslušenství k LED páskům - set RGBW",17.46,null,null,200280,"LED Strip toebehoren Set - RGBW",17.46,null,null,"Not done","not translated yet","Not done",null,null,200280,"LED Szalag szerelő szett - RGBW",6900,null,"Not done","not translated yet","Not done",null,null,"Not done","not translated yet","Not done",null,null,"Not done","not translated yet","Not done",null,null,"Not done","not translated yet","Not done",null,null,"Not done","not translated yet","Not done",null,null,null,null,null,null,null,null,137,200280,200280,200280,200280,200280,200280,200280,200280,200280,200280,"Not done",200280,"Not done","Not done","Not done","Not done","Not done",null,null,null,null,"LED Streifen Zubehör-Set RGBW","LED Strip Accessories Set - RGBW","LED Strip Accessories Set - RGBW","Kit accessoires Ruban Led RGBW","Kit de accesorios para tiras LED RGBW","Příslušenství k LED páskům - set RGBW","Strisce LED set accessorio RGBW","LED Streifen Zubehör-Set RGBW","Příslušenství k LED páskům - set RGBW","LED Strip toebehoren Set - RGBW","not translated yet","LED Szalag szerelő szett - RGBW","not translated yet","not translated yet","not translated yet","not translated yet","not translated yet",null,null,null,null,null,17.46,15.5,19,17.46,17.46,461.12,17.46,22.7,17.46,17.46,"Not done",6900,"Not done","Not done","Not done","Not done","Not done"]
[200278,"LED Streifen Zubehör-Set WW",12.32,null,null,200278,"LED Strip Accessories Set - WW",11,null,null,200278,"LED Strip Accessories Set - Warm White",14,null,null,200278,"Kit accessoires Ruban Led blanc",12.32,null,null,200278,"Kit de accesorios para tiras LED WW",12.32,null,null,200278,"Příslušenství k LED páskům - set WW",333.78,null,null,200278,"Strisce LED set accessorio WW",12.32,null,null,200278,"LED Streifen Zubehör-Set WW",16.02,null,null,200278,"Příslušenství k LED páskům - set WW",12.32,null,null,200278,"LED Strip toebehoren Set - Warm Wit",12.32,null,null,"Not done","not translated yet","Not done",null,null,200278,"LED Szalag szerelő szett - WW",3990,null,"Not done","not translated yet","Not done",null,null,"Not done","not translated yet","Not done",null,null,"Not done","not translated yet","Not done",null,null,"Not done","not translated yet","Not done",null,null,"Not done","not translated yet","Not done",null,null,null,null,null,null,null,null,138,200278,200278,200278,200278,200278,200278,200278,200278,200278,200278,"Not done",200278,"Not done","Not done","Not done","Not done","Not done",null,null,null,null,"LED Streifen Zubehör-Set WW","LED Strip Accessories Set - WW","LED Strip Accessories Set - Warm White","Kit accessoires Ruban Led blanc","Kit de accesorios para tiras LED WW","Příslušenství k LED páskům - set WW","Strisce LED set accessorio WW","LED Streifen Zubehör-Set WW","Příslušenství k LED páskům - set WW","LED Strip toebehoren Set - Warm Wit","not translated yet","LED Szalag szerelő szett - WW","not translated yet","not translated yet","not translated yet","not translated yet","not translated yet",null,null,null,null,null,12.32,11,14,12.32,12.32,333.78,12.32,16.02,12.32,12.32,"Not done",3990,"Not done","Not done","Not done","Not done","Not done"]
[200161,"Steckernetzteil 24V, 6,25A",66.760000000000005,null,null,200161,"Power Adapter 24V 6.25A",60,null,null,200161,"Power Adapter 24V 625A",91,null,null,200161,"Alimentation transfo 24V 625A",66.760000000000005,null,null,200161,"Fuente de alimentación 24V, 6,25A",66.760000000000005,null,null,200161,"Napájecí zdroj do zásuvky 24V, 6,25A Typ E,F",1847.57,null,null,200161,"Alimentatore a presa 24V 6,25A",66.760000000000005,null,null,200286,"Steckernetzteil 24V, 6,25A",86.78,null,null,200161,"Napájecí zdroj do zásuvky 24V, 6,25A Typ E,F",66.760000000000005,null,null,200161,"Voeding 24V 625A",66.760000000000005,null,null,"Not done","not translated yet","Not done",null,null,200161,"Tápegység 24V 6.25A",23900,null,"Not done","not translated yet","Not done",null,null,"Not done","not translated yet","Not done",null,null,"Not done","not translated yet","Not done",null,null,"Not done","not translated yet","Not done",null,null,"Not done","not translated yet","Not done",null,null,null,null,null,null,null,null,139,200161,200161,200161,200161,200161,200161,200161,200286,200161,200161,"Not done",200161,"Not done","Not done","Not done","Not done","Not done",null,null,null,null,"Steckernetzteil 24V, 6,25A","Power Adapter 24V 6.25A","Power Adapter 24V 625A","Alimentation transfo 24V 625A","Fuente de alimentación 24V, 6,25A","Napájecí zdroj do zásuvky 24V, 6,25A Typ E,F","Alimentatore a presa 24V 6,25A","Steckernetzteil 24V, 6,25A","Napájecí zdroj do zásuvky 24V, 6,25A Typ E,F","Voeding 24V 625A","not translated yet","Tápegység 24V 6.25A","not translated yet","not translated yet","not translated yet","not translated yet","not translated yet",null,null,null,null,null,66.760000000000005,60,91,66.760000000000005,66.760000000000005,1847.57,66.760000000000005,86.78,66.760000000000005,66.760000000000005,"Not done",23900,"Not done","Not done","Not done","Not done","Not done"]
[100205,"Loxone Music Server Upgrade",101.67,null,null,0,"not sold",80,null,null,100205,"Loxone Music Server Upgrade",150,null,null,100205,"Loxone Music Server Mise à niveau",101.67,null,null,100205,"Actualización Loxone Music Server",101.67,null,null,100205,"Loxone Music Server Upgrade",2771.87,null,null,100205,"Loxone Music Server Upgrade",101.67,null,null,100205,"Loxone Music Server Upgrade",132.16999999999999,null,null,100205,"Loxone Music Server Upgrade",101.67,null,null,100205,"Loxone Music Server Upgrade",101.67,null,null,"Not done","not translated yet","Not done",null,null,0,"not sold",0,null,"Not done","not translated yet","Not done",null,null,"Not done","not translated yet","Not done",null,null,"Not done","not translated yet","Not done",null,null,"Not done","not translated yet","Not done",null,null,"Not done","not translated yet","Not done",null,null,null,null,null,null,null,null,140,100205,0,100205,100205,100205,100205,100205,100205,100205,100205,"Not done",0,"Not done","Not done","Not done","Not done","Not done",null,null,null,null,"Loxone Music Server Upgrade","not sold","Loxone Music Server Upgrade","Loxone Music Server Mise à niveau","Actualización Loxone Music Server","Loxone Music Server Upgrade","Loxone Music Server Upgrade","Loxone Music Server Upgrade","Loxone Music Server Upgrade","Loxone Music Server Upgrade","not translated yet","not sold","not translated yet","not translated yet","not translated yet","not translated yet","not translated yet",null,null,null,null,null,101.67,80,150,101.67,101.67,2771.87,101.67,132.16999999999999,101.67,101.67,"Not done",0,"Not done","Not done","Not done","Not done","Not done"]
[200273,"Loxone Intercom XL",1181.05,null,null,200274,"Loxone Intercom XL",1050,null,null,200274,"Loxone Intercom XL",1615,null,null,200274,"Intercom XL",1181.05,null,null,200273,"Loxone Intercom XL",1181.05,null,null,200273,"Loxone Intercom XL",32349.47,null,null,200273,"Loxone Intercom XL",1181.05,null,null,200192,"Loxone Intercom XL",1535.37,null,null,200273,"Loxone Intercom XL",1181.05,null,null,200273,"Loxone Intercom XL",1181.05,null,null,"Not done","not translated yet","Not done",null,null,200274,"Loxone kaputelefon XL",379900,null,"Not done","not translated yet","Not done",null,null,"Not done","not translated yet","Not done",null,null,"Not done","not translated yet","Not done",null,null,"Not done","not translated yet","Not done",null,null,"Not done","not translated yet","Not done",null,null,null,null,null,null,null,null,141,200273,200274,200274,200274,200273,200273,200273,200192,200273,200273,"Not done",200274,"Not done","Not done","Not done","Not done","Not done",null,null,null,null,"Loxone Intercom XL","Loxone Intercom XL","Loxone Intercom XL","Intercom XL","Loxone Intercom XL","Loxone Intercom XL","Loxone Intercom XL","Loxone Intercom XL","Loxone Intercom XL","Loxone Intercom XL","not translated yet","Loxone kaputelefon XL","not translated yet","not translated yet","not translated yet","not translated yet","not translated yet",null,null,null,null,null,1181.05,1050,1615,1181.05,1181.05,32349.47,1181.05,1535.37,1181.05,1181.05,"Not done",379900,"Not done","Not done","Not done","Not done","Not done"]
[100190,"Bewegungsmelder Air weiß",85.5,null,null,100190,"Motion Sensor Air - White",75,null,null,100190,"Motion Sensor Air white",117,null,null,100190,"Détecteur de présence Air blanc",85.5,null,null,100190,"Detector de movimiento Air blanco",85.5,null,null,100190,"Pohybový senzor Air",2309.7199999999998,null,null,100190,"Sensore di movimento Air bianco",85.5,null,null,100190,"Bewegungsmelder Air",111.15,null,null,100190,"Pohybový senzor Air",85.5,null,null,100190,"Bewegingsmelder Air",85.5,null,null,"Not done","not translated yet","Not done",null,null,100190,"Mozgásérzékelő Air - Fehér",29900,null,"Not done","not translated yet","Not done",null,null,"Not done","not translated yet","Not done",null,null,"Not done","not translated yet","Not done",null,null,"Not done","not translated yet","Not done",null,null,"Not done","not translated yet","Not done",null,null,null,null,null,null,null,null,142,100190,100190,100190,100190,100190,100190,100190,100190,100190,100190,"Not done",100190,"Not done","Not done","Not done","Not done","Not done",null,null,null,null,"Bewegungsmelder Air weiß","Motion Sensor Air - White","Motion Sensor Air white","Détecteur de présence Air blanc","Detector de movimiento Air blanco","Pohybový senzor Air","Sensore di movimento Air bianco","Bewegungsmelder Air","Pohybový senzor Air","Bewegingsmelder Air","not translated yet","Mozgásérzékelő Air - Fehér","not translated yet","not translated yet","not translated yet","not translated yet","not translated yet",null,null,null,null,null,85.5,75,117,85.5,85.5,2309.7199999999998,85.5,111.15,85.5,85.5,"Not done",29900,"Not done","Not done","Not done","Not done","Not done"]
[200281,"NFC Smart Tags (25 Stk)",23.62,null,null,200281,"NFC Smart Tags",21,null,null,200281,"NFC Smart Tags",32,null,null,200281,"NFC Smart Tags",23.62,null,null,200281,"NFC Smart Tags",23.62,null,null,200281,"NFC Smart tagy",645.98,null,null,200281,"NFC Smart Tags (25 pz)",23.62,null,null,200281,"NFC Smart Tags (25 Stk)",30.71,null,null,200281,"NFC Smart tagy",23.62,null,null,200281,"NFC Smart Tags",23.62,null,null,"Not done","not translated yet","Not done",null,null,200281,"NFC matricák",7900,null,"Not done","not translated yet","Not done",null,null,"Not done","not translated yet","Not done",null,null,"Not done","not translated yet","Not done",null,null,"Not done","not translated yet","Not done",null,null,"Not done","not translated yet","Not done",null,null,null,null,null,null,null,null,143,200281,200281,200281,200281,200281,200281,200281,200281,200281,200281,"Not done",200281,"Not done","Not done","Not done","Not done","Not done",null,null,null,null,"NFC Smart Tags (25 Stk)","NFC Smart Tags","NFC Smart Tags","NFC Smart Tags","NFC Smart Tags","NFC Smart tagy","NFC Smart Tags (25 pz)","NFC Smart Tags (25 Stk)","NFC Smart tagy","NFC Smart Tags","not translated yet","NFC matricák","not translated yet","not translated yet","not translated yet","not translated yet","not translated yet",null,null,null,null,null,23.62,21,32,23.62,23.62,645.98,23.62,30.71,23.62,23.62,"Not done",7900,"Not done","Not done","Not done","Not done","Not done"]
[100204,"LED Spot RGBW",51.27,null,null,100204,"LED Spot RGBW - White",40,null,null,100204,"LED Spot RGBW - White",70,null,null,100204,"Spot Led RGBW",51.27,null,null,100204,"Led Spot RGBW",51.27,null,null,100204,"LED Spot RGBW",1385.42,null,null,100204,"LED Spot RGBW bianco",51.27,null,null,100204,"LED Spot RGBW",66.650000000000006,null,null,100204,"LED Spot RGBW",51.27,null,null,100204,"LED Spot RGBW",51.27,null,null,"Not done","not translated yet","Not done",null,null,100204,"LED Szpot RGBW - fehér",14900,null,"Not done","not translated yet","Not done",null,null,"Not done","not translated yet","Not done",null,null,"Not done","not translated yet","Not done",null,null,"Not done","not translated yet","Not done",null,null,"Not done","not translated yet","Not done",null,null,null,null,null,null,null,null,144,100204,100204,100204,100204,100204,100204,100204,100204,100204,100204,"Not done",100204,"Not done","Not done","Not done","Not done","Not done",null,null,null,null,"LED Spot RGBW","LED Spot RGBW - White","LED Spot RGBW - White","Spot Led RGBW","Led Spot RGBW","LED Spot RGBW","LED Spot RGBW bianco","LED Spot RGBW","LED Spot RGBW","LED Spot RGBW","not translated yet","LED Szpot RGBW - fehér","not translated yet","not translated yet","not translated yet","not translated yet","not translated yet",null,null,null,null,null,51.27,40,70,51.27,51.27,1385.42,51.27,66.650000000000006,51.27,51.27,"Not done",14900,"Not done","Not done","Not done","Not done","Not done"]
[100203,"LED Spot WW",34.15,null,null,100203,"LED Spot WW - White",27.5,null,null,100203,"LED Spot WW - White",47,null,null,100203,"Spot Led blanc chaud",34.15,null,null,100203,"Led Spot WW",34.15,null,null,100203,"LED Spot WW",923.27,null,null,100203,"LED Spot WW bianco",34.15,null,null,100203,"LED Spot WW",44.39,null,null,100203,"LED Spot WW",34.15,null,null,100203,"LED Spot Warm Wit",34.15,null,null,"Not done","not translated yet","Not done",null,null,100203,"LED Szpot WW - Fehér",11990,null,"Not done","not translated yet","Not done",null,null,"Not done","not translated yet","Not done",null,null,"Not done","not translated yet","Not done",null,null,"Not done","not translated yet","Not done",null,null,"Not done","not translated yet","Not done",null,null,null,null,null,null,null,null,145,100203,100203,100203,100203,100203,100203,100203,100203,100203,100203,"Not done",100203,"Not done","Not done","Not done","Not done","Not done",null,null,null,null,"LED Spot WW","LED Spot WW - White","LED Spot WW - White","Spot Led blanc chaud","Led Spot WW","LED Spot WW","LED Spot WW bianco","LED Spot WW","LED Spot WW","LED Spot Warm Wit","not translated yet","LED Szpot WW - Fehér","not translated yet","not translated yet","not translated yet","not translated yet","not translated yet",null,null,null,null,null,34.15,27.5,47,34.15,34.15,923.27,34.15,44.39,34.15,34.15,"Not done",11990,"Not done","Not done","Not done","Not done","Not done"]
[200294,"Elektroauto Ladebkabel Typ 2",327.61,null,null,200294,"Electric Car Charging Cable Type 2",290,null,null,"not available in this country","not available in this country",0,null,null,200294,"Câble de recharge pour voiture électriques Type 2",327.61,null,null,200294,"Cable de carga del coche eléctrico Tipo 2",327.61,null,null,200294,"Nabíjecí kabel typ 2",8831.17,null,null,200294,"Cavo di carico auto elettrica tipo 2",327.61,null,null,200294,"Elektroauto Ladebkabel Typ 2",425.9,null,null,200294,"Nabíjecí kabel typ 2",327.61,null,null,200294,"Electrische auto laadkabel Type 2",327.61,null,null,"Not done","not translated yet","Not done",null,null,200294,"Elektromos autótöltő kábel 2-es típus",109900,null,"Not done","not translated yet","Not done",null,null,"Not done","not translated yet","Not done",null,null,"Not done","not translated yet","Not done",null,null,"Not done","not translated yet","Not done",null,null,"Not done","not translated yet","Not done",null,null,null,null,null,null,null,null,146,200294,200294,"not available in this country",200294,200294,200294,200294,200294,200294,200294,"Not done",200294,"Not done","Not done","Not done","Not done","Not done",null,null,null,null,"Elektroauto Ladebkabel Typ 2","Electric Car Charging Cable Type 2","not available in this country","Câble de recharge pour voiture électriques Type 2","Cable de carga del coche eléctrico Tipo 2","Nabíjecí kabel typ 2","Cavo di carico auto elettrica tipo 2","Elektroauto Ladebkabel Typ 2","Nabíjecí kabel typ 2","Electrische auto laadkabel Type 2","not translated yet","Elektromos autótöltő kábel 2-es típus","not translated yet","not translated yet","not translated yet","not translated yet","not translated yet",null,null,null,null,null,327.61,290,0,327.61,327.61,8831.17,327.61,425.9,327.61,327.61,"Not done",109900,"Not done","Not done","Not done","Not done","Not done"]
[100218,"Tree Extension",84.73,null,null,100218,"Tree Extension",77.5,null,null,100218,"Tree Extension",116,null,null,100218,"Extension Tree",84.73,null,null,100218,"Tree Extension",84.73,null,null,100218,"Tree Extension",2155.67,null,null,100218,"Tree Extension",84.73,null,null,100218,"Tree Extension",110.15,null,null,100218,"Tree Extension",84.73,null,null,100218,"Tree Extension",84.73,null,null,"Not done","not translated yet","Not done",null,null,100218,"Tree Extension",27900,null,"Not done","not translated yet","Not done",null,null,"Not done","not translated yet","Not done",null,null,"Not done","not translated yet","Not done",null,null,"Not done","not translated yet","Not done",null,null,"Not done","not translated yet","Not done",null,null,null,null,null,null,null,null,147,100218,100218,100218,100218,100218,100218,100218,100218,100218,100218,"Not done",100218,"Not done","Not done","Not done","Not done","Not done",null,null,null,null,"Tree Extension","Tree Extension","Tree Extension","Extension Tree","Tree Extension","Tree Extension","Tree Extension","Tree Extension","Tree Extension","Tree Extension","not translated yet","Tree Extension","not translated yet","not translated yet","not translated yet","not translated yet","not translated yet",null,null,null,null,null,84.73,77.5,116,84.73,84.73,2155.67,84.73,110.15,84.73,84.73,"Not done",27900,"Not done","Not done","Not done","Not done","Not done"]
[100221,"Touch Tree Weiß",70.86,null,null,100221,"Touch Tree - White",62.5,null,null,100221,"Touch Tree White",97,null,null,100221,"Touch Tree Blanc",70.86,null,null,100221,"Touch Tree Blanco",70.86,null,null,100221,"Touch Tree bílá",1898.92,null,null,100221,"Touch Tree bianco",70.86,null,null,100221,"Touch Tree Weiß",92.12,null,null,100221,"Touch Tree bílá",70.86,null,null,100221,"Touch Tree Wit",70.86,null,null,"Not done","not translated yet","Not done",null,null,100221,"Touch Tree - Fehér",22900,null,"Not done","not translated yet","Not done",null,null,"Not done","not translated yet","Not done",null,null,"Not done","not translated yet","Not done",null,null,"Not done","not translated yet","Not done",null,null,"Not done","not translated yet","Not done",null,null,null,null,null,null,null,null,148,100221,100221,100221,100221,100221,100221,100221,100221,100221,100221,"Not done",100221,"Not done","Not done","Not done","Not done","Not done",null,null,null,null,"Touch Tree Weiß","Touch Tree - White","Touch Tree White","Touch Tree Blanc","Touch Tree Blanco","Touch Tree bílá","Touch Tree bianco","Touch Tree Weiß","Touch Tree bílá","Touch Tree Wit","not translated yet","Touch Tree - Fehér","not translated yet","not translated yet","not translated yet","not translated yet","not translated yet",null,null,null,null,null,70.86,62.5,97,70.86,70.86,1898.92,70.86,92.12,70.86,70.86,"Not done",22900,"Not done","Not done","Not done","Not done","Not done"]
[100222,"Touch Tree Anthrazit",70.86,null,null,100222,"Touch Tree - Anthracite",62.5,null,null,100222,"Touch Tree Black",97,null,null,100222,"Touch Tree Anthracite",70.86,null,null,100222,"Touch Tree Antracita",70.86,null,null,100222,"Touch Tree anthrazit",1898.92,null,null,100222,"Touch Tree antracite",70.86,null,null,100222,"Touch Tree Anthrazit",92.12,null,null,100222,"Touch Tree anthrazit",70.86,null,null,100222,"Touch Tree Anthraciet",70.86,null,null,"Not done","not translated yet","Not done",null,null,100222,"Touch Tree - Anthracite",22900,null,"Not done","not translated yet","Not done",null,null,"Not done","not translated yet","Not done",null,null,"Not done","not translated yet","Not done",null,null,"Not done","not translated yet","Not done",null,null,"Not done","not translated yet","Not done",null,null,null,null,null,null,null,null,149,100222,100222,100222,100222,100222,100222,100222,100222,100222,100222,"Not done",100222,"Not done","Not done","Not done","Not done","Not done",null,null,null,null,"Touch Tree Anthrazit","Touch Tree - Anthracite","Touch Tree Black","Touch Tree Anthracite","Touch Tree Antracita","Touch Tree anthrazit","Touch Tree antracite","Touch Tree Anthrazit","Touch Tree anthrazit","Touch Tree Anthraciet","not translated yet","Touch Tree - Anthracite","not translated yet","not translated yet","not translated yet","not translated yet","not translated yet",null,null,null,null,null,70.86,62.5,97,70.86,70.86,1898.92,70.86,92.12,70.86,70.86,"Not done",22900,"Not done","Not done","Not done","Not done","Not done"]
[100223,"Bewegungsmelder Tree Weiß",76.510000000000005,null,null,100223,"Motion Sensor Tree - White",67.5,null,null,100223,"Motion Sensor Tree White",105,null,null,100223,"Détecteur de mouvement Tree blanc",76.510000000000005,null,null,100223,"Detector de movimiento Tree",76.510000000000005,null,null,100223,"Motion Sensor Tree bilá",2052.9699999999998,null,null,100223,"Sensore di movimento Tree bianco",76.510000000000005,null,null,100223,"Bewegungsmelder Tree Weiß",99.46,null,null,100223,"Motion Sensor Tree bilá",76.510000000000005,null,null,100223,"Bewegingsmelder Tree",76.510000000000005,null,null,"Not done","not translated yet","Not done",null,null,100223,"Mozgásérzékelő Tree - Fehér",24900,null,"Not done","not translated yet","Not done",null,null,"Not done","not translated yet","Not done",null,null,"Not done","not translated yet","Not done",null,null,"Not done","not translated yet","Not done",null,null,"Not done","not translated yet","Not done",null,null,null,null,null,null,null,null,150,100223,100223,100223,100223,100223,100223,100223,100223,100223,100223,"Not done",100223,"Not done","Not done","Not done","Not done","Not done",null,null,null,null,"Bewegungsmelder Tree Weiß","Motion Sensor Tree - White","Motion Sensor Tree White","Détecteur de mouvement Tree blanc","Detector de movimiento Tree","Motion Sensor Tree bilá","Sensore di movimento Tree bianco","Bewegungsmelder Tree Weiß","Motion Sensor Tree bilá","Bewegingsmelder Tree","not translated yet","Mozgásérzékelő Tree - Fehér","not translated yet","not translated yet","not translated yet","not translated yet","not translated yet",null,null,null,null,null,76.510000000000005,67.5,105,76.510000000000005,76.510000000000005,2052.9699999999998,76.510000000000005,99.46,76.510000000000005,76.510000000000005,"Not done",24900,"Not done","Not done","Not done","Not done","Not done"]
[100225,"Stellantrieb Tree",67.27,null,null,100225,"Valve Actuator Tree",57.5,null,null,100225,"Valve Actuator Tree",92,null,null,100225,"Tête thermostatique Tree",67.27,null,null,100225,"Actuador Válvula Tree",67.27,null,null,100225,"Hlavice Tree",1796.22,null,null,100225,"Valvola termica Tree",67.27,null,null,100225,"Stellantrieb Tree",87.45,null,null,100225,"Hlavice Tree",67.27,null,null,100225,"Stelventiel Tree",67.27,null,null,"Not done","not translated yet","Not done",null,null,100225,"Szelepmozgató Tree",21900,null,"Not done","not translated yet","Not done",null,null,"Not done","not translated yet","Not done",null,null,"Not done","not translated yet","Not done",null,null,"Not done","not translated yet","Not done",null,null,"Not done","not translated yet","Not done",null,null,null,null,null,null,null,null,151,100225,100225,100225,100225,100225,100225,100225,100225,100225,100225,"Not done",100225,"Not done","Not done","Not done","Not done","Not done",null,null,null,null,"Stellantrieb Tree","Valve Actuator Tree","Valve Actuator Tree","Tête thermostatique Tree","Actuador Válvula Tree","Hlavice Tree","Valvola termica Tree","Stellantrieb Tree","Hlavice Tree","Stelventiel Tree","not translated yet","Szelepmozgató Tree","not translated yet","not translated yet","not translated yet","not translated yet","not translated yet",null,null,null,null,null,67.27,57.5,92,67.27,67.27,1796.22,67.27,87.45,67.27,67.27,"Not done",21900,"Not done","Not done","Not done","Not done","Not done"]
[100211,"Wassersensor Air",55.46,null,null,100211,"Water Sensor Air",47.5,null,null,100211,"Water Sensor Air",76,null,null,100211,"Capteur d'inondation Air",55.46,null,null,100211,"Sensor inundación Air",55.46,null,null,100211,"Záplavový senzor Air",1488.12,null,null,100211,"Sensore acqua Air",55.46,null,null,100211,"Wassersensor Air",72.099999999999994,null,null,100211,"Záplavový senzor Air",55.46,null,null,100211,"Waterrsensor Air",55.46,null,null,"Not done","not translated yet","Not done",null,null,100211,"Víz érzékelő Air",17900,null,"Not done","not translated yet","Not done",null,null,"Not done","not translated yet","Not done",null,null,"Not done","not translated yet","Not done",null,null,"Not done","not translated yet","Not done",null,null,"Not done","not translated yet","Not done",null,null,null,null,null,null,null,null,152,100211,100211,100211,100211,100211,100211,100211,100211,100211,100211,"Not done",100211,"Not done","Not done","Not done","Not done","Not done",null,null,null,null,"Wassersensor Air","Water Sensor Air","Water Sensor Air","Capteur d'inondation Air","Sensor inundación Air","Záplavový senzor Air","Sensore acqua Air","Wassersensor Air","Záplavový senzor Air","Waterrsensor Air","not translated yet","Víz érzékelő Air","not translated yet","not translated yet","not translated yet","not translated yet","not translated yet",null,null,null,null,null,55.46,47.5,76,55.46,55.46,1488.12,55.46,72.099999999999994,55.46,55.46,"Not done",17900,"Not done","Not done","Not done","Not done","Not done"]
[100213,"Tür- & Fensterkontakt Air Anthrazit",55.46,null,null,100213,"Door & Window Contact Air - Anthracite",47.5,null,null,100213,"Door & Window Contact Air - Anthracite",76,null,null,100213,"Contact d'ouverture Air Anthracite",55.46,null,null,100213,"Contacto de puerta y ventana Air Antracita",55.46,null,null,100213,"Okenní a dveřní kontakt Air anthrazit",1488.12,null,null,100213,"Contatto finestra e porta Air antracite",55.46,null,null,100213,"Tür- & Fensterkontakt Air Anthrazit",72.099999999999994,null,null,100213,"Okenní a dveřní kontakt Air anthrazit",55.46,null,null,100213,"Raam- & Deurcontact Air Anthraciet",55.46,null,null,"Not done","not translated yet","Not done",null,null,100213,"Ablak és ajtónyitás érzékelő Air - Anthracite",17900,null,"Not done","not translated yet","Not done",null,null,"Not done","not translated yet","Not done",null,null,"Not done","not translated yet","Not done",null,null,"Not done","not translated yet","Not done",null,null,"Not done","not translated yet","Not done",null,null,null,null,null,null,null,null,153,100213,100213,100213,100213,100213,100213,100213,100213,100213,100213,"Not done",100213,"Not done","Not done","Not done","Not done","Not done",null,null,null,null,"Tür- & Fensterkontakt Air Anthrazit","Door & Window Contact Air - Anthracite","Door & Window Contact Air - Anthracite","Contact d'ouverture Air Anthracite","Contacto de puerta y ventana Air Antracita","Okenní a dveřní kontakt Air anthrazit","Contatto finestra e porta Air antracite","Tür- & Fensterkontakt Air Anthrazit","Okenní a dveřní kontakt Air anthrazit","Raam- & Deurcontact Air Anthraciet","not translated yet","Ablak és ajtónyitás érzékelő Air - Anthracite","not translated yet","not translated yet","not translated yet","not translated yet","not translated yet",null,null,null,null,null,55.46,47.5,76,55.46,55.46,1488.12,55.46,72.099999999999994,55.46,55.46,"Not done",17900,"Not done","Not done","Not done","Not done","Not done"]
[100210,"Tür- & Fensterkontakt Air Weiß",55.46,null,null,100210,"Door & Window Contact Air - White",47.5,null,null,100210,"Door & Window Contact Air - White",76,null,null,100210,"Contact d'ouverture Air Blanc",55.46,null,null,100210,"Contacto de puerta y ventana Air Blanco",55.46,null,null,100210,"Okenní a dveřní kontakt Air bílá",1488.12,null,null,100210,"Contatto finestra e porta Air bianco",55.46,null,null,100210,"Tür- & Fensterkontakt Air Weiß",72.099999999999994,null,null,100210,"Okenní a dveřní kontakt Air bílá",55.46,null,null,100210,"Raam- & Deurcontact Air Wit",55.46,null,null,"Not done","not translated yet","Not done",null,null,100210,"Ablak és ajtónyitás érzékelő Air - White",17900,null,"Not done","not translated yet","Not done",null,null,"Not done","not translated yet","Not done",null,null,"Not done","not translated yet","Not done",null,null,"Not done","not translated yet","Not done",null,null,"Not done","not translated yet","Not done",null,null,null,null,null,null,null,null,154,100210,100210,100210,100210,100210,100210,100210,100210,100210,100210,"Not done",100210,"Not done","Not done","Not done","Not done","Not done",null,null,null,null,"Tür- & Fensterkontakt Air Weiß","Door & Window Contact Air - White","Door & Window Contact Air - White","Contact d'ouverture Air Blanc","Contacto de puerta y ventana Air Blanco","Okenní a dveřní kontakt Air bílá","Contatto finestra e porta Air bianco","Tür- & Fensterkontakt Air Weiß","Okenní a dveřní kontakt Air bílá","Raam- & Deurcontact Air Wit","not translated yet","Ablak és ajtónyitás érzékelő Air - White","not translated yet","not translated yet","not translated yet","not translated yet","not translated yet",null,null,null,null,null,55.46,47.5,76,55.46,55.46,1488.12,55.46,72.099999999999994,55.46,55.46,"Not done",17900,"Not done","Not done","Not done","Not done","Not done"]
[100224,"Bewegungsmelder Tree Anthrazit",76.510000000000005,null,null,100224,"Motion Sensor Tree - Anthracite",67.5,null,null,100224,"Motion Sensor Tree - Anthracite",105,null,null,100224,"Détecteur de présence Tree Anthracite",76.510000000000005,null,null,100224,"Detector de movimiento Tree Antracita",76.510000000000005,null,null,100224,"Pohybový senzor Tree anthrazit",2052.9699999999998,null,null,100224,"Sensore di movimento Tree antracite",76.510000000000005,null,null,100224,"Bewegungsmelder Tree Anthrazit",99.46,null,null,100224,"Pohybový senzor Tree anthrazit",76.510000000000005,null,null,100224,"Bewegingsmelder Tree Antraciet",76.510000000000005,null,null,"Not done","not translated yet","Not done",null,null,100224,"Mozgásérzékelő Tree - Anthracite",24900,null,"Not done","not translated yet","Not done",null,null,"Not done","not translated yet","Not done",null,null,"Not done","not translated yet","Not done",null,null,"Not done","not translated yet","Not done",null,null,"Not done","not translated yet","Not done",null,null,null,null,null,null,null,null,155,100224,100224,100224,100224,100224,100224,100224,100224,100224,100224,"Not done",100224,"Not done","Not done","Not done","Not done","Not done",null,null,null,null,"Bewegungsmelder Tree Anthrazit","Motion Sensor Tree - Anthracite","Motion Sensor Tree - Anthracite","Détecteur de présence Tree Anthracite","Detector de movimiento Tree Antracita","Pohybový senzor Tree anthrazit","Sensore di movimento Tree antracite","Bewegungsmelder Tree Anthrazit","Pohybový senzor Tree anthrazit","Bewegingsmelder Tree Antraciet","not translated yet","Mozgásérzékelő Tree - Anthracite","not translated yet","not translated yet","not translated yet","not translated yet","not translated yet",null,null,null,null,null,76.510000000000005,67.5,105,76.510000000000005,76.510000000000005,2052.9699999999998,76.510000000000005,99.46,76.510000000000005,76.510000000000005,"Not done",24900,"Not done","Not done","Not done","Not done","Not done"]
[200204,"Querverbinder 20 Pol (20 Stk)",90.38,null,null,200204,"Cross Connector for Mains Terminals (20 pcs)",80,null,null,200204,"Cross Connector for Mains Terminals (20 pcs)",84,null,null,200204,"Peigne de connexion 20 pôles",90.38,null,null,200204,"Conector transversal 20 polos (20 Ud)",90.38,null,null,200204,"20-ti pólová propojka Weidmuller (20 ks)",2463.77,null,null,200204,"Collegamento trasversale 20 poli (20pz)",90.38,null,null,200204,"Querverbinder 20 Pol (20 Stk)",117.49,null,null,200204,"20-ti pólová propojka Weidmuller (20 ks)",90.38,null,null,200204,"Weidmüller dwarsverbinder 20-polig (20) stuks)",90.38,null,null,"Not done","not translated yet","Not done",null,null,"NA","not available in this country",0,null,"Not done","not translated yet","Not done",null,null,"Not done","not translated yet","Not done",null,null,"Not done","not translated yet","Not done",null,null,"Not done","not translated yet","Not done",null,null,"Not done","not translated yet","Not done",null,null,null,null,null,null,null,null,156,200204,200204,200204,200204,200204,200204,200204,200204,200204,200204,"Not done","NA","Not done","Not done","Not done","Not done","Not done",null,null,null,null,"Querverbinder 20 Pol (20 Stk)","Cross Connector for Mains Terminals (20 pcs)","Cross Connector for Mains Terminals (20 pcs)","Peigne de connexion 20 pôles","Conector transversal 20 polos (20 Ud)","20-ti pólová propojka Weidmuller (20 ks)","Collegamento trasversale 20 poli (20pz)","Querverbinder 20 Pol (20 Stk)","20-ti pólová propojka Weidmuller (20 ks)","Weidmüller dwarsverbinder 20-polig (20) stuks)","not translated yet","not available in this country","not translated yet","not translated yet","not translated yet","not translated yet","not translated yet",null,null,null,null,null,90.38,80,84,90.38,90.38,2463.77,90.38,117.49,90.38,90.38,"Not done",0,"Not done","Not done","Not done","Not done","Not done"]
[100200,"Dali Extension",461.12,null,null,100200,"Dali Extension",410,null,null,100200,"Dali Extension",630,null,null,100200,"Extension Dali",461.12,null,null,100200,"Dali Extension",461.12,null,null,100200,"Dali Extension",12528.37,null,null,100200,"Dali Extension",461.12,null,null,100200,"Dali Extension",599.46,null,null,100200,"Dali Extension",461.12,null,null,100200,"Dali Extension",461.12,null,null,"Not done","not translated yet","Not done",null,null,100200,"Dali Extension",149900,null,"Not done","not translated yet","Not done",null,null,"Not done","not translated yet","Not done",null,null,"Not done","not translated yet","Not done",null,null,"Not done","not translated yet","Not done",null,null,"Not done","not translated yet","Not done",null,null,null,null,null,null,null,null,157,100200,100200,100200,100200,100200,100200,100200,100200,100200,100200,"Not done",100200,"Not done","Not done","Not done","Not done","Not done",null,null,null,null,"Dali Extension","Dali Extension","Dali Extension","Extension Dali","Dali Extension","Dali Extension","Dali Extension","Dali Extension","Dali Extension","Dali Extension","not translated yet","Dali Extension","not translated yet","not translated yet","not translated yet","not translated yet","not translated yet",null,null,null,null,null,461.12,410,630,461.12,461.12,12528.37,461.12,599.46,461.12,461.12,"Not done",149900,"Not done","Not done","Not done","Not done","Not done"]
[200297,"LED Schaltnetzteil 24V 2.5A",29.78,null,null,200297,"24V LED Power Supply (2.5A)",26,null,null,200297,"24V LED Power Supply (2.5A)",41,null,null,200297,"Alimentation MeanWell 24V; 2,5A",29.78,null,null,200297,"Fuente de alimentación LED 24V 2.5A",29.78,null,null,200297,"Spínaný LED zdroj 24V 2,5A",820.57,null,null,200297,"Alimentatore LED 24V 2,5A",29.78,null,null,200297,"LED Schaltnetzteil 24V 2.5A",38.72,null,null,200297,"Spínaný LED zdroj 24V 2,5A",29.78,null,null,200297,"Led voeding 24V, 2,5 A",29.78,null,null,"Not done","not translated yet","Not done",null,null,200297,"24V LED tápegység (2.5A)",10990,null,"Not done","not translated yet","Not done",null,null,"Not done","not translated yet","Not done",null,null,"Not done","not translated yet","Not done",null,null,"Not done","not translated yet","Not done",null,null,"Not done","not translated yet","Not done",null,null,null,null,null,null,null,null,158,200297,200297,200297,200297,200297,200297,200297,200297,200297,200297,"Not done",200297,"Not done","Not done","Not done","Not done","Not done",null,null,null,null,"LED Schaltnetzteil 24V 2.5A","24V LED Power Supply (2.5A)","24V LED Power Supply (2.5A)","Alimentation MeanWell 24V; 2,5A","Fuente de alimentación LED 24V 2.5A","Spínaný LED zdroj 24V 2,5A","Alimentatore LED 24V 2,5A","LED Schaltnetzteil 24V 2.5A","Spínaný LED zdroj 24V 2,5A","Led voeding 24V, 2,5 A","not translated yet","24V LED tápegység (2.5A)","not translated yet","not translated yet","not translated yet","not translated yet","not translated yet",null,null,null,null,null,29.78,26,41,29.78,29.78,820.57,29.78,38.72,29.78,29.78,"Not done",10990,"Not done","Not done","Not done","Not done","Not done"]
[100206,"Touch pure Air Weiß",153.02000000000001,null,null,100206,"Touch Pure Air - White",135,null,null,100206,"Touch pure Air White",199,null,null,100206,"Touch Pure Blanc",153.02000000000001,null,null,100206,"Touch pure Air Blanco",153.02000000000001,null,null,100206,"Touch pure Air bílá",4106.97,null,null,100206,"Touch pure Air bianco",153.02000000000001,null,null,100206,"Touch pure Air Weiß",198.93,null,null,100206,"Touch pure Air bílá",153.02000000000001,null,null,100206,"Touch Pure AIR wit",153.02000000000001,null,null,"Not done","not translated yet","Not done",null,null,100206,"Touch Pure Air - Fehér",49900,null,"Not done","not translated yet","Not done",null,null,"Not done","not translated yet","Not done",null,null,"Not done","not translated yet","Not done",null,null,"Not done","not translated yet","Not done",null,null,"Not done","not translated yet","Not done",null,null,null,null,null,null,null,null,159,100206,100206,100206,100206,100206,100206,100206,100206,100206,100206,"Not done",100206,"Not done","Not done","Not done","Not done","Not done",null,null,null,null,"Touch pure Air Weiß","Touch Pure Air - White","Touch pure Air White","Touch Pure Blanc","Touch pure Air Blanco","Touch pure Air bílá","Touch pure Air bianco","Touch pure Air Weiß","Touch pure Air bílá","Touch Pure AIR wit","not translated yet","Touch Pure Air - Fehér","not translated yet","not translated yet","not translated yet","not translated yet","not translated yet",null,null,null,null,null,153.02000000000001,135,199,153.02000000000001,153.02000000000001,4106.97,153.02000000000001,198.93,153.02000000000001,153.02000000000001,"Not done",49900,"Not done","Not done","Not done","Not done","Not done"]
[100207,"Touch pure Nano Weiß",122.21,null,null,100207,"Touch Pure for Nano - White",107.5,null,null,"not available in this country","not available in this country",null,null,null,100207,"Touch Pure pour Nano Blanc",122.21,null,null,100207,"Touch pure Nano Blanco",122.21,null,null,100207,"Touch pure for Nano bílá",3285.37,null,null,100207,"Touch pure Nano bianco",122.21,null,null,100207,"Touch pure Nano Weiß",158.88,null,null,100207,"Touch pure for Nano bílá",122.21,null,null,100207,"Touch Pure NANO wit",122.21,null,null,"Not done","not translated yet","Not done",null,null,100207,"Touch Pure for Nano - Fehér",39900,null,"Not done","not translated yet","Not done",null,null,"Not done","not translated yet","Not done",null,null,"Not done","not translated yet","Not done",null,null,"Not done","not translated yet","Not done",null,null,"Not done","not translated yet","Not done",null,null,null,null,null,null,null,null,160,100207,100207,"not available in this country",100207,100207,100207,100207,100207,100207,100207,"Not done",100207,"Not done","Not done","Not done","Not done","Not done",null,null,null,null,"Touch pure Nano Weiß","Touch Pure for Nano - White","not available in this country","Touch Pure pour Nano Blanc","Touch pure Nano Blanco","Touch pure for Nano bílá","Touch pure Nano bianco","Touch pure Nano Weiß","Touch pure for Nano bílá","Touch Pure NANO wit","not translated yet","Touch Pure for Nano - Fehér","not translated yet","not translated yet","not translated yet","not translated yet","not translated yet",null,null,null,null,null,122.21,107.5,0,122.21,122.21,3285.37,122.21,158.88,122.21,122.21,"Not done",39900,"Not done","Not done","Not done","Not done","Not done"]
[100219,"Touch pure Tree Weiß",153.02000000000001,null,null,100219,"Touch Pure Tree - White",135,null,null,100219,"Touch pure Tree White",199,null,null,100219,"Touch Pure Tree Blanc",153.02000000000001,null,null,100219,"Touch pure Tree Blanco",153.02000000000001,null,null,100219,"Touch pure Tree bílá",4106.97,null,null,100219,"Touch pure Tree bianco",153.02000000000001,null,null,100219,"Touch pure Tree Weiß",198.93,null,null,100219,"Touch pure Tree bílá",153.02000000000001,null,null,100219,"Touch Pure TREE wit",153.02000000000001,null,null,"Not done","not translated yet","Not done",null,null,100219,"Touch Pure Tree - Fehér",49900,null,"Not done","not translated yet","Not done",null,null,"Not done","not translated yet","Not done",null,null,"Not done","not translated yet","Not done",null,null,"Not done","not translated yet","Not done",null,null,"Not done","not translated yet","Not done",null,null,null,null,null,null,null,null,161,100219,100219,100219,100219,100219,100219,100219,100219,100219,100219,"Not done",100219,"Not done","Not done","Not done","Not done","Not done",null,null,null,null,"Touch pure Tree Weiß","Touch Pure Tree - White","Touch pure Tree White","Touch Pure Tree Blanc","Touch pure Tree Blanco","Touch pure Tree bílá","Touch pure Tree bianco","Touch pure Tree Weiß","Touch pure Tree bílá","Touch Pure TREE wit","not translated yet","Touch Pure Tree - Fehér","not translated yet","not translated yet","not translated yet","not translated yet","not translated yet",null,null,null,null,null,153.02000000000001,135,199,153.02000000000001,153.02000000000001,4106.97,153.02000000000001,198.93,153.02000000000001,153.02000000000001,"Not done",49900,"Not done","Not done","Not done","Not done","Not done"]
[200108,"Internorm Extension",255.89,null,null,"NA","not available in this country",0,null,null,"not available in this country","not available in this country",0,null,null,"not available in this country","not available in this country",255.89,null,null,"not available in this country","not available in this country",255.89,null,null,200108,"Internorm Extension",6982.57,null,null,200108,"Internorm Extension",255.89,null,null,100232,"Internorm Extencion",332.65,null,null,200108,"Internorm Extension",255.89,null,null,"not available in this country","not available in this country",255.89,null,null,"not available in this country","not available in this country",0,null,null,"NA","not available in this country",0,null,"not available in this country","not available in this country","not available in this country",null,null,"Not done","not translated yet","Not done",null,null,"Not done","not translated yet","Not done",null,null,"Not done","not translated yet","Not done",null,null,"Not done","not translated yet","Not done",null,null,null,null,null,null,null,null,162,200108,"NA","not available in this country","not available in this country","not available in this country",200108,200108,100232,200108,"not available in this country","not available in this country","NA","not available in this country","Not done","Not done","Not done","Not done",null,null,null,null,"Internorm Extension","not available in this country","not available in this country","not available in this country","not available in this country","Internorm Extension","Internorm Extension","Internorm Extencion","Internorm Extension","not available in this country","not available in this country","not available in this country","not available in this country","not translated yet","not translated yet","not translated yet","not translated yet",null,null,null,null,null,255.89,0,0,255.89,255.89,6982.57,255.89,332.65,255.89,255.89,0,0,"not available in this country","Not done","Not done","Not done","Not done"]
[100212,"Nano Dimmer Air",94.48,null,null,100212,"Nano Dimmer Air",82.5,null,null,"not available in this country","not available in this country",0,null,null,100212,"Nano Dimmer Air",94.48,null,null,100212,"Nano Dimmer Air",94.48,null,null,100212,"Nano Dimmer Air",2566.4699999999998,null,null,100212,"Nano Dimmer Air",94.48,null,null,100212,"Nano Dimmer Air",122.83,null,null,100212,"Nano Dimmer Air",94.48,null,null,100212,"Nano Dimmer Air",94.48,null,null,"Not done","not translated yet","Not done",null,null,100212,"Nano Dimmer Air",31900,null,"Not done","not translated yet","Not done",null,null,"Not done","not translated yet","Not done",null,null,"Not done","not translated yet","Not done",null,null,"Not done","not translated yet","Not done",null,null,"Not done","not translated yet","Not done",null,null,null,null,null,null,null,null,163,100212,100212,"not available in this country",100212,100212,100212,100212,100212,100212,100212,"Not done",100212,"Not done","Not done","Not done","Not done","Not done",null,null,null,null,"Nano Dimmer Air","Nano Dimmer Air","not available in this country","Nano Dimmer Air","Nano Dimmer Air","Nano Dimmer Air","Nano Dimmer Air","Nano Dimmer Air","Nano Dimmer Air","Nano Dimmer Air","not translated yet","Nano Dimmer Air","not translated yet","not translated yet","not translated yet","not translated yet","not translated yet",null,null,null,null,null,94.48,82.5,0,94.48,94.48,2566.4699999999998,94.48,122.83,94.48,94.48,"Not done",31900,"Not done","Not done","Not done","Not done","Not done"]
[200300,"Rangierdraht (100m) blau/weiß",11.3,null,null,"NA","not available in this country",0,null,null,200300,"Panel wire (328ft) blue/white",15,null,null,200300,"Câble d'interconnexion (100m) bleu/blanc",11.3,null,null,200300,"Cable para puentes (100mts) azul/blanco",11.3,null,null,200300,"Dvoužilový kroucený kabel modrá/bílá",307.07,null,null,200300,"Cavo due fili twistati (100m) blu/bianco",11.3,null,null,200300,"Rangierdraht (100m) blau/weiß",14.69,null,null,200300,"Dvoužilový kroucený kabel modrá/bílá",11.3,null,null,200300,"Verbindingsdraad (100m) blauw/wit",11.3,null,null,"Not done","not translated yet","Not done",null,null,"NA","not available in this country","Not done",null,"Not done","not translated yet","Not done",null,null,"Not done","not translated yet","Not done",null,null,"Not done","not translated yet","Not done",null,null,"Not done","not translated yet","Not done",null,null,"Not done","not translated yet","Not done",null,null,null,null,null,null,null,null,164,200300,"NA",200300,200300,200300,200300,200300,200300,200300,200300,"Not done","NA","Not done","Not done","Not done","Not done","Not done",null,null,null,null,"Rangierdraht (100m) blau/weiß","not available in this country","Panel wire (328ft) blue/white","Câble d'interconnexion (100m) bleu/blanc","Cable para puentes (100mts) azul/blanco","Dvoužilový kroucený kabel modrá/bílá","Cavo due fili twistati (100m) blu/bianco","Rangierdraht (100m) blau/weiß","Dvoužilový kroucený kabel modrá/bílá","Verbindingsdraad (100m) blauw/wit","not translated yet","not available in this country","not translated yet","not translated yet","not translated yet","not translated yet","not translated yet",null,null,null,null,null,11.3,0,15,11.3,11.3,307.07,11.3,14.69,11.3,11.3,"Not done","Not done","Not done","Not done","Not done","Not done","Not done"]
[200301,"Rangierdraht (100m) orange/weiß",11.3,null,null,"NA","not available in this country",0,null,null,200301,"Panel wire (328ft) orange/white",15,null,null,200301,"Câble d'interconnexion (100m) orange/blanc",11.3,null,null,200301,"Cable para puentes (100mts) naranja/blanco",11.3,null,null,200301,"Dvoužilový kroucený kabel oranžová/bílá",307.07,null,null,200301,"Cavo due fili twistati (100m) arancione/bianco",11.3,null,null,200301,"Rangierdraht (100m) orange/weiß",14.69,null,null,200301,"Dvoužilový kroucený kabel oranžová/bílá",11.3,null,null,200301,"Verbindingsdraad (100m) oranje/wit",11.3,null,null,"Not done","not translated yet","Not done",null,null,"NA","not available in this country","Not done",null,"Not done","not translated yet","Not done",null,null,"Not done","not translated yet","Not done",null,null,"Not done","not translated yet","Not done",null,null,"Not done","not translated yet","Not done",null,null,"Not done","not translated yet","Not done",null,null,null,null,null,null,null,null,165,200301,"NA",200301,200301,200301,200301,200301,200301,200301,200301,"Not done","NA","Not done","Not done","Not done","Not done","Not done",null,null,null,null,"Rangierdraht (100m) orange/weiß","not available in this country","Panel wire (328ft) orange/white","Câble d'interconnexion (100m) orange/blanc","Cable para puentes (100mts) naranja/blanco","Dvoužilový kroucený kabel oranžová/bílá","Cavo due fili twistati (100m) arancione/bianco","Rangierdraht (100m) orange/weiß","Dvoužilový kroucený kabel oranžová/bílá","Verbindingsdraad (100m) oranje/wit","not translated yet","not available in this country","not translated yet","not translated yet","not translated yet","not translated yet","not translated yet",null,null,null,null,null,11.3,0,15,11.3,11.3,307.07,11.3,14.69,11.3,11.3,"Not done","Not done","Not done","Not done","Not done","Not done","Not done"]
[200302,"Rangierdraht (100m) grün/weiß",11.3,null,null,"NA","not available in this country",0,null,null,200302,"Panel wire (328ft) green/white",15,null,null,200302,"Câble d'interconnexion (100m) vert/blanc",11.3,null,null,200302,"Cable para puentes (100mts) verde/blanco",11.3,null,null,200302,"Dvoužilový kroucený kabel zelená/bílá",307.07,null,null,200302,"Cavo due fili twistati (100m) verde/bianco",11.3,null,null,200302,"Rangierdraht (100m) grün/weiß",14.69,null,null,200302,"Dvoužilový kroucený kabel zelená/bílá",11.3,null,null,200302,"Verbindingsdraad (100m) groen/wit",11.3,null,null,"Not done","not translated yet","Not done",null,null,"NA","not available in this country","Not done",null,"Not done","not translated yet","Not done",null,null,"Not done","not translated yet","Not done",null,null,"Not done","not translated yet","Not done",null,null,"Not done","not translated yet","Not done",null,null,"Not done","not translated yet","Not done",null,null,null,null,null,null,null,null,166,200302,"NA",200302,200302,200302,200302,200302,200302,200302,200302,"Not done","NA","Not done","Not done","Not done","Not done","Not done",null,null,null,null,"Rangierdraht (100m) grün/weiß","not available in this country","Panel wire (328ft) green/white","Câble d'interconnexion (100m) vert/blanc","Cable para puentes (100mts) verde/blanco","Dvoužilový kroucený kabel zelená/bílá","Cavo due fili twistati (100m) verde/bianco","Rangierdraht (100m) grün/weiß","Dvoužilový kroucený kabel zelená/bílá","Verbindingsdraad (100m) groen/wit","not translated yet","not available in this country","not translated yet","not translated yet","not translated yet","not translated yet","not translated yet",null,null,null,null,null,11.3,0,15,11.3,11.3,307.07,11.3,14.69,11.3,11.3,"Not done","Not done","Not done","Not done","Not done","Not done","Not done"]
[200287,"Duracell Plus Power AA (12 Stk)",9.76,null,null,200287,"Duracell Plus Power AA (Pack of 12)",9,null,null,"not available in this country","not available in this country",0,null,null,200287,"Duracell Plus Power AA (12 Stk)",9.76,null,null,200287,"Duracell Plus Power AA (12 Stk)",9.76,null,null,200287,"Duracell Plus Power AA (12 ks)",220.81,null,null,200287,"Duracell Plus Power AA (12 pz)",9.76,null,null,200287,"Duracell Plus Power AA (12 Stk)",12.68,null,null,200287,"Duracell Plus Power AA (12 ks)",9.76,null,null,200287,"Duracell Plus Power AA (12 St)",9.76,null,null,"Not done","not translated yet","Not done",null,null,"NA","not available in this country","Not done",null,"Not done","not translated yet","Not done",null,null,"Not done","not translated yet","Not done",null,null,"Not done","not translated yet","Not done",null,null,"Not done","not translated yet","Not done",null,null,"Not done","not translated yet","Not done",null,null,null,null,null,null,null,null,167,200287,200287,"not available in this country",200287,200287,200287,200287,200287,200287,200287,"Not done","NA","Not done","Not done","Not done","Not done","Not done",null,null,null,null,"Duracell Plus Power AA (12 Stk)","Duracell Plus Power AA (Pack of 12)","not available in this country","Duracell Plus Power AA (12 Stk)","Duracell Plus Power AA (12 Stk)","Duracell Plus Power AA (12 ks)","Duracell Plus Power AA (12 pz)","Duracell Plus Power AA (12 Stk)","Duracell Plus Power AA (12 ks)","Duracell Plus Power AA (12 St)","not translated yet","not available in this country","not translated yet","not translated yet","not translated yet","not translated yet","not translated yet",null,null,null,null,null,9.76,9,0,9.76,9.76,220.81,9.76,12.68,9.76,9.76,"Not done","Not done","Not done","Not done","Not done","Not done","Not done"]
[200288,"Duracell Plus Power AAA (12 Stk)",9.76,null,null,200288,"Duracell Plus Power AAA (Pack of 12)",9,null,null,"not available in this country","not available in this country",0,null,null,200288,"Duracell Plus Power AAA (12 Stk)",9.76,null,null,200288,"Duracell Plus Power AAA (12 Stk)",9.76,null,null,200288,"Duracell Plus Power AAA (12 ks)",220.81,null,null,200288,"Duracell Plus Power AAA (12 pz)",9.76,null,null,200288,"Duracell Plus Power AAA (12 Stk)",12.68,null,null,200288,"Duracell Plus Power AAA (12 ks)",9.76,null,null,200288,"Duracell Plus Power AAA (12 St)",9.76,null,null,"Not done","not translated yet","Not done",null,null,"NA","not available in this country","Not done",null,"Not done","not translated yet","Not done",null,null,"Not done","not translated yet","Not done",null,null,"Not done","not translated yet","Not done",null,null,"Not done","not translated yet","Not done",null,null,"Not done","not translated yet","Not done",null,null,null,null,null,null,null,null,168,200288,200288,"not available in this country",200288,200288,200288,200288,200288,200288,200288,"Not done","NA","Not done","Not done","Not done","Not done","Not done",null,null,null,null,"Duracell Plus Power AAA (12 Stk)","Duracell Plus Power AAA (Pack of 12)","not available in this country","Duracell Plus Power AAA (12 Stk)","Duracell Plus Power AAA (12 Stk)","Duracell Plus Power AAA (12 ks)","Duracell Plus Power AAA (12 pz)","Duracell Plus Power AAA (12 Stk)","Duracell Plus Power AAA (12 ks)","Duracell Plus Power AAA (12 St)","not translated yet","not available in this country","not translated yet","not translated yet","not translated yet","not translated yet","not translated yet",null,null,null,null,null,9.76,9,0,9.76,9.76,220.81,9.76,12.68,9.76,9.76,"Not done","Not done","Not done","Not done","Not done","Not done","Not done"]
[200289,"Knopfzelle CR2032 (20 Stk ZB Remote)",10.27,null,null,200289,"CR2032 Lithium Battery (Pack of 20)",9,null,null,"not available in this country","not available in this country",0,null,null,200289,"Pile bouton CR2032 (20 Stk ZB Remote)",10.27,null,null,200289,"Pila botón CR2032 (20 Uni)",10.27,null,null,200289,"CR2032 Lithium Battery (20 ks)",276.26,null,null,200289,"Pila a bottone CR2032 (20 pz pes Remote)",10.27,null,null,200289,"Knopfzelle CR2032 (20 Stk ZB Remote)",13.35,null,null,200289,"CR2032 Lithium Battery (20 ks)",10.27,null,null,200289,"Knoopbatterij CR2032 (20 St vb Remote)",10.27,null,null,"Not done","not translated yet","Not done",null,null,"NA","not available in this country","Not done",null,"Not done","not translated yet","Not done",null,null,"Not done","not translated yet","Not done",null,null,"Not done","not translated yet","Not done",null,null,"Not done","not translated yet","Not done",null,null,"Not done","not translated yet","Not done",null,null,null,null,null,null,null,null,169,200289,200289,"not available in this country",200289,200289,200289,200289,200289,200289,200289,"Not done","NA","Not done","Not done","Not done","Not done","Not done",null,null,null,null,"Knopfzelle CR2032 (20 Stk ZB Remote)","CR2032 Lithium Battery (Pack of 20)","not available in this country","Pile bouton CR2032 (20 Stk ZB Remote)","Pila botón CR2032 (20 Uni)","CR2032 Lithium Battery (20 ks)","Pila a bottone CR2032 (20 pz pes Remote)","Knopfzelle CR2032 (20 Stk ZB Remote)","CR2032 Lithium Battery (20 ks)","Knoopbatterij CR2032 (20 St vb Remote)","not translated yet","not available in this country","not translated yet","not translated yet","not translated yet","not translated yet","not translated yet",null,null,null,null,null,10.27,9,0,10.27,10.27,276.26,10.27,13.35,10.27,10.27,"Not done","Not done","Not done","Not done","Not done","Not done","Not done"]
[200290,"Knopfzelle CR2450 (20 Stk ZB Touch Air)",23.11,null,null,200290,"CR2450 Lithium Battery (Pack of 20)",20.5,null,null,"not available in this country","not available in this country",0,null,null,200290,"Pile bouton CR2450 (20 Stk ZB Touch Air)",23.11,null,null,200290,"Pila botón CR2450 (20 Uni)",23.11,null,null,200290,"CR2450 Lithium Battery (20 ks)",615.16999999999996,null,null,200290,"Pila a bottone CR2450 (20 pz pes Touch Air)",23.11,null,null,200290,"Knopfzelle CR2450 (20 Stk ZB Touch Air)",30.04,null,null,200290,"CR2450 Lithium Battery (20 ks)",23.11,null,null,200290,"Knoopbatterij CR2450 (20 St vb Touch Air)",23.11,null,null,"Not done","not translated yet","Not done",null,null,"NA","not available in this country","Not done",null,"Not done","not translated yet","Not done",null,null,"Not done","not translated yet","Not done",null,null,"Not done","not translated yet","Not done",null,null,"Not done","not translated yet","Not done",null,null,"Not done","not translated yet","Not done",null,null,null,null,null,null,null,null,170,200290,200290,"not available in this country",200290,200290,200290,200290,200290,200290,200290,"Not done","NA","Not done","Not done","Not done","Not done","Not done",null,null,null,null,"Knopfzelle CR2450 (20 Stk ZB Touch Air)","CR2450 Lithium Battery (Pack of 20)","not available in this country","Pile bouton CR2450 (20 Stk ZB Touch Air)","Pila botón CR2450 (20 Uni)","CR2450 Lithium Battery (20 ks)","Pila a bottone CR2450 (20 pz pes Touch Air)","Knopfzelle CR2450 (20 Stk ZB Touch Air)","CR2450 Lithium Battery (20 ks)","Knoopbatterij CR2450 (20 St vb Touch Air)","not translated yet","not available in this country","not translated yet","not translated yet","not translated yet","not translated yet","not translated yet",null,null,null,null,null,23.11,20.5,0,23.11,23.11,615.16999999999996,23.11,30.04,23.11,23.11,"Not done","Not done","Not done","Not done","Not done","Not done","Not done"]
[200291,"FDK 9V Lithiumzelle (zB Rauchmelder Air)",9.24,null,null,200291,"FDK 9V Lithium Battery",8.25,null,null,"not available in this country","not available in this country",0,null,null,200291,"FDK 9V Pile Lithium (Ex détecteur de fumée Air)",9.24,null,null,200291,"FDK 9V Pila Litio (ej det Humo)",9.24,null,null,200291,"FDK 9V Lithium Battery",251.62,null,null,200291,"FDK 9V batteria al litio (pes rilevatore fumo Air)",9.24,null,null,200291,"FDK 9V Lithiumzelle (zB Rauchmelder Air)",12.02,null,null,200291,"FDK 9V Lithium Battery",9.24,null,null,200291,"FDK 9V Lithiumbatterij (vb Rookmelder Air)",9.24,null,null,"Not done","not translated yet","Not done",null,null,"NA","not available in this country","Not done",null,"Not done","not translated yet","Not done",null,null,"Not done","not translated yet","Not done",null,null,"Not done","not translated yet","Not done",null,null,"Not done","not translated yet","Not done",null,null,"Not done","not translated yet","Not done",null,null,null,null,null,null,null,null,171,200291,200291,"not available in this country",200291,200291,200291,200291,200291,200291,200291,"Not done","NA","Not done","Not done","Not done","Not done","Not done",null,null,null,null,"FDK 9V Lithiumzelle (zB Rauchmelder Air)","FDK 9V Lithium Battery","not available in this country","FDK 9V Pile Lithium (Ex détecteur de fumée Air)","FDK 9V Pila Litio (ej det Humo)","FDK 9V Lithium Battery","FDK 9V batteria al litio (pes rilevatore fumo Air)","FDK 9V Lithiumzelle (zB Rauchmelder Air)","FDK 9V Lithium Battery","FDK 9V Lithiumbatterij (vb Rookmelder Air)","not translated yet","not available in this country","not translated yet","not translated yet","not translated yet","not translated yet","not translated yet",null,null,null,null,null,9.24,8.25,0,9.24,9.24,251.62,9.24,12.02,9.24,9.24,"Not done","Not done","Not done","Not done","Not done","Not done","Not done"]
[100242,"Nano DI Tree",63.67,null,null,100242,"Nano DI Tree",57.5,null,null,100242,"Nano DI Tree",87,null,null,100242,"Interface BP Tree",63.67,null,null,100242,"Nano DI Tree",63.67,null,null,100242,"Nano DI Tree",1744.87,null,null,100242,"Nano DI Tree",63.67,null,null,100242,"Nano DI Tree",82.78,null,null,100242,"Nano DI Tree",63.67,null,null,100242,"Nano DI Tree",63.67,null,null,"Not done","not translated yet","Not done",null,null,100242,"Nano DI Tree",20900,null,"Not done","not translated yet","Not done",null,null,"Not done","not translated yet","Not done",null,null,"Not done","not translated yet","Not done",null,null,"Not done","not translated yet","Not done",null,null,"Not done","not translated yet","Not done",null,null,null,null,null,null,null,null,172,100242,100242,100242,100242,100242,100242,100242,100242,100242,100242,"Not done",100242,"Not done","Not done","Not done","Not done","Not done",null,null,null,null,"Nano DI Tree","Nano DI Tree","Nano DI Tree","Interface BP Tree","Nano DI Tree","Nano DI Tree","Nano DI Tree","Nano DI Tree","Nano DI Tree","Nano DI Tree","not translated yet","Nano DI Tree","not translated yet","not translated yet","not translated yet","not translated yet","not translated yet",null,null,null,null,null,63.67,57.5,87,63.67,63.67,1744.87,63.67,82.78,63.67,63.67,"Not done",20900,"Not done","Not done","Not done","Not done","Not done"]
[0,"Feller Adapter Set x10",null,null,null,"not available in this country","not available in this country",0,null,null,"not available in this country","not available in this country",0,null,null,"not available in this country","not available in this country",null,null,null,"not available in this country","not available in this country",null,null,null,"not available in this country","not available in this country",0,null,null,0,"Feller Adattatore Completo/ 10 pezzi",null,null,null,100234,"Feller Adapter Set x10",86.78,null,null,"not available in this country","not available in this country",null,null,null,"not available in this country","not available in this country",null,null,null,"Not done","not translated yet","Not done",null,null,"not available in this country","not available in this country","Not done",null,"Not done","not translated yet","Not done",null,null,"not available in this country","not available in this country",0,null,null,"not available in this country","not available in this country",0,null,null,"not available in this country","not available in this country",0,null,null,"not available in this country","not available in this country",0,null,null,null,null,null,null,null,null,173,0,"not available in this country","not available in this country","not available in this country","not available in this country","not available in this country",0,100234,"not available in this country","not available in this country","Not done","not available in this country","Not done","not available in this country","not available in this country","not available in this country","not available in this country",null,null,null,null,"Feller Adapter Set x10","not available in this country","not available in this country","not available in this country","not available in this country","not available in this country","Feller Adattatore Completo/ 10 pezzi","Feller Adapter Set x10","not available in this country","not available in this country","not translated yet","not available in this country","not translated yet","not available in this country","not available in this country","not available in this country","not available in this country",null,null,null,null,null,0,0,0,0,0,0,0,86.78,0,0,"Not done","Not done","Not done",0,0,0,0]
[100209,"Touch pure Nano Anthrazit",122.21,null,null,"not available in this country","not available in this country",0,null,null,100209,"Touch pure Nano Black",167,null,null,100209,"Touch pure for Nano Anthracite",122.21,null,null,100209,"Touch pure para Nano Antracita",122.21,null,null,100209,"Touch pure for Nano Anthracite",3285.37,null,null,100209,"Touch pure Nano antracite",122.21,null,null,0,"no longer sold",0,null,null,100209,"Touch pure for Nano Anthracite",122.21,null,null,100209,"Touch pure Nano Anthraciet",122.21,null,null,"Not done","not translated yet","Not done",null,null,"not available in this country","not available in this country","Not done",null,"Not done","not translated yet","Not done",null,null,"Not done","not translated yet","Not done",null,null,"Not done","not translated yet","Not done",null,null,"Not done","not translated yet","Not done",null,null,"Not done","not translated yet","Not done",null,null,null,null,null,null,null,null,174,{"$f":"A177","v":100209},"not available in this country",100209,100209,100209,100209,100209,0,100209,100209,"Not done","not available in this country","Not done","Not done","Not done","Not done","Not done",null,null,null,null,{"$f":"B177","v":"Touch pure Nano Anthrazit"},"not available in this country","Touch pure Nano Black","Touch pure for Nano Anthracite","Touch pure para Nano Antracita","Touch pure for Nano Anthracite","Touch pure Nano antracite","no longer sold","Touch pure for Nano Anthracite","Touch pure Nano Anthraciet","not translated yet","not available in this country","not translated yet","not translated yet","not translated yet","not translated yet","not translated yet",null,null,null,null,null,{"$f":"C177","v":122.21},0,167,122.21,122.21,3285.37,122.21,0,122.21,122.21,"Not done","Not done","Not done","Not done","Not done","Not done","Not done"]
[100220,"Touch pure Tree Anthrazit",153.02000000000001,null,null,"not available in this country","not available in this country",0,null,null,100220,"Touch pure Tree Black",199,null,null,100220,"Touch pure Tree Anthracite",153.02000000000001,null,null,100220,"Touch pure Tree Antracita",153.02000000000001,null,null,100220,"Touch pure for Tree Anthracite",4106.97,null,null,100220,"Touch pure Tree antracite",153.02000000000001,null,null,0,"no longer sold",0,null,null,100220,"Touch pure for Tree Anthracite",153.02000000000001,null,null,100220,"Touch pure Tree Anthraciet",153.02000000000001,null,null,"Not done","not translated yet","Not done",null,null,"not available in this country","not available in this country","Not done",null,"Not done","not translated yet","Not done",null,null,"Not done","not translated yet","Not done",null,null,"Not done","not translated yet","Not done",null,null,"Not done","not translated yet","Not done",null,null,"Not done","not translated yet","Not done",null,null,null,null,null,null,null,null,175,100220,"not available in this country",100220,100220,100220,100220,100220,0,100220,100220,"Not done","not available in this country","Not done","Not done","Not done","Not done","Not done",null,null,null,null,"Touch pure Tree Anthrazit","not available in this country","Touch pure Tree Black","Touch pure Tree Anthracite","Touch pure Tree Antracita","Touch pure for Tree Anthracite","Touch pure Tree antracite","no longer sold","Touch pure for Tree Anthracite","Touch pure Tree Anthraciet","not translated yet","not available in this country","not translated yet","not translated yet","not translated yet","not translated yet","not translated yet",null,null,null,null,null,153.02000000000001,0,199,153.02000000000001,153.02000000000001,4106.97,153.02000000000001,0,153.02000000000001,153.02000000000001,"Not done","Not done","Not done","Not done","Not done","Not done","Not done"]
[100208,"Touch pure Air Anthrazit",153.02000000000001,null,null,"not available in this country","not available in this country",0,null,null,100208,"Touch pure Air Black",199,null,null,100208,"Touch pure Air Anthracite",153.02000000000001,null,null,100208,"Touch pure Air Antracita",153.02000000000001,null,null,100208,"Touch pure Air Anthracite",4106.97,null,null,100208,"Touch pure Air antracite",153.02000000000001,null,null,0,"no longer sold",0,null,null,100208,"Touch pure Air Anthracite",153.02000000000001,null,null,100208,"Touch pure Air Anthraciet",153.02000000000001,null,null,"Not done","not translated yet","Not done",null,null,"not available in this country","not available in this country","Not done",null,"Not done","not translated yet","Not done",null,null,"Not done","not translated yet","Not done",null,null,"Not done","not translated yet","Not done",null,null,"Not done","not translated yet","Not done",null,null,"Not done","not translated yet","Not done",null,null,null,null,null,null,null,null,176,100208,"not available in this country",100208,100208,100208,100208,100208,0,100208,100208,"Not done","not available in this country","Not done","Not done","Not done","Not done","Not done",null,null,null,null,"Touch pure Air Anthrazit","not available in this country","Touch pure Air Black","Touch pure Air Anthracite","Touch pure Air Antracita","Touch pure Air Anthracite","Touch pure Air antracite","no longer sold","Touch pure Air Anthracite","Touch pure Air Anthraciet","not translated yet","not available in this country","not translated yet","not translated yet","not translated yet","not translated yet","not translated yet",null,null,null,null,null,153.02000000000001,0,199,153.02000000000001,153.02000000000001,4106.97,153.02000000000001,0,153.02000000000001,153.02000000000001,"Not done","Not done","Not done","Not done","Not done","Not done","Not done"]
[100235,"LED Aufbauspot RGBW weiß",81.13,null,null,100235,"LED Ceiling Spot RGBW - White",72.5,null,null,100235,"LED Ceiling Spot RGBW - White",111,null,null,100235,"Spot LED Plafonnier RGBW",81.13,null,null,100235,"LED Spot RGBW de superfície blanco",81.13,null,null,100235,"Příložný LED Spot RGBW bílá",2207.02,null,null,100235,"LED Spot da soffitto RGBW bianco",81.13,null,null,100235,"LED Aufbauspot RGBW weiß",105.47,null,null,100235,"Příložný LED Spot RGBW bílá",81.13,null,null,100235,"LED Ceiling Spot RGBW",81.13,null,null,"Not done","not translated yet","Not done",null,null,100235,"LED Mennyezeti Szpot RGBW - Fehér",26900,null,"Not done","not translated yet","Not done",null,null,"Not done","not translated yet","Not done",null,null,"Not done","not translated yet","Not done",null,null,"Not done","not translated yet","Not done",null,null,"Not done","not translated yet","Not done",null,null,null,null,null,null,null,null,177,{"$f":"A180","v":100235},100235,100235,100235,100235,100235,100235,100235,100235,100235,"Not done",100235,"Not done","Not done","Not done","Not done","Not done",null,null,null,null,{"$f":"B180","v":"LED Aufbauspot RGBW weiß"},"LED Ceiling Spot RGBW - White","LED Ceiling Spot RGBW - White","Spot LED Plafonnier RGBW","LED Spot RGBW de superfície blanco","Příložný LED Spot RGBW bílá","LED Spot da soffitto RGBW bianco","LED Aufbauspot RGBW weiß","Příložný LED Spot RGBW bílá","LED Ceiling Spot RGBW","not translated yet","LED Mennyezeti Szpot RGBW - Fehér","not translated yet","not translated yet","not translated yet","not translated yet","not translated yet",null,null,null,null,null,{"$f":"C180","v":81.13},72.5,111,81.13,81.13,2207.02,81.13,105.47,81.13,81.13,"Not done",26900,"Not done","Not done","Not done","Not done","Not done"]
[100236,"LED Aufbauspot WW weiß",60.59,null,null,100236,"LED Ceiling Spot WW - White",52.5,null,null,100236,"LED Ceiling Spot WW - White",83,null,null,100236,"Spot LED Plafonnier WW",60.59,null,null,100236,"LED Spot WW de superfície blanco",60.59,null,null,100236,"Příložný LED Spot WW bílá",1642.17,null,null,100236,"LED Spot da soffitto WW bianco",60.59,null,null,100236,"LED Aufbauspot WW weiß",78.77,null,null,100236,"Příložný LED Spot WW bílá",60.59,null,null,100236,"LED Ceiling Spot WW",60.59,null,null,"Not done","not translated yet","Not done",null,null,100236,"LED Mennyezeti Szpot WW - Fehér",19900,null,"Not done","not translated yet","Not done",null,null,"Not done","not translated yet","Not done",null,null,"Not done","not translated yet","Not done",null,null,"Not done","not translated yet","Not done",null,null,"Not done","not translated yet","Not done",null,null,null,null,null,null,null,null,178,100236,100236,100236,100236,100236,100236,100236,100236,100236,100236,"Not done",100236,"Not done","Not done","Not done","Not done","Not done",null,null,null,null,"LED Aufbauspot WW weiß","LED Ceiling Spot WW - White","LED Ceiling Spot WW - White","Spot LED Plafonnier WW","LED Spot WW de superfície blanco","Příložný LED Spot WW bílá","LED Spot da soffitto WW bianco","LED Aufbauspot WW weiß","Příložný LED Spot WW bílá","LED Ceiling Spot WW","not translated yet","LED Mennyezeti Szpot WW - Fehér","not translated yet","not translated yet","not translated yet","not translated yet","not translated yet",null,null,null,null,null,60.59,52.5,83,60.59,60.59,1642.17,60.59,78.77,60.59,60.59,"Not done",19900,"Not done","Not done","Not done","Not done","Not done"]
[100237,"LED Aufbauspot Tree RGBW weiß",122.21,null,null,100237,"LED Ceiling Spot Tree RGBW - White",110,null,null,100237,"LED Ceiling Spot Tree RGBW - White",167,null,null,100237,"Spot LED Plafonnier Tree RGBW",122.21,null,null,100237,"LED Spot Tree RGBW de superfície blanco",122.21,null,null,100237,"Příložný LED Spot Tree RGBW bílá",3285.37,null,null,100237,"LED Spot da soffitto Tree RGBW bianco",122.21,null,null,100237,"LED Aufbauspot Tree RGBW weiß",158.88,null,null,100237,"Příložný LED Spot Tree RGBW bílá",122.21,null,null,100237,"LED Ceiling Spot Tree RGBW",122.21,null,null,"Not done","not translated yet","Not done",null,null,100237,"LED Mennyezeti Szpot Tree RGBW - Fehér",39900,null,"Not done","not translated yet","Not done",null,null,"Not done","not translated yet","Not done",null,null,"Not done","not translated yet","Not done",null,null,"Not done","not translated yet","Not done",null,null,"Not done","not translated yet","Not done",null,null,null,null,null,null,null,null,179,100237,100237,100237,100237,100237,100237,100237,100237,100237,100237,"Not done",100237,"Not done","Not done","Not done","Not done","Not done",null,null,null,null,"LED Aufbauspot Tree RGBW weiß","LED Ceiling Spot Tree RGBW - White","LED Ceiling Spot Tree RGBW - White","Spot LED Plafonnier Tree RGBW","LED Spot Tree RGBW de superfície blanco","Příložný LED Spot Tree RGBW bílá","LED Spot da soffitto Tree RGBW bianco","LED Aufbauspot Tree RGBW weiß","Příložný LED Spot Tree RGBW bílá","LED Ceiling Spot Tree RGBW","not translated yet","LED Mennyezeti Szpot Tree RGBW - Fehér","not translated yet","not translated yet","not translated yet","not translated yet","not translated yet",null,null,null,null,null,122.21,110,167,122.21,122.21,3285.37,122.21,158.88,122.21,122.21,"Not done",39900,"Not done","Not done","Not done","Not done","Not done"]
[100238,"LED Aufbauspot Tree WW weiß",101.67,null,null,100238,"LED Ceiling Spot Tree WW - White",90,null,null,100238,"LED Ceiling Spot Tree WW - White",139,null,null,100238,"Spot LED Plafonnier Tree WW",101.67,null,null,100238,"LED Spot Tree WW de superfície blanco",101.67,null,null,100238,"Příložný LED Spot Tree WW bílá",2771.87,null,null,100238,"LED Spot da soffitto Tree WW bianco",101.67,null,null,100238,"LED Aufbauspot Tree WW weiß",132.16999999999999,null,null,100238,"Příložný LED Spot Tree WW bílá",101.67,null,null,100238,"LED Ceiling Spot Tree WW",101.67,null,null,"Not done","not translated yet","Not done",null,null,100238,"LED Mennyezeti Szpot Tree WW - Fehér",32900,null,"Not done","not translated yet","Not done",null,null,"Not done","not translated yet","Not done",null,null,"Not done","not translated yet","Not done",null,null,"Not done","not translated yet","Not done",null,null,"Not done","not translated yet","Not done",null,null,null,null,null,null,null,null,180,100238,100238,100238,100238,100238,100238,100238,100238,100238,100238,"Not done",100238,"Not done","Not done","Not done","Not done","Not done",null,null,null,null,"LED Aufbauspot Tree WW weiß","LED Ceiling Spot Tree WW - White","LED Ceiling Spot Tree WW - White","Spot LED Plafonnier Tree WW","LED Spot Tree WW de superfície blanco","Příložný LED Spot Tree WW bílá","LED Spot da soffitto Tree WW bianco","LED Aufbauspot Tree WW weiß","Příložný LED Spot Tree WW bílá","LED Ceiling Spot Tree WW","not translated yet","LED Mennyezeti Szpot Tree WW - Fehér","not translated yet","not translated yet","not translated yet","not translated yet","not translated yet",null,null,null,null,null,101.67,90,139,101.67,101.67,2771.87,101.67,132.16999999999999,101.67,101.67,"Not done",32900,"Not done","Not done","Not done","Not done","Not done"]
[100268,"LED Spot Tree WW weiß",60.59,null,null,100268,"LED Spot Tree WW - White",52.5,null,null,100268,"LED Spot Tree WW - White",83,null,null,100268,"Spot LED Tree WW",60.59,null,null,100268,"LED Spot Tree WW blanco",60.59,null,null,100268,"LED Spot Tree WW bílá",1642.17,null,null,100268,"LED Spot Tree WW bianco",60.59,null,null,100268,"Led Spot Tree WW weiß",78.77,null,null,100268,"LED Spot Tree WW bílá",60.59,null,null,100268,"LED Spot Tree WW",60.59,null,null,"Not done","not translated yet","Not done",null,null,100268,"LED Szpot Tree WW - Fehér",19900,null,"Not done","not translated yet","Not done",null,null,"Not done","not translated yet","Not done",null,null,"Not done","not translated yet","Not done",null,null,"Not done","not translated yet","Not done",null,null,"Not done","not translated yet","Not done",null,null,null,null,null,null,null,null,181,100268,100268,100268,100268,100268,100268,100268,100268,100268,100268,"Not done",100268,"Not done","Not done","Not done","Not done","Not done",null,null,null,null,"LED Spot Tree WW weiß","LED Spot Tree WW - White","LED Spot Tree WW - White","Spot LED Tree WW","LED Spot Tree WW blanco","LED Spot Tree WW bílá","LED Spot Tree WW bianco","Led Spot Tree WW weiß","LED Spot Tree WW bílá","LED Spot Tree WW","not translated yet","LED Szpot Tree WW - Fehér","not translated yet","not translated yet","not translated yet","not translated yet","not translated yet",null,null,null,null,null,60.59,52.5,83,60.59,60.59,1642.17,60.59,78.77,60.59,60.59,"Not done",19900,"Not done","Not done","Not done","Not done","Not done"]
[100269,"LED Spot Tree RGBW weiß",81.13,null,null,100269,"LED Spot Tree RGBW - White",72.5,null,null,100269,"LED Spot Tree RGBW - White",111,null,null,100269,"Spot LED Tree RGBW",81.13,null,null,100269,"LED Spot Tree RGBW blanco",81.13,null,null,100269,"LED Spot Tree RGBW bílá",2207.02,null,null,100269,"LED Spot Tree RGBW bianco",81.13,null,null,100269,"Led Spot Tree RGBW weiß",105.47,null,null,100269,"LED Spot Tree RGBW bílá",81.13,null,null,100269,"LED Spot Tree RGBW",81.13,null,null,"Not done","not translated yet","Not done",null,null,100269,"LED Szpot Tree RGBW - Fehér",26900,null,"Not done","not translated yet","Not done",null,null,"Not done","not translated yet","Not done",null,null,"Not done","not translated yet","Not done",null,null,"Not done","not translated yet","Not done",null,null,"Not done","not translated yet","Not done",null,null,null,null,null,null,null,null,182,100269,100269,100269,100269,100269,100269,100269,100269,100269,100269,"Not done",100269,"Not done","Not done","Not done","Not done","Not done",null,null,null,null,"LED Spot Tree RGBW weiß","LED Spot Tree RGBW - White","LED Spot Tree RGBW - White","Spot LED Tree RGBW","LED Spot Tree RGBW blanco","LED Spot Tree RGBW bílá","LED Spot Tree RGBW bianco","Led Spot Tree RGBW weiß","LED Spot Tree RGBW bílá","LED Spot Tree RGBW","not translated yet","LED Szpot Tree RGBW - Fehér","not translated yet","not translated yet","not translated yet","not translated yet","not translated yet",null,null,null,null,null,81.13,72.5,111,81.13,81.13,2207.02,81.13,105.47,81.13,81.13,"Not done",26900,"Not done","Not done","Not done","Not done","Not done"]
[100239,"RGBW 24V Dimmer Tree",61.52,null,null,100239,"RGBW 24V Dimmer Tree",57.5,null,null,100239,"RGBW 24V Dimmer Tree",84,null,null,100239,"Dimmer RGBW 24V Tree",61.52,null,null,100239,"RGBW 24V Dimmer Tree",61.52,null,null,100239,"RGBW 24V Dimmer Tree",1642.17,null,null,100239,"RGBW 24V Dimmer Tree",61.52,null,null,100239,"RGBW 24V Dimmer Tree",79.97,null,null,100239,"RGBW 24V Dimmer Tree",61.52,null,null,100239,"RGBW 24V Dimmer Tree",61.52,null,null,"Not done","not translated yet","Not done",null,null,100239,"RGBW 24V Dimmer Tree",19900,null,"Not done","not translated yet","Not done",null,null,"Not done","not translated yet","Not done",null,null,"Not done","not translated yet","Not done",null,null,"Not done","not translated yet","Not done",null,null,"Not done","not translated yet","Not done",null,null,null,null,null,null,null,null,183,100239,100239,100239,100239,100239,100239,100239,100239,100239,100239,"Not done",100239,"Not done","Not done","Not done","Not done","Not done",null,null,null,null,"RGBW 24V Dimmer Tree","RGBW 24V Dimmer Tree","RGBW 24V Dimmer Tree","Dimmer RGBW 24V Tree","RGBW 24V Dimmer Tree","RGBW 24V Dimmer Tree","RGBW 24V Dimmer Tree","RGBW 24V Dimmer Tree","RGBW 24V Dimmer Tree","RGBW 24V Dimmer Tree","not translated yet","RGBW 24V Dimmer Tree","not translated yet","not translated yet","not translated yet","not translated yet","not translated yet",null,null,null,null,null,61.52,57.5,84,61.52,61.52,1642.17,61.52,79.97,61.52,61.52,"Not done",19900,"Not done","Not done","Not done","Not done","Not done"]
[null,"Digital IN (Reserve)",null,null,null,null,"Digital IN (Reserve)",null,null,null,null,"Digital IN (Reserve)",null,null,null,null,"Entrée numérique (Reserve)",null,null,null,null,"Digital IN (Reserve)",null,null,null,null,"Digital IN (Reserve)",0,null,null,null,"Digital IN (riserva)",null,null,null,null,"Digital IN (Reserve)",null,null,null,null,"Digital IN (Reserve)",null,null,null,null,"Digital IN (Reserve)",null,null,null,"Not done","not translated yet","Not done",null,null,null,"Digital IN (Reserve)","Not done",null,"Not done","not translated yet","Not done",null,null,"Not done","not translated yet","Not done",null,null,"Not done","not translated yet","Not done",null,null,"Not done","not translated yet","Not done",null,null,"Not done","not translated yet","Not done",null,null,null,null,null,null,null,null,184,0,0,0,0,0,0,0,0,0,0,"Not done",0,"Not done","Not done","Not done","Not done","Not done",null,null,null,null,"Digital IN (Reserve)","Digital IN (Reserve)","Digital IN (Reserve)","Entrée numérique (Reserve)","Digital IN (Reserve)","Digital IN (Reserve)","Digital IN (riserva)","Digital IN (Reserve)","Digital IN (Reserve)","Digital IN (Reserve)","not translated yet","Digital IN (Reserve)","not translated yet","not translated yet","not translated yet","not translated yet","not translated yet",null,null,null,null,null,0,0,0,0,0,0,0,0,0,0,"Not done","Not done","Not done","Not done","Not done","Not done","Not done"]
[null,"Analog IN (Reserve)",null,null,null,null,"Analog IN (Reserve)",null,null,null,null,"Analog IN (Reserve)",null,null,null,null,"Entrée Analogique (Reserve)",null,null,null,null,"Analog IN (Reserve)",null,null,null,null,"Analog IN (Reserve)",0,null,null,null,"Analog IN (riserva)",null,null,null,null,"Analog IN (Reserve)",null,null,null,null,"Analog IN (Reserve)",null,null,null,null,"Analog IN (Reserve)",null,null,null,"Not done","not translated yet","Not done",null,null,null,"Analog IN (Reserve)","Not done",null,"Not done","not translated yet","Not done",null,null,"Not done","not translated yet","Not done",null,null,"Not done","not translated yet","Not done",null,null,"Not done","not translated yet","Not done",null,null,"Not done","not translated yet","Not done",null,null,null,null,null,null,null,null,185,0,0,0,0,0,0,0,0,0,0,"Not done",0,"Not done","Not done","Not done","Not done","Not done",null,null,null,null,"Analog IN (Reserve)","Analog IN (Reserve)","Analog IN (Reserve)","Entrée Analogique (Reserve)","Analog IN (Reserve)","Analog IN (Reserve)","Analog IN (riserva)","Analog IN (Reserve)","Analog IN (Reserve)","Analog IN (Reserve)","not translated yet","Analog IN (Reserve)","not translated yet","not translated yet","not translated yet","not translated yet","not translated yet",null,null,null,null,null,0,0,0,0,0,0,0,0,0,0,"Not done","Not done","Not done","Not done","Not done","Not done","Not done"]
[100177,"Fenstergriff Air",123.24,null,null,100177,"Window Handle Air",110,null,null,100177,"Window Handle Air",168,null,null,100177,"Poignée de fenêtre Air",123.24,null,null,100177,"Manilla Ventana Air",123.24,null,null,100177,"Okenní klika Air",3336.72,null,null,100177,"Maniglia finestra Air",123.24,null,null,100177,"Fenstergriff Air",160.21,null,null,100177,"Okenní klika Air",123.24,null,null,100177,"Vensterhandgreep Air",123.24,null,null,"Not done","not translated yet","Not done",null,null,100177,"Ablakkilincs Air",39900,null,"Not done","not translated yet","Not done",null,null,"Not done","not translated yet","Not done",null,null,"Not done","not translated yet","Not done",null,null,"Not done","not translated yet","Not done",null,null,"Not done","not translated yet","Not done",null,null,null,null,null,null,null,null,186,100177,100177,100177,100177,100177,100177,100177,100177,100177,100177,"Not done",100177,"Not done","Not done","Not done","Not done","Not done",null,null,null,null,"Fenstergriff Air","Window Handle Air","Window Handle Air","Poignée de fenêtre Air","Manilla Ventana Air","Okenní klika Air","Maniglia finestra Air","Fenstergriff Air","Okenní klika Air","Vensterhandgreep Air","not translated yet","Ablakkilincs Air","not translated yet","not translated yet","not translated yet","not translated yet","not translated yet",null,null,null,null,null,123.24,110,168,123.24,123.24,3336.72,123.24,160.21,123.24,123.24,"Not done",39900,"Not done","Not done","Not done","Not done","Not done"]
[100283,"DI Extension",225.94,null,null,100283,"DI Extension",205,null,null,100283,"DI Extension",326,null,null,100283,"Extension DI",225.94,null,null,100283,"DI Extension",225.94,null,null,100283,"DI Extension",6160.97,null,null,100283,"DI Extension",225.94,null,null,100283,"DI Extension",293.72000000000003,null,null,100283,"DI Extension",225.94,null,null,100283,"DI Extension",225.94,null,null,"Not done","not translated yet","Not done",null,null,100283,"DI Extension",74900,null,"Not done","not translated yet","Not done",null,null,"Not done","not translated yet","Not done",null,null,"Not done","not translated yet","Not done",null,null,"Not done","not translated yet","Not done",null,null,"Not done","not translated yet","Not done",null,null,null,null,null,null,null,null,187,100283,100283,100283,100283,100283,100283,100283,100283,100283,100283,"Not done",100283,"Not done","Not done","Not done","Not done","Not done",null,null,null,null,"DI Extension","DI Extension","DI Extension","Extension DI","DI Extension","DI Extension","DI Extension","DI Extension","DI Extension","DI Extension","not translated yet","DI Extension","not translated yet","not translated yet","not translated yet","not translated yet","not translated yet",null,null,null,null,null,225.94,205,326,225.94,225.94,6160.97,225.94,293.72000000000003,225.94,225.94,"Not done",74900,"Not done","Not done","Not done","Not done","Not done"]
[100246,"Wetterstation Tree",399.5,null,null,100246,"Weather Station Tree",360,null,null,100246,"Weather Station Tree",576,null,null,100246,"Station météo Tree",399.5,null,null,100246,"Estación Meteorológica Tree",399.5,null,null,100246,"Meteostanice Tree",10782.47,null,null,100246,"Stazione meteo Tree",399.5,null,null,100246,"Wetterstation Tree",544.61,null,null,100246,"Meteostanice Tree",399.5,null,null,100246,"Weerstation Tree",399.5,null,null,"Not done","not translated yet","Not done",null,null,100246,"Időjárásállomás Tree",129900,null,"Not done","not translated yet","Not done",null,null,"Not done","not translated yet","Not done",null,null,"Not done","not translated yet","Not done",null,null,"Not done","not translated yet","Not done",null,null,"Not done","not translated yet","Not done",null,null,null,null,null,null,null,null,188,100246,100246,100246,100246,100246,100246,100246,100246,100246,100246,"Not done",100246,"Not done","Not done","Not done","Not done","Not done",null,null,null,null,"Wetterstation Tree","Weather Station Tree","Weather Station Tree","Station météo Tree","Estación Meteorológica Tree","Meteostanice Tree","Stazione meteo Tree","Wetterstation Tree","Meteostanice Tree","Weerstation Tree","not translated yet","Időjárásállomás Tree","not translated yet","not translated yet","not translated yet","not translated yet","not translated yet",null,null,null,null,null,399.5,360,576,399.5,399.5,10782.47,399.5,544.61,399.5,399.5,"Not done",129900,"Not done","Not done","Not done","Not done","Not done"]
[100245,"Wetterstation Air",430.31,null,null,100245,"Weather Station Air",385,null,null,100245,"Weather Station Air",621,null,null,100245,"Station météo Air",430.31,null,null,100245,"Estación Meteorológica Air",430.31,null,null,100245,"Meteostanice Air",11295.97,null,null,100245,"Stazione meteo Air",430.31,null,null,100245,"Wetterstation Air",586.61,null,null,100245,"Meteostanice Air",430.31,null,null,100245,"Weerstation Air",430.31,null,null,"Not done","not translated yet","Not done",null,null,100245,"Időjárásállomás Air",139900,null,"Not done","not translated yet","Not done",null,null,"Not done","not translated yet","Not done",null,null,"Not done","not translated yet","Not done",null,null,"Not done","not translated yet","Not done",null,null,"Not done","not translated yet","Not done",null,null,null,null,null,null,null,null,189,100245,100245,100245,100245,100245,100245,100245,100245,100245,100245,"Not done",100245,"Not done","Not done","Not done","Not done","Not done",null,null,null,null,"Wetterstation Air","Weather Station Air","Weather Station Air","Station météo Air","Estación Meteorológica Air","Meteostanice Air","Stazione meteo Air","Wetterstation Air","Meteostanice Air","Weerstation Air","not translated yet","Időjárásállomás Air","not translated yet","not translated yet","not translated yet","not translated yet","not translated yet",null,null,null,null,null,430.31,385,621,430.31,430.31,11295.97,430.31,586.61,430.31,430.31,"Not done",139900,"Not done","Not done","Not done","Not done","Not done"]
[200311,"LED Spot Beton Einbaubox",22.59,null,null,200311,"LED Spot back box for cast concrete",20,null,null,200311,"LED Spot back box for cast concrete",50,null,null,200311,"Boitier spot led pour béton",22.59,null,null,200311,"Caja Hormigón LED Spot",22.59,null,null,200311,"Krabice do betonu pro LED spot",615.16999999999996,null,null,200311,"LED Spot box da incasso",22.59,null,null,200311,"LED Spot Beton Einbaubox",30.84,null,null,200311,"Krabice do betonu pro LED spot",22.59,null,null,200311,"LED spot beton inbouwbox",22.59,null,null,"Not done","not translated yet","Not done",null,null,200311,"LED Szpot beépítődoboz öntöttbetonhoz",7900,null,"Not done","not translated yet","Not done",null,null,"Not done","not translated yet","Not done",null,null,"Not done","not translated yet","Not done",null,null,"Not done","not translated yet","Not done",null,null,"Not done","not translated yet","Not done",null,null,null,null,null,null,null,null,190,200311,200311,200311,200311,200311,200311,200311,200311,200311,200311,"Not done",200311,"Not done","Not done","Not done","Not done","Not done",null,null,null,null,"LED Spot Beton Einbaubox","LED Spot back box for cast concrete","LED Spot back box for cast concrete","Boitier spot led pour béton","Caja Hormigón LED Spot","Krabice do betonu pro LED spot","LED Spot box da incasso","LED Spot Beton Einbaubox","Krabice do betonu pro LED spot","LED spot beton inbouwbox","not translated yet","LED Szpot beépítődoboz öntöttbetonhoz","not translated yet","not translated yet","not translated yet","not translated yet","not translated yet",null,null,null,null,null,22.59,20,50,22.59,22.59,615.16999999999996,22.59,30.84,22.59,22.59,"Not done",7900,"Not done","Not done","Not done","Not done","Not done"]
[100251,"Jalousieantrieb GJ56 Air - Kastenöffnung oben 6Nm",245.19,null,null,100251,"Blind Motor GJ56 Air 6Nm connection at top",220,null,null,"not available in this country","not available in this country",null,null,null,100251,"Moteur de VR Gj56 6Nm Air câble en haut",245.19,null,null,100251,"Motor Veneciana GJ56 Air - conexión superior 6Nm",245.19,null,null,100251,"Žaluziový pohon GJ56 Air 6Nm kabel nahoře",6674.47,null,null,100251,"Motore per persiane GJ56 Air - connessione sopra 6Nm",245.19,null,null,100251,"Jalousieantrieb GJ56 Air - Kastenöffnung oben 6Nm",333.35,null,null,100251,"Žaluziový pohon GJ56 Air 6Nm kabel nahoře",245.19,null,null,100251,"Jaloezie motor GJ56 Air - Kast opening boven 6Nm",245.19,null,null,"Not done","not translated yet","Not done",null,null,100251,"Árnyékoló motor GJ56 Air 6Nm felsőbekötés",79900,null,"Not done","not translated yet","Not done",null,null,"Not done","not translated yet","Not done",null,null,"Not done","not translated yet","Not done",null,null,"Not done","not translated yet","Not done",null,null,"Not done","not translated yet","Not done",null,null,null,null,null,null,null,null,191,100251,100251,"not available in this country",100251,100251,100251,100251,100251,100251,100251,"Not done",100251,"Not done","Not done","Not done","Not done","Not done",null,null,null,null,"Jalousieantrieb GJ56 Air - Kastenöffnung oben 6Nm","Blind Motor GJ56 Air 6Nm connection at top","not available in this country","Moteur de VR Gj56 6Nm Air câble en haut","Motor Veneciana GJ56 Air - conexión superior 6Nm","Žaluziový pohon GJ56 Air 6Nm kabel nahoře","Motore per persiane GJ56 Air - connessione sopra 6Nm","Jalousieantrieb GJ56 Air - Kastenöffnung oben 6Nm","Žaluziový pohon GJ56 Air 6Nm kabel nahoře","Jaloezie motor GJ56 Air - Kast opening boven 6Nm","not translated yet","Árnyékoló motor GJ56 Air 6Nm felsőbekötés","not translated yet","not translated yet","not translated yet","not translated yet","not translated yet",null,null,null,null,null,245.19,220,0,245.19,245.19,6674.47,245.19,333.35,245.19,245.19,"Not done",79900,"Not done","Not done","Not done","Not done","Not done"]
[100252,"Jalousieantrieb GJ56 Air - Kastenöffnung oben 20Nm",287.27999999999997,null,null,100252,"Blind Motor GJ56 Air 20Nm connection at top",255,null,null,"not available in this country","not available in this country",null,null,null,100252,"Moteur de VR Gj56 20Nm Air câble en haut",287.27999999999997,null,null,100252,"Motor Veneciana GJ56 Air - conexión superior 20Nm",287.27999999999997,null,null,100252,"Žaluziový pohon GJ56 Air 20Nm kabel nahoře",7752.82,null,null,100252,"Motore per persiane GJ56 Air - connessione sopra 20Nm",287.27999999999997,null,null,100252,"Jalousieantrieb GJ56 Air - Kastenöffnung oben 20Nm",388.89,null,null,100252,"Žaluziový pohon GJ56 Air 20Nm kabel nahoře",287.27999999999997,null,null,100252,"Jaloezie motor GJ56 Air - Kast opening boven 20Nm",287.27999999999997,null,null,"Not done","not translated yet","Not done",null,null,100252,"Árnyékoló motor GJ56 Air 20Nm felsőbekötés",93900,null,"Not done","not translated yet","Not done",null,null,"Not done","not translated yet","Not done",null,null,"Not done","not translated yet","Not done",null,null,"Not done","not translated yet","Not done",null,null,"Not done","not translated yet","Not done",null,null,null,null,null,null,null,null,192,100252,100252,"not available in this country",100252,100252,100252,100252,100252,100252,100252,"Not done",100252,"Not done","Not done","Not done","Not done","Not done",null,null,null,null,"Jalousieantrieb GJ56 Air - Kastenöffnung oben 20Nm","Blind Motor GJ56 Air 20Nm connection at top","not available in this country","Moteur de VR Gj56 20Nm Air câble en haut","Motor Veneciana GJ56 Air - conexión superior 20Nm","Žaluziový pohon GJ56 Air 20Nm kabel nahoře","Motore per persiane GJ56 Air - connessione sopra 20Nm","Jalousieantrieb GJ56 Air - Kastenöffnung oben 20Nm","Žaluziový pohon GJ56 Air 20Nm kabel nahoře","Jaloezie motor GJ56 Air - Kast opening boven 20Nm","not translated yet","Árnyékoló motor GJ56 Air 20Nm felsőbekötés","not translated yet","not translated yet","not translated yet","not translated yet","not translated yet",null,null,null,null,null,287.27999999999997,255,0,287.27999999999997,287.27999999999997,7752.82,287.27999999999997,388.89,287.27999999999997,287.27999999999997,"Not done",93900,"Not done","Not done","Not done","Not done","Not done"]
[100253,"Jalousieantrieb GJ56 Air - Kastenöffnung unten 6Nm",245.19,null,null,100253,"Blind Motor GJ56 Air 6Nm connection at bottom",220,null,null,"not available in this country","not available in this country",null,null,null,100251,"Moteur de VR Gj56 6Nm Air câble en bas",245.19,null,null,100251,"Motor Veneciana GJ56 Air - conexión inferior 6Nm",245.19,null,null,100251,"Žaluziový pohon GJ56 Air 6Nm kabel dole",6674.47,null,null,100251,"Motore per persiane GJ56 Air - connessione sotto 6Nm",245.19,null,null,100251,"Jalousieantrieb GJ56 Air - Kastenöffnung unten 6Nm",333.35,null,null,100251,"Žaluziový pohon GJ56 Air 6Nm kabel dole",245.19,null,null,100253,"Jaloezie motor GJ56 Air - Kast opening onder 6Nm",245.19,null,null,"Not done","not translated yet","Not done",null,null,100253,"Árnyékoló motor GJ56 Air 6Nm alsó bekötés",79900,null,"Not done","not translated yet","Not done",null,null,"Not done","not translated yet","Not done",null,null,"Not done","not translated yet","Not done",null,null,"Not done","not translated yet","Not done",null,null,"Not done","not translated yet","Not done",null,null,null,null,null,null,null,null,193,100253,{"$f":"F196","v":100253},"not available in this country",100251,100251,100251,100251,100251,100251,100253,"Not done",100253,"Not done","Not done","Not done","Not done","Not done",null,null,null,null,"Jalousieantrieb GJ56 Air - Kastenöffnung unten 6Nm","Blind Motor GJ56 Air 6Nm connection at bottom","not available in this country","Moteur de VR Gj56 6Nm Air câble en bas","Motor Veneciana GJ56 Air - conexión inferior 6Nm","Žaluziový pohon GJ56 Air 6Nm kabel dole","Motore per persiane GJ56 Air - connessione sotto 6Nm","Jalousieantrieb GJ56 Air - Kastenöffnung unten 6Nm","Žaluziový pohon GJ56 Air 6Nm kabel dole","Jaloezie motor GJ56 Air - Kast opening onder 6Nm","not translated yet","Árnyékoló motor GJ56 Air 6Nm alsó bekötés","not translated yet","not translated yet","not translated yet","not translated yet","not translated yet",null,null,null,null,null,245.19,220,0,245.19,245.19,6674.47,245.19,333.35,245.19,245.19,"Not done",79900,"Not done","Not done","Not done","Not done","Not done"]
[100254,"Jalousieantrieb GJ56 Air - Kastenöffnung unten 20Nm",287.27999999999997,null,null,100254,"Blind Motor GJ56 Air 20Nm connection at bottom",255,null,null,"not available in this country","not available in this country",null,null,null,100252,"Moteur de VR Gj56 20Nm Air câble en bas",287.27999999999997,null,null,100252,"Motor Veneciana GJ56 Air - conexión inferior 20Nm",287.27999999999997,null,null,100252,"Žaluziový pohon GJ56 Air 20Nm kabel dole",7752.82,null,null,100252,"Motore per persiane GJ56 Air - connessione sotto 20Nm",287.27999999999997,null,null,100252,"Jalousieantrieb GJ56 Air - Kastenöffnung unten 20Nm",388.89,null,null,100252,"Žaluziový pohon GJ56 Air 20Nm kabel dole",287.27999999999997,null,null,100254,"Jaloezie motor GJ56 Air - Kast opening onder 20Nm",287.27999999999997,null,null,"Not done","not translated yet","Not done",null,null,100254,"Árnyékoló motor GJ56 Air 20Nm alsóbekötés",93900,null,"Not done","not translated yet","Not done",null,null,"Not done","not translated yet","Not done",null,null,"Not done","not translated yet","Not done",null,null,"Not done","not translated yet","Not done",null,null,"Not done","not translated yet","Not done",null,null,null,null,null,null,null,null,194,{"$f":"A197","v":100254},100254,{"$f":"K197","v":"not available in this country"},{"$f":"P197","v":100252},{"$f":"U197","v":100252},{"$f":"Z197","v":100252},{"$f":"AE197","v":100252},{"$f":"AJ197","v":100252},{"$f":"AO197","v":100252},{"$f":"AT197","v":100254},{"$f":"AY197","v":"Not done"},{"$f":"BD197","v":100254},{"$f":"BH197","v":"Not done"},{"$f":"BM197","v":"Not done"},{"$f":"BR197","v":"Not done"},{"$f":"BW197","v":"Not done"},{"$f":"CB197","v":"Not done"},null,null,null,null,{"$f":"B197","v":"Jalousieantrieb GJ56 Air - Kastenöffnung unten 20Nm"},{"$f":"G197","v":"Blind Motor GJ56 Air 20Nm connection at bottom"},{"$f":"L197","v":"not available in this country"},{"$f":"Q197","v":"Moteur de VR Gj56 20Nm Air câble en bas"},{"$f":"V197","v":"Motor Veneciana GJ56 Air - conexión inferior 20Nm"},{"$f":"AA197","v":"Žaluziový pohon GJ56 Air 20Nm kabel dole"},{"$f":"AF197","v":"Motore per persiane GJ56 Air - connessione sotto 20Nm"},{"$f":"AK197","v":"Jalousieantrieb GJ56 Air - Kastenöffnung unten 20Nm"},{"$f":"AP197","v":"Žaluziový pohon GJ56 Air 20Nm kabel dole"},{"$f":"AU197","v":"Jaloezie motor GJ56 Air - Kast opening onder 20Nm"},{"$f":"AZ197","v":"not translated yet"},{"$f":"BE197","v":"Árnyékoló motor GJ56 Air 20Nm alsóbekötés"},{"$f":"BI197","v":"not translated yet"},{"$f":"BN197","v":"not translated yet"},{"$f":"BS197","v":"not translated yet"},{"$f":"BX197","v":"not translated yet"},{"$f":"CC197","v":"not translated yet"},null,null,null,null,null,{"$f":"C197","v":287.27999999999997},{"$f":"H197","v":255},{"$f":"M197","v":0},{"$f":"R197","v":287.27999999999997},{"$f":"W197","v":287.27999999999997},{"$f":"AB197","v":7752.82},{"$f":"AG197","v":287.27999999999997},{"$f":"AL197","v":388.89},{"$f":"AQ197","v":287.27999999999997},{"$f":"AV197","v":287.27999999999997},{"$f":"BA197","v":"Not done"},{"$f":"BF197","v":93900},{"$f":"BJ197","v":"Not done"},{"$f":"BO197","v":"Not done"},{"$f":"BT197","v":"Not done"},{"$f":"BY197","v":"Not done"},{"$f":"CD197","v":"Not done"}]
["not available in this country","not available in this country",0,null,null,200305,"Dry Lining Box - Set 25",15.5,null,null,"not available in this country","not available in this country",null,null,null,"not available in this country","not available in this country",0,null,null,"not available in this country","not available in this country",0,null,null,"not available in this country","not available in this country",0,null,null,"not available in this country","not available in this country",0,null,null,"not available in this country","not available in this country",0,null,null,"not available in this country","not available in this country",0,null,null,"not available in this country","not available in this country",0,null,"not available in this country","not available in this country",0,"Not done",null,null,"not available in this country","not available in this country",0,null,"Not done","not translated yet","Not done",null,null,"Not done","not translated yet","Not done",null,null,"Not done","not translated yet","Not done",null,null,"Not done","not translated yet","Not done",null,null,"Not done","not translated yet","Not done",null,null,null,null,null,null,null,null,195,"not available in this country",200305,"not available in this country","not available in this country","not available in this country","not available in this country","not available in this country","not available in this country","not available in this country","not available in this country","not available in this country","not available in this country","Not done","Not done","Not done","Not done","Not done",null,null,null,null,"not available in this country","Dry Lining Box - Set 25","not available in this country","not available in this country","not available in this country","not available in this country","not available in this country","not available in this country","not available in this country","not available in this country",0,"not available in this country","not translated yet","not translated yet","not translated yet","not translated yet","not translated yet",null,null,null,null,null,0,15.5,0,0,0,0,0,0,0,0,"Not done",0,"Not done","Not done","Not done","Not done","Not done"]
[100290,"Shading Actuator Air",89,null,null,100290,"Shading Actuator Air",82.5,null,null,"not available in this country","not available in this country",null,null,null,100290,"Actionneur de store Air",89,null,null,100290,"Actuador Persiana Air",89,null,null,100290,"Žaluziový aktor Air",2399,null,null,100290,"Shading Actuator Air",89,null,null,100290,"Shading Actuator Air",124.6,null,null,100290,"Žaluziový aktor Air",89,null,null,100290,"Shading Actuator Air",89,null,null,"Not done","not translated yet","Not done",null,null,100290,"Árnyékoló adapter Air",28900,null,"Not done","not translated yet","Not done",null,null,"Not done","not translated yet","Not done",null,null,"Not done","not translated yet","Not done",null,null,"Not done","not translated yet","Not done",null,null,"Not done","not translated yet","Not done",null,null,null,null,null,null,null,null,196,100290,100290,"not available in this country",100290,100290,100290,100290,100290,100290,100290,"Not done",100290,"Not done","Not done","Not done","Not done","Not done",null,null,null,null,"Shading Actuator Air","Shading Actuator Air","not available in this country","Actionneur de store Air","Actuador Persiana Air","Žaluziový aktor Air","Shading Actuator Air","Shading Actuator Air","Žaluziový aktor Air","Shading Actuator Air","not translated yet","Árnyékoló adapter Air","not translated yet","not translated yet","not translated yet","not translated yet","not translated yet",null,null,null,null,null,89,82.5,0,89,89,2399,89,124.6,89,89,"Not done",28900,"Not done","Not done","Not done","Not done","Not done"]
[100274,"LED Pendulum Slim weiß",195,null,null,100274,"LED Pendulum Slim - White",175,null,null,100274,"LED Pendulum Slim - White",269,null,null,100274,"Supsension LED 24V - Blanc",195,null,null,100274,"LED Péndulo blanco",195,null,null,100274,"Závěsné světlo RGBW bílé",5099,null,null,100274,"LED Pendulum Slim bianco",195,null,null,100274,"LED Pendulum Slim weiß",273,null,null,100274,"Závěsné světlo RGBW bílé",195,null,null,100274,"LED Pendulum Slim wit",195,null,null,"Not done","not translated yet","Not done",null,null,100274,"LED Pendulum Slim - Fehér",62900,null,"Not done","not translated yet","Not done",null,null,"Not done","not translated yet","Not done",null,null,"Not done","not translated yet","Not done",null,null,"Not done","not translated yet","Not done",null,null,"Not done","not translated yet","Not done",null,null,null,null,null,null,null,null,197,100274,100274,100274,100274,100274,100274,100274,100274,100274,100274,"Not done",100274,"Not done","Not done","Not done","Not done","Not done",null,null,null,null,"LED Pendulum Slim weiß","LED Pendulum Slim - White","LED Pendulum Slim - White","Supsension LED 24V - Blanc","LED Péndulo blanco","Závěsné světlo RGBW bílé","LED Pendulum Slim bianco","LED Pendulum Slim weiß","Závěsné světlo RGBW bílé","LED Pendulum Slim wit","not translated yet","LED Pendulum Slim - Fehér","not translated yet","not translated yet","not translated yet","not translated yet","not translated yet",null,null,null,null,null,195,175,269,195,195,5099,195,273,195,195,"Not done",62900,"Not done","Not done","Not done","Not done","Not done"]
[100275,"LED Pendulum Slim anthrazit",195,null,null,100275,"LED Pendulum Slim - Anthracite",175,null,null,100275,"LED Pendulum Slim - Anthracite",269,null,null,100275,"Supension LED 24V - Anthracite",195,null,null,100275,"LED Péndulo antracita",195,null,null,100275,"Závěsné světlo RGBW anthrazit",5099,null,null,100275,"LED Pendulum Slim antracite",195,null,null,100275,"LED Pendulum Slim anthrazit",273,null,null,100275,"Závěsné světlo RGBW anthrazit",195,null,null,100275,"LED Pendulum Slim antraciet",195,null,null,"Not done","not translated yet","Not done",null,null,100275,"LED Pendulum Slim - Anthracite",62900,null,"Not done","not translated yet","Not done",null,null,"Not done","not translated yet","Not done",null,null,"Not done","not translated yet","Not done",null,null,"Not done","not translated yet","Not done",null,null,"Not done","not translated yet","Not done",null,null,null,null,null,null,null,null,198,100275,100275,100275,100275,100275,100275,100275,100275,100275,100275,"Not done",100275,"Not done","Not done","Not done","Not done","Not done",null,null,null,null,"LED Pendulum Slim anthrazit","LED Pendulum Slim - Anthracite","LED Pendulum Slim - Anthracite","Supension LED 24V - Anthracite","LED Péndulo antracita","Závěsné světlo RGBW anthrazit","LED Pendulum Slim antracite","LED Pendulum Slim anthrazit","Závěsné světlo RGBW anthrazit","LED Pendulum Slim antraciet","not translated yet","LED Pendulum Slim - Anthracite","not translated yet","not translated yet","not translated yet","not translated yet","not translated yet",null,null,null,null,null,195,175,269,195,195,5099,195,273,195,195,"Not done",62900,"Not done","Not done","Not done","Not done","Not done"]
[100278,"LED Aufbauspot RGBW anthrazit",81.13,null,null,100278,"LED Ceiling Spot RGBW - Anthracite",72.5,null,null,100278,"LED Ceiling Spot RGBW - Anthracite",111,null,null,100278,"Spot LED plafonnier 24V RGBW - Anthracite",81.13,null,null,100278,"LED Spot RGBW de superfície antracita",81.13,null,null,100278,"Příložný LED Spot RGBW anthrazit",2207.02,null,null,100278,"LED Spot da soffitto RGBW antracite",81.13,null,null,100278,"LED Aufbauspot RGBW anthrazit",105.47,null,null,100278,"Příložný LED Spot RGBW anthrazit",81.13,null,null,100278,"LED opbouwspot RGBW antraciet",81.13,null,null,"Not done","not translated yet","Not done",null,null,100278,"LED Mennyezeti Szpot RGBW - Anthracite",26900,null,"Not done","not translated yet","Not done",null,null,"Not done","not translated yet","Not done",null,null,"Not done","not translated yet","Not done",null,null,"Not done","not translated yet","Not done",null,null,"Not done","not translated yet","Not done",null,null,null,null,null,null,null,null,199,100278,100278,100278,100278,100278,100278,100278,100278,100278,100278,"Not done",100278,"Not done","Not done","Not done","Not done","Not done",null,null,null,null,"LED Aufbauspot RGBW anthrazit","LED Ceiling Spot RGBW - Anthracite","LED Ceiling Spot RGBW - Anthracite","Spot LED plafonnier 24V RGBW - Anthracite","LED Spot RGBW de superfície antracita","Příložný LED Spot RGBW anthrazit","LED Spot da soffitto RGBW antracite","LED Aufbauspot RGBW anthrazit","Příložný LED Spot RGBW anthrazit","LED opbouwspot RGBW antraciet","not translated yet","LED Mennyezeti Szpot RGBW - Anthracite","not translated yet","not translated yet","not translated yet","not translated yet","not translated yet",null,null,null,null,null,81.13,72.5,111,81.13,81.13,2207.02,81.13,105.47,81.13,81.13,"Not done",26900,"Not done","Not done","Not done","Not done","Not done"]
[100279,"LED Aufbauspot WW anthrazit",60.59,null,null,100279,"LED Ceiling Spot WW - Anthracite",52.5,null,null,100279,"LED Ceiling Spot WW - Anthracite",83,null,null,100279,"Spot LED plafonnier 24V WW - Anthracite",60.59,null,null,100279,"LED Spot WW de superfície antracita",60.59,null,null,100279,"Příložný LED Spot WW anthrazit",1642.17,null,null,100279,"LED Spot da soffitto WW antracite",60.59,null,null,100279,"LED Aufbauspot WW anthrazit",78.77,null,null,100279,"Příložný LED Spot WW anthrazit",60.59,null,null,100279,"LED opbouwspot WW antraciet",60.59,null,null,"Not done","not translated yet","Not done",null,null,100279,"LED Mennyezeti Szpot fehér - Anthracite",19900,null,"Not done","not translated yet","Not done",null,null,"Not done","not translated yet","Not done",null,null,"Not done","not translated yet","Not done",null,null,"Not done","not translated yet","Not done",null,null,"Not done","not translated yet","Not done",null,null,null,null,null,null,null,null,200,100279,100279,100279,100279,100279,100279,100279,100279,100279,100279,"Not done",100279,"Not done","Not done","Not done","Not done","Not done",null,null,null,null,"LED Aufbauspot WW anthrazit","LED Ceiling Spot WW - Anthracite","LED Ceiling Spot WW - Anthracite","Spot LED plafonnier 24V WW - Anthracite","LED Spot WW de superfície antracita","Příložný LED Spot WW anthrazit","LED Spot da soffitto WW antracite","LED Aufbauspot WW anthrazit","Příložný LED Spot WW anthrazit","LED opbouwspot WW antraciet","not translated yet","LED Mennyezeti Szpot fehér - Anthracite","not translated yet","not translated yet","not translated yet","not translated yet","not translated yet",null,null,null,null,null,60.59,52.5,83,60.59,60.59,1642.17,60.59,78.77,60.59,60.59,"Not done",19900,"Not done","Not done","Not done","Not done","Not done"]
[100280,"LED Aufbauspot Tree RGBW anthrazit",122.21,null,null,100280,"LED Ceiling Spot Tree RGBW - Anthracite",110,null,null,100280,"LED Ceiling Spot Tree RGBW - Anthracite",167,null,null,100280,"Spot LED plafonnier Tree RGBW - Anthracite",122.21,null,null,100280,"LED Tree RGBW de superfície antracita",122.21,null,null,100280,"Příložný LED Spot Tree RGBW anthrazit",3285.37,null,null,100280,"LED Spot da soffitto Tree RGBW antracite",122.21,null,null,100280,"LED Aufbauspot Tree RGBW anthrazit",158.88,null,null,100280,"Příložný LED Spot Tree RGBW anthrazit",122.21,null,null,100280,"LED opbouwspot Tree RGBW antraciet",122.21,null,null,"Not done","not translated yet","Not done",null,null,100280,"LED Mennyezeti Szpot Tree RGBW - Anthracite",39900,null,"Not done","not translated yet","Not done",null,null,"Not done","not translated yet","Not done",null,null,"Not done","not translated yet","Not done",null,null,"Not done","not translated yet","Not done",null,null,"Not done","not translated yet","Not done",null,null,null,null,null,null,null,null,201,100280,100280,100280,100280,100280,100280,100280,100280,100280,100280,"Not done",100280,"Not done","Not done","Not done","Not done","Not done",null,null,null,null,"LED Aufbauspot Tree RGBW anthrazit","LED Ceiling Spot Tree RGBW - Anthracite","LED Ceiling Spot Tree RGBW - Anthracite","Spot LED plafonnier Tree RGBW - Anthracite","LED Tree RGBW de superfície antracita","Příložný LED Spot Tree RGBW anthrazit","LED Spot da soffitto Tree RGBW antracite","LED Aufbauspot Tree RGBW anthrazit","Příložný LED Spot Tree RGBW anthrazit","LED opbouwspot Tree RGBW antraciet","not translated yet","LED Mennyezeti Szpot Tree RGBW - Anthracite","not translated yet","not translated yet","not translated yet","not translated yet","not translated yet",null,null,null,null,null,122.21,110,167,122.21,122.21,3285.37,122.21,158.88,122.21,122.21,"Not done",39900,"Not done","Not done","Not done","Not done","Not done"]
[100281,"LED Aufbauspot Tree WW anthrazit",101.67,null,null,100281,"LED Ceiling Spot Tree WW - Anthracite",90,null,null,100281,"LED Ceiling Spot Tree WW - Anthracite",139,null,null,100281,"Spot LED plafonnier Tree WW - Anthracite",101.67,null,null,100281,"LED Spot Tree WW de superfície antracita",101.67,null,null,100281,"Příložný LED Spot Tree WW anthrazit",2771.87,null,null,100281,"LED Spot da soffitto Tree WW antracite",101.67,null,null,100281,"LED Aufbauspot Tree WW anthrazit",132.16999999999999,null,null,100281,"Příložný LED Spot Tree WW anthrazit",101.67,null,null,100281,"LED opbouwspot Tree WW antraciet",101.67,null,null,"Not done","not translated yet","Not done",null,null,100281,"LED Mennyezeti Szpot Tree fehér - Anthracite",32900,null,"Not done","not translated yet","Not done",null,null,"Not done","not translated yet","Not done",null,null,"Not done","not translated yet","Not done",null,null,"Not done","not translated yet","Not done",null,null,"Not done","not translated yet","Not done",null,null,null,null,null,null,null,null,202,100281,100281,100281,100281,100281,100281,100281,100281,100281,100281,"Not done",100281,"Not done","Not done","Not done","Not done","Not done",null,null,null,null,"LED Aufbauspot Tree WW anthrazit","LED Ceiling Spot Tree WW - Anthracite","LED Ceiling Spot Tree WW - Anthracite","Spot LED plafonnier Tree WW - Anthracite","LED Spot Tree WW de superfície antracita","Příložný LED Spot Tree WW anthrazit","LED Spot da soffitto Tree WW antracite","LED Aufbauspot Tree WW anthrazit","Příložný LED Spot Tree WW anthrazit","LED opbouwspot Tree WW antraciet","not translated yet","LED Mennyezeti Szpot Tree fehér - Anthracite","not translated yet","not translated yet","not translated yet","not translated yet","not translated yet",null,null,null,null,null,101.67,90,139,101.67,101.67,2771.87,101.67,132.16999999999999,101.67,101.67,"Not done",32900,"Not done","Not done","Not done","Not done","Not done"]
[100271,"LED Spot Tree WW anthrazit",60.59,null,null,100271,"LED Spot Tree WW - Anthracite",52.5,null,null,100271,"LED Spot Tree WW - Anthracite",83,null,null,100271,"Spot LED Tree WW - Anthracite",60.59,null,null,100271,"LED Spot Tree WW antracita",60.59,null,null,100271,"LED Spot Tree WW anthrazit",1642.17,null,null,100271,"LED Spot Tree WW antracite",60.59,null,null,100271,"LED Spot Tree WW anthrazit",78.77,null,null,100271,"LED Spot Tree WW anthrazit",60.59,null,null,100271,"LED Spot Tree WW antraciet",60.59,null,null,"Not done","not translated yet","Not done",null,null,100271,"LED Szpot Tree fehér - Anthracite",19900,null,"Not done","not translated yet","Not done",null,null,"Not done","not translated yet","Not done",null,null,"Not done","not translated yet","Not done",null,null,"Not done","not translated yet","Not done",null,null,"Not done","not translated yet","Not done",null,null,null,null,null,null,null,null,203,100271,100271,100271,100271,100271,100271,100271,100271,100271,100271,"Not done",100271,"Not done","Not done","Not done","Not done","Not done",null,null,null,null,"LED Spot Tree WW anthrazit","LED Spot Tree WW - Anthracite","LED Spot Tree WW - Anthracite","Spot LED Tree WW - Anthracite","LED Spot Tree WW antracita","LED Spot Tree WW anthrazit","LED Spot Tree WW antracite","LED Spot Tree WW anthrazit","LED Spot Tree WW anthrazit","LED Spot Tree WW antraciet","not translated yet","LED Szpot Tree fehér - Anthracite","not translated yet","not translated yet","not translated yet","not translated yet","not translated yet",null,null,null,null,null,60.59,52.5,83,60.59,60.59,1642.17,60.59,78.77,60.59,60.59,"Not done",19900,"Not done","Not done","Not done","Not done","Not done"]
[100272,"LED Spot Tree RGBW anthrazit",81.13,null,null,100272,"LED Spot Tree RGBW - Anthracite",72.5,null,null,100272,"LED Spot Tree RGBW - Anthracite",111,null,null,100272,"Spot LED Tree RGBW - Anthracite",81.13,null,null,100272,"LED Spot Tree RGBW antracita",81.13,null,null,100272,"LED Spot Tree RGBW anthrazit",2207.02,null,null,100272,"LED Spot Tree RGBW antracite",81.13,null,null,100272,"LED Spot Tree RGBW anthrazit",105.47,null,null,100272,"LED Spot Tree RGBW anthrazit",81.13,null,null,100272,"LED Spot Tree RGBW antraciet",81.13,null,null,"Not done","not translated yet","Not done",null,null,100272,"LED Szpot Tree RGBW - Anthracite",26900,null,"Not done","not translated yet","Not done",null,null,"Not done","not translated yet","Not done",null,null,"Not done","not translated yet","Not done",null,null,"Not done","not translated yet","Not done",null,null,"Not done","not translated yet","Not done",null,null,null,null,null,null,null,null,204,100272,100272,100272,100272,100272,100272,100272,100272,100272,100272,"Not done",100272,"Not done","Not done","Not done","Not done","Not done",null,null,null,null,"LED Spot Tree RGBW anthrazit","LED Spot Tree RGBW - Anthracite","LED Spot Tree RGBW - Anthracite","Spot LED Tree RGBW - Anthracite","LED Spot Tree RGBW antracita","LED Spot Tree RGBW anthrazit","LED Spot Tree RGBW antracite","LED Spot Tree RGBW anthrazit","LED Spot Tree RGBW anthrazit","LED Spot Tree RGBW antraciet","not translated yet","LED Szpot Tree RGBW - Anthracite","not translated yet","not translated yet","not translated yet","not translated yet","not translated yet",null,null,null,null,null,81.13,72.5,111,81.13,81.13,2207.02,81.13,105.47,81.13,81.13,"Not done",26900,"Not done","Not done","Not done","Not done","Not done"]
[100273,"LED Spot RGBW anthrazit",51.27,null,null,100273,"LED Spot RGBW - Anthracite",40,null,null,100273,"LED Spot RGBW - Anthracite",70,null,null,100273,"Spot LED 24V RGBW - Anthracite",51.27,null,null,100273,"LED Spot RGBW antracita",51.27,null,null,100273,"LED Spot RGBW anthrazit",1385.42,null,null,100273,"LED Spot RGBW antracite",51.27,null,null,100273,"LED Spot RGBW anthrazit",66.650000000000006,null,null,100273,"LED Spot RGBW anthrazit",51.27,null,null,100273,"LED Spot RGBW antraciet",51.27,null,null,"Not done","not translated yet","Not done",null,null,100273,"LED Szpot RGBW - Anthracite",14900,null,"Not done","not translated yet","Not done",null,null,"Not done","not translated yet","Not done",null,null,"Not done","not translated yet","Not done",null,null,"Not done","not translated yet","Not done",null,null,"Not done","not translated yet","Not done",null,null,null,null,null,null,null,null,205,100273,100273,100273,100273,100273,100273,100273,100273,100273,100273,"Not done",100273,"Not done","Not done","Not done","Not done","Not done",null,null,null,null,"LED Spot RGBW anthrazit","LED Spot RGBW - Anthracite","LED Spot RGBW - Anthracite","Spot LED 24V RGBW - Anthracite","LED Spot RGBW antracita","LED Spot RGBW anthrazit","LED Spot RGBW antracite","LED Spot RGBW anthrazit","LED Spot RGBW anthrazit","LED Spot RGBW antraciet","not translated yet","LED Szpot RGBW - Anthracite","not translated yet","not translated yet","not translated yet","not translated yet","not translated yet",null,null,null,null,null,51.27,40,70,51.27,51.27,1385.42,51.27,66.650000000000006,51.27,51.27,"Not done",14900,"Not done","Not done","Not done","Not done","Not done"]
[100282,"LED Spot WW anthrazit",34.15,null,null,100282,"LED Spot WW - Anthracite",27.5,null,null,100282,"LED Spot WW - Anthracite",47,null,null,100282,"Spot LED 24V WW - Anthracite",34.15,null,null,100282,"LED Spot WW antracita",34.15,null,null,100282,"LED Spot WW anthrazit",923.27,null,null,100282,"LED Spot WW antracite",34.15,null,null,100282,"LED Spot WW anthrazit",44.39,null,null,100282,"LED Spot WW anthrazit",34.15,null,null,100282,"LED Spot WW antraciet",34.15,null,null,"Not done","not translated yet","Not done",null,null,100282,"LED Szpot fehér - Anthracite",11900,null,"Not done","not translated yet","Not done",null,null,"Not done","not translated yet","Not done",null,null,"Not done","not translated yet","Not done",null,null,"Not done","not translated yet","Not done",null,null,"Not done","not translated yet","Not done",null,null,null,null,null,null,null,null,206,100282,100282,100282,100282,100282,100282,100282,100282,100282,100282,"Not done",100282,"Not done","Not done","Not done","Not done","Not done",null,null,null,null,"LED Spot WW anthrazit","LED Spot WW - Anthracite","LED Spot WW - Anthracite","Spot LED 24V WW - Anthracite","LED Spot WW antracita","LED Spot WW anthrazit","LED Spot WW antracite","LED Spot WW anthrazit","LED Spot WW anthrazit","LED Spot WW antraciet","not translated yet","LED Szpot fehér - Anthracite","not translated yet","not translated yet","not translated yet","not translated yet","not translated yet",null,null,null,null,null,34.15,27.5,47,34.15,34.15,923.27,34.15,44.39,34.15,34.15,"Not done",11900,"Not done","Not done","Not done","Not done","Not done"]
[200205,"Weidmüller Klemmmarkierer DEK (500 Stk) 1-50",19.510000000000002,null,null,200205,"Weidmüller DEK Terminal Markers (500 Stk) 1-50",17.5,null,null,200205,"Weidmüller DEK Terminal Markers (500 Stk) 1-50",20,null,null,200205,"Weidmüller DEK Terminal Markers (500 pcs) 1-50",19.510000000000002,null,null,200205,"Weidmüller Marcador clemas DEK (500 Stk) 1-50",19.510000000000002,null,null,200205,"Popis pro svorkovnice (500ks) 1-50",471.39,null,null,200205,"Weidmüller Terminal Markers DEK (500 pz.) 1-50",19.510000000000002,null,null,200205,"Weidmüller Klemmmarkierer DEK (500 Stk) 1-50",25.38,null,null,200205,"Popis pro svorkovnice (500ks) 1-50",19.510000000000002,null,null,200205,"Weidmüller Klem markeringen DEK (500 Stk) 1-50",19.510000000000002,null,null,"Not done","not translated yet","Not done",null,null,200205,"Weidmüller Sorkapocssorszám (500 db) 1-50",6390,null,"Not done","not translated yet","Not done",null,null,"Not done","not translated yet","Not done",null,null,"Not done","not translated yet","Not done",null,null,"Not done","not translated yet","Not done",null,null,"Not done","not translated yet","Not done",null,null,null,null,null,null,null,null,207,200205,200205,200205,200205,200205,200205,200205,200205,200205,200205,"Not done",200205,"Not done","Not done","Not done","Not done","Not done",null,null,null,null,"Weidmüller Klemmmarkierer DEK (500 Stk) 1-50","Weidmüller DEK Terminal Markers (500 Stk) 1-50","Weidmüller DEK Terminal Markers (500 Stk) 1-50","Weidmüller DEK Terminal Markers (500 pcs) 1-50","Weidmüller Marcador clemas DEK (500 Stk) 1-50","Popis pro svorkovnice (500ks) 1-50","Weidmüller Terminal Markers DEK (500 pz.) 1-50","Weidmüller Klemmmarkierer DEK (500 Stk) 1-50","Popis pro svorkovnice (500ks) 1-50","Weidmüller Klem markeringen DEK (500 Stk) 1-50","not translated yet","Weidmüller Sorkapocssorszám (500 db) 1-50","not translated yet","not translated yet","not translated yet","not translated yet","not translated yet",null,null,null,null,null,19.510000000000002,17.5,20,19.510000000000002,19.510000000000002,471.39,19.510000000000002,25.38,19.510000000000002,19.510000000000002,"Not done",6390,"Not done","Not done","Not done","Not done","Not done"]
[200206,"Weidmüller Klemmmarkierer DEK (500 Stk) 51-100",19.510000000000002,null,null,200206,"Weidmüller DEK Terminal Markers (500 Stk) 51-100",17.5,null,null,200206,"Weidmüller DEK Terminal Markers (500 Stk) 51-100",20,null,null,200206,"Weidmüller DEK Terminal Markers (500 pcs) 51-100",19.510000000000002,null,null,200206,"Weidmüller Marcador clemas DEK (500 Stk) 51-100",19.510000000000002,null,null,200206,"Popis pro svorkovnice (500ks) 51-100",471.39,null,null,200206,"Weidmüller Terminal Markers DEK (500 pz.) 51-100",19.510000000000002,null,null,200206,"Weidmüller Klemmmarkierer DEK (500 Stk) 51-100",25.38,null,null,200206,"Popis pro svorkovnice (500ks) 51-100",19.510000000000002,null,null,200206,"Weidmüller Klem markeringen DEK (500 Stk) 51-100",19.510000000000002,null,null,"Not done","not translated yet","Not done",null,null,200206,"Weidmüller Sorkapocssorszám (500 Stk) 51-100",6390,null,"Not done","not translated yet","Not done",null,null,"Not done","not translated yet","Not done",null,null,"Not done","not translated yet","Not done",null,null,"Not done","not translated yet","Not done",null,null,"Not done","not translated yet","Not done",null,null,null,null,null,null,null,null,208,200206,200206,200206,200206,200206,200206,200206,200206,200206,200206,"Not done",200206,"Not done","Not done","Not done","Not done","Not done",null,null,null,null,"Weidmüller Klemmmarkierer DEK (500 Stk) 51-100","Weidmüller DEK Terminal Markers (500 Stk) 51-100","Weidmüller DEK Terminal Markers (500 Stk) 51-100","Weidmüller DEK Terminal Markers (500 pcs) 51-100","Weidmüller Marcador clemas DEK (500 Stk) 51-100","Popis pro svorkovnice (500ks) 51-100","Weidmüller Terminal Markers DEK (500 pz.) 51-100","Weidmüller Klemmmarkierer DEK (500 Stk) 51-100","Popis pro svorkovnice (500ks) 51-100","Weidmüller Klem markeringen DEK (500 Stk) 51-100","not translated yet","Weidmüller Sorkapocssorszám (500 Stk) 51-100","not translated yet","not translated yet","not translated yet","not translated yet","not translated yet",null,null,null,null,null,19.510000000000002,17.5,20,19.510000000000002,19.510000000000002,471.39,19.510000000000002,25.38,19.510000000000002,19.510000000000002,"Not done",6390,"Not done","Not done","Not done","Not done","Not done"]
[100284,"Touch Surface Tree",155,null,null,100284,"Touch Surface Tree",140,null,null,100284,"Touch Surface Tree",219,null,null,100284,"Touch Surface Tree",155,null,null,100284,"Touch Surface Tree",155,null,null,100284,"Touch Surface Tree",3999,null,null,100284,"Touch Surface Tree",155,null,null,100284,"Touch Surface Tree",217.6,null,null,100284,"Touch Surface Tree",155,null,null,100284,"Touch Surface Tree",155,null,null,"Not done","not translated yet","Not done",null,null,100284,"Rejtett Touch Tree",49900,null,"Not done","not translated yet","Not done",null,null,"Not done","not translated yet","Not done",null,null,"Not done","not translated yet","Not done",null,null,"Not done","not translated yet","Not done",null,null,"Not done","not translated yet","Not done",null,null,null,null,null,null,null,null,209,100284,100284,100284,100284,100284,100284,100284,100284,100284,100284,"Not done",100284,"Not done","Not done","Not done","Not done","Not done",null,null,null,null,"Touch Surface Tree","Touch Surface Tree","Touch Surface Tree","Touch Surface Tree","Touch Surface Tree","Touch Surface Tree","Touch Surface Tree","Touch Surface Tree","Touch Surface Tree","Touch Surface Tree","not translated yet","Rejtett Touch Tree","not translated yet","not translated yet","not translated yet","not translated yet","not translated yet",null,null,null,null,null,155,140,219,155,155,3999,155,217.6,155,155,"Not done",49900,"Not done","Not done","Not done","Not done","Not done"]
[100285,"Touch Surface Air",165,null,null,100285,"Touch Surface Air",150,null,null,100285,"Touch Surface Air",239,null,null,100285,"Touch Surface Air",165,null,null,100285,"Touch Surface Air",165,null,null,100285,"Touch Surface Air",4399,null,null,100285,"Touch Surface Air",165,null,null,100285,"Touch Surface Air",231.5,null,null,100285,"Touch Surface Air",165,null,null,100285,"Touch Surface Air",165,null,null,"Not done","not translated yet","Not done",null,null,100285,"Rejtett Touch Air",53900,null,"Not done","not translated yet","Not done",null,null,"Not done","not translated yet","Not done",null,null,"Not done","not translated yet","Not done",null,null,"Not done","not translated yet","Not done",null,null,"Not done","not translated yet","Not done",null,null,null,null,null,null,null,null,210,100285,100285,100285,100285,100285,100285,100285,100285,100285,100285,"Not done",100285,"Not done","Not done","Not done","Not done","Not done",null,null,null,null,"Touch Surface Air","Touch Surface Air","Touch Surface Air","Touch Surface Air","Touch Surface Air","Touch Surface Air","Touch Surface Air","Touch Surface Air","Touch Surface Air","Touch Surface Air","not translated yet","Rejtett Touch Air","not translated yet","not translated yet","not translated yet","not translated yet","not translated yet",null,null,null,null,null,165,150,239,165,165,4399,165,231.5,165,165,"Not done",53900,"Not done","Not done","Not done","Not done","Not done"]
[100299,"NFC Code Touch Air weiß",245,null,null,100299,"NFC Code Touch Air - White",220,null,null,100299,"NFC Code Touch Air - White",329,null,null,100299,"NFC Code Touch Air - Blanc",245,null,null,100299,"NFC Code Touch Air Blanco",245,null,null,100299,"NFC Code Touch Air bílá",6399,null,null,100299,"NFC Code Touch Air bianco",245,null,null,100299,"NFC Code Touch Air weiß",342.6,null,null,100299,"NFC Code Touch Air bílá",245,null,null,100299,"NFC Code Touch Air wit",245,null,null,"Not done","not translated yet","Not done",null,null,100299,"NFC Code Touch Air fehér",78900,null,"Not done","not translated yet","Not done",null,null,"Not done","not translated yet","Not done",null,null,"Not done","not translated yet","Not done",null,null,"Not done","not translated yet","Not done",null,null,"Not done","not translated yet","Not done",null,null,null,null,null,null,null,null,211,100299,100299,100299,100299,100299,100299,100299,100299,100299,100299,"Not done",100299,"Not done","Not done","Not done","Not done","Not done",null,null,null,null,"NFC Code Touch Air weiß","NFC Code Touch Air - White","NFC Code Touch Air - White","NFC Code Touch Air - Blanc","NFC Code Touch Air Blanco","NFC Code Touch Air bílá","NFC Code Touch Air bianco","NFC Code Touch Air weiß","NFC Code Touch Air bílá","NFC Code Touch Air wit","not translated yet","NFC Code Touch Air fehér","not translated yet","not translated yet","not translated yet","not translated yet","not translated yet",null,null,null,null,null,245,220,329,245,245,6399,245,342.6,245,245,"Not done",78900,"Not done","Not done","Not done","Not done","Not done"]
[100300,"NFC Code Touch Tree weiß",245,null,null,100300,"NFC Code Touch Tree - White",220,null,null,100300,"NFC Code Touch Tree - White",329,null,null,100300,"NFC Code Touch Tree - Blanc",245,null,null,100300,"NFC Code Touch Tree Blanco",245,null,null,100300,"NFC Code Touch Tree bílá",6399,null,null,100300,"NFC Code Touch Tree bianco",245,null,null,100300,"NFC Code Touch Tree weiß",342.6,null,null,100300,"NFC Code Touch Tree bílá",245,null,null,100300,"NFC Code Touch Tree wit",245,null,null,"Not done","not translated yet","Not done",null,null,100300,"NFC Code Touch Tree fehér",78900,null,"Not done","not translated yet","Not done",null,null,"Not done","not translated yet","Not done",null,null,"Not done","not translated yet","Not done",null,null,"Not done","not translated yet","Not done",null,null,"Not done","not translated yet","Not done",null,null,null,null,null,null,null,null,212,100300,100300,100300,100300,100300,100300,100300,100300,100300,100300,"Not done",100300,"Not done","Not done","Not done","Not done","Not done",null,null,null,null,"NFC Code Touch Tree weiß","NFC Code Touch Tree - White","NFC Code Touch Tree - White","NFC Code Touch Tree - Blanc","NFC Code Touch Tree Blanco","NFC Code Touch Tree bílá","NFC Code Touch Tree bianco","NFC Code Touch Tree weiß","NFC Code Touch Tree bílá","NFC Code Touch Tree wit","not translated yet","NFC Code Touch Tree fehér","not translated yet","not translated yet","not translated yet","not translated yet","not translated yet",null,null,null,null,null,245,220,329,245,245,6399,245,342.6,245,245,"Not done",78900,"Not done","Not done","Not done","Not done","Not done"]
[100301,"NFC Code Touch for Nano weiß",245,null,null,100301,"NFC Code Touch for Nano - White",220,null,null,100301,"NFC Code Touch for Nano - White",329,null,null,100301,"NFC Code Touch for Nano - Blanc",245,null,null,100301,"NFC Code Touch for Nano Blanco",245,null,null,100301,"NFC Code Touch for Nano bílá",6399,null,null,100301,"NFC Code Touch for Nano bianco",245,null,null,100301,"NFC Code Touch for Nano weiß",342.6,null,null,100301,"NFC Code Touch for Nano bílá",245,null,null,100301,"NFC Code Touch for Nano wit",245,null,null,"Not done","not translated yet","Not done",null,null,100301,"NFC Code Touch for Nano fehér",78900,null,"Not done","not translated yet","Not done",null,null,"Not done","not translated yet","Not done",null,null,"Not done","not translated yet","Not done",null,null,"Not done","not translated yet","Not done",null,null,"Not done","not translated yet","Not done",null,null,null,null,null,null,null,null,213,100301,100301,100301,100301,100301,100301,100301,100301,100301,100301,"Not done",100301,"Not done","Not done","Not done","Not done","Not done",null,null,null,null,"NFC Code Touch for Nano weiß","NFC Code Touch for Nano - White","NFC Code Touch for Nano - White","NFC Code Touch for Nano - Blanc","NFC Code Touch for Nano Blanco","NFC Code Touch for Nano bílá","NFC Code Touch for Nano bianco","NFC Code Touch for Nano weiß","NFC Code Touch for Nano bílá","NFC Code Touch for Nano wit","not translated yet","NFC Code Touch for Nano fehér","not translated yet","not translated yet","not translated yet","not translated yet","not translated yet",null,null,null,null,null,245,220,329,245,245,6399,245,342.6,245,245,"Not done",78900,"Not done","Not done","Not done","Not done","Not done"]
[100305,"NFC Code Touch Air anthrazit",245,null,null,100305,"NFC Code Touch Air - Anthracite",220,null,null,100305,"NFC Code Touch Air - Anthracite",329,null,null,100305,"NFC Code Touch Air - Anthracite",245,null,null,100305,"NFC Code Touch Air Antracita",245,null,null,100305,"NFC Code Touch Air anthrazit",6399,null,null,100305,"NFC Code Touch Air antracite",245,null,null,100305,"NFC Code Touch Air anthrazit",342.6,null,null,100305,"NFC Code Touch Air anthrazit",245,null,null,100305,"NFC Code Touch Air antraciet",245,null,null,null,null,null,null,null,100305,"NFC Code Touch Air anthrazit",78900,null,null,null,null,null,null,null,null,null,null,null,null,null,null,null,null,null,null,null,null,null,null,null,null,null,null,null,null,null,null,null,null,214,{"$f":"A217","v":100305},{"$f":"F217","v":100305},{"$f":"K217","v":100305},{"$f":"P217","v":100305},{"$f":"U217","v":100305},{"$f":"Z217","v":100305},{"$f":"AE217","v":100305},{"$f":"AJ217","v":100305},{"$f":"AO217","v":100305},{"$f":"AT217","v":100305},{"$f":"AY217","v":0},{"$f":"BD217","v":100305},{"$f":"BH217","v":0},{"$f":"BM217","v":0},{"$f":"BR217","v":0},{"$f":"BW217","v":0},{"$f":"CB217","v":0},null,null,null,null,{"$f":"B217","v":"NFC Code Touch Air anthrazit"},{"$f":"G217","v":"NFC Code Touch Air - Anthracite"},{"$f":"L217","v":"NFC Code Touch Air - Anthracite"},{"$f":"Q217","v":"NFC Code Touch Air - Anthracite"},{"$f":"V217","v":"NFC Code Touch Air Antracita"},{"$f":"AA217","v":"NFC Code Touch Air anthrazit"},{"$f":"AF217","v":"NFC Code Touch Air antracite"},{"$f":"AK217","v":"NFC Code Touch Air anthrazit"},{"$f":"AP217","v":"NFC Code Touch Air anthrazit"},{"$f":"AU217","v":"NFC Code Touch Air antraciet"},{"$f":"AZ217","v":0},{"$f":"BE217","v":"NFC Code Touch Air anthrazit"},{"$f":"BI217","v":0},{"$f":"BN217","v":0},{"$f":"BS217","v":0},{"$f":"BX217","v":0},{"$f":"CC217","v":0},null,null,null,null,null,{"$f":"C217","v":245},{"$f":"H217","v":220},{"$f":"M217","v":329},{"$f":"R217","v":245},{"$f":"W217","v":245},{"$f":"AB217","v":6399},{"$f":"AG217","v":245},{"$f":"AL217","v":342.6},{"$f":"AQ217","v":245},{"$f":"AV217","v":245},{"$f":"BA217","v":0},{"$f":"BF217","v":78900},{"$f":"BJ217","v":0},{"$f":"BO217","v":0},{"$f":"BT217","v":0},{"$f":"BY217","v":0},{"$f":"CD217","v":0}]
[100306,"NFC Code Touch Tree anthrazit",245,null,null,100306,"NFC Code Touch Tree - Anthracite",220,null,null,100306,"NFC Code Touch Tree - Anthracite",329,null,null,100306,"NFC Code Touch Tree - Anthracite",245,null,null,100306,"NFC Code Touch Tree Antracita",245,null,null,100306,"NFC Code Touch Tree anthrazit",6399,null,null,100306,"NFC Code Touch Tree antracite",245,null,null,100306,"NFC Code Touch Tree anthrazit",342.6,null,null,100306,"NFC Code Touch Tree anthrazit",245,null,null,100306,"NFC Code Touch Tree antraciet",245,null,null,null,null,null,null,null,100306,"NFC Code Touch Tree anthrazit",78900,null,null,null,null,null,null,null,null,null,null,null,null,null,null,null,null,null,null,null,null,null,null,null,null,null,null,null,null,null,null,null,null,215,100306,100306,100306,100306,100306,100306,100306,100306,100306,100306,0,100306,0,0,0,0,0,null,null,null,null,"NFC Code Touch Tree anthrazit","NFC Code Touch Tree - Anthracite","NFC Code Touch Tree - Anthracite","NFC Code Touch Tree - Anthracite","NFC Code Touch Tree Antracita","NFC Code Touch Tree anthrazit","NFC Code Touch Tree antracite","NFC Code Touch Tree anthrazit","NFC Code Touch Tree anthrazit","NFC Code Touch Tree antraciet",0,"NFC Code Touch Tree anthrazit",0,0,0,0,0,null,null,null,null,null,245,220,329,245,245,6399,245,342.6,245,245,0,78900,0,0,0,0,0]
[100307,"NFC Code Touch for Nano anthrazit",245,null,null,100307,"NFC Code Touch for Nano - Anthracite",220,null,null,100307,"NFC Code Touch for Nano - Anthracite",329,null,null,100307,"NFC Code Touch for Nano - Anthracite",245,null,null,100307,"NFC Code Touch for Nano Antracita",245,null,null,100307,"NFC Code Touch for Nano anthrazit",6399,null,null,100307,"NFC Code Touch for Nano antracite",245,null,null,100307,"NFC Code Touch for Nano anthrazit",342.6,null,null,100307,"NFC Code Touch for Nano anthrazit",245,null,null,100307,"NFC Code Touch for Nano antraciet",245,null,null,null,null,null,null,null,100307,"NFC Code Touch for Nano anthrazit",78900,null,null,null,null,null,null,null,null,null,null,null,null,null,null,null,null,null,null,null,null,null,null,null,null,null,null,null,null,null,null,null,null,216,100307,100307,100307,100307,100307,100307,100307,100307,100307,100307,0,100307,0,0,0,0,0,null,null,null,null,"NFC Code Touch for Nano anthrazit","NFC Code Touch for Nano - Anthracite","NFC Code Touch for Nano - Anthracite","NFC Code Touch for Nano - Anthracite","NFC Code Touch for Nano Antracita","NFC Code Touch for Nano anthrazit","NFC Code Touch for Nano antracite","NFC Code Touch for Nano anthrazit","NFC Code Touch for Nano anthrazit","NFC Code Touch for Nano antraciet",0,"NFC Code Touch for Nano anthrazit",0,0,0,0,0,null,null,null,null,null,245,220,329,245,245,6399,245,342.6,245,245,0,78900,0,0,0,0,0]
[100323,"Battery Pack",18,null,null,100323,"Battery Pack (Touch Surface)",16.5,null,null,100323,"Battery Pack (Touch Surface)",25,null,null,100323,"Pack de piles",18,null,null,100323,"Pack baterias",18,null,null,100323,"Battery Pack pro Touch Surface Air",479,null,null,100323,"Battery Pack (Touch Surface)",18,null,null,100323,"Battery Pack",25,null,null,100323,"Battery Pack pro Touch Surface Air",18,null,null,100323,"Battery Pack",18,null,null,null,null,null,null,null,100323,"Elem tartó",5900,null,null,null,null,null,null,null,null,null,null,null,null,null,null,null,null,null,null,null,null,null,null,null,null,null,null,null,null,null,null,null,null,217,100323,100323,100323,100323,100323,100323,100323,100323,100323,100323,0,100323,0,0,0,0,0,null,null,null,null,"Battery Pack","Battery Pack (Touch Surface)","Battery Pack (Touch Surface)","Pack de piles","Pack baterias","Battery Pack pro Touch Surface Air","Battery Pack (Touch Surface)","Battery Pack","Battery Pack pro Touch Surface Air","Battery Pack",0,"Elem tartó",0,0,0,0,0,null,null,null,null,null,18,16.5,25,18,18,479,18,25,18,18,0,5900,0,0,0,0,0]
[200306,"Steckernetzteil (Touch Surface Air)",15,null,null,200306,"Power Adapter (Touch Surface)",13.5,null,null,200306,"Power Adapter (Touch Surface)",21,null,null,200306,"Alimentation Touch surface Air",15,null,null,200306,"Alimentador Touch Surface",15,null,null,200306,"24 univerzální zdroj pro Touch Surface",399,null,null,200306,"Alimentatore (Touch Surface)",15,null,null,200306,"Steckernetzteil (Touch Surface Air)",21.3,null,null,200306,"24 univerzální zdroj pro Touch Surface",15,null,null,200306,"Voeding (Touch Surface Air)",15,null,null,null,null,null,null,null,200306,"Tápegység (Rejtett Touch Air)",4900,null,null,null,null,null,null,null,null,null,null,null,null,null,null,null,null,null,null,null,null,null,null,null,null,null,null,null,null,null,null,null,null,218,200306,200306,200306,200306,200306,200306,200306,200306,200306,200306,0,200306,0,0,0,0,0,null,null,null,null,"Steckernetzteil (Touch Surface Air)","Power Adapter (Touch Surface)","Power Adapter (Touch Surface)","Alimentation Touch surface Air","Alimentador Touch Surface","24 univerzální zdroj pro Touch Surface","Alimentatore (Touch Surface)","Steckernetzteil (Touch Surface Air)","24 univerzální zdroj pro Touch Surface","Voeding (Touch Surface Air)",0,"Tápegység (Rejtett Touch Air)",0,0,0,0,0,null,null,null,null,null,15,13.5,21,15,15,399,15,21.3,15,15,0,4900,0,0,0,0,0]
[null,null,null,null,null,null,null,null,null,null,null,null,null,null,null,null,null,null,null,null,null,null,null,null,null,null,null,null,null,null,null,null,null,null,null,null,null,null,null,null,null,null,null,null,null,null,null,null,null,null,null,null,null,null,null,null,null,null,null,null,null,null,null,null,null,null,null,null,null,null,null,null,null,null,null,null,null,null,null,null,null,null,null,null,null,null,null,null,null,null,219,0,0,0,0,0,0,0,0,0,0,0,0,0,0,0,0,0,null,null,null,null,0,0,0,0,0,0,0,0,0,0,0,0,0,0,0,0,0,null,null,null,null,null,0,0,0,0,0,0,0,0,0,0,0,0,0,0,0,0,0]
[null,null,null,null,null,null,null,null,null,null,null,null,null,null,null,null,null,null,null,null,null,null,null,null,null,null,null,null,null,null,null,null,null,null,null,null,null,null,null,null,null,null,null,null,null,null,null,null,null,null,null,null,null,null,null,null,null,null,null,null,null,null,null,null,null,null,null,null,null,null,null,null,null,null,null,null,null,null,null,null,null,null,null,null,null,null,null,null,null,null,220,0,0,0,0,0,0,0,0,0,0,0,0,0,0,0,0,0,null,null,null,null,0,0,0,0,0,0,0,0,0,0,0,0,0,0,0,0,0,null,null,null,null,null,0,0,0,0,0,0,0,0,0,0,0,0,0,0,0,0,0]
[null,null,null,null,null,null,null,null,null,null,null,null,null,null,null,null,null,null,null,null,null,null,null,null,null,null,null,null,null,null,null,null,null,null,null,null,null,null,null,null,null,null,null,null,null,null,null,null,null,null,null,null,null,null,null,null,null,null,null,null,null,null,null,null,null,null,null,null,null,null,null,null,null,null,null,null,null,null,null,null,null,null,null,null,null,null,null,null,null,null,221,0,0,0,0,0,0,0,0,0,0,0,0,0,0,0,0,0,null,null,null,null,0,0,0,0,0,0,0,0,0,0,0,0,0,0,0,0,0,null,null,null,null,null,0,0,0,0,0,0,0,0,0,0,0,0,0,0,0,0,0]
[null,null,null,null,null,null,null,null,null,null,null,null,null,null,null,null,null,null,null,null,null,null,null,null,null,null,null,null,null,null,null,null,null,null,null,null,null,null,null,null,null,null,null,null,null,null,null,null,null,null,null,null,null,null,null,null,null,null,null,null,null,null,null,null,null,null,null,null,null,null,null,null,null,null,null,null,null,null,null,null,null,null,null,null,null,null,null,null,null,null,222,0,0,0,0,0,0,0,0,0,0,0,0,0,0,0,0,0,null,null,null,null,0,0,0,0,0,0,0,0,0,0,0,0,0,0,0,0,0,null,null,null,null,null,0,0,0,0,0,0,0,0,0,0,0,0,0,0,0,0,0]
[null,null,null,null,null,null,null,null,null,null,null,null,null,null,null,null,null,null,null,null,null,null,null,null,null,null,null,null,null,null,null,null,null,null,null,null,null,null,null,null,null,null,null,null,null,null,null,null,null,null,null,null,null,null,null,null,null,null,null,null,null,null,null,null,null,null,null,null,null,null,null,null,null,null,null,null,null,null,null,null,null,null,null,null,null,null,null,null,null,null,223,0,0,0,0,0,0,0,0,0,0,0,0,0,0,0,0,0,null,null,null,null,0,0,0,0,0,0,0,0,0,0,0,0,0,0,0,0,0,null,null,null,null,null,0,0,0,0,0,0,0,0,0,0,0,0,0,0,0,0,0]
[null,null,null,null,null,null,null,null,null,null,null,null,null,null,null,null,null,null,null,null,null,null,null,null,null,null,null,null,null,null,null,null,null,null,null,null,null,null,null,null,null,null,null,null,null,null,null,null,null,null,null,null,null,null,null,null,null,null,null,null,null,null,null,null,null,null,null,null,null,null,null,null,null,null,null,null,null,null,null,null,null,null,null,null,null,null,null,null,null,null,224,0,0,0,0,0,0,0,0,0,0,0,0,0,0,0,0,0,null,null,null,null,0,0,0,0,0,0,0,0,0,0,0,0,0,0,0,0,0,null,null,null,null,null,0,0,0,0,0,0,0,0,0,0,0,0,0,0,0,0,0]
[null,null,null,null,null,null,null,null,null,null,null,null,null,null,null,null,null,null,null,null,null,null,null,null,null,null,null,null,null,null,null,null,null,null,null,null,null,null,null,null,null,null,null,null,null,null,null,null,null,null,null,null,null,null,null,null,null,null,null,null,null,null,null,null,null,null,null,null,null,null,null,null,null,null,null,null,null,null,null,null,null,null,null,null,null,null,null,null,null,null,225,0,0,0,0,0,0,0,0,0,0,0,0,0,0,0,0,0,null,null,null,null,0,0,0,0,0,0,0,0,0,0,0,0,0,0,0,0,0,null,null,null,null,null,0,0,0,0,0,0,0,0,0,0,0,0,0,0,0,0,0]
[null,null,null,null,null,null,null,null,null,null,null,null,null,null,null,null,null,null,null,null,null,null,null,null,null,null,null,null,null,null,null,null,null,null,null,null,null,null,null,null,null,null,null,null,null,null,null,null,null,null,null,null,null,null,null,null,null,null,null,null,null,null,null,null,null,null,null,null,null,null,null,null,null,null,null,null,null,null,null,null,null,null,null,null,null,null,null,null,null,null,226,0,0,0,0,0,0,0,0,0,0,0,0,0,0,0,0,0,null,null,null,null,0,0,0,0,0,0,0,0,0,0,0,0,0,0,0,0,0,null,null,null,null,null,0,0,0,0,0,0,0,0,0,0,0,0,0,0,0,0,0]
[null,null,null,null,null,null,null,null,null,null,null,null,null,null,null,null,null,null,null,null,null,null,null,null,null,null,null,null,null,null,null,null,null,null,null,null,null,null,null,null,null,null,null,null,null,null,null,null,null,null,null,null,null,null,null,null,null,null,null,null,null,null,null,null,null,null,null,null,null,null,null,null,null,null,null,null,null,null,null,null,null,null,null,null,null,null,null,null,null,null,227,0,0,0,0,0,0,0,0,0,0,0,0,0,0,0,0,0,null,null,null,null,0,0,0,0,0,0,0,0,0,0,0,0,0,0,0,0,0,null,null,null,null,null,0,0,0,0,0,0,0,0,0,0,0,0,0,0,0,0,0]
[null,null,null,null,null,null,null,null,null,null,null,null,null,null,null,null,null,null,null,null,null,null,null,null,null,null,null,null,null,null,null,null,null,null,null,null,null,null,null,null,null,null,null,null,null,null,null,null,null,null,null,null,null,null,null,null,null,null,null,null,null,null,null,null,null,null,null,null,null,null,null,null,null,null,null,null,null,null,null,null,null,null,null,null,null,null,null,null,null,null,228,0,0,0,0,0,0,0,0,0,0,0,0,0,0,0,0,0,null,null,null,null,0,0,0,0,0,0,0,0,0,0,0,0,0,0,0,0,0,null,null,null,null,null,0,0,0,0,0,0,0,0,0,0,0,0,0,0,0,0,0]
[null,null,null,null,null,null,null,null,null,null,null,null,null,null,null,null,null,null,null,null,null,null,null,null,null,null,null,null,null,null,null,null,null,null,null,null,null,null,null,null,null,null,null,null,null,null,null,null,null,null,null,null,null,null,null,null,null,null,null,null,null,null,null,null,null,null,null,null,null,null,null,null,null,null,null,null,null,null,null,null,null,null,null,null,null,null,null,null,null,null,229,0,0,0,0,0,0,0,0,0,0,0,0,0,0,0,0,0,null,null,null,null,0,0,0,0,0,0,0,0,0,0,0,0,0,0,0,0,0,null,null,null,null,null,0,0,0,0,0,0,0,0,0,0,0,0,0,0,0,0,0]
[null,null,null,null,null,null,null,null,null,null,null,null,null,null,null,null,null,null,null,null,null,null,null,null,null,null,null,null,null,null,null,null,null,null,null,null,null,null,null,null,null,null,null,null,null,null,null,null,null,null,null,null,null,null,null,null,null,null,null,null,null,null,null,null,null,null,null,null,null,null,null,null,null,null,null,null,null,null,null,null,null,null,null,null,null,null,null,null,null,null,230,0,0,0,0,0,0,0,0,0,0,0,0,0,0,0,0,0,null,null,null,null,0,0,0,0,0,0,0,0,0,0,0,0,0,0,0,0,0,null,null,null,null,null,0,0,0,0,0,0,0,0,0,0,0,0,0,0,0,0,0]
[null,null,null,null,null,null,null,null,null,null,null,null,null,null,null,null,null,null,null,null,null,null,null,null,null,null,null,null,null,null,null,null,null,null,null,null,null,null,null,null,null,null,null,null,null,null,null,null,null,null,null,null,null,null,null,null,null,null,null,null,null,null,null,null,null,null,null,null,null,null,null,null,null,null,null,null,null,null,null,null,null,null,null,null,null,null,null,null,null,null,231,0,0,0,0,0,0,0,0,0,0,0,0,0,0,0,0,0,null,null,null,null,0,0,0,0,0,0,0,0,0,0,0,0,0,0,0,0,0,null,null,null,null,null,0,0,0,0,0,0,0,0,0,0,0,0,0,0,0,0,0]
[null,null,null,null,null,null,null,null,null,null,null,null,null,null,null,null,null,null,null,null,null,null,null,null,null,null,null,null,null,null,null,null,null,null,null,null,null,null,null,null,null,null,null,null,null,null,null,null,null,null,null,null,null,null,null,null,null,null,null,null,null,null,null,null,null,null,null,null,null,null,null,null,null,null,null,null,null,null,null,null,null,null,null,null,null,null,null,null,null,null,232,0,0,0,0,0,0,0,0,0,0,0,0,0,0,0,0,0,null,null,null,null,0,0,0,0,0,0,0,0,0,0,0,0,0,0,0,0,0,null,null,null,null,null,0,0,0,0,0,0,0,0,0,0,0,0,0,0,0,0,0]
[null,null,null,null,null,null,null,null,null,null,null,null,null,null,null,null,null,null,null,null,null,null,null,null,null,null,null,null,null,null,null,null,null,null,null,null,null,null,null,null,null,null,null,null,null,null,null,null,null,null,null,null,null,null,null,null,null,null,null,null,null,null,null,null,null,null,null,null,null,null,null,null,null,null,null,null,null,null,null,null,null,null,null,null,null,null,null,null,null,null,233,0,0,0,0,0,0,0,0,0,0,0,0,0,0,0,0,0,null,null,null,null,0,0,0,0,0,0,0,0,0,0,0,0,0,0,0,0,0,null,null,null,null,null,0,0,0,0,0,0,0,0,0,0,0,0,0,0,0,0,0]
[null,null,null,null,null,null,null,null,null,null,null,null,null,null,null,null,null,null,null,null,null,null,null,null,null,null,null,null,null,null,null,null,null,null,null,null,null,null,null,null,null,null,null,null,null,null,null,null,null,null,null,null,null,null,null,null,null,null,null,null,null,null,null,null,null,null,null,null,null,null,null,null,null,null,null,null,null,null,null,null,null,null,null,null,null,null,null,null,null,null,234,0,0,0,0,0,0,0,0,0,0,0,0,0,0,0,0,0,null,null,null,null,0,0,0,0,0,0,0,0,0,0,0,0,0,0,0,0,0,null,null,null,null,null,0,0,0,0,0,0,0,0,0,0,0,0,0,0,0,0,0]
[null,null,null,null,null,null,null,null,null,null,null,null,null,null,null,null,null,null,null,null,null,null,null,null,null,null,null,null,null,null,null,null,null,null,null,null,null,null,null,null,null,null,null,null,null,null,null,null,null,null,null,null,null,null,null,null,null,null,null,null,null,null,null,null,null,null,null,null,null,null,null,null,null,null,null,null,null,null,null,null,null,null,null,null,null,null,null,null,null,null,235,0,0,0,0,0,0,0,0,0,0,0,0,0,0,0,0,0,null,null,null,null,0,0,0,0,0,0,0,0,0,0,0,0,0,0,0,0,0,null,null,null,null,null,0,0,0,0,0,0,0,0,0,0,0,0,0,0,0,0,0]
[null,null,null,null,null,null,null,null,null,null,null,null,null,null,null,null,null,null,null,null,null,null,null,null,null,null,null,null,null,null,null,null,null,null,null,null,null,null,null,null,null,null,null,null,null,null,null,null,null,null,null,null,null,null,null,null,null,null,null,null,null,null,null,null,null,null,null,null,null,null,null,null,null,null,null,null,null,null,null,null,null,null,null,null,null,null,null,null,null,null,236,0,0,0,0,0,0,0,0,0,0,0,0,0,0,0,0,0,null,null,null,null,0,0,0,0,0,0,0,0,0,0,0,0,0,0,0,0,0,null,null,null,null,null,0,0,0,0,0,0,0,0,0,0,0,0,0,0,0,0,0]
[null,null,null,null,null,null,null,null,null,null,null,null,null,null,null,null,null,null,null,null,null,null,null,null,null,null,null,null,null,null,null,null,null,null,null,null,null,null,null,null,null,null,null,null,null,null,null,null,null,null,null,null,null,null,null,null,null,null,null,null,null,null,null,null,null,null,null,null,null,null,null,null,null,null,null,null,null,null,null,null,null,null,null,null,null,null,null,null,null,null,237,0,0,0,0,0,0,0,0,0,0,0,0,0,0,0,0,0,null,null,null,null,0,0,0,0,0,0,0,0,0,0,0,0,0,0,0,0,0,null,null,null,null,null,0,0,0,0,0,0,0,0,0,0,0,0,0,0,0,0,0]
[null,null,null,null,null,null,null,null,null,null,null,null,null,null,null,null,null,null,null,null,null,null,null,null,null,null,null,null,null,null,null,null,null,null,null,null,null,null,null,null,null,null,null,null,null,null,null,null,null,null,null,null,null,null,null,null,null,null,null,null,null,null,null,null,null,null,null,null,null,null,null,null,null,null,null,null,null,null,null,null,null,null,null,null,null,null,null,null,null,null,238,0,0,0,0,0,0,0,0,0,0,0,0,0,0,0,0,0,null,null,null,null,0,0,0,0,0,0,0,0,0,0,0,0,0,0,0,0,0,null,null,null,null,null,0,0,0,0,0,0,0,0,0,0,0,0,0,0,0,0,0]
[null,null,null,null,null,null,null,null,null,null,null,null,null,null,null,null,null,null,null,null,null,null,null,null,null,null,null,null,null,null,null,null,null,null,null,null,null,null,null,null,null,null,null,null,null,null,null,null,null,null,null,null,null,null,null,null,null,null,null,null,null,null,null,null,null,null,null,null,null,null,null,null,null,null,null,null,null,null,null,null,null,null,null,null,null,null,null,null,null,null,239,0,0,0,0,0,0,0,0,0,0,0,0,0,0,0,0,0,null,null,null,null,0,0,0,0,0,0,0,0,0,0,0,0,0,0,0,0,0,null,null,null,null,null,0,0,0,0,0,0,0,0,0,0,0,0,0,0,0,0,0]
[null,null,null,null,null,null,null,null,null,null,null,null,null,null,null,null,null,null,null,null,null,null,null,null,null,null,null,null,null,null,null,null,null,null,null,null,null,null,null,null,null,null,null,null,null,null,null,null,null,null,null,null,null,null,null,null,null,null,null,null,null,null,null,null,null,null,null,null,null,null,null,null,null,null,null,null,null,null,null,null,null,null,null,null,null,null,null,null,null,null,240,0,0,0,0,0,0,0,0,0,0,0,0,0,0,0,0,0,null,null,null,null,0,0,0,0,0,0,0,0,0,0,0,0,0,0,0,0,0,null,null,null,null,null,0,0,0,0,0,0,0,0,0,0,0,0,0,0,0,0,0]
[null,null,null,null,null,null,null,null,null,null,null,null,null,null,null,null,null,null,null,null,null,null,null,null,null,null,null,null,null,null,null,null,null,null,null,null,null,null,null,null,null,null,null,null,null,null,null,null,null,null,null,null,null,null,null,null,null,null,null,null,null,null,null,null,null,null,null,null,null,null,null,null,null,null,null,null,null,null,null,null,null,null,null,null,null,null,null,null,null,null,241,0,0,0,0,0,0,0,0,0,0,0,0,0,0,0,0,0,null,null,null,null,0,0,0,0,0,0,0,0,0,0,0,0,0,0,0,0,0,null,null,null,null,null,0,0,0,0,0,0,0,0,0,0,0,0,0,0,0,0,0]
[null,null,null,null,null,null,null,null,null,null,null,null,null,null,null,null,null,null,null,null,null,null,null,null,null,null,null,null,null,null,null,null,null,null,null,null,null,null,null,null,null,null,null,null,null,null,null,null,null,null,null,null,null,null,null,null,null,null,null,null,null,null,null,null,null,null,null,null,null,null,null,null,null,null,null,null,null,null,null,null,null,null,null,null,null,null,null,null,null,null,242,0,0,0,0,0,0,0,0,0,0,0,0,0,0,0,0,0,null,null,null,null,0,0,0,0,0,0,0,0,0,0,0,0,0,0,0,0,0,null,null,null,null,null,0,0,0,0,0,0,0,0,0,0,0,0,0,0,0,0,0]
[null,null,null,null,null,null,null,null,null,null,null,null,null,null,null,null,null,null,null,null,null,null,null,null,null,null,null,null,null,null,null,null,null,null,null,null,null,null,null,null,null,null,null,null,null,null,null,null,null,null,null,null,null,null,null,null,null,null,null,null,null,null,null,null,null,null,null,null,null,null,null,null,null,null,null,null,null,null,null,null,null,null,null,null,null,null,null,null,null,null,243,0,0,0,0,0,0,0,0,0,0,0,0,0,0,0,0,0,null,null,null,null,0,0,0,0,0,0,0,0,0,0,0,0,0,0,0,0,0,null,null,null,null,null,0,0,0,0,0,0,0,0,0,0,0,0,0,0,0,0,0]
[null,null,null,null,null,null,null,null,null,null,null,null,null,null,null,null,null,null,null,null,null,null,null,null,null,null,null,null,null,null,null,null,null,null,null,null,null,null,null,null,null,null,null,null,null,null,null,null,null,null,null,null,null,null,null,null,null,null,null,null,null,null,null,null,null,null,null,null,null,null,null,null,null,null,null,null,null,null,null,null,null,null,null,null,null,null,null,null,null,null,244,0,0,0,0,0,0,0,0,0,0,0,0,0,0,0,0,0,null,null,null,null,0,0,0,0,0,0,0,0,0,0,0,0,0,0,0,0,0,null,null,null,null,null,0,0,0,0,0,0,0,0,0,0,0,0,0,0,0,0,0]
[null,null,null,null,null,null,null,null,null,null,null,null,null,null,null,null,null,null,null,null,null,null,null,null,null,null,null,null,null,null,null,null,null,null,null,null,null,null,null,null,null,null,null,null,null,null,null,null,null,null,null,null,null,null,null,null,null,null,null,null,null,null,null,null,null,null,null,null,null,null,null,null,null,null,null,null,null,null,null,null,null,null,null,null,null,null,null,null,null,null,245,0,0,0,0,0,0,0,0,0,0,0,0,0,0,0,0,0,null,null,null,null,0,0,0,0,0,0,0,0,0,0,0,0,0,0,0,0,0,null,null,null,null,null,0,0,0,0,0,0,0,0,0,0,0,0,0,0,0,0,0]
[null,null,null,null,null,null,null,null,null,null,null,null,null,null,null,null,null,null,null,null,null,null,null,null,null,null,null,null,null,null,null,null,null,null,null,null,null,null,null,null,null,null,null,null,null,null,null,null,null,null,null,null,null,null,null,null,null,null,null,null,null,null,null,null,null,null,null,null,null,null,null,null,null,null,null,null,null,null,null,null,null,null,null,null,null,null,null,null,null,null,246,0,0,0,0,0,0,0,0,0,0,0,0,0,0,0,0,0,null,null,null,null,0,0,0,0,0,0,0,0,0,0,0,0,0,0,0,0,0,null,null,null,null,null,0,0,0,0,0,0,0,0,0,0,0,0,0,0,0,0,0]
[null,null,null,null,null,null,null,null,null,null,null,null,null,null,null,null,null,null,null,null,null,null,null,null,null,null,null,null,null,null,null,null,null,null,null,null,null,null,null,null,null,null,null,null,null,null,null,null,null,null,null,null,null,null,null,null,null,null,null,null,null,null,null,null,null,null,null,null,null,null,null,null,null,null,null,null,null,null,null,null,null,null,null,null,null,null,null,null,null,null,247,0,0,0,0,0,0,0,0,0,0,0,0,0,0,0,0,0,null,null,null,null,0,0,0,0,0,0,0,0,0,0,0,0,0,0,0,0,0,null,null,null,null,null,0,0,0,0,0,0,0,0,0,0,0,0,0,0,0,0,0]
[null,null,null,null,null,null,null,null,null,null,null,null,null,null,null,null,null,null,null,null,null,null,null,null,null,null,null,null,null,null,null,null,null,null,null,null,null,null,null,null,null,null,null,null,null,null,null,null,null,null,null,null,null,null,null,null,null,null,null,null,null,null,null,null,null,null,null,null,null,null,null,null,null,null,null,null,null,null,null,null,null,null,null,null,null,null,null,null,null,null,248,0,0,0,0,0,0,0,0,0,0,0,0,0,0,0,0,0,null,null,null,null,0,0,0,0,0,0,0,0,0,0,0,0,0,0,0,0,0,null,null,null,null,null,0,0,0,0,0,0,0,0,0,0,0,0,0,0,0,0,0]
[null,null,null,null,null,null,null,null,null,null,null,null,null,null,null,null,null,null,null,null,null,null,null,null,null,null,null,null,null,null,null,null,null,null,null,null,null,null,null,null,null,null,null,null,null,null,null,null,null,null,null,null,null,null,null,null,null,null,null,null,null,null,null,null,null,null,null,null,null,null,null,null,null,null,null,null,null,null,null,null,null,null,null,null,null,null,null,null,null,null,249,0,0,0,0,0,0,0,0,0,0,0,0,0,0,0,0,0,null,null,null,null,0,0,0,0,0,0,0,0,0,0,0,0,0,0,0,0,0,null,null,null,null,null,0,0,0,0,0,0,0,0,0,0,0,0,0,0,0,0,0]
[null,null,null,null,null,null,null,null,null,null,null,null,null,null,null,null,null,null,null,null,null,null,null,null,null,null,null,null,null,null,null,null,null,null,null,null,null,null,null,null,null,null,null,null,null,null,null,null,null,null,null,null,null,null,null,null,null,null,null,null,null,null,null,null,null,null,null,null,null,null,null,null,null,null,null,null,null,null,null,null,null,null,null,null,null,null,null,null,null,null,250,0,0,0,0,0,0,0,0,0,0,0,0,0,0,0,0,0,null,null,null,null,0,0,0,0,0,0,0,0,0,0,0,0,0,0,0,0,0,null,null,null,null,null,0,0,0,0,0,0,0,0,0,0,0,0,0,0,0,0,0]
[null,null,null,null,null,null,null,null,null,null,null,null,null,null,null,null,null,null,null,null,null,null,null,null,null,null,null,null,null,null,null,null,null,null,null,null,null,null,null,null,null,null,null,null,null,null,null,null,null,null,null,null,null,null,null,null,null,null,null,null,null,null,null,null,null,null,null,null,null,null,null,null,null,null,null,null,null,null,null,null,null,null,null,null,null,null,null,null,null,null,251,0,0,0,0,0,0,0,0,0,0,0,0,0,0,0,0,0,null,null,null,null,0,0,0,0,0,0,0,0,0,0,0,0,0,0,0,0,0,null,null,null,null,null,0,0,0,0,0,0,0,0,0,0,0,0,0,0,0,0,0]
[null,null,null,null,null,null,null,null,null,null,null,null,null,null,null,null,null,null,null,null,null,null,null,null,null,null,null,null,null,null,null,null,null,null,null,null,null,null,null,null,null,null,null,null,null,null,null,null,null,null,null,null,null,null,null,null,null,null,null,null,null,null,null,null,null,null,null,null,null,null,null,null,null,null,null,null,null,null,null,null,null,null,null,null,null,null,null,null,null,null,252,0,0,0,0,0,0,0,0,0,0,0,0,0,0,0,0,0,null,null,null,null,0,0,0,0,0,0,0,0,0,0,0,0,0,0,0,0,0,null,null,null,null,null,0,0,0,0,0,0,0,0,0,0,0,0,0,0,0,0,0]
[null,null,null,null,null,null,null,null,null,null,null,null,null,null,null,null,null,null,null,null,null,null,null,null,null,null,null,null,null,null,null,null,null,null,null,null,null,null,null,null,null,null,null,null,null,null,null,null,null,null,null,null,null,null,null,null,null,null,null,null,null,null,null,null,null,null,null,null,null,null,null,null,null,null,null,null,null,null,null,null,null,null,null,null,null,null,null,null,null,null,253,0,0,0,0,0,0,0,0,0,0,0,0,0,0,0,0,0,null,null,null,null,0,0,0,0,0,0,0,0,0,0,0,0,0,0,0,0,0,null,null,null,null,null,0,0,0,0,0,0,0,0,0,0,0,0,0,0,0,0,0]
[null,null,null,null,null,null,null,null,null,null,null,null,null,null,null,null,null,null,null,null,null,null,null,null,null,null,null,null,null,null,null,null,null,null,null,null,null,null,null,null,null,null,null,null,null,null,null,null,null,null,null,null,null,null,null,null,null,null,null,null,null,null,null,null,null,null,null,null,null,null,null,null,null,null,null,null,null,null,null,null,null,null,null,null,null,null,null,null,null,null,254,0,0,0,0,0,0,0,0,0,0,0,0,0,0,0,0,0,null,null,null,null,0,0,0,0,0,0,0,0,0,0,0,0,0,0,0,0,0,null,null,null,null,null,0,0,0,0,0,0,0,0,0,0,0,0,0,0,0,0,0]
[null,null,null,null,null,null,null,null,null,null,null,null,null,null,null,null,null,null,null,null,null,null,null,null,null,null,null,null,null,null,null,null,null,null,null,null,null,null,null,null,null,null,null,null,null,null,null,null,null,null,null,null,null,null,null,null,null,null,null,null,null,null,null,null,null,null,null,null,null,null,null,null,null,null,null,null,null,null,null,null,null,null,null,null,null,null,null,null,null,null,255,0,0,0,0,0,0,0,0,0,0,0,0,0,0,0,0,0,null,null,null,null,0,0,0,0,0,0,0,0,0,0,0,0,0,0,0,0,0,null,null,null,null,null,0,0,0,0,0,0,0,0,0,0,0,0,0,0,0,0,0]
[null,null,null,null,null,null,null,null,null,null,null,null,null,null,null,null,null,null,null,null,null,null,null,null,null,null,null,null,null,null,null,null,null,null,null,null,null,null,null,null,null,null,null,null,null,null,null,null,null,null,null,null,null,null,null,null,null,null,null,null,null,null,null,null,null,null,null,null,null,null,null,null,null,null,null,null,null,null,null,null,null,null,null,null,null,null,null,null,null,null,256,0,0,0,0,0,0,0,0,0,0,0,0,0,0,0,0,0,null,null,null,null,0,0,0,0,0,0,0,0,0,0,0,0,0,0,0,0,0,null,null,null,null,null,0,0,0,0,0,0,0,0,0,0,0,0,0,0,0,0,0]
[null,null,null,null,null,null,null,null,null,null,null,null,null,null,null,null,null,null,null,null,null,null,null,null,null,null,null,null,null,null,null,null,null,null,null,null,null,null,null,null,null,null,null,null,null,null,null,null,null,null,null,null,null,null,null,null,null,null,null,null,null,null,null,null,null,null,null,null,null,null,null,null,null,null,null,null,null,null,null,null,null,null,null,null,null,null,null,null,null,null,257,0,0,0,0,0,0,0,0,0,0,0,0,0,0,0,0,0,null,null,null,null,0,0,0,0,0,0,0,0,0,0,0,0,0,0,0,0,0,null,null,null,null,null,0,0,0,0,0,0,0,0,0,0,0,0,0,0,0,0,0]
[null,null,null,null,null,null,null,null,null,null,null,null,null,null,null,null,null,null,null,null,null,null,null,null,null,null,null,null,null,null,null,null,null,null,null,null,null,null,null,null,null,null,null,null,null,null,null,null,null,null,null,null,null,null,null,null,null,null,null,null,null,null,null,null,null,null,null,null,null,null,null,null,null,null,null,null,null,null,null,null,null,null,null,null,null,null,null,null,null,null,258,0,0,0,0,0,0,0,0,0,0,0,0,0,0,0,0,0,null,null,null,null,0,0,0,0,0,0,0,0,0,0,0,0,0,0,0,0,0,null,null,null,null,null,0,0,0,0,0,0,0,0,0,0,0,0,0,0,0,0,0]
[null,null,null,null,null,null,null,null,null,null,null,null,null,null,null,null,null,null,null,null,null,null,null,null,null,null,null,null,null,null,null,null,null,null,null,null,null,null,null,null,null,null,null,null,null,null,null,null,null,null,null,null,null,null,null,null,null,null,null,null,null,null,null,null,null,null,null,null,null,null,null,null,null,null,null,null,null,null,null,null,null,null,null,null,null,null,null,null,null,null,259,0,0,0,0,0,0,0,0,0,0,0,0,0,0,0,0,0,null,null,null,null,0,0,0,0,0,0,0,0,0,0,0,0,0,0,0,0,0,null,null,null,null,null,0,0,0,0,0,0,0,0,0,0,0,0,0,0,0,0,0]
[null,null,null,null,null,null,null,null,null,null,null,null,null,null,null,null,null,null,null,null,null,null,null,null,null,null,null,null,null,null,null,null,null,null,null,null,null,null,null,null,null,null,null,null,null,null,null,null,null,null,null,null,null,null,null,null,null,null,null,null,null,null,null,null,null,null,null,null,null,null,null,null,null,null,null,null,null,null,null,null,null,null,null,null,null,null,null,null,null,null,260,0,0,0,0,0,0,0,0,0,0,0,0,0,0,0,0,0,null,null,null,null,0,0,0,0,0,0,0,0,0,0,0,0,0,0,0,0,0,null,null,null,null,null,0,0,0,0,0,0,0,0,0,0,0,0,0,0,0,0,0]
[null,null,null,null,null,null,null,null,null,null,null,null,null,null,null,null,null,null,null,null,null,null,null,null,null,null,null,null,null,null,null,null,null,null,null,null,null,null,null,null,null,null,null,null,null,null,null,null,null,null,null,null,null,null,null,null,null,null,null,null,null,null,null,null,null,null,null,null,null,null,null,null,null,null,null,null,null,null,null,null,null,null,null,null,null,null,null,null,null,null,261,0,0,0,0,0,0,0,0,0,0,0,0,0,0,0,0,0,null,null,null,null,0,0,0,0,0,0,0,0,0,0,0,0,0,0,0,0,0,null,null,null,null,null,0,0,0,0,0,0,0,0,0,0,0,0,0,0,0,0,0]
[null,null,null,null,null,null,null,null,null,null,null,null,null,null,null,null,null,null,null,null,null,null,null,null,null,null,null,null,null,null,null,null,null,null,null,null,null,null,null,null,null,null,null,null,null,null,null,null,null,null,null,null,null,null,null,null,null,null,null,null,null,null,null,null,null,null,null,null,null,null,null,null,null,null,null,null,null,null,null,null,null,null,null,null,null,null,null,null,null,null,262,0,0,0,0,0,0,0,0,0,0,0,0,0,0,0,0,0,null,null,null,null,0,0,0,0,0,0,0,0,0,0,0,0,0,0,0,0,0,null,null,null,null,null,0,0,0,0,0,0,0,0,0,0,0,0,0,0,0,0,0]
[null,null,null,null,null,null,null,null,null,null,null,null,null,null,null,null,null,null,null,null,null,null,null,null,null,null,null,null,null,null,null,null,null,null,null,null,null,null,null,null,null,null,null,null,null,null,null,null,null,null,null,null,null,null,null,null,null,null,null,null,null,null,null,null,null,null,null,null,null,null,null,null,null,null,null,null,null,null,null,null,null,null,null,null,null,null,null,null,null,null,263,0,0,0,0,0,0,0,0,0,0,0,0,0,0,0,0,0,null,null,null,null,0,0,0,0,0,0,0,0,0,0,0,0,0,0,0,0,0,null,null,null,null,null,0,0,0,0,0,0,0,0,0,0,0,0,0,0,0,0,0]
[null,null,null,null,null,null,null,null,null,null,null,null,null,null,null,null,null,null,null,null,null,null,null,null,null,null,null,null,null,null,null,null,null,null,null,null,null,null,null,null,null,null,null,null,null,null,null,null,null,null,null,null,null,null,null,null,null,null,null,null,null,null,null,null,null,null,null,null,null,null,null,null,null,null,null,null,null,null,null,null,null,null,null,null,null,null,null,null,null,null,264,0,0,0,0,0,0,0,0,0,0,0,0,0,0,0,0,0,null,null,null,null,0,0,0,0,0,0,0,0,0,0,0,0,0,0,0,0,0,null,null,null,null,null,0,0,0,0,0,0,0,0,0,0,0,0,0,0,0,0,0]
[null,null,null,null,null,null,null,null,null,null,null,null,null,null,null,null,null,null,null,null,null,null,null,null,null,null,null,null,null,null,null,null,null,null,null,null,null,null,null,null,null,null,null,null,null,null,null,null,null,null,null,null,null,null,null,null,null,null,null,null,null,null,null,null,null,null,null,null,null,null,null,null,null,null,null,null,null,null,null,null,null,null,null,null,null,null,null,null,null,null,265,0,0,0,0,0,0,0,0,0,0,0,0,0,0,0,0,0,null,null,null,null,0,0,0,0,0,0,0,0,0,0,0,0,0,0,0,0,0,null,null,null,null,null,0,0,0,0,0,0,0,0,0,0,0,0,0,0,0,0,0]
[null,null,null,null,null,null,null,null,null,null,null,null,null,null,null,null,null,null,null,null,null,null,null,null,null,null,null,null,null,null,null,null,null,null,null,null,null,null,null,null,null,null,null,null,null,null,null,null,null,null,null,null,null,null,null,null,null,null,null,null,null,null,null,null,null,null,null,null,null,null,null,null,null,null,null,null,null,null,null,null,null,null,null,null,null,null,null,null,null,null,266,0,0,0,0,0,0,0,0,0,0,0,0,0,0,0,0,0,null,null,null,null,0,0,0,0,0,0,0,0,0,0,0,0,0,0,0,0,0,null,null,null,null,null,0,0,0,0,0,0,0,0,0,0,0,0,0,0,0,0,0]
[null,null,null,null,null,null,null,null,null,null,null,null,null,null,null,null,null,null,null,null,null,null,null,null,null,null,null,null,null,null,null,null,null,null,null,null,null,null,null,null,null,null,null,null,null,null,null,null,null,null,null,null,null,null,null,null,null,null,null,null,null,null,null,null,null,null,null,null,null,null,null,null,null,null,null,null,null,null,null,null,null,null,null,null,null,null,null,null,null,null,267,0,0,0,0,0,0,0,0,0,0,0,0,0,0,0,0,0,null,null,null,null,0,0,0,0,0,0,0,0,0,0,0,0,0,0,0,0,0,null,null,null,null,null,0,0,0,0,0,0,0,0,0,0,0,0,0,0,0,0,0]
[null,null,null,null,null,null,null,null,null,null,null,null,null,null,null,null,null,null,null,null,null,null,null,null,null,null,null,null,null,null,null,null,null,null,null,null,null,null,null,null,null,null,null,null,null,null,null,null,null,null,null,null,null,null,null,null,null,null,null,null,null,null,null,null,null,null,null,null,null,null,null,null,null,null,null,null,null,null,null,null,null,null,null,null,null,null,null,null,null,null,268,0,0,0,0,0,0,0,0,0,0,0,0,0,0,0,0,0,null,null,null,null,0,0,0,0,0,0,0,0,0,0,0,0,0,0,0,0,0,null,null,null,null,null,0,0,0,0,0,0,0,0,0,0,0,0,0,0,0,0,0]
[null,null,null,null,null,null,null,null,null,null,null,null,null,null,null,null,null,null,null,null,null,null,null,null,null,null,null,null,null,null,null,null,null,null,null,null,null,null,null,null,null,null,null,null,null,null,null,null,null,null,null,null,null,null,null,null,null,null,null,null,null,null,null,null,null,null,null,null,null,null,null,null,null,null,null,null,null,null,null,null,null,null,null,null,null,null,null,null,null,null,269,0,0,0,0,0,0,0,0,0,0,0,0,0,0,0,0,0,null,null,null,null,0,0,0,0,0,0,0,0,0,0,0,0,0,0,0,0,0,null,null,null,null,null,0,0,0,0,0,0,0,0,0,0,0,0,0,0,0,0,0]
[null,null,null,null,null,null,null,null,null,null,null,null,null,null,null,null,null,null,null,null,null,null,null,null,null,null,null,null,null,null,null,null,null,null,null,null,null,null,null,null,null,null,null,null,null,null,null,null,null,null,null,null,null,null,null,null,null,null,null,null,null,null,null,null,null,null,null,null,null,null,null,null,null,null,null,null,null,null,null,null,null,null,null,null,null,null,null,null,null,null,270,0,0,0,0,0,0,0,0,0,0,0,0,0,0,0,0,0,null,null,null,null,0,0,0,0,0,0,0,0,0,0,0,0,0,0,0,0,0,null,null,null,null,null,0,0,0,0,0,0,0,0,0,0,0,0,0,0,0,0,0]
[null,null,null,null,null,null,null,null,null,null,null,null,null,null,null,null,null,null,null,null,null,null,null,null,null,null,null,null,null,null,null,null,null,null,null,null,null,null,null,null,null,null,null,null,null,null,null,null,null,null,null,null,null,null,null,null,null,null,null,null,null,null,null,null,null,null,null,null,null,null,null,null,null,null,null,null,null,null,null,null,null,null,null,null,null,null,null,null,null,null,271,0,0,0,0,0,0,0,0,0,0,0,0,0,0,0,0,0,null,null,null,null,0,0,0,0,0,0,0,0,0,0,0,0,0,0,0,0,0,null,null,null,null,null,0,0,0,0,0,0,0,0,0,0,0,0,0,0,0,0,0]
[null,null,null,null,null,null,null,null,null,null,null,null,null,null,null,null,null,null,null,null,null,null,null,null,null,null,null,null,null,null,null,null,null,null,null,null,null,null,null,null,null,null,null,null,null,null,null,null,null,null,null,null,null,null,null,null,null,null,null,null,null,null,null,null,null,null,null,null,null,null,null,null,null,null,null,null,null,null,null,null,null,null,null,null,null,null,null,null,null,null,272,0,0,0,0,0,0,0,0,0,0,0,0,0,0,0,0,0,null,null,null,null,0,0,0,0,0,0,0,0,0,0,0,0,0,0,0,0,0,null,null,null,null,null,0,0,0,0,0,0,0,0,0,0,0,0,0,0,0,0,0]
[null,null,null,null,null,null,null,null,null,null,null,null,null,null,null,null,null,null,null,null,null,null,null,null,null,null,null,null,null,null,null,null,null,null,null,null,null,null,null,null,null,null,null,null,null,null,null,null,null,null,null,null,null,null,null,null,null,null,null,null,null,null,null,null,null,null,null,null,null,null,null,null,null,null,null,null,null,null,null,null,null,null,null,null,null,null,null,null,null,null,273,0,0,0,0,0,0,0,0,0,0,0,0,0,0,0,0,0,null,null,null,null,0,0,0,0,0,0,0,0,0,0,0,0,0,0,0,0,0,null,null,null,null,null,0,0,0,0,0,0,0,0,0,0,0,0,0,0,0,0,0]
[null,null,null,null,null,null,null,null,null,null,null,null,null,null,null,null,null,null,null,null,null,null,null,null,null,null,null,null,null,null,null,null,null,null,null,null,null,null,null,null,null,null,null,null,null,null,null,null,null,null,null,null,null,null,null,null,null,null,null,null,null,null,null,null,null,null,null,null,null,null,null,null,null,null,null,null,null,null,null,null,null,null,null,null,null,null,null,null,null,null,274,0,0,0,0,0,0,0,0,0,0,0,0,0,0,0,0,0,null,null,null,null,0,0,0,0,0,0,0,0,0,0,0,0,0,0,0,0,0,null,null,null,null,null,0,0,0,0,0,0,0,0,0,0,0,0,0,0,0,0,0]
[null,null,null,null,null,null,null,null,null,null,null,null,null,null,null,null,null,null,null,null,null,null,null,null,null,null,null,null,null,null,null,null,null,null,null,null,null,null,null,null,null,null,null,null,null,null,null,null,null,null,null,null,null,null,null,null,null,null,null,null,null,null,null,null,null,null,null,null,null,null,null,null,null,null,null,null,null,null,null,null,null,null,null,null,null,null,null,null,null,null,275,0,0,0,0,0,0,0,0,0,0,0,0,0,0,0,0,0,null,null,null,null,0,0,0,0,0,0,0,0,0,0,0,0,0,0,0,0,0,null,null,null,null,null,0,0,0,0,0,0,0,0,0,0,0,0,0,0,0,0,0]
[null,null,null,null,null,null,null,null,null,null,null,null,null,null,null,null,null,null,null,null,null,null,null,null,null,null,null,null,null,null,null,null,null,null,null,null,null,null,null,null,null,null,null,null,null,null,null,null,null,null,null,null,null,null,null,null,null,null,null,null,null,null,null,null,null,null,null,null,null,null,null,null,null,null,null,null,null,null,null,null,null,null,null,null,null,null,null,null,null,null,276,0,0,0,0,0,0,0,0,0,0,0,0,0,0,0,0,0,null,null,null,null,0,0,0,0,0,0,0,0,0,0,0,0,0,0,0,0,0,null,null,null,null,null,0,0,0,0,0,0,0,0,0,0,0,0,0,0,0,0,0]
[null,null,null,null,null,null,null,null,null,null,null,null,null,null,null,null,null,null,null,null,null,null,null,null,null,null,null,null,null,null,null,null,null,null,null,null,null,null,null,null,null,null,null,null,null,null,null,null,null,null,null,null,null,null,null,null,null,null,null,null,null,null,null,null,null,null,null,null,null,null,null,null,null,null,null,null,null,null,null,null,null,null,null,null,null,null,null,null,null,null,277,0,0,0,0,0,0,0,0,0,0,0,0,0,0,0,0,0,null,null,null,null,0,0,0,0,0,0,0,0,0,0,0,0,0,0,0,0,0,null,null,null,null,null,0,0,0,0,0,0,0,0,0,0,0,0,0,0,0,0,0]
[null,null,null,null,null,null,null,null,null,null,null,null,null,null,null,null,null,null,null,null,null,null,null,null,null,null,null,null,null,null,null,null,null,null,null,null,null,null,null,null,null,null,null,null,null,null,null,null,null,null,null,null,null,null,null,null,null,null,null,null,null,null,null,null,null,null,null,null,null,null,null,null,null,null,null,null,null,null,null,null,null,null,null,null,null,null,null,null,null,null,278,{"$f":"A281","v":0},{"$f":"F281","v":0},{"$f":"K281","v":0},{"$f":"P281","v":0},{"$f":"U281","v":0},{"$f":"Z281","v":0},{"$f":"AE281","v":0},{"$f":"AJ281","v":0},{"$f":"AO281","v":0},{"$f":"AT281","v":0},{"$f":"AY281","v":0},{"$f":"BD281","v":0},{"$f":"BH281","v":0},{"$f":"BM281","v":0},{"$f":"BR281","v":0},{"$f":"BW281","v":0},{"$f":"CB281","v":0},null,null,null,null,{"$f":"B281","v":0},{"$f":"G281","v":0},{"$f":"L281","v":0},{"$f":"Q281","v":0},{"$f":"V281","v":0},{"$f":"AA281","v":0},{"$f":"AF281","v":0},{"$f":"AK281","v":0},{"$f":"AP281","v":0},{"$f":"AU281","v":0},{"$f":"AZ281","v":0},{"$f":"BE281","v":0},{"$f":"BI281","v":0},{"$f":"BN281","v":0},{"$f":"BS281","v":0},{"$f":"BX281","v":0},{"$f":"CC281","v":0},null,null,null,null,null,{"$f":"C281","v":0},{"$f":"H281","v":0},{"$f":"M281","v":0},{"$f":"R281","v":0},{"$f":"W281","v":0},{"$f":"AB281","v":0},{"$f":"AG281","v":0},{"$f":"AL281","v":0},{"$f":"AQ281","v":0},{"$f":"AV281","v":0},{"$f":"BA281","v":0},{"$f":"BF281","v":0},{"$f":"BJ281","v":0},{"$f":"BO281","v":0},{"$f":"BT281","v":0},{"$f":"BY281","v":0},{"$f":"CD281","v":0}]
[null,null,null,null,null,null,null,null,null,null,null,null,null,null,null,null,null,null,null,null,null,null,null,null,null,null,null,null,null,null,null,null,null,null,null,null,null,null,null,null,null,null,null,null,null,null,null,null,null,null,null,null,null,null,null,null,null,null,null,null,null,null,null,null,null,null,null,null,null,null,null,null,null,null,null,null,null,null,null,null,null,null,null,null,null,null,null,null,null,null,279,0,0,0,0,0,0,0,0,0,0,0,0,0,0,0,0,0,null,null,null,null,0,0,0,0,0,0,0,0,0,0,0,0,0,0,0,0,0,null,null,null,null,null,0,0,0,0,0,0,0,0,0,0,0,0,0,0,0,0,0]
[null,null,null,null,null,null,null,null,null,null,null,null,null,null,null,null,null,null,null,null,null,null,null,null,null,null,null,null,null,null,null,null,null,null,null,null,null,null,null,null,null,null,null,null,null,null,null,null,null,null,null,null,null,null,null,null,null,null,null,null,null,null,null,null,null,null,null,null,null,null,null,null,null,null,null,null,null,null,null,null,null,null,null,null,null,null,null,null,null,null,280,0,0,0,0,0,0,0,0,0,0,0,0,0,0,0,0,0,null,null,null,null,0,0,0,0,0,0,0,0,0,0,0,0,0,0,0,0,0,null,null,null,null,null,0,0,0,0,0,0,0,0,0,0,0,0,0,0,0,0,0]
[null,null,null,null,null,null,null,null,null,null,null,null,null,null,null,null,null,null,null,null,null,null,null,null,null,null,null,null,null,null,null,null,null,null,null,null,null,null,null,null,null,null,null,null,null,null,null,null,null,null,null,null,null,null,null,null,null,null,null,null,null,null,null,null,null,null,null,null,null,null,null,null,null,null,null,null,null,null,null,null,null,null,null,null,null,null,null,null,null,null,281,0,0,0,0,0,0,0,0,0,0,0,0,0,0,0,0,0,null,null,null,null,0,0,0,0,0,0,0,0,0,0,0,0,0,0,0,0,0,null,null,null,null,null,0,0,0,0,0,0,0,0,0,0,0,0,0,0,0,0,0]
[null,null,null,null,null,null,null,null,null,null,null,null,null,null,null,null,null,null,null,null,null,null,null,null,null,null,null,null,null,null,null,null,null,null,null,null,null,null,null,null,null,null,null,null,null,null,null,null,null,null,null,null,null,null,null,null,null,null,null,null,null,null,null,null,null,null,null,null,null,null,null,null,null,null,null,null,null,null,null,null,null,null,null,null,null,null,null,null,null,null,282,0,0,0,0,0,0,0,0,0,0,0,0,0,0,0,0,0,null,null,null,null,0,0,0,0,0,0,0,0,0,0,0,0,0,0,0,0,0,null,null,null,null,null,0,0,0,0,0,0,0,0,0,0,0,0,0,0,0,0,0]
[null,null,null,null,null,null,null,null,null,null,null,null,null,null,null,null,null,null,null,null,null,null,null,null,null,null,null,null,null,null,null,null,null,null,null,null,null,null,null,null,null,null,null,null,null,null,null,null,null,null,null,null,null,null,null,null,null,null,null,null,null,null,null,null,null,null,null,null,null,null,null,null,null,null,null,null,null,null,null,null,null,null,null,null,null,null,null,null,null,null,283,0,0,0,0,0,0,0,0,0,0,0,0,0,0,0,0,0,null,null,null,null,0,0,0,0,0,0,0,0,0,0,0,0,0,0,0,0,0,null,null,null,null,null,0,0,0,0,0,0,0,0,0,0,0,0,0,0,0,0,0]
[null,null,null,null,null,null,null,null,null,null,null,null,null,null,null,null,null,null,null,null,null,null,null,null,null,null,null,null,null,null,null,null,null,null,null,null,null,null,null,null,null,null,null,null,null,null,null,null,null,null,null,null,null,null,null,null,null,null,null,null,null,null,null,null,null,null,null,null,null,null,null,null,null,null,null,null,null,null,null,null,null,null,null,null,null,null,null,null,null,null,284,0,0,0,0,0,0,0,0,0,0,0,0,0,0,0,0,0,null,null,null,null,0,0,0,0,0,0,0,0,0,0,0,0,0,0,0,0,0,null,null,null,null,null,0,0,0,0,0,0,0,0,0,0,0,0,0,0,0,0,0]
[null,null,null,null,null,null,null,null,null,null,null,null,null,null,null,null,null,null,null,null,null,null,null,null,null,null,null,null,null,null,null,null,null,null,null,null,null,null,null,null,null,null,null,null,null,null,null,null,null,null,null,null,null,null,null,null,null,null,null,null,null,null,null,null,null,null,null,null,null,null,null,null,null,null,null,null,null,null,null,null,null,null,null,null,null,null,null,null,null,null,285,0,0,0,0,0,0,0,0,0,0,0,0,0,0,0,0,0,null,null,null,null,0,0,0,0,0,0,0,0,0,0,0,0,0,0,0,0,0,null,null,null,null,null,0,0,0,0,0,0,0,0,0,0,0,0,0,0,0,0,0]
[null,null,null,null,null,null,null,null,null,null,null,null,null,null,null,null,null,null,null,null,null,null,null,null,null,null,null,null,null,null,null,null,null,null,null,null,null,null,null,null,null,null,null,null,null,null,null,null,null,null,null,null,null,null,null,null,null,null,null,null,null,null,null,null,null,null,null,null,null,null,null,null,null,null,null,null,null,null,null,null,null,null,null,null,null,null,null,null,null,null,286,0,0,0,0,0,0,0,0,0,0,0,0,0,0,0,0,0,null,null,null,null,0,0,0,0,0,0,0,0,0,0,0,0,0,0,0,0,0,null,null,null,null,null,0,0,0,0,0,0,0,0,0,0,0,0,0,0,0,0,0]
[null,null,null,null,null,null,null,null,null,null,null,null,null,null,null,null,null,null,null,null,null,null,null,null,null,null,null,null,null,null,null,null,null,null,null,null,null,null,null,null,null,null,null,null,null,null,null,null,null,null,null,null,null,null,null,null,null,null,null,null,null,null,null,null,null,null,null,null,null,null,null,null,null,null,null,null,null,null,null,null,null,null,null,null,null,null,null,null,null,null,287,0,0,0,0,0,0,0,0,0,0,0,0,0,0,0,0,0,null,null,null,null,0,0,0,0,0,0,0,0,0,0,0,0,0,0,0,0,0,null,null,null,null,null,0,0,0,0,0,0,0,0,0,0,0,0,0,0,0,0,0]
[null,null,null,null,null,null,null,null,null,null,null,null,null,null,null,null,null,null,null,null,null,null,null,null,null,null,null,null,null,null,null,null,null,null,null,null,null,null,null,null,null,null,null,null,null,null,null,null,null,null,null,null,null,null,null,null,null,null,null,null,null,null,null,null,null,null,null,null,null,null,null,null,null,null,null,null,null,null,null,null,null,null,null,null,null,null,null,null,null,null,288,0,0,0,0,0,0,0,0,0,0,0,0,0,0,0,0,0,null,null,null,null,0,0,0,0,0,0,0,0,0,0,0,0,0,0,0,0,0,null,null,null,null,null,0,0,0,0,0,0,0,0,0,0,0,0,0,0,0,0,0]
[null,null,null,null,null,null,null,null,null,null,null,null,null,null,null,null,null,null,null,null,null,null,null,null,null,null,null,null,null,null,null,null,null,null,null,null,null,null,null,null,null,null,null,null,null,null,null,null,null,null,null,null,null,null,null,null,null,null,null,null,null,null,null,null,null,null,null,null,null,null,null,null,null,null,null,null,null,null,null,null,null,null,null,null,null,null,null,null,null,null,289,0,0,0,0,0,0,0,0,0,0,0,0,0,0,0,0,0,null,null,null,null,0,0,0,0,0,0,0,0,0,0,0,0,0,0,0,0,0,null,null,null,null,null,0,0,0,0,0,0,0,0,0,0,0,0,0,0,0,0,0]
[null,null,null,null,null,null,null,null,null,null,null,null,null,null,null,null,null,null,null,null,null,null,null,null,null,null,null,null,null,null,null,null,null,null,null,null,null,null,null,null,null,null,null,null,null,null,null,null,null,null,null,null,null,null,null,null,null,null,null,null,null,null,null,null,null,null,null,null,null,null,null,null,null,null,null,null,null,null,null,null,null,null,null,null,null,null,null,null,null,null,290,0,0,0,0,0,0,0,0,0,0,0,0,0,0,0,0,0,null,null,null,null,0,0,0,0,0,0,0,0,0,0,0,0,0,0,0,0,0,null,null,null,null,null,0,0,0,0,0,0,0,0,0,0,0,0,0,0,0,0,0]
[null,null,null,null,null,null,null,null,null,null,null,null,null,null,null,null,null,null,null,null,null,null,null,null,null,null,null,null,null,null,null,null,null,null,null,null,null,null,null,null,null,null,null,null,null,null,null,null,null,null,null,null,null,null,null,null,null,null,null,null,null,null,null,null,null,null,null,null,null,null,null,null,null,null,null,null,null,null,null,null,null,null,null,null,null,null,null,null,null,null,291,0,0,0,0,0,0,0,0,0,0,0,0,0,0,0,0,0,null,null,null,null,0,0,0,0,0,0,0,0,0,0,0,0,0,0,0,0,0,null,null,null,null,null,0,0,0,0,0,0,0,0,0,0,0,0,0,0,0,0,0]
[null,null,null,null,null,null,null,null,null,null,null,null,null,null,null,null,null,null,null,null,null,null,null,null,null,null,null,null,null,null,null,null,null,null,null,null,null,null,null,null,null,null,null,null,null,null,null,null,null,null,null,null,null,null,null,null,null,null,null,null,null,null,null,null,null,null,null,null,null,null,null,null,null,null,null,null,null,null,null,null,null,null,null,null,null,null,null,null,null,null,292,0,0,0,0,0,0,0,0,0,0,0,0,0,0,0,0,0,null,null,null,null,0,0,0,0,0,0,0,0,0,0,0,0,0,0,0,0,0,null,null,null,null,null,0,0,0,0,0,0,0,0,0,0,0,0,0,0,0,0,0]
[null,null,null,null,null,null,null,null,null,null,null,null,null,null,null,null,null,null,null,null,null,null,null,null,null,null,null,null,null,null,null,null,null,null,null,null,null,null,null,null,null,null,null,null,null,null,null,null,null,null,null,null,null,null,null,null,null,null,null,null,null,null,null,null,null,null,null,null,null,null,null,null,null,null,null,null,null,null,null,null,null,null,null,null,null,null,null,null,null,null,293,0,0,0,0,0,0,0,0,0,0,0,0,0,0,0,0,0,null,null,null,null,0,0,0,0,0,0,0,0,0,0,0,0,0,0,0,0,0,null,null,null,null,null,0,0,0,0,0,0,0,0,0,0,0,0,0,0,0,0,0]
[null,null,null,null,null,null,null,null,null,null,null,null,null,null,null,null,null,null,null,null,null,null,null,null,null,null,null,null,null,null,null,null,null,null,null,null,null,null,null,null,null,null,null,null,null,null,null,null,null,null,null,null,null,null,null,null,null,null,null,null,null,null,null,null,null,null,null,null,null,null,null,null,null,null,null,null,null,null,null,null,null,null,null,null,null,null,null,null,null,null,294,0,0,0,0,0,0,0,0,0,0,0,0,0,0,0,0,0,null,null,null,null,0,0,0,0,0,0,0,0,0,0,0,0,0,0,0,0,0,null,null,null,null,null,0,0,0,0,0,0,0,0,0,0,0,0,0,0,0,0,0]
[null,null,null,null,null,null,null,null,null,null,null,null,null,null,null,null,null,null,null,null,null,null,null,null,null,null,null,null,null,null,null,null,null,null,null,null,null,null,null,null,null,null,null,null,null,null,null,null,null,null,null,null,null,null,null,null,null,null,null,null,null,null,null,null,null,null,null,null,null,null,null,null,null,null,null,null,null,null,null,null,null,null,null,null,null,null,null,null,null,null,295,0,0,0,0,0,0,0,0,0,0,0,0,0,0,0,0,0,null,null,null,null,0,0,0,0,0,0,0,0,0,0,0,0,0,0,0,0,0,null,null,null,null,null,0,0,0,0,0,0,0,0,0,0,0,0,0,0,0,0,0]
[null,null,null,null,null,null,null,null,null,null,null,null,null,null,null,null,null,null,null,null,null,null,null,null,null,null,null,null,null,null,null,null,null,null,null,null,null,null,null,null,null,null,null,null,null,null,null,null,null,null,null,null,null,null,null,null,null,null,null,null,null,null,null,null,null,null,null,null,null,null,null,null,null,null,null,null,null,null,null,null,null,null,null,null,null,null,null,null,null,null,296,0,0,0,0,0,0,0,0,0,0,0,0,0,0,0,0,0,null,null,null,null,0,0,0,0,0,0,0,0,0,0,0,0,0,0,0,0,0,null,null,null,null,null,0,0,0,0,0,0,0,0,0,0,0,0,0,0,0,0,0]
[null,null,null,null,null,null,null,null,null,null,null,null,null,null,null,null,null,null,null,null,null,null,null,null,null,null,null,null,null,null,null,null,null,null,null,null,null,null,null,null,null,null,null,null,null,null,null,null,null,null,null,null,null,null,null,null,null,null,null,null,null,null,null,null,null,null,null,null,null,null,null,null,null,null,null,null,null,null,null,null,null,null,null,null,null,null,null,null,null,null,297,0,0,0,0,0,0,0,0,0,0,0,0,0,0,0,0,0,null,null,null,null,0,0,0,0,0,0,0,0,0,0,0,0,0,0,0,0,0,null,null,null,null,null,0,0,0,0,0,0,0,0,0,0,0,0,0,0,0,0,0]
[null,null,null,null,null,null,null,null,null,null,null,null,null,null,null,null,null,null,null,null,null,null,null,null,null,null,null,null,null,null,null,null,null,null,null,null,null,null,null,null,null,null,null,null,null,null,null,null,null,null,null,null,null,null,null,null,null,null,null,null,null,null,null,null,null,null,null,null,null,null,null,null,null,null,null,null,null,null,null,null,null,null,null,null,null,null,null,null,null,null,298,0,0,0,0,0,0,0,0,0,0,0,0,0,0,0,0,0,null,null,null,null,0,0,0,0,0,0,0,0,0,0,0,0,0,0,0,0,0,null,null,null,null,null,0,0,0,0,0,0,0,0,0,0,0,0,0,0,0,0,0]
[null,null,null,null,null,null,null,null,null,null,null,null,null,null,null,null,null,null,null,null,null,null,null,null,null,null,null,null,null,null,null,null,null,null,null,null,null,null,null,null,null,null,null,null,null,null,null,null,null,null,null,null,null,null,null,null,null,null,null,null,null,null,null,null,null,null,null,null,null,null,null,null,null,null,null,null,null,null,null,null,null,null,null,null,null,null,null,null,null,null,299,0,0,0,0,0,0,0,0,0,0,0,0,0,0,0,0,0,null,null,null,null,0,0,0,0,0,0,0,0,0,0,0,0,0,0,0,0,0,null,null,null,null,null,0,0,0,0,0,0,0,0,0,0,0,0,0,0,0,0,0]
[null,null,null,null,null,null,null,null,null,null,null,null,null,null,null,null,null,null,null,null,null,null,null,null,null,null,null,null,null,null,null,null,null,null,null,null,null,null,null,null,null,null,null,null,null,null,null,null,null,null,null,null,null,null,null,null,null,null,null,null,null,null,null,null,null,null,null,null,null,null,null,null,null,null,null,null,null,null,null,null,null,null,null,null,null,null,null,null,null,null,300,0,0,0,0,0,0,0,0,0,0,0,0,0,0,0,0,0,null,null,null,null,0,0,0,0,0,0,0,0,0,0,0,0,0,0,0,0,0,null,null,null,null,null,0,0,0,0,0,0,0,0,0,0,0,0,0,0,0,0,0]
[null,null,null,null,null,null,null,null,null,null,null,null,null,null,null,null,null,null,null,null,null,null,null,null,null,null,null,null,null,null,null,null,null,null,null,null,null,null,null,null,null,null,null,null,null,null,null,null,null,null,null,null,null,null,null,null,null,null,null,null,null,null,null,null,null,null,null,null,null,null,null,null,null,null,null,null,null,null,null,null,null,null,null,null,null,null,null,null,null,null,301,0,0,0,0,0,0,0,0,0,0,0,0,0,0,0,0,0,null,null,null,null,0,0,0,0,0,0,0,0,0,0,0,0,0,0,0,0,0,null,null,null,null,null,0,0,0,0,0,0,0,0,0,0,0,0,0,0,0,0,0]
[null,null,null,null,null,null,null,null,null,null,null,null,null,null,null,null,null,null,null,null,null,null,null,null,null,null,null,null,null,null,null,null,null,null,null,null,null,null,null,null,null,null,null,null,null,null,null,null,null,null,null,null,null,null,null,null,null,null,null,null,null,null,null,null,null,null,null,null,null,null,null,null,null,null,null,null,null,null,null,null,null,null,null,null,null,null,null,null,null,null,302,0,0,0,0,0,0,0,0,0,0,0,0,0,0,0,0,0,null,null,null,null,0,0,0,0,0,0,0,0,0,0,0,0,0,0,0,0,0,null,null,null,null,null,0,0,0,0,0,0,0,0,0,0,0,0,0,0,0,0,0]
[null,null,null,null,null,null,null,null,null,null,null,null,null,null,null,null,null,null,null,null,null,null,null,null,null,null,null,null,null,null,null,null,null,null,null,null,null,null,null,null,null,null,null,null,null,null,null,null,null,null,null,null,null,null,null,null,null,null,null,null,null,null,null,null,null,null,null,null,null,null,null,null,null,null,null,null,null,null,null,null,null,null,null,null,null,null,null,null,null,null,303,0,0,0,0,0,0,0,0,0,0,0,0,0,0,0,0,0,null,null,null,null,0,0,0,0,0,0,0,0,0,0,0,0,0,0,0,0,0,null,null,null,null,null,0,0,0,0,0,0,0,0,0,0,0,0,0,0,0,0,0]
[null,null,null,null,null,null,null,null,null,null,null,null,null,null,null,null,null,null,null,null,null,null,null,null,null,null,null,null,null,null,null,null,null,null,null,null,null,null,null,null,null,null,null,null,null,null,null,null,null,null,null,null,null,null,null,null,null,null,null,null,null,null,null,null,null,null,null,null,null,null,null,null,null,null,null,null,null,null,null,null,null,null,null,null,null,null,null,null,null,null,304,0,0,0,0,0,0,0,0,0,0,0,0,0,0,0,0,0,null,null,null,null,0,0,0,0,0,0,0,0,0,0,0,0,0,0,0,0,0,null,null,null,null,null,0,0,0,0,0,0,0,0,0,0,0,0,0,0,0,0,0]
[null,null,null,null,null,null,null,null,null,null,null,null,null,null,null,null,null,null,null,null,null,null,null,null,null,null,null,null,null,null,null,null,null,null,null,null,null,null,null,null,null,null,null,null,null,null,null,null,null,null,null,null,null,null,null,null,null,null,null,null,null,null,null,null,null,null,null,null,null,null,null,null,null,null,null,null,null,null,null,null,null,null,null,null,null,null,null,null,null,null,305,0,0,0,0,0,0,0,0,0,0,0,0,0,0,0,0,0,null,null,null,null,0,0,0,0,0,0,0,0,0,0,0,0,0,0,0,0,0,null,null,null,null,null,0,0,0,0,0,0,0,0,0,0,0,0,0,0,0,0,0]
[null,null,null,null,null,null,null,null,null,null,null,null,null,null,null,null,null,null,null,null,null,null,null,null,null,null,null,null,null,null,null,null,null,null,null,null,null,null,null,null,null,null,null,null,null,null,null,null,null,null,null,null,null,null,null,null,null,null,null,null,null,null,null,null,null,null,null,null,null,null,null,null,null,null,null,null,null,null,null,null,null,null,null,null,null,null,null,null,null,null,306,0,0,0,0,0,0,0,0,0,0,0,0,0,0,0,0,0,null,null,null,null,0,0,0,0,0,0,0,0,0,0,0,0,0,0,0,0,0,null,null,null,null,null,0,0,0,0,0,0,0,0,0,0,0,0,0,0,0,0,0]
[null,null,null,null,null,null,null,null,null,null,null,null,null,null,null,null,null,null,null,null,null,null,null,null,null,null,null,null,null,null,null,null,null,null,null,null,null,null,null,null,null,null,null,null,null,null,null,null,null,null,null,null,null,null,null,null,null,null,null,null,null,null,null,null,null,null,null,null,null,null,null,null,null,null,null,null,null,null,null,null,null,null,null,null,null,null,null,null,null,null,307,0,0,0,0,0,0,0,0,0,0,0,0,0,0,0,0,0,null,null,null,null,0,0,0,0,0,0,0,0,0,0,0,0,0,0,0,0,0,null,null,null,null,null,0,0,0,0,0,0,0,0,0,0,0,0,0,0,0,0,0]
[null,null,null,null,null,null,null,null,null,null,null,null,null,null,null,null,null,null,null,null,null,null,null,null,null,null,null,null,null,null,null,null,null,null,null,null,null,null,null,null,null,null,null,null,null,null,null,null,null,null,null,null,null,null,null,null,null,null,null,null,null,null,null,null,null,null,null,null,null,null,null,null,null,null,null,null,null,null,null,null,null,null,null,null,null,null,null,null,null,null,308,0,0,0,0,0,0,0,0,0,0,0,0,0,0,0,0,0,null,null,null,null,0,0,0,0,0,0,0,0,0,0,0,0,0,0,0,0,0,null,null,null,null,null,0,0,0,0,0,0,0,0,0,0,0,0,0,0,0,0,0]
[null,null,null,null,null,null,null,null,null,null,null,null,null,null,null,null,null,null,null,null,null,null,null,null,null,null,null,null,null,null,null,null,null,null,null,null,null,null,null,null,null,null,null,null,null,null,null,null,null,null,null,null,null,null,null,null,null,null,null,null,null,null,null,null,null,null,null,null,null,null,null,null,null,null,null,null,null,null,null,null,null,null,null,null,null,null,null,null,null,null,309,0,0,0,0,0,0,0,0,0,0,0,0,0,0,0,0,0,null,null,null,null,0,0,0,0,0,0,0,0,0,0,0,0,0,0,0,0,0,null,null,null,null,null,0,0,0,0,0,0,0,0,0,0,0,0,0,0,0,0,0]
[null,null,null,null,null,null,null,null,null,null,null,null,null,null,null,null,null,null,null,null,null,null,null,null,null,null,null,null,null,null,null,null,null,null,null,null,null,null,null,null,null,null,null,null,null,null,null,null,null,null,null,null,null,null,null,null,null,null,null,null,null,null,null,null,null,null,null,null,null,null,null,null,null,null,null,null,null,null,null,null,null,null,null,null,null,null,null,null,null,null,310,0,0,0,0,0,0,0,0,0,0,0,0,0,0,0,0,0,null,null,null,null,0,0,0,0,0,0,0,0,0,0,0,0,0,0,0,0,0,null,null,null,null,null,0,0,0,0,0,0,0,0,0,0,0,0,0,0,0,0,0]
[null,null,null,null,null,null,null,null,null,null,null,null,null,null,null,null,null,null,null,null,null,null,null,null,null,null,null,null,null,null,null,null,null,null,null,null,null,null,null,null,null,null,null,null,null,null,null,null,null,null,null,null,null,null,null,null,null,null,null,null,null,null,null,null,null,null,null,null,null,null,null,null,null,null,null,null,null,null,null,null,null,null,null,null,null,null,null,null,null,null,311,0,0,0,0,0,0,0,0,0,0,0,0,0,0,0,0,0,null,null,null,null,0,0,0,0,0,0,0,0,0,0,0,0,0,0,0,0,0,null,null,null,null,null,0,0,0,0,0,0,0,0,0,0,0,0,0,0,0,0,0]
[null,null,null,null,null,null,null,null,null,null,null,null,null,null,null,null,null,null,null,null,null,null,null,null,null,null,null,null,null,null,null,null,null,null,null,null,null,null,null,null,null,null,null,null,null,null,null,null,null,null,null,null,null,null,null,null,null,null,null,null,null,null,null,null,null,null,null,null,null,null,null,null,null,null,null,null,null,null,null,null,null,null,null,null,null,null,null,null,null,null,312,0,0,0,0,0,0,0,0,0,0,0,0,0,0,0,0,0,null,null,null,null,0,0,0,0,0,0,0,0,0,0,0,0,0,0,0,0,0,null,null,null,null,null,0,0,0,0,0,0,0,0,0,0,0,0,0,0,0,0,0]
[null,null,null,null,null,null,null,null,null,null,null,null,null,null,null,null,null,null,null,null,null,null,null,null,null,null,null,null,null,null,null,null,null,null,null,null,null,null,null,null,null,null,null,null,null,null,null,null,null,null,null,null,null,null,null,null,null,null,null,null,null,null,null,null,null,null,null,null,null,null,null,null,null,null,null,null,null,null,null,null,null,null,null,null,null,null,null,null,null,null,313,0,0,0,0,0,0,0,0,0,0,0,0,0,0,0,0,0,null,null,null,null,0,0,0,0,0,0,0,0,0,0,0,0,0,0,0,0,0,null,null,null,null,null,0,0,0,0,0,0,0,0,0,0,0,0,0,0,0,0,0]
[null,null,null,null,null,null,null,null,null,null,null,null,null,null,null,null,null,null,null,null,null,null,null,null,null,null,null,null,null,null,null,null,null,null,null,null,null,null,null,null,null,null,null,null,null,null,null,null,null,null,null,null,null,null,null,null,null,null,null,null,null,null,null,null,null,null,null,null,null,null,null,null,null,null,null,null,null,null,null,null,null,null,null,null,null,null,null,null,null,null,314,0,0,0,0,0,0,0,0,0,0,0,0,0,0,0,0,0,null,null,null,null,0,0,0,0,0,0,0,0,0,0,0,0,0,0,0,0,0,null,null,null,null,null,0,0,0,0,0,0,0,0,0,0,0,0,0,0,0,0,0]
[null,null,null,null,null,null,null,null,null,null,null,null,null,null,null,null,null,null,null,null,null,null,null,null,null,null,null,null,null,null,null,null,null,null,null,null,null,null,null,null,null,null,null,null,null,null,null,null,null,null,null,null,null,null,null,null,null,null,null,null,null,null,null,null,null,null,null,null,null,null,null,null,null,null,null,null,null,null,null,null,null,null,null,null,null,null,null,null,null,null,315,0,0,0,0,0,0,0,0,0,0,0,0,0,0,0,0,0,null,null,null,null,0,0,0,0,0,0,0,0,0,0,0,0,0,0,0,0,0,null,null,null,null,null,0,0,0,0,0,0,0,0,0,0,0,0,0,0,0,0,0]
[null,null,null,null,null,null,null,null,null,null,null,null,null,null,null,null,null,null,null,null,null,null,null,null,null,null,null,null,null,null,null,null,null,null,null,null,null,null,null,null,null,null,null,null,null,null,null,null,null,null,null,null,null,null,null,null,null,null,null,null,null,null,null,null,null,null,null,null,null,null,null,null,null,null,null,null,null,null,null,null,null,null,null,null,null,null,null,null,null,null,316,0,0,0,0,0,0,0,0,0,0,0,0,0,0,0,0,0,null,null,null,null,0,0,0,0,0,0,0,0,0,0,0,0,0,0,0,0,0,null,null,null,null,null,0,0,0,0,0,0,0,0,0,0,0,0,0,0,0,0,0]
[null,null,null,null,null,null,null,null,null,null,null,null,null,null,null,null,null,null,null,null,null,null,null,null,null,null,null,null,null,null,null,null,null,null,null,null,null,null,null,null,null,null,null,null,null,null,null,null,null,null,null,null,null,null,null,null,null,null,null,null,null,null,null,null,null,null,null,null,null,null,null,null,null,null,null,null,null,null,null,null,null,null,null,null,null,null,null,null,null,null,317,0,0,0,0,0,0,0,0,0,0,0,0,0,0,0,0,0,null,null,null,null,0,0,0,0,0,0,0,0,0,0,0,0,0,0,0,0,0,null,null,null,null,null,0,0,0,0,0,0,0,0,0,0,0,0,0,0,0,0,0]
[null,null,null,null,null,null,null,null,null,null,null,null,null,null,null,null,null,null,null,null,null,null,null,null,null,null,null,null,null,null,null,null,null,null,null,null,null,null,null,null,null,null,null,null,null,null,null,null,null,null,null,null,null,null,null,null,null,null,null,null,null,null,null,null,null,null,null,null,null,null,null,null,null,null,null,null,null,null,null,null,null,null,null,null,null,null,null,null,null,null,318,0,0,0,0,0,0,0,0,0,0,0,0,0,0,0,0,0,null,null,null,null,0,0,0,0,0,0,0,0,0,0,0,0,0,0,0,0,0,null,null,null,null,null,0,0,0,0,0,0,0,0,0,0,0,0,0,0,0,0,0]
[null,null,null,null,null,null,null,null,null,null,null,null,null,null,null,null,null,null,null,null,null,null,null,null,null,null,null,null,null,null,null,null,null,null,null,null,null,null,null,null,null,null,null,null,null,null,null,null,null,null,null,null,null,null,null,null,null,null,null,null,null,null,null,null,null,null,null,null,null,null,null,null,null,null,null,null,null,null,null,null,null,null,null,null,null,null,null,null,null,null,319,0,0,0,0,0,0,0,0,0,0,0,0,0,0,0,0,0,null,null,null,null,0,0,0,0,0,0,0,0,0,0,0,0,0,0,0,0,0,null,null,null,null,null,0,0,0,0,0,0,0,0,0,0,0,0,0,0,0,0,0]
[null,null,null,null,null,null,null,null,null,null,null,null,null,null,null,null,null,null,null,null,null,null,null,null,null,null,null,null,null,null,null,null,null,null,null,null,null,null,null,null,null,null,null,null,null,null,null,null,null,null,null,null,null,null,null,null,null,null,null,null,null,null,null,null,null,null,null,null,null,null,null,null,null,null,null,null,null,null,null,null,null,null,null,null,null,null,null,null,null,null,320,0,0,0,0,0,0,0,0,0,0,0,0,0,0,0,0,0,null,null,null,null,0,0,0,0,0,0,0,0,0,0,0,0,0,0,0,0,0,null,null,null,null,null,0,0,0,0,0,0,0,0,0,0,0,0,0,0,0,0,0]
[null,null,null,null,null,null,null,null,null,null,null,null,null,null,null,null,null,null,null,null,null,null,null,null,null,null,null,null,null,null,null,null,null,null,null,null,null,null,null,null,null,null,null,null,null,null,null,null,null,null,null,null,null,null,null,null,null,null,null,null,null,null,null,null,null,null,null,null,null,null,null,null,null,null,null,null,null,null,null,null,null,null,null,null,null,null,null,null,null,null,321,0,0,0,0,0,0,0,0,0,0,0,0,0,0,0,0,0,null,null,null,null,0,0,0,0,0,0,0,0,0,0,0,0,0,0,0,0,0,null,null,null,null,null,0,0,0,0,0,0,0,0,0,0,0,0,0,0,0,0,0]
[null,null,null,null,null,null,null,null,null,null,null,null,null,null,null,null,null,null,null,null,null,null,null,null,null,null,null,null,null,null,null,null,null,null,null,null,null,null,null,null,null,null,null,null,null,null,null,null,null,null,null,null,null,null,null,null,null,null,null,null,null,null,null,null,null,null,null,null,null,null,null,null,null,null,null,null,null,null,null,null,null,null,null,null,null,null,null,null,null,null,322,0,0,0,0,0,0,0,0,0,0,0,0,0,0,0,0,0,null,null,null,null,0,0,0,0,0,0,0,0,0,0,0,0,0,0,0,0,0,null,null,null,null,null,0,0,0,0,0,0,0,0,0,0,0,0,0,0,0,0,0]
[null,null,null,null,null,null,null,null,null,null,null,null,null,null,null,null,null,null,null,null,null,null,null,null,null,null,null,null,null,null,null,null,null,null,null,null,null,null,null,null,null,null,null,null,null,null,null,null,null,null,null,null,null,null,null,null,null,null,null,null,null,null,null,null,null,null,null,null,null,null,null,null,null,null,null,null,null,null,null,null,null,null,null,null,null,null,null,null,null,null,323,0,0,0,0,0,0,0,0,0,0,0,0,0,0,0,0,0,null,null,null,null,0,0,0,0,0,0,0,0,0,0,0,0,0,0,0,0,0,null,null,null,null,null,0,0,0,0,0,0,0,0,0,0,0,0,0,0,0,0,0]
[null,null,null,null,null,null,null,null,null,null,null,null,null,null,null,null,null,null,null,null,null,null,null,null,null,null,null,null,null,null,null,null,null,null,null,null,null,null,null,null,null,null,null,null,null,null,null,null,null,null,null,null,null,null,null,null,null,null,null,null,null,null,null,null,null,null,null,null,null,null,null,null,null,null,null,null,null,null,null,null,null,null,null,null,null,null,null,null,null,null,324,0,0,0,0,0,0,0,0,0,0,0,0,0,0,0,0,0,null,null,null,null,0,0,0,0,0,0,0,0,0,0,0,0,0,0,0,0,0,null,null,null,null,null,0,0,0,0,0,0,0,0,0,0,0,0,0,0,0,0,0]
[null,null,null,null,null,null,null,null,null,null,null,null,null,null,null,null,null,null,null,null,null,null,null,null,null,null,null,null,null,null,null,null,null,null,null,null,null,null,null,null,null,null,null,null,null,null,null,null,null,null,null,null,null,null,null,null,null,null,null,null,null,null,null,null,null,null,null,null,null,null,null,null,null,null,null,null,null,null,null,null,null,null,null,null,null,null,null,null,null,null,325,0,0,0,0,0,0,0,0,0,0,0,0,0,0,0,0,0,null,null,null,null,0,0,0,0,0,0,0,0,0,0,0,0,0,0,0,0,0,null,null,null,null,null,0,0,0,0,0,0,0,0,0,0,0,0,0,0,0,0,0]
[null,null,null,null,null,null,null,null,null,null,null,null,null,null,null,null,null,null,null,null,null,null,null,null,null,null,null,null,null,null,null,null,null,null,null,null,null,null,null,null,null,null,null,null,null,null,null,null,null,null,null,null,null,null,null,null,null,null,null,null,null,null,null,null,null,null,null,null,null,null,null,null,null,null,null,null,null,null,null,null,null,null,null,null,null,null,null,null,null,null,326,0,0,0,0,0,0,0,0,0,0,0,0,0,0,0,0,0,null,null,null,null,0,0,0,0,0,0,0,0,0,0,0,0,0,0,0,0,0,null,null,null,null,null,0,0,0,0,0,0,0,0,0,0,0,0,0,0,0,0,0]
[null,null,null,null,null,null,null,null,null,null,null,null,null,null,null,null,null,null,null,null,null,null,null,null,null,null,null,null,null,null,null,null,null,null,null,null,null,null,null,null,null,null,null,null,null,null,null,null,null,null,null,null,null,null,null,null,null,null,null,null,null,null,null,null,null,null,null,null,null,null,null,null,null,null,null,null,null,null,null,null,null,null,null,null,null,null,null,null,null,null,327,0,0,0,0,0,0,0,0,0,0,0,0,0,0,0,0,0,null,null,null,null,0,0,0,0,0,0,0,0,0,0,0,0,0,0,0,0,0,null,null,null,null,null,0,0,0,0,0,0,0,0,0,0,0,0,0,0,0,0,0]
[null,null,null,null,null,null,null,null,null,null,null,null,null,null,null,null,null,null,null,null,null,null,null,null,null,null,null,null,null,null,null,null,null,null,null,null,null,null,null,null,null,null,null,null,null,null,null,null,null,null,null,null,null,null,null,null,null,null,null,null,null,null,null,null,null,null,null,null,null,null,null,null,null,null,null,null,null,null,null,null,null,null,null,null,null,null,null,null,null,null,328,0,0,0,0,0,0,0,0,0,0,0,0,0,0,0,0,0,null,null,null,null,0,0,0,0,0,0,0,0,0,0,0,0,0,0,0,0,0,null,null,null,null,null,0,0,0,0,0,0,0,0,0,0,0,0,0,0,0,0,0]
[null,null,null,null,null,null,null,null,null,null,null,null,null,null,null,null,null,null,null,null,null,null,null,null,null,null,null,null,null,null,null,null,null,null,null,null,null,null,null,null,null,null,null,null,null,null,null,null,null,null,null,null,null,null,null,null,null,null,null,null,null,null,null,null,null,null,null,null,null,null,null,null,null,null,null,null,null,null,null,null,null,null,null,null,null,null,null,null,null,null,329,0,0,0,0,0,0,0,0,0,0,0,0,0,0,0,0,0,null,null,null,null,0,0,0,0,0,0,0,0,0,0,0,0,0,0,0,0,0,null,null,null,null,null,0,0,0,0,0,0,0,0,0,0,0,0,0,0,0,0,0]
[null,null,null,null,null,null,null,null,null,null,null,null,null,null,null,null,null,null,null,null,null,null,null,null,null,null,null,null,null,null,null,null,null,null,null,null,null,null,null,null,null,null,null,null,null,null,null,null,null,null,null,null,null,null,null,null,null,null,null,null,null,null,null,null,null,null,null,null,null,null,null,null,null,null,null,null,null,null,null,null,null,null,null,null,null,null,null,null,null,null,330,0,0,0,0,0,0,0,0,0,0,0,0,0,0,0,0,0,null,null,null,null,0,0,0,0,0,0,0,0,0,0,0,0,0,0,0,0,0,null,null,null,null,null,0,0,0,0,0,0,0,0,0,0,0,0,0,0,0,0,0]
[null,null,null,null,null,null,null,null,null,null,null,null,null,null,null,null,null,null,null,null,null,null,null,null,null,null,null,null,null,null,null,null,null,null,null,null,null,null,null,null,null,null,null,null,null,null,null,null,null,null,null,null,null,null,null,null,null,null,null,null,null,null,null,null,null,null,null,null,null,null,null,null,null,null,null,null,null,null,null,null,null,null,null,null,null,null,null,null,null,null,331,0,0,0,0,0,0,0,0,0,0,0,0,0,0,0,0,0,null,null,null,null,0,0,0,0,0,0,0,0,0,0,0,0,0,0,0,0,0,null,null,null,null,null,0,0,0,0,0,0,0,0,0,0,0,0,0,0,0,0,0]
[null,null,null,null,null,null,null,null,null,null,null,null,null,null,null,null,null,null,null,null,null,null,null,null,null,null,null,null,null,null,null,null,null,null,null,null,null,null,null,null,null,null,null,null,null,null,null,null,null,null,null,null,null,null,null,null,null,null,null,null,null,null,null,null,null,null,null,null,null,null,null,null,null,null,null,null,null,null,null,null,null,null,null,null,null,null,null,null,null,null,332,0,0,0,0,0,0,0,0,0,0,0,0,0,0,0,0,0,null,null,null,null,0,0,0,0,0,0,0,0,0,0,0,0,0,0,0,0,0,null,null,null,null,null,0,0,0,0,0,0,0,0,0,0,0,0,0,0,0,0,0]
[null,null,null,null,null,null,null,null,null,null,null,null,null,null,null,null,null,null,null,null,null,null,null,null,null,null,null,null,null,null,null,null,null,null,null,null,null,null,null,null,null,null,null,null,null,null,null,null,null,null,null,null,null,null,null,null,null,null,null,null,null,null,null,null,null,null,null,null,null,null,null,null,null,null,null,null,null,null,null,null,null,null,null,null,null,null,null,null,null,null,333,0,0,0,0,0,0,0,0,0,0,0,0,0,0,0,0,0,null,null,null,null,0,0,0,0,0,0,0,0,0,0,0,0,0,0,0,0,0,null,null,null,null,null,0,0,0,0,0,0,0,0,0,0,0,0,0,0,0,0,0]
[null,null,null,null,null,null,null,null,null,null,null,null,null,null,null,null,null,null,null,null,null,null,null,null,null,null,null,null,null,null,null,null,null,null,null,null,null,null,null,null,null,null,null,null,null,null,null,null,null,null,null,null,null,null,null,null,null,null,null,null,null,null,null,null,null,null,null,null,null,null,null,null,null,null,null,null,null,null,null,null,null,null,null,null,null,null,null,null,null,null,334,0,0,0,0,0,0,0,0,0,0,0,0,0,0,0,0,0,null,null,null,null,0,0,0,0,0,0,0,0,0,0,0,0,0,0,0,0,0,null,null,null,null,null,0,0,0,0,0,0,0,0,0,0,0,0,0,0,0,0,0]
[null,null,null,null,null,null,null,null,null,null,null,null,null,null,null,null,null,null,null,null,null,null,null,null,null,null,null,null,null,null,null,null,null,null,null,null,null,null,null,null,null,null,null,null,null,null,null,null,null,null,null,null,null,null,null,null,null,null,null,null,null,null,null,null,null,null,null,null,null,null,null,null,null,null,null,null,null,null,null,null,null,null,null,null,null,null,null,null,null,null,335,0,0,0,0,0,0,0,0,0,0,0,0,0,0,0,0,0,null,null,null,null,0,0,0,0,0,0,0,0,0,0,0,0,0,0,0,0,0,null,null,null,null,null,0,0,0,0,0,0,0,0,0,0,0,0,0,0,0,0,0]
[null,null,null,null,null,null,null,null,null,null,null,null,null,null,null,null,null,null,null,null,null,null,null,null,null,null,null,null,null,null,null,null,null,null,null,null,null,null,null,null,null,null,null,null,null,null,null,null,null,null,null,null,null,null,null,null,null,null,null,null,null,null,null,null,null,null,null,null,null,null,null,null,null,null,null,null,null,null,null,null,null,null,null,null,null,null,null,null,null,null,336,0,0,0,0,0,0,0,0,0,0,0,0,0,0,0,0,0,null,null,null,null,0,0,0,0,0,0,0,0,0,0,0,0,0,0,0,0,0,null,null,null,null,null,0,0,0,0,0,0,0,0,0,0,0,0,0,0,0,0,0]
[null,null,null,null,null,null,null,null,null,null,null,null,null,null,null,null,null,null,null,null,null,null,null,null,null,null,null,null,null,null,null,null,null,null,null,null,null,null,null,null,null,null,null,null,null,null,null,null,null,null,null,null,null,null,null,null,null,null,null,null,null,null,null,null,null,null,null,null,null,null,null,null,null,null,null,null,null,null,null,null,null,null,null,null,null,null,null,null,null,null,337,0,0,0,0,0,0,0,0,0,0,0,0,0,0,0,0,0,null,null,null,null,0,0,0,0,0,0,0,0,0,0,0,0,0,0,0,0,0,null,null,null,null,null,0,0,0,0,0,0,0,0,0,0,0,0,0,0,0,0,0]
[null,null,null,null,null,null,null,null,null,null,null,null,null,null,null,null,null,null,null,null,null,null,null,null,null,null,null,null,null,null,null,null,null,null,null,null,null,null,null,null,null,null,null,null,null,null,null,null,null,null,null,null,null,null,null,null,null,null,null,null,null,null,null,null,null,null,null,null,null,null,null,null,null,null,null,null,null,null,null,null,null,null,null,null,null,null,null,null,null,null,338,0,0,0,0,0,0,0,0,0,0,0,0,0,0,0,0,0,null,null,null,null,0,0,0,0,0,0,0,0,0,0,0,0,0,0,0,0,0,null,null,null,null,null,0,0,0,0,0,0,0,0,0,0,0,0,0,0,0,0,0]
[null,null,null,null,null,null,null,null,null,null,null,null,null,null,null,null,null,null,null,null,null,null,null,null,null,null,null,null,null,null,null,null,null,null,null,null,null,null,null,null,null,null,null,null,null,null,null,null,null,null,null,null,null,null,null,null,null,null,null,null,null,null,null,null,null,null,null,null,null,null,null,null,null,null,null,null,null,null,null,null,null,null,null,null,null,null,null,null,null,null,339,0,0,0,0,0,0,0,0,0,0,0,0,0,0,0,0,0,null,null,null,null,0,0,0,0,0,0,0,0,0,0,0,0,0,0,0,0,0,null,null,null,null,null,0,0,0,0,0,0,0,0,0,0,0,0,0,0,0,0,0]
[null,null,null,null,null,null,null,null,null,null,null,null,null,null,null,null,null,null,null,null,null,null,null,null,null,null,null,null,null,null,null,null,null,null,null,null,null,null,null,null,null,null,null,null,null,null,null,null,null,null,null,null,null,null,null,null,null,null,null,null,null,null,null,null,null,null,null,null,null,null,null,null,null,null,null,null,null,null,null,null,null,null,null,null,null,null,null,null,null,null,340,0,0,0,0,0,0,0,0,0,0,0,0,0,0,0,0,0,null,null,null,null,0,0,0,0,0,0,0,0,0,0,0,0,0,0,0,0,0,null,null,null,null,null,0,0,0,0,0,0,0,0,0,0,0,0,0,0,0,0,0]
[null,null,null,null,null,null,null,null,null,null,null,null,null,null,null,null,null,null,null,null,null,null,null,null,null,null,null,null,null,null,null,null,null,null,null,null,null,null,null,null,null,null,null,null,null,null,null,null,null,null,null,null,null,null,null,null,null,null,null,null,null,null,null,null,null,null,null,null,null,null,null,null,null,null,null,null,null,null,null,null,null,null,null,null,null,null,null,null,null,null,341,0,0,0,0,0,0,0,0,0,0,0,0,0,0,0,0,0,null,null,null,null,0,0,0,0,0,0,0,0,0,0,0,0,0,0,0,0,0,null,null,null,null,null,0,0,0,0,0,0,0,0,0,0,0,0,0,0,0,0,0]
[null,null,null,null,null,null,null,null,null,null,null,null,null,null,null,null,null,null,null,null,null,null,null,null,null,null,null,null,null,null,null,null,null,null,null,null,null,null,null,null,null,null,null,null,null,null,null,null,null,null,null,null,null,null,null,null,null,null,null,null,null,null,null,null,null,null,null,null,null,null,null,null,null,null,null,null,null,null,null,null,null,null,null,null,null,null,null,null,null,null,342,{"$f":"A345","v":0},{"$f":"F345","v":0},{"$f":"K345","v":0},{"$f":"P345","v":0},{"$f":"U345","v":0},{"$f":"Z345","v":0},{"$f":"AE345","v":0},{"$f":"AJ345","v":0},{"$f":"AO345","v":0},{"$f":"AT345","v":0},{"$f":"AY345","v":0},{"$f":"BD345","v":0},{"$f":"BH345","v":0},{"$f":"BM345","v":0},{"$f":"BR345","v":0},{"$f":"BW345","v":0},{"$f":"CB345","v":0},null,null,null,null,{"$f":"B345","v":0},{"$f":"G345","v":0},{"$f":"L345","v":0},{"$f":"Q345","v":0},{"$f":"V345","v":0},{"$f":"AA345","v":0},{"$f":"AF345","v":0},{"$f":"AK345","v":0},{"$f":"AP345","v":0},{"$f":"AU345","v":0},{"$f":"AZ345","v":0},{"$f":"BE345","v":0},{"$f":"BI345","v":0},{"$f":"BN345","v":0},{"$f":"BS345","v":0},{"$f":"BX345","v":0},{"$f":"CC345","v":0},null,null,null,null,null,{"$f":"C345","v":0},{"$f":"H345","v":0},{"$f":"M345","v":0},{"$f":"R345","v":0},{"$f":"W345","v":0},{"$f":"AB345","v":0},{"$f":"AG345","v":0},{"$f":"AL345","v":0},{"$f":"AQ345","v":0},{"$f":"AV345","v":0},{"$f":"BA345","v":0},{"$f":"BF345","v":0},{"$f":"BJ345","v":0},{"$f":"BO345","v":0},{"$f":"BT345","v":0},{"$f":"BY345","v":0},{"$f":"CD345","v":0}]
[null,null,null,null,null,null,null,null,null,null,null,null,null,null,null,null,null,null,null,null,null,null,null,null,null,null,null,null,null,null,null,null,null,null,null,null,null,null,null,null,null,null,null,null,null,null,null,null,null,null,null,null,null,null,null,null,null,null,null,null,null,null,null,null,null,null,null,null,null,null,null,null,null,null,null,null,null,null,null,null,null,null,null,null,null,null,null,null,null,null,343,0,0,0,0,0,0,0,0,0,0,0,0,0,0,0,0,0,null,null,null,null,0,0,0,0,0,0,0,0,0,0,0,0,0,0,0,0,0,null,null,null,null,null,0,0,0,0,0,0,0,0,0,0,0,0,0,0,0,0,0]
[null,null,null,null,null,null,null,null,null,null,null,null,null,null,null,null,null,null,null,null,null,null,null,null,null,null,null,null,null,null,null,null,null,null,null,null,null,null,null,null,null,null,null,null,null,null,null,null,null,null,null,null,null,null,null,null,null,null,null,null,null,null,null,null,null,null,null,null,null,null,null,null,null,null,null,null,null,null,null,null,null,null,null,null,null,null,null,null,null,null,344,0,0,0,0,0,0,0,0,0,0,0,0,0,0,0,0,0,null,null,null,null,0,0,0,0,0,0,0,0,0,0,0,0,0,0,0,0,0,null,null,null,null,null,0,0,0,0,0,0,0,0,0,0,0,0,0,0,0,0,0]
[null,null,null,null,null,null,null,null,null,null,null,null,null,null,null,null,null,null,null,null,null,null,null,null,null,null,null,null,null,null,null,null,null,null,null,null,null,null,null,null,null,null,null,null,null,null,null,null,null,null,null,null,null,null,null,null,null,null,null,null,null,null,null,null,null,null,null,null,null,null,null,null,null,null,null,null,null,null,null,null,null,null,null,null,null,null,null,null,null,null,345,0,0,0,0,0,0,0,0,0,0,0,0,0,0,0,0,0,null,null,null,null,0,0,0,0,0,0,0,0,0,0,0,0,0,0,0,0,0,null,null,null,null,null,0,0,0,0,0,0,0,0,0,0,0,0,0,0,0,0,0]
[null,null,null,null,null,null,null,null,null,null,null,null,null,null,null,null,null,null,null,null,null,null,null,null,null,null,null,null,null,null,null,null,null,null,null,null,null,null,null,null,null,null,null,null,null,null,null,null,null,null,null,null,null,null,null,null,null,null,null,null,null,null,null,null,null,null,null,null,null,null,null,null,null,null,null,null,null,null,null,null,null,null,null,null,null,null,null,null,null,null,346,0,0,0,0,0,0,0,0,0,0,0,0,0,0,0,0,0,null,null,null,null,0,0,0,0,0,0,0,0,0,0,0,0,0,0,0,0,0,null,null,null,null,null,0,0,0,0,0,0,0,0,0,0,0,0,0,0,0,0,0]
[null,null,null,null,null,null,null,null,null,null,null,null,null,null,null,null,null,null,null,null,null,null,null,null,null,null,null,null,null,null,null,null,null,null,null,null,null,null,null,null,null,null,null,null,null,null,null,null,null,null,null,null,null,null,null,null,null,null,null,null,null,null,null,null,null,null,null,null,null,null,null,null,null,null,null,null,null,null,null,null,null,null,null,null,null,null,null,null,null,null,347,0,0,0,0,0,0,0,0,0,0,0,0,0,0,0,0,0,null,null,null,null,0,0,0,0,0,0,0,0,0,0,0,0,0,0,0,0,0,null,null,null,null,null,0,0,0,0,0,0,0,0,0,0,0,0,0,0,0,0,0]
[null,null,null,null,null,null,null,null,null,null,null,null,null,null,null,null,null,null,null,null,null,null,null,null,null,null,null,null,null,null,null,null,null,null,null,null,null,null,null,null,null,null,null,null,null,null,null,null,null,null,null,null,null,null,null,null,null,null,null,null,null,null,null,null,null,null,null,null,null,null,null,null,null,null,null,null,null,null,null,null,null,null,null,null,null,null,null,null,null,null,348,0,0,0,0,0,0,0,0,0,0,0,0,0,0,0,0,0,null,null,null,null,0,0,0,0,0,0,0,0,0,0,0,0,0,0,0,0,0,null,null,null,null,null,0,0,0,0,0,0,0,0,0,0,0,0,0,0,0,0,0]
[null,null,null,null,null,null,null,null,null,null,null,null,null,null,null,null,null,null,null,null,null,null,null,null,null,null,null,null,null,null,null,null,null,null,null,null,null,null,null,null,null,null,null,null,null,null,null,null,null,null,null,null,null,null,null,null,null,null,null,null,null,null,null,null,null,null,null,null,null,null,null,null,null,null,null,null,null,null,null,null,null,null,null,null,null,null,null,null,null,null,349,0,0,0,0,0,0,0,0,0,0,0,0,0,0,0,0,0,null,null,null,null,0,0,0,0,0,0,0,0,0,0,0,0,0,0,0,0,0,null,null,null,null,null,0,0,0,0,0,0,0,0,0,0,0,0,0,0,0,0,0]
[null,null,null,null,null,null,null,null,null,null,null,null,null,null,null,null,null,null,null,null,null,null,null,null,null,null,null,null,null,null,null,null,null,null,null,null,null,null,null,null,null,null,null,null,null,null,null,null,null,null,null,null,null,null,null,null,null,null,null,null,null,null,null,null,null,null,null,null,null,null,null,null,null,null,null,null,null,null,null,null,null,null,null,null,null,null,null,null,null,null,350,0,0,0,0,0,0,0,0,0,0,0,0,0,0,0,0,0,null,null,null,null,0,0,0,0,0,0,0,0,0,0,0,0,0,0,0,0,0,null,null,null,null,null,0,0,0,0,0,0,0,0,0,0,0,0,0,0,0,0,0]
[null,null,null,null,null,null,null,null,null,null,null,null,null,null,null,null,null,null,null,null,null,null,null,null,null,null,null,null,null,null,null,null,null,null,null,null,null,null,null,null,null,null,null,null,null,null,null,null,null,null,null,null,null,null,null,null,null,null,null,null,null,null,null,null,null,null,null,null,null,null,null,null,null,null,null,null,null,null,null,null,null,null,null,null,null,null,null,null,null,null,351,0,0,0,0,0,0,0,0,0,0,0,0,0,0,0,0,0,null,null,null,null,0,0,0,0,0,0,0,0,0,0,0,0,0,0,0,0,0,null,null,null,null,null,0,0,0,0,0,0,0,0,0,0,0,0,0,0,0,0,0]
[null,null,null,null,null,null,null,null,null,null,null,null,null,null,null,null,null,null,null,null,null,null,null,null,null,null,null,null,null,null,null,null,null,null,null,null,null,null,null,null,null,null,null,null,null,null,null,null,null,null,null,null,null,null,null,null,null,null,null,null,null,null,null,null,null,null,null,null,null,null,null,null,null,null,null,null,null,null,null,null,null,null,null,null,null,null,null,null,null,null,352,0,0,0,0,0,0,0,0,0,0,0,0,0,0,0,0,0,null,null,null,null,0,0,0,0,0,0,0,0,0,0,0,0,0,0,0,0,0,null,null,null,null,null,0,0,0,0,0,0,0,0,0,0,0,0,0,0,0,0,0]
[null,null,null,null,null,null,null,null,null,null,null,null,null,null,null,null,null,null,null,null,null,null,null,null,null,null,null,null,null,null,null,null,null,null,null,null,null,null,null,null,null,null,null,null,null,null,null,null,null,null,null,null,null,null,null,null,null,null,null,null,null,null,null,null,null,null,null,null,null,null,null,null,null,null,null,null,null,null,null,null,null,null,null,null,null,null,null,null,null,null,353,0,0,0,0,0,0,0,0,0,0,0,0,0,0,0,0,0,null,null,null,null,0,0,0,0,0,0,0,0,0,0,0,0,0,0,0,0,0,null,null,null,null,null,0,0,0,0,0,0,0,0,0,0,0,0,0,0,0,0,0]
[null,null,null,null,null,null,null,null,null,null,null,null,null,null,null,null,null,null,null,null,null,null,null,null,null,null,null,null,null,null,null,null,null,null,null,null,null,null,null,null,null,null,null,null,null,null,null,null,null,null,null,null,null,null,null,null,null,null,null,null,null,null,null,null,null,null,null,null,null,null,null,null,null,null,null,null,null,null,null,null,null,null,null,null,null,null,null,null,null,null,354,0,0,0,0,0,0,0,0,0,0,0,0,0,0,0,0,0,null,null,null,null,0,0,0,0,0,0,0,0,0,0,0,0,0,0,0,0,0,null,null,null,null,null,0,0,0,0,0,0,0,0,0,0,0,0,0,0,0,0,0]
[null,null,null,null,null,null,null,null,null,null,null,null,null,null,null,null,null,null,null,null,null,null,null,null,null,null,null,null,null,null,null,null,null,null,null,null,null,null,null,null,null,null,null,null,null,null,null,null,null,null,null,null,null,null,null,null,null,null,null,null,null,null,null,null,null,null,null,null,null,null,null,null,null,null,null,null,null,null,null,null,null,null,null,null,null,null,null,null,null,null,355,0,0,0,0,0,0,0,0,0,0,0,0,0,0,0,0,0,null,null,null,null,0,0,0,0,0,0,0,0,0,0,0,0,0,0,0,0,0,null,null,null,null,null,0,0,0,0,0,0,0,0,0,0,0,0,0,0,0,0,0]
[null,null,null,null,null,null,null,null,null,null,null,null,null,null,null,null,null,null,null,null,null,null,null,null,null,null,null,null,null,null,null,null,null,null,null,null,null,null,null,null,null,null,null,null,null,null,null,null,null,null,null,null,null,null,null,null,null,null,null,null,null,null,null,null,null,null,null,null,null,null,null,null,null,null,null,null,null,null,null,null,null,null,null,null,null,null,null,null,null,null,356,0,0,0,0,0,0,0,0,0,0,0,0,0,0,0,0,0,null,null,null,null,0,0,0,0,0,0,0,0,0,0,0,0,0,0,0,0,0,null,null,null,null,null,0,0,0,0,0,0,0,0,0,0,0,0,0,0,0,0,0]
[null,null,null,null,null,null,null,null,null,null,null,null,null,null,null,null,null,null,null,null,null,null,null,null,null,null,null,null,null,null,null,null,null,null,null,null,null,null,null,null,null,null,null,null,null,null,null,null,null,null,null,null,null,null,null,null,null,null,null,null,null,null,null,null,null,null,null,null,null,null,null,null,null,null,null,null,null,null,null,null,null,null,null,null,null,null,null,null,null,null,357,0,0,0,0,0,0,0,0,0,0,0,0,0,0,0,0,0,null,null,null,null,0,0,0,0,0,0,0,0,0,0,0,0,0,0,0,0,0,null,null,null,null,null,0,0,0,0,0,0,0,0,0,0,0,0,0,0,0,0,0]
[null,null,null,null,null,null,null,null,null,null,null,null,null,null,null,null,null,null,null,null,null,null,null,null,null,null,null,null,null,null,null,null,null,null,null,null,null,null,null,null,null,null,null,null,null,null,null,null,null,null,null,null,null,null,null,null,null,null,null,null,null,null,null,null,null,null,null,null,null,null,null,null,null,null,null,null,null,null,null,null,null,null,null,null,null,null,null,null,null,null,358,0,0,0,0,0,0,0,0,0,0,0,0,0,0,0,0,0,null,null,null,null,0,0,0,0,0,0,0,0,0,0,0,0,0,0,0,0,0,null,null,null,null,null,0,0,0,0,0,0,0,0,0,0,0,0,0,0,0,0,0]
[null,null,null,null,null,null,null,null,null,null,null,null,null,null,null,null,null,null,null,null,null,null,null,null,null,null,null,null,null,null,null,null,null,null,null,null,null,null,null,null,null,null,null,null,null,null,null,null,null,null,null,null,null,null,null,null,null,null,null,null,null,null,null,null,null,null,null,null,null,null,null,null,null,null,null,null,null,null,null,null,null,null,null,null,null,null,null,null,null,null,359,0,0,0,0,0,0,0,0,0,0,0,0,0,0,0,0,0,null,null,null,null,0,0,0,0,0,0,0,0,0,0,0,0,0,0,0,0,0,null,null,null,null,null,0,0,0,0,0,0,0,0,0,0,0,0,0,0,0,0,0]
[null,null,null,null,null,null,null,null,null,null,null,null,null,null,null,null,null,null,null,null,null,null,null,null,null,null,null,null,null,null,null,null,null,null,null,null,null,null,null,null,null,null,null,null,null,null,null,null,null,null,null,null,null,null,null,null,null,null,null,null,null,null,null,null,null,null,null,null,null,null,null,null,null,null,null,null,null,null,null,null,null,null,null,null,null,null,null,null,null,null,360,0,0,0,0,0,0,0,0,0,0,0,0,0,0,0,0,0,null,null,null,null,0,0,0,0,0,0,0,0,0,0,0,0,0,0,0,0,0,null,null,null,null,null,0,0,0,0,0,0,0,0,0,0,0,0,0,0,0,0,0]
[null,null,null,null,null,null,null,null,null,null,null,null,null,null,null,null,null,null,null,null,null,null,null,null,null,null,null,null,null,null,null,null,null,null,null,null,null,null,null,null,null,null,null,null,null,null,null,null,null,null,null,null,null,null,null,null,null,null,null,null,null,null,null,null,null,null,null,null,null,null,null,null,null,null,null,null,null,null,null,null,null,null,null,null,null,null,null,null,null,null,361,0,0,0,0,0,0,0,0,0,0,0,0,0,0,0,0,0,null,null,null,null,0,0,0,0,0,0,0,0,0,0,0,0,0,0,0,0,0,null,null,null,null,null,0,0,0,0,0,0,0,0,0,0,0,0,0,0,0,0,0]
[null,null,null,null,null,null,null,null,null,null,null,null,null,null,null,null,null,null,null,null,null,null,null,null,null,null,null,null,null,null,null,null,null,null,null,null,null,null,null,null,null,null,null,null,null,null,null,null,null,null,null,null,null,null,null,null,null,null,null,null,null,null,null,null,null,null,null,null,null,null,null,null,null,null,null,null,null,null,null,null,null,null,null,null,null,null,null,null,null,null,362,0,0,0,0,0,0,0,0,0,0,0,0,0,0,0,0,0,null,null,null,null,0,0,0,0,0,0,0,0,0,0,0,0,0,0,0,0,0,null,null,null,null,null,0,0,0,0,0,0,0,0,0,0,0,0,0,0,0,0,0]
[null,null,null,null,null,null,null,null,null,null,null,null,null,null,null,null,null,null,null,null,null,null,null,null,null,null,null,null,null,null,null,null,null,null,null,null,null,null,null,null,null,null,null,null,null,null,null,null,null,null,null,null,null,null,null,null,null,null,null,null,null,null,null,null,null,null,null,null,null,null,null,null,null,null,null,null,null,null,null,null,null,null,null,null,null,null,null,null,null,null,363,0,0,0,0,0,0,0,0,0,0,0,0,0,0,0,0,0,null,null,null,null,0,0,0,0,0,0,0,0,0,0,0,0,0,0,0,0,0,null,null,null,null,null,0,0,0,0,0,0,0,0,0,0,0,0,0,0,0,0,0]
[null,null,null,null,null,null,null,null,null,null,null,null,null,null,null,null,null,null,null,null,null,null,null,null,null,null,null,null,null,null,null,null,null,null,null,null,null,null,null,null,null,null,null,null,null,null,null,null,null,null,null,null,null,null,null,null,null,null,null,null,null,null,null,null,null,null,null,null,null,null,null,null,null,null,null,null,null,null,null,null,null,null,null,null,null,null,null,null,null,null,364,0,0,0,0,0,0,0,0,0,0,0,0,0,0,0,0,0,null,null,null,null,0,0,0,0,0,0,0,0,0,0,0,0,0,0,0,0,0,null,null,null,null,null,0,0,0,0,0,0,0,0,0,0,0,0,0,0,0,0,0]
[null,null,null,null,null,null,null,null,null,null,null,null,null,null,null,null,null,null,null,null,null,null,null,null,null,null,null,null,null,null,null,null,null,null,null,null,null,null,null,null,null,null,null,null,null,null,null,null,null,null,null,null,null,null,null,null,null,null,null,null,null,null,null,null,null,null,null,null,null,null,null,null,null,null,null,null,null,null,null,null,null,null,null,null,null,null,null,null,null,null,365,0,0,0,0,0,0,0,0,0,0,0,0,0,0,0,0,0,null,null,null,null,0,0,0,0,0,0,0,0,0,0,0,0,0,0,0,0,0,null,null,null,null,null,0,0,0,0,0,0,0,0,0,0,0,0,0,0,0,0,0]
[null,null,null,null,null,null,null,null,null,null,null,null,null,null,null,null,null,null,null,null,null,null,null,null,null,null,null,null,null,null,null,null,null,null,null,null,null,null,null,null,null,null,null,null,null,null,null,null,null,null,null,null,null,null,null,null,null,null,null,null,null,null,null,null,null,null,null,null,null,null,null,null,null,null,null,null,null,null,null,null,null,null,null,null,null,null,null,null,null,null,366,0,0,0,0,0,0,0,0,0,0,0,0,0,0,0,0,0,null,null,null,null,0,0,0,0,0,0,0,0,0,0,0,0,0,0,0,0,0,null,null,null,null,null,0,0,0,0,0,0,0,0,0,0,0,0,0,0,0,0,0]
[null,null,null,null,null,null,null,null,null,null,null,null,null,null,null,null,null,null,null,null,null,null,null,null,null,null,null,null,null,null,null,null,null,null,null,null,null,null,null,null,null,null,null,null,null,null,null,null,null,null,null,null,null,null,null,null,null,null,null,null,null,null,null,null,null,null,null,null,null,null,null,null,null,null,null,null,null,null,null,null,null,null,null,null,null,null,null,null,null,null,367,0,0,0,0,0,0,0,0,0,0,0,0,0,0,0,0,0,null,null,null,null,0,0,0,0,0,0,0,0,0,0,0,0,0,0,0,0,0,null,null,null,null,null,0,0,0,0,0,0,0,0,0,0,0,0,0,0,0,0,0]
[null,null,null,null,null,null,null,null,null,null,null,null,null,null,null,null,null,null,null,null,null,null,null,null,null,null,null,null,null,null,null,null,null,null,null,null,null,null,null,null,null,null,null,null,null,null,null,null,null,null,null,null,null,null,null,null,null,null,null,null,null,null,null,null,null,null,null,null,null,null,null,null,null,null,null,null,null,null,null,null,null,null,null,null,null,null,null,null,null,null,368,0,0,0,0,0,0,0,0,0,0,0,0,0,0,0,0,0,null,null,null,null,0,0,0,0,0,0,0,0,0,0,0,0,0,0,0,0,0,null,null,null,null,null,0,0,0,0,0,0,0,0,0,0,0,0,0,0,0,0,0]
[null,null,null,null,null,null,null,null,null,null,null,null,null,null,null,null,null,null,null,null,null,null,null,null,null,null,null,null,null,null,null,null,null,null,null,null,null,null,null,null,null,null,null,null,null,null,null,null,null,null,null,null,null,null,null,null,null,null,null,null,null,null,null,null,null,null,null,null,null,null,null,null,null,null,null,null,null,null,null,null,null,null,null,null,null,null,null,null,null,null,369,0,0,0,0,0,0,0,0,0,0,0,0,0,0,0,0,0,null,null,null,null,0,0,0,0,0,0,0,0,0,0,0,0,0,0,0,0,0,null,null,null,null,null,0,0,0,0,0,0,0,0,0,0,0,0,0,0,0,0,0]
[null,null,null,null,null,null,null,null,null,null,null,null,null,null,null,null,null,null,null,null,null,null,null,null,null,null,null,null,null,null,null,null,null,null,null,null,null,null,null,null,null,null,null,null,null,null,null,null,null,null,null,null,null,null,null,null,null,null,null,null,null,null,null,null,null,null,null,null,null,null,null,null,null,null,null,null,null,null,null,null,null,null,null,null,null,null,null,null,null,null,370,0,0,0,0,0,0,0,0,0,0,0,0,0,0,0,0,0,null,null,null,null,0,0,0,0,0,0,0,0,0,0,0,0,0,0,0,0,0,null,null,null,null,null,0,0,0,0,0,0,0,0,0,0,0,0,0,0,0,0,0]
[null,null,null,null,null,null,null,null,null,null,null,null,null,null,null,null,null,null,null,null,null,null,null,null,null,null,null,null,null,null,null,null,null,null,null,null,null,null,null,null,null,null,null,null,null,null,null,null,null,null,null,null,null,null,null,null,null,null,null,null,null,null,null,null,null,null,null,null,null,null,null,null,null,null,null,null,null,null,null,null,null,null,null,null,null,null,null,null,null,null,371,0,0,0,0,0,0,0,0,0,0,0,0,0,0,0,0,0,null,null,null,null,0,0,0,0,0,0,0,0,0,0,0,0,0,0,0,0,0,null,null,null,null,null,0,0,0,0,0,0,0,0,0,0,0,0,0,0,0,0,0]
[null,null,null,null,null,null,null,null,null,null,null,null,null,null,null,null,null,null,null,null,null,null,null,null,null,null,null,null,null,null,null,null,null,null,null,null,null,null,null,null,null,null,null,null,null,null,null,null,null,null,null,null,null,null,null,null,null,null,null,null,null,null,null,null,null,null,null,null,null,null,null,null,null,null,null,null,null,null,null,null,null,null,null,null,null,null,null,null,null,null,372,0,0,0,0,0,0,0,0,0,0,0,0,0,0,0,0,0,null,null,null,null,0,0,0,0,0,0,0,0,0,0,0,0,0,0,0,0,0,null,null,null,null,null,0,0,0,0,0,0,0,0,0,0,0,0,0,0,0,0,0]
[null,null,null,null,null,null,null,null,null,null,null,null,null,null,null,null,null,null,null,null,null,null,null,null,null,null,null,null,null,null,null,null,null,null,null,null,null,null,null,null,null,null,null,null,null,null,null,null,null,null,null,null,null,null,null,null,null,null,null,null,null,null,null,null,null,null,null,null,null,null,null,null,null,null,null,null,null,null,null,null,null,null,null,null,null,null,null,null,null,null,373,0,0,0,0,0,0,0,0,0,0,0,0,0,0,0,0,0,null,null,null,null,0,0,0,0,0,0,0,0,0,0,0,0,0,0,0,0,0,null,null,null,null,null,0,0,0,0,0,0,0,0,0,0,0,0,0,0,0,0,0]
[null,null,null,null,null,null,null,null,null,null,null,null,null,null,null,null,null,null,null,null,null,null,null,null,null,null,null,null,null,null,null,null,null,null,null,null,null,null,null,null,null,null,null,null,null,null,null,null,null,null,null,null,null,null,null,null,null,null,null,null,null,null,null,null,null,null,null,null,null,null,null,null,null,null,null,null,null,null,null,null,null,null,null,null,null,null,null,null,null,null,374,0,0,0,0,0,0,0,0,0,0,0,0,0,0,0,0,0,null,null,null,null,0,0,0,0,0,0,0,0,0,0,0,0,0,0,0,0,0,null,null,null,null,null,0,0,0,0,0,0,0,0,0,0,0,0,0,0,0,0,0]
[null,null,null,null,null,null,null,null,null,null,null,null,null,null,null,null,null,null,null,null,null,null,null,null,null,null,null,null,null,null,null,null,null,null,null,null,null,null,null,null,null,null,null,null,null,null,null,null,null,null,null,null,null,null,null,null,null,null,null,null,null,null,null,null,null,null,null,null,null,null,null,null,null,null,null,null,null,null,null,null,null,null,null,null,null,null,null,null,null,null,375,0,0,0,0,0,0,0,0,0,0,0,0,0,0,0,0,0,null,null,null,null,0,0,0,0,0,0,0,0,0,0,0,0,0,0,0,0,0,null,null,null,null,null,0,0,0,0,0,0,0,0,0,0,0,0,0,0,0,0,0]
[null,null,null,null,null,null,null,null,null,null,null,null,null,null,null,null,null,null,null,null,null,null,null,null,null,null,null,null,null,null,null,null,null,null,null,null,null,null,null,null,null,null,null,null,null,null,null,null,null,null,null,null,null,null,null,null,null,null,null,null,null,null,null,null,null,null,null,null,null,null,null,null,null,null,null,null,null,null,null,null,null,null,null,null,null,null,null,null,null,null,376,0,0,0,0,0,0,0,0,0,0,0,0,0,0,0,0,0,null,null,null,null,0,0,0,0,0,0,0,0,0,0,0,0,0,0,0,0,0,null,null,null,null,null,0,0,0,0,0,0,0,0,0,0,0,0,0,0,0,0,0]
[null,null,null,null,null,null,null,null,null,null,null,null,null,null,null,null,null,null,null,null,null,null,null,null,null,null,null,null,null,null,null,null,null,null,null,null,null,null,null,null,null,null,null,null,null,null,null,null,null,null,null,null,null,null,null,null,null,null,null,null,null,null,null,null,null,null,null,null,null,null,null,null,null,null,null,null,null,null,null,null,null,null,null,null,null,null,null,null,null,null,377,0,0,0,0,0,0,0,0,0,0,0,0,0,0,0,0,0,null,null,null,null,0,0,0,0,0,0,0,0,0,0,0,0,0,0,0,0,0,null,null,null,null,null,0,0,0,0,0,0,0,0,0,0,0,0,0,0,0,0,0]
[null,null,null,null,null,null,null,null,null,null,null,null,null,null,null,null,null,null,null,null,null,null,null,null,null,null,null,null,null,null,null,null,null,null,null,null,null,null,null,null,null,null,null,null,null,null,null,null,null,null,null,null,null,null,null,null,null,null,null,null,null,null,null,null,null,null,null,null,null,null,null,null,null,null,null,null,null,null,null,null,null,null,null,null,null,null,null,null,null,null,378,0,0,0,0,0,0,0,0,0,0,0,0,0,0,0,0,0,null,null,null,null,0,0,0,0,0,0,0,0,0,0,0,0,0,0,0,0,0,null,null,null,null,null,0,0,0,0,0,0,0,0,0,0,0,0,0,0,0,0,0]
[null,null,null,null,null,null,null,null,null,null,null,null,null,null,null,null,null,null,null,null,null,null,null,null,null,null,null,null,null,null,null,null,null,null,null,null,null,null,null,null,null,null,null,null,null,null,null,null,null,null,null,null,null,null,null,null,null,null,null,null,null,null,null,null,null,null,null,null,null,null,null,null,null,null,null,null,null,null,null,null,null,null,null,null,null,null,null,null,null,null,379,0,0,0,0,0,0,0,0,0,0,0,0,0,0,0,0,0,null,null,null,null,0,0,0,0,0,0,0,0,0,0,0,0,0,0,0,0,0,null,null,null,null,null,0,0,0,0,0,0,0,0,0,0,0,0,0,0,0,0,0]
[null,null,null,null,null,null,null,null,null,null,null,null,null,null,null,null,null,null,null,null,null,null,null,null,null,null,null,null,null,null,null,null,null,null,null,null,null,null,null,null,null,null,null,null,null,null,null,null,null,null,null,null,null,null,null,null,null,null,null,null,null,null,null,null,null,null,null,null,null,null,null,null,null,null,null,null,null,null,null,null,null,null,null,null,null,null,null,null,null,null,380,0,0,0,0,0,0,0,0,0,0,0,0,0,0,0,0,0,null,null,null,null,0,0,0,0,0,0,0,0,0,0,0,0,0,0,0,0,0,null,null,null,null,null,0,0,0,0,0,0,0,0,0,0,0,0,0,0,0,0,0]
[null,null,null,null,null,null,null,null,null,null,null,null,null,null,null,null,null,null,null,null,null,null,null,null,null,null,null,null,null,null,null,null,null,null,null,null,null,null,null,null,null,null,null,null,null,null,null,null,null,null,null,null,null,null,null,null,null,null,null,null,null,null,null,null,null,null,null,null,null,null,null,null,null,null,null,null,null,null,null,null,null,null,null,null,null,null,null,null,null,null,381,0,0,0,0,0,0,0,0,0,0,0,0,0,0,0,0,0,null,null,null,null,0,0,0,0,0,0,0,0,0,0,0,0,0,0,0,0,0,null,null,null,null,null,0,0,0,0,0,0,0,0,0,0,0,0,0,0,0,0,0]
[null,null,null,null,null,null,null,null,null,null,null,null,null,null,null,null,null,null,null,null,null,null,null,null,null,null,null,null,null,null,null,null,null,null,null,null,null,null,null,null,null,null,null,null,null,null,null,null,null,null,null,null,null,null,null,null,null,null,null,null,null,null,null,null,null,null,null,null,null,null,null,null,null,null,null,null,null,null,null,null,null,null,null,null,null,null,null,null,null,null,382,0,0,0,0,0,0,0,0,0,0,0,0,0,0,0,0,0,null,null,null,null,0,0,0,0,0,0,0,0,0,0,0,0,0,0,0,0,0,null,null,null,null,null,0,0,0,0,0,0,0,0,0,0,0,0,0,0,0,0,0]
[null,null,null,null,null,null,null,null,null,null,null,null,null,null,null,null,null,null,null,null,null,null,null,null,null,null,null,null,null,null,null,null,null,null,null,null,null,null,null,null,null,null,null,null,null,null,null,null,null,null,null,null,null,null,null,null,null,null,null,null,null,null,null,null,null,null,null,null,null,null,null,null,null,null,null,null,null,null,null,null,null,null,null,null,null,null,null,null,null,null,383,0,0,0,0,0,0,0,0,0,0,0,0,0,0,0,0,0,null,null,null,null,0,0,0,0,0,0,0,0,0,0,0,0,0,0,0,0,0,null,null,null,null,null,0,0,0,0,0,0,0,0,0,0,0,0,0,0,0,0,0]
[null,null,null,null,null,null,null,null,null,null,null,null,null,null,null,null,null,null,null,null,null,null,null,null,null,null,null,null,null,null,null,null,null,null,null,null,null,null,null,null,null,null,null,null,null,null,null,null,null,null,null,null,null,null,null,null,null,null,null,null,null,null,null,null,null,null,null,null,null,null,null,null,null,null,null,null,null,null,null,null,null,null,null,null,null,null,null,null,null,null,384,0,0,0,0,0,0,0,0,0,0,0,0,0,0,0,0,0,null,null,null,null,0,0,0,0,0,0,0,0,0,0,0,0,0,0,0,0,0,null,null,null,null,null,0,0,0,0,0,0,0,0,0,0,0,0,0,0,0,0,0]
[null,null,null,null,null,null,null,null,null,null,null,null,null,null,null,null,null,null,null,null,null,null,null,null,null,null,null,null,null,null,null,null,null,null,null,null,null,null,null,null,null,null,null,null,null,null,null,null,null,null,null,null,null,null,null,null,null,null,null,null,null,null,null,null,null,null,null,null,null,null,null,null,null,null,null,null,null,null,null,null,null,null,null,null,null,null,null,null,null,null,385,0,0,0,0,0,0,0,0,0,0,0,0,0,0,0,0,0,null,null,null,null,0,0,0,0,0,0,0,0,0,0,0,0,0,0,0,0,0,null,null,null,null,null,0,0,0,0,0,0,0,0,0,0,0,0,0,0,0,0,0]
[null,null,null,null,null,null,null,null,null,null,null,null,null,null,null,null,null,null,null,null,null,null,null,null,null,null,null,null,null,null,null,null,null,null,null,null,null,null,null,null,null,null,null,null,null,null,null,null,null,null,null,null,null,null,null,null,null,null,null,null,null,null,null,null,null,null,null,null,null,null,null,null,null,null,null,null,null,null,null,null,null,null,null,null,null,null,null,null,null,null,386,0,0,0,0,0,0,0,0,0,0,0,0,0,0,0,0,0,null,null,null,null,0,0,0,0,0,0,0,0,0,0,0,0,0,0,0,0,0,null,null,null,null,null,0,0,0,0,0,0,0,0,0,0,0,0,0,0,0,0,0]
[null,null,null,null,null,null,null,null,null,null,null,null,null,null,null,null,null,null,null,null,null,null,null,null,null,null,null,null,null,null,null,null,null,null,null,null,null,null,null,null,null,null,null,null,null,null,null,null,null,null,null,null,null,null,null,null,null,null,null,null,null,null,null,null,null,null,null,null,null,null,null,null,null,null,null,null,null,null,null,null,null,null,null,null,null,null,null,null,null,null,387,0,0,0,0,0,0,0,0,0,0,0,0,0,0,0,0,0,null,null,null,null,0,0,0,0,0,0,0,0,0,0,0,0,0,0,0,0,0,null,null,null,null,null,0,0,0,0,0,0,0,0,0,0,0,0,0,0,0,0,0]
[null,null,null,null,null,null,null,null,null,null,null,null,null,null,null,null,null,null,null,null,null,null,null,null,null,null,null,null,null,null,null,null,null,null,null,null,null,null,null,null,null,null,null,null,null,null,null,null,null,null,null,null,null,null,null,null,null,null,null,null,null,null,null,null,null,null,null,null,null,null,null,null,null,null,null,null,null,null,null,null,null,null,null,null,null,null,null,null,null,null,388,0,0,0,0,0,0,0,0,0,0,0,0,0,0,0,0,0,null,null,null,null,0,0,0,0,0,0,0,0,0,0,0,0,0,0,0,0,0,null,null,null,null,null,0,0,0,0,0,0,0,0,0,0,0,0,0,0,0,0,0]
[null,null,null,null,null,null,null,null,null,null,null,null,null,null,null,null,null,null,null,null,null,null,null,null,null,null,null,null,null,null,null,null,null,null,null,null,null,null,null,null,null,null,null,null,null,null,null,null,null,null,null,null,null,null,null,null,null,null,null,null,null,null,null,null,null,null,null,null,null,null,null,null,null,null,null,null,null,null,null,null,null,null,null,null,null,null,null,null,null,null,389,0,0,0,0,0,0,0,0,0,0,0,0,0,0,0,0,0,null,null,null,null,0,0,0,0,0,0,0,0,0,0,0,0,0,0,0,0,0,null,null,null,null,null,0,0,0,0,0,0,0,0,0,0,0,0,0,0,0,0,0]
[null,null,null,null,null,null,null,null,null,null,null,null,null,null,null,null,null,null,null,null,null,null,null,null,null,null,null,null,null,null,null,null,null,null,null,null,null,null,null,null,null,null,null,null,null,null,null,null,null,null,null,null,null,null,null,null,null,null,null,null,null,null,null,null,null,null,null,null,null,null,null,null,null,null,null,null,null,null,null,null,null,null,null,null,null,null,null,null,null,null,390,0,0,0,0,0,0,0,0,0,0,0,0,0,0,0,0,0,null,null,null,null,0,0,0,0,0,0,0,0,0,0,0,0,0,0,0,0,0,null,null,null,null,null,0,0,0,0,0,0,0,0,0,0,0,0,0,0,0,0,0]
[null,null,null,null,null,null,null,null,null,null,null,null,null,null,null,null,null,null,null,null,null,null,null,null,null,null,null,null,null,null,null,null,null,null,null,null,null,null,null,null,null,null,null,null,null,null,null,null,null,null,null,null,null,null,null,null,null,null,null,null,null,null,null,null,null,null,null,null,null,null,null,null,null,null,null,null,null,null,null,null,null,null,null,null,null,null,null,null,null,null,391,0,0,0,0,0,0,0,0,0,0,0,0,0,0,0,0,0,null,null,null,null,0,0,0,0,0,0,0,0,0,0,0,0,0,0,0,0,0,null,null,null,null,null,0,0,0,0,0,0,0,0,0,0,0,0,0,0,0,0,0]
[null,null,null,null,null,null,null,null,null,null,null,null,null,null,null,null,null,null,null,null,null,null,null,null,null,null,null,null,null,null,null,null,null,null,null,null,null,null,null,null,null,null,null,null,null,null,null,null,null,null,null,null,null,null,null,null,null,null,null,null,null,null,null,null,null,null,null,null,null,null,null,null,null,null,null,null,null,null,null,null,null,null,null,null,null,null,null,null,null,null,392,0,0,0,0,0,0,0,0,0,0,0,0,0,0,0,0,0,null,null,null,null,0,0,0,0,0,0,0,0,0,0,0,0,0,0,0,0,0,null,null,null,null,null,0,0,0,0,0,0,0,0,0,0,0,0,0,0,0,0,0]
[null,null,null,null,null,null,null,null,null,null,null,null,null,null,null,null,null,null,null,null,null,null,null,null,null,null,null,null,null,null,null,null,null,null,null,null,null,null,null,null,null,null,null,null,null,null,null,null,null,null,null,null,null,null,null,null,null,null,null,null,null,null,null,null,null,null,null,null,null,null,null,null,null,null,null,null,null,null,null,null,null,null,null,null,null,null,null,null,null,null,393,0,0,0,0,0,0,0,0,0,0,0,0,0,0,0,0,0,null,null,null,null,0,0,0,0,0,0,0,0,0,0,0,0,0,0,0,0,0,null,null,null,null,null,0,0,0,0,0,0,0,0,0,0,0,0,0,0,0,0,0]
[null,null,null,null,null,null,null,null,null,null,null,null,null,null,null,null,null,null,null,null,null,null,null,null,null,null,null,null,null,null,null,null,null,null,null,null,null,null,null,null,null,null,null,null,null,null,null,null,null,null,null,null,null,null,null,null,null,null,null,null,null,null,null,null,null,null,null,null,null,null,null,null,null,null,null,null,null,null,null,null,null,null,null,null,null,null,null,null,null,null,394,0,0,0,0,0,0,0,0,0,0,0,0,0,0,0,0,0,null,null,null,null,0,0,0,0,0,0,0,0,0,0,0,0,0,0,0,0,0,null,null,null,null,null,0,0,0,0,0,0,0,0,0,0,0,0,0,0,0,0,0]
[null,null,null,null,null,null,null,null,null,null,null,null,null,null,null,null,null,null,null,null,null,null,null,null,null,null,null,null,null,null,null,null,null,null,null,null,null,null,null,null,null,null,null,null,null,null,null,null,null,null,null,null,null,null,null,null,null,null,null,null,null,null,null,null,null,null,null,null,null,null,null,null,null,null,null,null,null,null,null,null,null,null,null,null,null,null,null,null,null,null,395,0,0,0,0,0,0,0,0,0,0,0,0,0,0,0,0,0,null,null,null,null,0,0,0,0,0,0,0,0,0,0,0,0,0,0,0,0,0,null,null,null,null,null,0,0,0,0,0,0,0,0,0,0,0,0,0,0,0,0,0]
[null,null,null,null,null,null,null,null,null,null,null,null,null,null,null,null,null,null,null,null,null,null,null,null,null,null,null,null,null,null,null,null,null,null,null,null,null,null,null,null,null,null,null,null,null,null,null,null,null,null,null,null,null,null,null,null,null,null,null,null,null,null,null,null,null,null,null,null,null,null,null,null,null,null,null,null,null,null,null,null,null,null,null,null,null,null,null,null,null,null,396,0,0,0,0,0,0,0,0,0,0,0,0,0,0,0,0,0,null,null,null,null,0,0,0,0,0,0,0,0,0,0,0,0,0,0,0,0,0,null,null,null,null,null,0,0,0,0,0,0,0,0,0,0,0,0,0,0,0,0,0]
[null,null,null,null,null,null,null,null,null,null,null,null,null,null,null,null,null,null,null,null,null,null,null,null,null,null,null,null,null,null,null,null,null,null,null,null,null,null,null,null,null,null,null,null,null,null,null,null,null,null,null,null,null,null,null,null,null,null,null,null,null,null,null,null,null,null,null,null,null,null,null,null,null,null,null,null,null,null,null,null,null,null,null,null,null,null,null,null,null,null,397,0,0,0,0,0,0,0,0,0,0,0,0,0,0,0,0,0,null,null,null,null,0,0,0,0,0,0,0,0,0,0,0,0,0,0,0,0,0,null,null,null,null,null,0,0,0,0,0,0,0,0,0,0,0,0,0,0,0,0,0]
[null,null,null,null,null,null,null,null,null,null,null,null,null,null,null,null,null,null,null,null,null,null,null,null,null,null,null,null,null,null,null,null,null,null,null,null,null,null,null,null,null,null,null,null,null,null,null,null,null,null,null,null,null,null,null,null,null,null,null,null,null,null,null,null,null,null,null,null,null,null,null,null,null,null,null,null,null,null,null,null,null,null,null,null,null,null,null,null,null,null,398,0,0,0,0,0,0,0,0,0,0,0,0,0,0,0,0,0,null,null,null,null,0,0,0,0,0,0,0,0,0,0,0,0,0,0,0,0,0,null,null,null,null,null,0,0,0,0,0,0,0,0,0,0,0,0,0,0,0,0,0]
[null,null,null,null,null,null,null,null,null,null,null,null,null,null,null,null,null,null,null,null,null,null,null,null,null,null,null,null,null,null,null,null,null,null,null,null,null,null,null,null,null,null,null,null,null,null,null,null,null,null,null,null,null,null,null,null,null,null,null,null,null,null,null,null,null,null,null,null,null,null,null,null,null,null,null,null,null,null,null,null,null,null,null,null,null,null,null,null,null,null,399,0,0,0,0,0,0,0,0,0,0,0,0,0,0,0,0,0,null,null,null,null,0,0,0,0,0,0,0,0,0,0,0,0,0,0,0,0,0,null,null,null,null,null,0,0,0,0,0,0,0,0,0,0,0,0,0,0,0,0,0]
[null,null,null,null,null,null,null,null,null,null,null,null,null,null,null,null,null,null,null,null,null,null,null,null,null,null,null,null,null,null,null,null,null,null,null,null,null,null,null,null,null,null,null,null,null,null,null,null,null,null,null,null,null,null,null,null,null,null,null,null,null,null,null,null,null,null,null,null,null,null,null,null,null,null,null,null,null,null,null,null,null,null,null,null,null,null,null,null,null,null,400,0,0,0,0,0,0,0,0,0,0,0,0,0,0,0,0,0,null,null,null,null,0,0,0,0,0,0,0,0,0,0,0,0,0,0,0,0,0,null,null,null,null,null,0,0,0,0,0,0,0,0,0,0,0,0,0,0,0,0,0]
[null,null,null,null,null,null,null,null,null,null,null,null,null,null,null,null,null,null,null,null,null,null,null,null,null,null,null,null,null,null,null,null,null,null,null,null,null,null,null,null,null,null,null,null,null,null,null,null,null,null,null,null,null,null,null,null,null,null,null,null,null,null,null,null,null,null,null,null,null,null,null,null,null,null,null,null,null,null,null,null,null,null,null,null,null,null,null,null,null,null,401,0,0,0,0,0,0,0,0,0,0,0,0,0,0,0,0,0,null,null,null,null,0,0,0,0,0,0,0,0,0,0,0,0,0,0,0,0,0,null,null,null,null,null,0,0,0,0,0,0,0,0,0,0,0,0,0,0,0,0,0]
[null,null,null,null,null,null,null,null,null,null,null,null,null,null,null,null,null,null,null,null,null,null,null,null,null,null,null,null,null,null,null,null,null,null,null,null,null,null,null,null,null,null,null,null,null,null,null,null,null,null,null,null,null,null,null,null,null,null,null,null,null,null,null,null,null,null,null,null,null,null,null,null,null,null,null,null,null,null,null,null,null,null,null,null,null,null,null,null,null,null,402,0,0,0,0,0,0,0,0,0,0,0,0,0,0,0,0,0,null,null,null,null,0,0,0,0,0,0,0,0,0,0,0,0,0,0,0,0,0,null,null,null,null,null,0,0,0,0,0,0,0,0,0,0,0,0,0,0,0,0,0]
[null,null,null,null,null,null,null,null,null,null,null,null,null,null,null,null,null,null,null,null,null,null,null,null,null,null,null,null,null,null,null,null,null,null,null,null,null,null,null,null,null,null,null,null,null,null,null,null,null,null,null,null,null,null,null,null,null,null,null,null,null,null,null,null,null,null,null,null,null,null,null,null,null,null,null,null,null,null,null,null,null,null,null,null,null,null,null,null,null,null,403,0,0,0,0,0,0,0,0,0,0,0,0,0,0,0,0,0,null,null,null,null,0,0,0,0,0,0,0,0,0,0,0,0,0,0,0,0,0,null,null,null,null,null,0,0,0,0,0,0,0,0,0,0,0,0,0,0,0,0,0]
[null,null,null,null,null,null,null,null,null,null,null,null,null,null,null,null,null,null,null,null,null,null,null,null,null,null,null,null,null,null,null,null,null,null,null,null,null,null,null,null,null,null,null,null,null,null,null,null,null,null,null,null,null,null,null,null,null,null,null,null,null,null,null,null,null,null,null,null,null,null,null,null,null,null,null,null,null,null,null,null,null,null,null,null,null,null,null,null,null,null,404,0,0,0,0,0,0,0,0,0,0,0,0,0,0,0,0,0,null,null,null,null,0,0,0,0,0,0,0,0,0,0,0,0,0,0,0,0,0,null,null,null,null,null,0,0,0,0,0,0,0,0,0,0,0,0,0,0,0,0,0]
[null,null,null,null,null,null,null,null,null,null,null,null,null,null,null,null,null,null,null,null,null,null,null,null,null,null,null,null,null,null,null,null,null,null,null,null,null,null,null,null,null,null,null,null,null,null,null,null,null,null,null,null,null,null,null,null,null,null,null,null,null,null,null,null,null,null,null,null,null,null,null,null,null,null,null,null,null,null,null,null,null,null,null,null,null,null,null,null,null,null,405,0,0,0,0,0,0,0,0,0,0,0,0,0,0,0,0,0,null,null,null,null,0,0,0,0,0,0,0,0,0,0,0,0,0,0,0,0,0,null,null,null,null,null,0,0,0,0,0,0,0,0,0,0,0,0,0,0,0,0,0]
[null,null,null,null,null,null,null,null,null,null,null,null,null,null,null,null,null,null,null,null,null,null,null,null,null,null,null,null,null,null,null,null,null,null,null,null,null,null,null,null,null,null,null,null,null,null,null,null,null,null,null,null,null,null,null,null,null,null,null,null,null,null,null,null,null,null,null,null,null,null,null,null,null,null,null,null,null,null,null,null,null,null,null,null,null,null,null,null,null,null,406,{"$f":"A409","v":0},{"$f":"F409","v":0},{"$f":"K409","v":0},{"$f":"P409","v":0},{"$f":"U409","v":0},{"$f":"Z409","v":0},{"$f":"AE409","v":0},{"$f":"AJ409","v":0},{"$f":"AO409","v":0},{"$f":"AT409","v":0},{"$f":"AY409","v":0},{"$f":"BD409","v":0},{"$f":"BH409","v":0},{"$f":"BM409","v":0},{"$f":"BR409","v":0},{"$f":"BW409","v":0},{"$f":"CB409","v":0},null,null,null,null,{"$f":"B409","v":0},{"$f":"G409","v":0},{"$f":"L409","v":0},{"$f":"Q409","v":0},{"$f":"V409","v":0},{"$f":"AA409","v":0},{"$f":"AF409","v":0},{"$f":"AK409","v":0},{"$f":"AP409","v":0},{"$f":"AU409","v":0},{"$f":"AZ409","v":0},{"$f":"BE409","v":0},{"$f":"BI409","v":0},{"$f":"BN409","v":0},{"$f":"BS409","v":0},{"$f":"BX409","v":0},{"$f":"CC409","v":0},null,null,null,null,null,{"$f":"C409","v":0},{"$f":"H409","v":0},{"$f":"M409","v":0},{"$f":"R409","v":0},{"$f":"W409","v":0},{"$f":"AB409","v":0},{"$f":"AG409","v":0},{"$f":"AL409","v":0},{"$f":"AQ409","v":0},{"$f":"AV409","v":0},{"$f":"BA409","v":0},{"$f":"BF409","v":0},{"$f":"BJ409","v":0},{"$f":"BO409","v":0},{"$f":"BT409","v":0},{"$f":"BY409","v":0},{"$f":"CD409","v":0}]
[null,null,null,null,null,null,null,null,null,null,null,null,null,null,null,null,null,null,null,null,null,null,null,null,null,null,null,null,null,null,null,null,null,null,null,null,null,null,null,null,null,null,null,null,null,null,null,null,null,null,null,null,null,null,null,null,null,null,null,null,null,null,null,null,null,null,null,null,null,null,null,null,null,null,null,null,null,null,null,null,null,null,null,null,null,null,null,null,null,null,407,0,0,0,0,0,0,0,0,0,0,0,0,0,0,0,0,0,null,null,null,null,0,0,0,0,0,0,0,0,0,0,0,0,0,0,0,0,0,null,null,null,null,null,0,0,0,0,0,0,0,0,0,0,0,0,0,0,0,0,0]
[null,null,null,null,null,null,null,null,null,null,null,null,null,null,null,null,null,null,null,null,null,null,null,null,null,null,null,null,null,null,null,null,null,null,null,null,null,null,null,null,null,null,null,null,null,null,null,null,null,null,null,null,null,null,null,null,null,null,null,null,null,null,null,null,null,null,null,null,null,null,null,null,null,null,null,null,null,null,null,null,null,null,null,null,null,null,null,null,null,null,408,0,0,0,0,0,0,0,0,0,0,0,0,0,0,0,0,0,null,null,null,null,0,0,0,0,0,0,0,0,0,0,0,0,0,0,0,0,0,null,null,null,null,null,0,0,0,0,0,0,0,0,0,0,0,0,0,0,0,0,0]
[null,null,null,null,null,null,null,null,null,null,null,null,null,null,null,null,null,null,null,null,null,null,null,null,null,null,null,null,null,null,null,null,null,null,null,null,null,null,null,null,null,null,null,null,null,null,null,null,null,null,null,null,null,null,null,null,null,null,null,null,null,null,null,null,null,null,null,null,null,null,null,null,null,null,null,null,null,null,null,null,null,null,null,null,null,null,null,null,null,null,409,0,0,0,0,0,0,0,0,0,0,0,0,0,0,0,0,0,null,null,null,null,0,0,0,0,0,0,0,0,0,0,0,0,0,0,0,0,0,null,null,null,null,null,0,0,0,0,0,0,0,0,0,0,0,0,0,0,0,0,0]
[null,null,null,null,null,null,null,null,null,null,null,null,null,null,null,null,null,null,null,null,null,null,null,null,null,null,null,null,null,null,null,null,null,null,null,null,null,null,null,null,null,null,null,null,null,null,null,null,null,null,null,null,null,null,null,null,null,null,null,null,null,null,null,null,null,null,null,null,null,null,null,null,null,null,null,null,null,null,null,null,null,null,null,null,null,null,null,null,null,null,410,0,0,0,0,0,0,0,0,0,0,0,0,0,0,0,0,0,null,null,null,null,0,0,0,0,0,0,0,0,0,0,0,0,0,0,0,0,0,null,null,null,null,null,0,0,0,0,0,0,0,0,0,0,0,0,0,0,0,0,0]
[null,null,null,null,null,null,null,null,null,null,null,null,null,null,null,null,null,null,null,null,null,null,null,null,null,null,null,null,null,null,null,null,null,null,null,null,null,null,null,null,null,null,null,null,null,null,null,null,null,null,null,null,null,null,null,null,null,null,null,null,null,null,null,null,null,null,null,null,null,null,null,null,null,null,null,null,null,null,null,null,null,null,null,null,null,null,null,null,null,null,411,0,0,0,0,0,0,0,0,0,0,0,0,0,0,0,0,0,null,null,null,null,0,0,0,0,0,0,0,0,0,0,0,0,0,0,0,0,0,null,null,null,null,null,0,0,0,0,0,0,0,0,0,0,0,0,0,0,0,0,0]
[null,null,null,null,null,null,null,null,null,null,null,null,null,null,null,null,null,null,null,null,null,null,null,null,null,null,null,null,null,null,null,null,null,null,null,null,null,null,null,null,null,null,null,null,null,null,null,null,null,null,null,null,null,null,null,null,null,null,null,null,null,null,null,null,null,null,null,null,null,null,null,null,null,null,null,null,null,null,null,null,null,null,null,null,null,null,null,null,null,null,412,0,0,0,0,0,0,0,0,0,0,0,0,0,0,0,0,0,null,null,null,null,0,0,0,0,0,0,0,0,0,0,0,0,0,0,0,0,0,null,null,null,null,null,0,0,0,0,0,0,0,0,0,0,0,0,0,0,0,0,0]
[null,null,null,null,null,null,null,null,null,null,null,null,null,null,null,null,null,null,null,null,null,null,null,null,null,null,null,null,null,null,null,null,null,null,null,null,null,null,null,null,null,null,null,null,null,null,null,null,null,null,null,null,null,null,null,null,null,null,null,null,null,null,null,null,null,null,null,null,null,null,null,null,null,null,null,null,null,null,null,null,null,null,null,null,null,null,null,null,null,null,413,0,0,0,0,0,0,0,0,0,0,0,0,0,0,0,0,0,null,null,null,null,0,0,0,0,0,0,0,0,0,0,0,0,0,0,0,0,0,null,null,null,null,null,0,0,0,0,0,0,0,0,0,0,0,0,0,0,0,0,0]
[null,null,null,null,null,null,null,null,null,null,null,null,null,null,null,null,null,null,null,null,null,null,null,null,null,null,null,null,null,null,null,null,null,null,null,null,null,null,null,null,null,null,null,null,null,null,null,null,null,null,null,null,null,null,null,null,null,null,null,null,null,null,null,null,null,null,null,null,null,null,null,null,null,null,null,null,null,null,null,null,null,null,null,null,null,null,null,null,null,null,414,0,0,0,0,0,0,0,0,0,0,0,0,0,0,0,0,0,null,null,null,null,0,0,0,0,0,0,0,0,0,0,0,0,0,0,0,0,0,null,null,null,null,null,0,0,0,0,0,0,0,0,0,0,0,0,0,0,0,0,0]
[null,null,null,null,null,null,null,null,null,null,null,null,null,null,null,null,null,null,null,null,null,null,null,null,null,null,null,null,null,null,null,null,null,null,null,null,null,null,null,null,null,null,null,null,null,null,null,null,null,null,null,null,null,null,null,null,null,null,null,null,null,null,null,null,null,null,null,null,null,null,null,null,null,null,null,null,null,null,null,null,null,null,null,null,null,null,null,null,null,null,415,0,0,0,0,0,0,0,0,0,0,0,0,0,0,0,0,0,null,null,null,null,0,0,0,0,0,0,0,0,0,0,0,0,0,0,0,0,0,null,null,null,null,null,0,0,0,0,0,0,0,0,0,0,0,0,0,0,0,0,0]
[null,null,null,null,null,null,null,null,null,null,null,null,null,null,null,null,null,null,null,null,null,null,null,null,null,null,null,null,null,null,null,null,null,null,null,null,null,null,null,null,null,null,null,null,null,null,null,null,null,null,null,null,null,null,null,null,null,null,null,null,null,null,null,null,null,null,null,null,null,null,null,null,null,null,null,null,null,null,null,null,null,null,null,null,null,null,null,null,null,null,416,0,0,0,0,0,0,0,0,0,0,0,0,0,0,0,0,0,null,null,null,null,0,0,0,0,0,0,0,0,0,0,0,0,0,0,0,0,0,null,null,null,null,null,0,0,0,0,0,0,0,0,0,0,0,0,0,0,0,0,0]
[null,null,null,null,null,null,null,null,null,null,null,null,null,null,null,null,null,null,null,null,null,null,null,null,null,null,null,null,null,null,null,null,null,null,null,null,null,null,null,null,null,null,null,null,null,null,null,null,null,null,null,null,null,null,null,null,null,null,null,null,null,null,null,null,null,null,null,null,null,null,null,null,null,null,null,null,null,null,null,null,null,null,null,null,null,null,null,null,null,null,417,0,0,0,0,0,0,0,0,0,0,0,0,0,0,0,0,0,null,null,null,null,0,0,0,0,0,0,0,0,0,0,0,0,0,0,0,0,0,null,null,null,null,null,0,0,0,0,0,0,0,0,0,0,0,0,0,0,0,0,0]
[null,null,null,null,null,null,null,null,null,null,null,null,null,null,null,null,null,null,null,null,null,null,null,null,null,null,null,null,null,null,null,null,null,null,null,null,null,null,null,null,null,null,null,null,null,null,null,null,null,null,null,null,null,null,null,null,null,null,null,null,null,null,null,null,null,null,null,null,null,null,null,null,null,null,null,null,null,null,null,null,null,null,null,null,null,null,null,null,null,null,418,0,0,0,0,0,0,0,0,0,0,0,0,0,0,0,0,0,null,null,null,null,0,0,0,0,0,0,0,0,0,0,0,0,0,0,0,0,0,null,null,null,null,null,0,0,0,0,0,0,0,0,0,0,0,0,0,0,0,0,0]
[null,null,null,null,null,null,null,null,null,null,null,null,null,null,null,null,null,null,null,null,null,null,null,null,null,null,null,null,null,null,null,null,null,null,null,null,null,null,null,null,null,null,null,null,null,null,null,null,null,null,null,null,null,null,null,null,null,null,null,null,null,null,null,null,null,null,null,null,null,null,null,null,null,null,null,null,null,null,null,null,null,null,null,null,null,null,null,null,null,null,419,0,0,0,0,0,0,0,0,0,0,0,0,0,0,0,0,0,null,null,null,null,0,0,0,0,0,0,0,0,0,0,0,0,0,0,0,0,0,null,null,null,null,null,0,0,0,0,0,0,0,0,0,0,0,0,0,0,0,0,0]
[null,null,null,null,null,null,null,null,null,null,null,null,null,null,null,null,null,null,null,null,null,null,null,null,null,null,null,null,null,null,null,null,null,null,null,null,null,null,null,null,null,null,null,null,null,null,null,null,null,null,null,null,null,null,null,null,null,null,null,null,null,null,null,null,null,null,null,null,null,null,null,null,null,null,null,null,null,null,null,null,null,null,null,null,null,null,null,null,null,null,420,0,0,0,0,0,0,0,0,0,0,0,0,0,0,0,0,0,null,null,null,null,0,0,0,0,0,0,0,0,0,0,0,0,0,0,0,0,0,null,null,null,null,null,0,0,0,0,0,0,0,0,0,0,0,0,0,0,0,0,0]
[null,null,null,null,null,null,null,null,null,null,null,null,null,null,null,null,null,null,null,null,null,null,null,null,null,null,null,null,null,null,null,null,null,null,null,null,null,null,null,null,null,null,null,null,null,null,null,null,null,null,null,null,null,null,null,null,null,null,null,null,null,null,null,null,null,null,null,null,null,null,null,null,null,null,null,null,null,null,null,null,null,null,null,null,null,null,null,null,null,null,421,0,0,0,0,0,0,0,0,0,0,0,0,0,0,0,0,0,null,null,null,null,0,0,0,0,0,0,0,0,0,0,0,0,0,0,0,0,0,null,null,null,null,null,0,0,0,0,0,0,0,0,0,0,0,0,0,0,0,0,0]
[null,null,null,null,null,null,null,null,null,null,null,null,null,null,null,null,null,null,null,null,null,null,null,null,null,null,null,null,null,null,null,null,null,null,null,null,null,null,null,null,null,null,null,null,null,null,null,null,null,null,null,null,null,null,null,null,null,null,null,null,null,null,null,null,null,null,null,null,null,null,null,null,null,null,null,null,null,null,null,null,null,null,null,null,null,null,null,null,null,null,422,0,0,0,0,0,0,0,0,0,0,0,0,0,0,0,0,0,null,null,null,null,0,0,0,0,0,0,0,0,0,0,0,0,0,0,0,0,0,null,null,null,null,null,0,0,0,0,0,0,0,0,0,0,0,0,0,0,0,0,0]
[null,null,null,null,null,null,null,null,null,null,null,null,null,null,null,null,null,null,null,null,null,null,null,null,null,null,null,null,null,null,null,null,null,null,null,null,null,null,null,null,null,null,null,null,null,null,null,null,null,null,null,null,null,null,null,null,null,null,null,null,null,null,null,null,null,null,null,null,null,null,null,null,null,null,null,null,null,null,null,null,null,null,null,null,null,null,null,null,null,null,423,0,0,0,0,0,0,0,0,0,0,0,0,0,0,0,0,0,null,null,null,null,0,0,0,0,0,0,0,0,0,0,0,0,0,0,0,0,0,null,null,null,null,null,0,0,0,0,0,0,0,0,0,0,0,0,0,0,0,0,0]
[null,null,null,null,null,null,null,null,null,null,null,null,null,null,null,null,null,null,null,null,null,null,null,null,null,null,null,null,null,null,null,null,null,null,null,null,null,null,null,null,null,null,null,null,null,null,null,null,null,null,null,null,null,null,null,null,null,null,null,null,null,null,null,null,null,null,null,null,null,null,null,null,null,null,null,null,null,null,null,null,null,null,null,null,null,null,null,null,null,null,424,0,0,0,0,0,0,0,0,0,0,0,0,0,0,0,0,0,null,null,null,null,0,0,0,0,0,0,0,0,0,0,0,0,0,0,0,0,0,null,null,null,null,null,0,0,0,0,0,0,0,0,0,0,0,0,0,0,0,0,0]
[null,null,null,null,null,null,null,null,null,null,null,null,null,null,null,null,null,null,null,null,null,null,null,null,null,null,null,null,null,null,null,null,null,null,null,null,null,null,null,null,null,null,null,null,null,null,null,null,null,null,null,null,null,null,null,null,null,null,null,null,null,null,null,null,null,null,null,null,null,null,null,null,null,null,null,null,null,null,null,null,null,null,null,null,null,null,null,null,null,null,425,0,0,0,0,0,0,0,0,0,0,0,0,0,0,0,0,0,null,null,null,null,0,0,0,0,0,0,0,0,0,0,0,0,0,0,0,0,0,null,null,null,null,null,0,0,0,0,0,0,0,0,0,0,0,0,0,0,0,0,0]
[null,null,null,null,null,null,null,null,null,null,null,null,null,null,null,null,null,null,null,null,null,null,null,null,null,null,null,null,null,null,null,null,null,null,null,null,null,null,null,null,null,null,null,null,null,null,null,null,null,null,null,null,null,null,null,null,null,null,null,null,null,null,null,null,null,null,null,null,null,null,null,null,null,null,null,null,null,null,null,null,null,null,null,null,null,null,null,null,null,null,426,0,0,0,0,0,0,0,0,0,0,0,0,0,0,0,0,0,null,null,null,null,0,0,0,0,0,0,0,0,0,0,0,0,0,0,0,0,0,null,null,null,null,null,0,0,0,0,0,0,0,0,0,0,0,0,0,0,0,0,0]
[null,null,null,null,null,null,null,null,null,null,null,null,null,null,null,null,null,null,null,null,null,null,null,null,null,null,null,null,null,null,null,null,null,null,null,null,null,null,null,null,null,null,null,null,null,null,null,null,null,null,null,null,null,null,null,null,null,null,null,null,null,null,null,null,null,null,null,null,null,null,null,null,null,null,null,null,null,null,null,null,null,null,null,null,null,null,null,null,null,null,427,0,0,0,0,0,0,0,0,0,0,0,0,0,0,0,0,0,null,null,null,null,0,0,0,0,0,0,0,0,0,0,0,0,0,0,0,0,0,null,null,null,null,null,0,0,0,0,0,0,0,0,0,0,0,0,0,0,0,0,0]
[null,null,null,null,null,null,null,null,null,null,null,null,null,null,null,null,null,null,null,null,null,null,null,null,null,null,null,null,null,null,null,null,null,null,null,null,null,null,null,null,null,null,null,null,null,null,null,null,null,null,null,null,null,null,null,null,null,null,null,null,null,null,null,null,null,null,null,null,null,null,null,null,null,null,null,null,null,null,null,null,null,null,null,null,null,null,null,null,null,null,428,0,0,0,0,0,0,0,0,0,0,0,0,0,0,0,0,0,null,null,null,null,0,0,0,0,0,0,0,0,0,0,0,0,0,0,0,0,0,null,null,null,null,null,0,0,0,0,0,0,0,0,0,0,0,0,0,0,0,0,0]
[null,null,null,null,null,null,null,null,null,null,null,null,null,null,null,null,null,null,null,null,null,null,null,null,null,null,null,null,null,null,null,null,null,null,null,null,null,null,null,null,null,null,null,null,null,null,null,null,null,null,null,null,null,null,null,null,null,null,null,null,null,null,null,null,null,null,null,null,null,null,null,null,null,null,null,null,null,null,null,null,null,null,null,null,null,null,null,null,null,null,429,0,0,0,0,0,0,0,0,0,0,0,0,0,0,0,0,0,null,null,null,null,0,0,0,0,0,0,0,0,0,0,0,0,0,0,0,0,0,null,null,null,null,null,0,0,0,0,0,0,0,0,0,0,0,0,0,0,0,0,0]
[null,null,null,null,null,null,null,null,null,null,null,null,null,null,null,null,null,null,null,null,null,null,null,null,null,null,null,null,null,null,null,null,null,null,null,null,null,null,null,null,null,null,null,null,null,null,null,null,null,null,null,null,null,null,null,null,null,null,null,null,null,null,null,null,null,null,null,null,null,null,null,null,null,null,null,null,null,null,null,null,null,null,null,null,null,null,null,null,null,null,430,0,0,0,0,0,0,0,0,0,0,0,0,0,0,0,0,0,null,null,null,null,0,0,0,0,0,0,0,0,0,0,0,0,0,0,0,0,0,null,null,null,null,null,0,0,0,0,0,0,0,0,0,0,0,0,0,0,0,0,0]
[null,null,null,null,null,null,null,null,null,null,null,null,null,null,null,null,null,null,null,null,null,null,null,null,null,null,null,null,null,null,null,null,null,null,null,null,null,null,null,null,null,null,null,null,null,null,null,null,null,null,null,null,null,null,null,null,null,null,null,null,null,null,null,null,null,null,null,null,null,null,null,null,null,null,null,null,null,null,null,null,null,null,null,null,null,null,null,null,null,null,431,0,0,0,0,0,0,0,0,0,0,0,0,0,0,0,0,0,null,null,null,null,0,0,0,0,0,0,0,0,0,0,0,0,0,0,0,0,0,null,null,null,null,null,0,0,0,0,0,0,0,0,0,0,0,0,0,0,0,0,0]
[null,null,null,null,null,null,null,null,null,null,null,null,null,null,null,null,null,null,null,null,null,null,null,null,null,null,null,null,null,null,null,null,null,null,null,null,null,null,null,null,null,null,null,null,null,null,null,null,null,null,null,null,null,null,null,null,null,null,null,null,null,null,null,null,null,null,null,null,null,null,null,null,null,null,null,null,null,null,null,null,null,null,null,null,null,null,null,null,null,null,432,0,0,0,0,0,0,0,0,0,0,0,0,0,0,0,0,0,null,null,null,null,0,0,0,0,0,0,0,0,0,0,0,0,0,0,0,0,0,null,null,null,null,null,0,0,0,0,0,0,0,0,0,0,0,0,0,0,0,0,0]
[null,null,null,null,null,null,null,null,null,null,null,null,null,null,null,null,null,null,null,null,null,null,null,null,null,null,null,null,null,null,null,null,null,null,null,null,null,null,null,null,null,null,null,null,null,null,null,null,null,null,null,null,null,null,null,null,null,null,null,null,null,null,null,null,null,null,null,null,null,null,null,null,null,null,null,null,null,null,null,null,null,null,null,null,null,null,null,null,null,null,433,0,0,0,0,0,0,0,0,0,0,0,0,0,0,0,0,0,null,null,null,null,0,0,0,0,0,0,0,0,0,0,0,0,0,0,0,0,0,null,null,null,null,null,0,0,0,0,0,0,0,0,0,0,0,0,0,0,0,0,0]
[null,null,null,null,null,null,null,null,null,null,null,null,null,null,null,null,null,null,null,null,null,null,null,null,null,null,null,null,null,null,null,null,null,null,null,null,null,null,null,null,null,null,null,null,null,null,null,null,null,null,null,null,null,null,null,null,null,null,null,null,null,null,null,null,null,null,null,null,null,null,null,null,null,null,null,null,null,null,null,null,null,null,null,null,null,null,null,null,null,null,434,0,0,0,0,0,0,0,0,0,0,0,0,0,0,0,0,0,null,null,null,null,0,0,0,0,0,0,0,0,0,0,0,0,0,0,0,0,0,null,null,null,null,null,0,0,0,0,0,0,0,0,0,0,0,0,0,0,0,0,0]
[null,null,null,null,null,null,null,null,null,null,null,null,null,null,null,null,null,null,null,null,null,null,null,null,null,null,null,null,null,null,null,null,null,null,null,null,null,null,null,null,null,null,null,null,null,null,null,null,null,null,null,null,null,null,null,null,null,null,null,null,null,null,null,null,null,null,null,null,null,null,null,null,null,null,null,null,null,null,null,null,null,null,null,null,null,null,null,null,null,null,435,0,0,0,0,0,0,0,0,0,0,0,0,0,0,0,0,0,null,null,null,null,0,0,0,0,0,0,0,0,0,0,0,0,0,0,0,0,0,null,null,null,null,null,0,0,0,0,0,0,0,0,0,0,0,0,0,0,0,0,0]
[null,null,null,null,null,null,null,null,null,null,null,null,null,null,null,null,null,null,null,null,null,null,null,null,null,null,null,null,null,null,null,null,null,null,null,null,null,null,null,null,null,null,null,null,null,null,null,null,null,null,null,null,null,null,null,null,null,null,null,null,null,null,null,null,null,null,null,null,null,null,null,null,null,null,null,null,null,null,null,null,null,null,null,null,null,null,null,null,null,null,436,0,0,0,0,0,0,0,0,0,0,0,0,0,0,0,0,0,null,null,null,null,0,0,0,0,0,0,0,0,0,0,0,0,0,0,0,0,0,null,null,null,null,null,0,0,0,0,0,0,0,0,0,0,0,0,0,0,0,0,0]
[null,null,null,null,null,null,null,null,null,null,null,null,null,null,null,null,null,null,null,null,null,null,null,null,null,null,null,null,null,null,null,null,null,null,null,null,null,null,null,null,null,null,null,null,null,null,null,null,null,null,null,null,null,null,null,null,null,null,null,null,null,null,null,null,null,null,null,null,null,null,null,null,null,null,null,null,null,null,null,null,null,null,null,null,null,null,null,null,null,null,437,0,0,0,0,0,0,0,0,0,0,0,0,0,0,0,0,0,null,null,null,null,0,0,0,0,0,0,0,0,0,0,0,0,0,0,0,0,0,null,null,null,null,null,0,0,0,0,0,0,0,0,0,0,0,0,0,0,0,0,0]
[null,null,null,null,null,null,null,null,null,null,null,null,null,null,null,null,null,null,null,null,null,null,null,null,null,null,null,null,null,null,null,null,null,null,null,null,null,null,null,null,null,null,null,null,null,null,null,null,null,null,null,null,null,null,null,null,null,null,null,null,null,null,null,null,null,null,null,null,null,null,null,null,null,null,null,null,null,null,null,null,null,null,null,null,null,null,null,null,null,null,438,0,0,0,0,0,0,0,0,0,0,0,0,0,0,0,0,0,null,null,null,null,0,0,0,0,0,0,0,0,0,0,0,0,0,0,0,0,0,null,null,null,null,null,0,0,0,0,0,0,0,0,0,0,0,0,0,0,0,0,0]
[null,null,null,null,null,null,null,null,null,null,null,null,null,null,null,null,null,null,null,null,null,null,null,null,null,null,null,null,null,null,null,null,null,null,null,null,null,null,null,null,null,null,null,null,null,null,null,null,null,null,null,null,null,null,null,null,null,null,null,null,null,null,null,null,null,null,null,null,null,null,null,null,null,null,null,null,null,null,null,null,null,null,null,null,null,null,null,null,null,null,439,0,0,0,0,0,0,0,0,0,0,0,0,0,0,0,0,0,null,null,null,null,0,0,0,0,0,0,0,0,0,0,0,0,0,0,0,0,0,null,null,null,null,null,0,0,0,0,0,0,0,0,0,0,0,0,0,0,0,0,0]
[null,null,null,null,null,null,null,null,null,null,null,null,null,null,null,null,null,null,null,null,null,null,null,null,null,null,null,null,null,null,null,null,null,null,null,null,null,null,null,null,null,null,null,null,null,null,null,null,null,null,null,null,null,null,null,null,null,null,null,null,null,null,null,null,null,null,null,null,null,null,null,null,null,null,null,null,null,null,null,null,null,null,null,null,null,null,null,null,null,null,440,0,0,0,0,0,0,0,0,0,0,0,0,0,0,0,0,0,null,null,null,null,0,0,0,0,0,0,0,0,0,0,0,0,0,0,0,0,0,null,null,null,null,null,0,0,0,0,0,0,0,0,0,0,0,0,0,0,0,0,0]
[null,null,null,null,null,null,null,null,null,null,null,null,null,null,null,null,null,null,null,null,null,null,null,null,null,null,null,null,null,null,null,null,null,null,null,null,null,null,null,null,null,null,null,null,null,null,null,null,null,null,null,null,null,null,null,null,null,null,null,null,null,null,null,null,null,null,null,null,null,null,null,null,null,null,null,null,null,null,null,null,null,null,null,null,null,null,null,null,null,null,441,0,0,0,0,0,0,0,0,0,0,0,0,0,0,0,0,0,null,null,null,null,0,0,0,0,0,0,0,0,0,0,0,0,0,0,0,0,0,null,null,null,null,null,0,0,0,0,0,0,0,0,0,0,0,0,0,0,0,0,0]
[null,null,null,null,null,null,null,null,null,null,null,null,null,null,null,null,null,null,null,null,null,null,null,null,null,null,null,null,null,null,null,null,null,null,null,null,null,null,null,null,null,null,null,null,null,null,null,null,null,null,null,null,null,null,null,null,null,null,null,null,null,null,null,null,null,null,null,null,null,null,null,null,null,null,null,null,null,null,null,null,null,null,null,null,null,null,null,null,null,null,442,0,0,0,0,0,0,0,0,0,0,0,0,0,0,0,0,0,null,null,null,null,0,0,0,0,0,0,0,0,0,0,0,0,0,0,0,0,0,null,null,null,null,null,0,0,0,0,0,0,0,0,0,0,0,0,0,0,0,0,0]
[null,null,null,null,null,null,null,null,null,null,null,null,null,null,null,null,null,null,null,null,null,null,null,null,null,null,null,null,null,null,null,null,null,null,null,null,null,null,null,null,null,null,null,null,null,null,null,null,null,null,null,null,null,null,null,null,null,null,null,null,null,null,null,null,null,null,null,null,null,null,null,null,null,null,null,null,null,null,null,null,null,null,null,null,null,null,null,null,null,null,443,0,0,0,0,0,0,0,0,0,0,0,0,0,0,0,0,0,null,null,null,null,0,0,0,0,0,0,0,0,0,0,0,0,0,0,0,0,0,null,null,null,null,null,0,0,0,0,0,0,0,0,0,0,0,0,0,0,0,0,0]
[null,null,null,null,null,null,null,null,null,null,null,null,null,null,null,null,null,null,null,null,null,null,null,null,null,null,null,null,null,null,null,null,null,null,null,null,null,null,null,null,null,null,null,null,null,null,null,null,null,null,null,null,null,null,null,null,null,null,null,null,null,null,null,null,null,null,null,null,null,null,null,null,null,null,null,null,null,null,null,null,null,null,null,null,null,null,null,null,null,null,444,0,0,0,0,0,0,0,0,0,0,0,0,0,0,0,0,0,null,null,null,null,0,0,0,0,0,0,0,0,0,0,0,0,0,0,0,0,0,null,null,null,null,null,0,0,0,0,0,0,0,0,0,0,0,0,0,0,0,0,0]
[null,null,null,null,null,null,null,null,null,null,null,null,null,null,null,null,null,null,null,null,null,null,null,null,null,null,null,null,null,null,null,null,null,null,null,null,null,null,null,null,null,null,null,null,null,null,null,null,null,null,null,null,null,null,null,null,null,null,null,null,null,null,null,null,null,null,null,null,null,null,null,null,null,null,null,null,null,null,null,null,null,null,null,null,null,null,null,null,null,null,445,0,0,0,0,0,0,0,0,0,0,0,0,0,0,0,0,0,null,null,null,null,0,0,0,0,0,0,0,0,0,0,0,0,0,0,0,0,0,null,null,null,null,null,0,0,0,0,0,0,0,0,0,0,0,0,0,0,0,0,0]
[null,null,null,null,null,null,null,null,null,null,null,null,null,null,null,null,null,null,null,null,null,null,null,null,null,null,null,null,null,null,null,null,null,null,null,null,null,null,null,null,null,null,null,null,null,null,null,null,null,null,null,null,null,null,null,null,null,null,null,null,null,null,null,null,null,null,null,null,null,null,null,null,null,null,null,null,null,null,null,null,null,null,null,null,null,null,null,null,null,null,446,0,0,0,0,0,0,0,0,0,0,0,0,0,0,0,0,0,null,null,null,null,0,0,0,0,0,0,0,0,0,0,0,0,0,0,0,0,0,null,null,null,null,null,0,0,0,0,0,0,0,0,0,0,0,0,0,0,0,0,0]
[null,null,null,null,null,null,null,null,null,null,null,null,null,null,null,null,null,null,null,null,null,null,null,null,null,null,null,null,null,null,null,null,null,null,null,null,null,null,null,null,null,null,null,null,null,null,null,null,null,null,null,null,null,null,null,null,null,null,null,null,null,null,null,null,null,null,null,null,null,null,null,null,null,null,null,null,null,null,null,null,null,null,null,null,null,null,null,null,null,null,447,0,0,0,0,0,0,0,0,0,0,0,0,0,0,0,0,0,null,null,null,null,0,0,0,0,0,0,0,0,0,0,0,0,0,0,0,0,0,null,null,null,null,null,0,0,0,0,0,0,0,0,0,0,0,0,0,0,0,0,0]
[null,null,null,null,null,null,null,null,null,null,null,null,null,null,null,null,null,null,null,null,null,null,null,null,null,null,null,null,null,null,null,null,null,null,null,null,null,null,null,null,null,null,null,null,null,null,null,null,null,null,null,null,null,null,null,null,null,null,null,null,null,null,null,null,null,null,null,null,null,null,null,null,null,null,null,null,null,null,null,null,null,null,null,null,null,null,null,null,null,null,448,0,0,0,0,0,0,0,0,0,0,0,0,0,0,0,0,0,null,null,null,null,0,0,0,0,0,0,0,0,0,0,0,0,0,0,0,0,0,null,null,null,null,null,0,0,0,0,0,0,0,0,0,0,0,0,0,0,0,0,0]
[null,null,null,null,null,null,null,null,null,null,null,null,null,null,null,null,null,null,null,null,null,null,null,null,null,null,null,null,null,null,null,null,null,null,null,null,null,null,null,null,null,null,null,null,null,null,null,null,null,null,null,null,null,null,null,null,null,null,null,null,null,null,null,null,null,null,null,null,null,null,null,null,null,null,null,null,null,null,null,null,null,null,null,null,null,null,null,null,null,null,449,0,0,0,0,0,0,0,0,0,0,0,0,0,0,0,0,0,null,null,null,null,0,0,0,0,0,0,0,0,0,0,0,0,0,0,0,0,0,null,null,null,null,null,0,0,0,0,0,0,0,0,0,0,0,0,0,0,0,0,0]
[null,null,null,null,null,null,null,null,null,null,null,null,null,null,null,null,null,null,null,null,null,null,null,null,null,null,null,null,null,null,null,null,null,null,null,null,null,null,null,null,null,null,null,null,null,null,null,null,null,null,null,null,null,null,null,null,null,null,null,null,null,null,null,null,null,null,null,null,null,null,null,null,null,null,null,null,null,null,null,null,null,null,null,null,null,null,null,null,null,null,450,0,0,0,0,0,0,0,0,0,0,0,0,0,0,0,0,0,null,null,null,null,0,0,0,0,0,0,0,0,0,0,0,0,0,0,0,0,0,null,null,null,null,null,0,0,0,0,0,0,0,0,0,0,0,0,0,0,0,0,0]
[null,null,null,null,null,null,null,null,null,null,null,null,null,null,null,null,null,null,null,null,null,null,null,null,null,null,null,null,null,null,null,null,null,null,null,null,null,null,null,null,null,null,null,null,null,null,null,null,null,null,null,null,null,null,null,null,null,null,null,null,null,null,null,null,null,null,null,null,null,null,null,null,null,null,null,null,null,null,null,null,null,null,null,null,null,null,null,null,null,null,451,0,0,0,0,0,0,0,0,0,0,0,0,0,0,0,0,0,null,null,null,null,0,0,0,0,0,0,0,0,0,0,0,0,0,0,0,0,0,null,null,null,null,null,0,0,0,0,0,0,0,0,0,0,0,0,0,0,0,0,0]
[null,null,null,null,null,null,null,null,null,null,null,null,null,null,null,null,null,null,null,null,null,null,null,null,null,null,null,null,null,null,null,null,null,null,null,null,null,null,null,null,null,null,null,null,null,null,null,null,null,null,null,null,null,null,null,null,null,null,null,null,null,null,null,null,null,null,null,null,null,null,null,null,null,null,null,null,null,null,null,null,null,null,null,null,null,null,null,null,null,null,452,0,0,0,0,0,0,0,0,0,0,0,0,0,0,0,0,0,null,null,null,null,0,0,0,0,0,0,0,0,0,0,0,0,0,0,0,0,0,null,null,null,null,null,0,0,0,0,0,0,0,0,0,0,0,0,0,0,0,0,0]
[null,null,null,null,null,null,null,null,null,null,null,null,null,null,null,null,null,null,null,null,null,null,null,null,null,null,null,null,null,null,null,null,null,null,null,null,null,null,null,null,null,null,null,null,null,null,null,null,null,null,null,null,null,null,null,null,null,null,null,null,null,null,null,null,null,null,null,null,null,null,null,null,null,null,null,null,null,null,null,null,null,null,null,null,null,null,null,null,null,null,453,0,0,0,0,0,0,0,0,0,0,0,0,0,0,0,0,0,null,null,null,null,0,0,0,0,0,0,0,0,0,0,0,0,0,0,0,0,0,null,null,null,null,null,0,0,0,0,0,0,0,0,0,0,0,0,0,0,0,0,0]
[null,null,null,null,null,null,null,null,null,null,null,null,null,null,null,null,null,null,null,null,null,null,null,null,null,null,null,null,null,null,null,null,null,null,null,null,null,null,null,null,null,null,null,null,null,null,null,null,null,null,null,null,null,null,null,null,null,null,null,null,null,null,null,null,null,null,null,null,null,null,null,null,null,null,null,null,null,null,null,null,null,null,null,null,null,null,null,null,null,null,454,0,0,0,0,0,0,0,0,0,0,0,0,0,0,0,0,0,null,null,null,null,0,0,0,0,0,0,0,0,0,0,0,0,0,0,0,0,0,null,null,null,null,null,0,0,0,0,0,0,0,0,0,0,0,0,0,0,0,0,0]
[null,null,null,null,null,null,null,null,null,null,null,null,null,null,null,null,null,null,null,null,null,null,null,null,null,null,null,null,null,null,null,null,null,null,null,null,null,null,null,null,null,null,null,null,null,null,null,null,null,null,null,null,null,null,null,null,null,null,null,null,null,null,null,null,null,null,null,null,null,null,null,null,null,null,null,null,null,null,null,null,null,null,null,null,null,null,null,null,null,null,455,0,0,0,0,0,0,0,0,0,0,0,0,0,0,0,0,0,null,null,null,null,0,0,0,0,0,0,0,0,0,0,0,0,0,0,0,0,0,null,null,null,null,null,0,0,0,0,0,0,0,0,0,0,0,0,0,0,0,0,0]
[null,null,null,null,null,null,null,null,null,null,null,null,null,null,null,null,null,null,null,null,null,null,null,null,null,null,null,null,null,null,null,null,null,null,null,null,null,null,null,null,null,null,null,null,null,null,null,null,null,null,null,null,null,null,null,null,null,null,null,null,null,null,null,null,null,null,null,null,null,null,null,null,null,null,null,null,null,null,null,null,null,null,null,null,null,null,null,null,null,null,456,0,0,0,0,0,0,0,0,0,0,0,0,0,0,0,0,0,null,null,null,null,0,0,0,0,0,0,0,0,0,0,0,0,0,0,0,0,0,null,null,null,null,null,0,0,0,0,0,0,0,0,0,0,0,0,0,0,0,0,0]
[null,null,null,null,null,null,null,null,null,null,null,null,null,null,null,null,null,null,null,null,null,null,null,null,null,null,null,null,null,null,null,null,null,null,null,null,null,null,null,null,null,null,null,null,null,null,null,null,null,null,null,null,null,null,null,null,null,null,null,null,null,null,null,null,null,null,null,null,null,null,null,null,null,null,null,null,null,null,null,null,null,null,null,null,null,null,null,null,null,null,457,0,0,0,0,0,0,0,0,0,0,0,0,0,0,0,0,0,null,null,null,null,0,0,0,0,0,0,0,0,0,0,0,0,0,0,0,0,0,null,null,null,null,null,0,0,0,0,0,0,0,0,0,0,0,0,0,0,0,0,0]
[null,null,null,null,null,null,null,null,null,null,null,null,null,null,null,null,null,null,null,null,null,null,null,null,null,null,null,null,null,null,null,null,null,null,null,null,null,null,null,null,null,null,null,null,null,null,null,null,null,null,null,null,null,null,null,null,null,null,null,null,null,null,null,null,null,null,null,null,null,null,null,null,null,null,null,null,null,null,null,null,null,null,null,null,null,null,null,null,null,null,458,0,0,0,0,0,0,0,0,0,0,0,0,0,0,0,0,0,null,null,null,null,0,0,0,0,0,0,0,0,0,0,0,0,0,0,0,0,0,null,null,null,null,null,0,0,0,0,0,0,0,0,0,0,0,0,0,0,0,0,0]
[null,null,null,null,null,null,null,null,null,null,null,null,null,null,null,null,null,null,null,null,null,null,null,null,null,null,null,null,null,null,null,null,null,null,null,null,null,null,null,null,null,null,null,null,null,null,null,null,null,null,null,null,null,null,null,null,null,null,null,null,null,null,null,null,null,null,null,null,null,null,null,null,null,null,null,null,null,null,null,null,null,null,null,null,null,null,null,null,null,null,459,0,0,0,0,0,0,0,0,0,0,0,0,0,0,0,0,0,null,null,null,null,0,0,0,0,0,0,0,0,0,0,0,0,0,0,0,0,0,null,null,null,null,null,0,0,0,0,0,0,0,0,0,0,0,0,0,0,0,0,0]
[null,null,null,null,null,null,null,null,null,null,null,null,null,null,null,null,null,null,null,null,null,null,null,null,null,null,null,null,null,null,null,null,null,null,null,null,null,null,null,null,null,null,null,null,null,null,null,null,null,null,null,null,null,null,null,null,null,null,null,null,null,null,null,null,null,null,null,null,null,null,null,null,null,null,null,null,null,null,null,null,null,null,null,null,null,null,null,null,null,null,460,0,0,0,0,0,0,0,0,0,0,0,0,0,0,0,0,0,null,null,null,null,0,0,0,0,0,0,0,0,0,0,0,0,0,0,0,0,0,null,null,null,null,null,0,0,0,0,0,0,0,0,0,0,0,0,0,0,0,0,0]
[null,null,null,null,null,null,null,null,null,null,null,null,null,null,null,null,null,null,null,null,null,null,null,null,null,null,null,null,null,null,null,null,null,null,null,null,null,null,null,null,null,null,null,null,null,null,null,null,null,null,null,null,null,null,null,null,null,null,null,null,null,null,null,null,null,null,null,null,null,null,null,null,null,null,null,null,null,null,null,null,null,null,null,null,null,null,null,null,null,null,461,0,0,0,0,0,0,0,0,0,0,0,0,0,0,0,0,0,null,null,null,null,0,0,0,0,0,0,0,0,0,0,0,0,0,0,0,0,0,null,null,null,null,null,0,0,0,0,0,0,0,0,0,0,0,0,0,0,0,0,0]
[null,null,null,null,null,null,null,null,null,null,null,null,null,null,null,null,null,null,null,null,null,null,null,null,null,null,null,null,null,null,null,null,null,null,null,null,null,null,null,null,null,null,null,null,null,null,null,null,null,null,null,null,null,null,null,null,null,null,null,null,null,null,null,null,null,null,null,null,null,null,null,null,null,null,null,null,null,null,null,null,null,null,null,null,null,null,null,null,null,null,462,0,0,0,0,0,0,0,0,0,0,0,0,0,0,0,0,0,null,null,null,null,0,0,0,0,0,0,0,0,0,0,0,0,0,0,0,0,0,null,null,null,null,null,0,0,0,0,0,0,0,0,0,0,0,0,0,0,0,0,0]